{"text_format":"1","workbook":"xlsx","n_sheets":4,"sheets":["Pedido de Pagamento","Mapa de Despesas","Tabelas","Lista de Produtos"],"not_rendered":{"charts":0,"images":3,"macros":1,"external_links":0,"defined_names":5,"comments":0,"pivot_tables":0},"unopened":[],"bounds":{"document_bytes":16777216,"sheet_cells":100000,"rows_first":2000,"rows_last":500,"rows_between":2000,"halvings":0,"cell_chars":16384,"cell_head_chars":4096},"cells_cut":0,"cells_raw":0,"read":"whole","date_system":"1900"}

{"sheet":"Pedido de Pagamento","index":0,"n_rows":88,"n_cols":23,"rows_kept":88,"cut":false,"hidden":false,"merged":[[5,1,5,7],[7,1,7,7],[9,1,9,7],[15,2,15,6],[18,3,18,7],[16,2,16,6],[26,9,29,11],[74,2,74,5],[75,2,75,5],[70,1,70,6],[60,1,60,7],[62,1,62,7],[64,1,64,7],[67,2,67,6],[68,2,68,6],[23,4,23,5],[48,3,48,6],[50,3,50,6],[53,3,53,6],[20,2,21,2],[33,3,33,7],[46,3,46,6],[37,3,37,4],[31,3,31,4],[35,4,35,6],[39,3,39,4],[87,3,87,6],[85,1,85,2],[87,1,87,2],[76,2,76,5],[77,2,77,5],[78,2,78,5],[79,2,79,5],[80,2,80,5],[81,2,81,5],[82,2,82,5],[83,2,83,5]]}
[]
[]
[null,null,null,null,null,null,null,null,null,null,null,null,"SIM"]
[null,null,null,null,null,null,null,null,null,null,null,null,"NÃO"]
[]
[null,"GOVERNO REGIONAL DOS AÇORES"]
[]
[null,"VICE-PRESIDÊNCIA DO GOVERNO, EMPREGO E COMPETITIVIDADE EMPRESARIAL"]
[null,null,null,null,null,null,null,null,null,null,null,null,2]
[null,"DIREÇÃO REGIONAL DE APOIO AO INVESTIMENTO E COMPETITIVIDADE",null,null,null,null,null,null,null,null,null,null,1]
[null,null,null,null,null,null,null,null,null,null,null,null,2]
[null,null,null,null,null,null,null,null,null,null,null,null,3]
[null,null,null,null,null,null,null,null,null,null,null,null,4]
[null,null,null,null,null,null,null,null,null,null,null,null,5]
[null,null,null,null,null,null,null,null,null,null,null,null,6]
[null,null,"Subsistema de Incentivos para a Internacionalização"]
[null,null,"Acesso aos Mercados",null,null,null,null,null,null,null,null,null,"Angra do Heroísmo","Terceira"]
[null,null,null,null,null,null,null,null,null,null,null,null,"Calheta","São Jorge"]
[null,null,"Promotor:",null,null,null,null,null,null,null,null,null,"Corvo","Corvo"]
[null,null,null,null,null,null,null,null,null,null,null,null,"Horta","Faial"]
[null,null,"Nº do processo: ","Ano","Processo","Ped. Pagamento",null,null,null,null,null,null,"Lagoa","São Miguel"]
[null,null,null,null,null,null,null,null,null,null,null,null,"Lajes das Flores","Flores"]
[null,null,null,null,null,null,null,null,null,null,null,null,"Lajes do Pico","Pico"]
[null,null,"Data de Candidatura",null,"Data retroatividade de despesas",null,{"$f":"IF(D24=\"\",\"\",EDATE(D24,-6))","v":""},null,null,null,null,null,"Madalena","Pico"]
[null,null,"Data Final",null,null,null,null,null,null,null,null,null,"Nordeste","São Miguel"]
[null,null,null,null,null,null,null,null,null,null,null,null,"Ponta Delgada","São Miguel"]
[null,null,"Valor Total do Projeto",null,null,null,null,null,null,{"$f":"IF(E30<0.1,\"DESPESA APRESENTADA INFERIOR A 10% DO VALOR DO PROJETO\",\"\")","v":""},null,null,"Povoação","São Miguel"]
[null,null,"Valor Apoio Financeiro Aprovado",null,null,null,null,null,null,null,null,null,"Praia da Vitória","Terceira"]
[null,null,"Despesa Apresentada Ped. Pagamento",null,{"$f":"IF(E27<>\"\",'Mapa de Despesas'!Q16,\"\")","v":""},null,null,null,null,null,null,null,"Ribeira Grande","São Miguel"]
[null,null,"% de Despesa Apresentada/ V.Projeto",null,{"$f":"IF(E29<>\"\",ROUND(E29/E27,4),\"\")","v":""},null,null,null,null,null,null,null,"Santa Cruz da Graciosa","Graciosa"]
[null,null,null,null,null,null,null,null,null,null,null,null,"Santa Cruz das Flores","Flores"]
[null,null,"NIF:",null,null,null,null,null,null,null,null,null,"São Roque do Pico","Pico"]
[null,null,null,null,null,null,null,null,null,null,null,null,"Velas","São Jorge"]
[null,null,"Sede:",null,null,null,null,null,null,null,null,null,"Vila do Porto","Santa Maria"]
[null,null,null,null,null,null,null,null,null,null,null,null,"Vila Franca do Campo","São Miguel"]
[null,null,"C. Postal:"]
[]
[null,null,"Concelho:"]
[]
[null,null,"Ilha:",{"$f":"IF(ISBLANK(D38),\"\",VLOOKUP($D$38,Tabelas!V1:W19,2))","v":""}]
[]
[null,null,"Contactos:"]
[]
[null,null,"Telefone Fixo:",null,null,"N.º Telemóvel:"]
[]
[]
[null,null,"Pessoas a Contatar:"]
[]
[]
[]
[null,null,"Email:"]
[]
[]
[null,null,"NIB/IBAN:"]
[]
[]
[]
[]
[]
[]
[null,"GOVERNO REGIONAL DOS AÇORES"]
[]
[null,"VICE-PRESIDÊNCIA DO GOVERNO, EMPREGO E COMPETITIVIDADE EMPRESARIAL"]
[]
[null,"DIREÇÃO REGIONAL DE APOIO AO INVESTIMENTO E COMPETITIVIDADE"]
[]
[null,null,null,null,null,null,null,null,null,null,null,null,null,null,null,null,null,null,null,null,null,null," "]
[null,null,"Subsistema de Incentivos para a Internacionalização"]
[null,null,"Acesso aos Mercados"]
[]
[null," Condições de acesso da candidatura e do pedido de pagamento"]
[]
[null,null,null,null,null,null,"Cumpre Sim/Não"]
[]
[null,1,"O promotor cumpre as condições de acesso da candidatura"]
[null,2,"Corresponde ao transporte de produtos elencados no Despacho n.º 71/2018, de 10 de janeiro"]
[null,3,"Corresponde ao transporte inter-ilhas ou da Região para o exterior"]
[null,4,"Não corresponde ao transporte de produtos lácteos e produtos do setor da panificação e pastelaria das ilhas de São Miguel e Terceira para as restantes ilhas dos Açores"]
[null,5,"A empresa cumpre as condições legais ao exercício da atividade"]
[null,6,"Envolve custos adicionais de transporte calculados em função do percurso das mercadorias dentro das fronteiras nacionais, utilizando os meios de transporte mais baixos"]
[null,7,"Todos os documentos de despesas apresentados estão em nome do promotor"]
[null,8,"Não envolve despesas realizadas há mais de 6 meses, a contar da data da apresentação da candidatura"]
[null,9,"O projeto não envolve a produção de produtos agrícolas enumerados no Anexo I do Tratado"]
[null,10,"A empresa declarou que não se candidatou a outros incentivos da mesma natureza para as despesas elegíveis integradas na candidatura"]
[]
[null,"Data de Apresentação"]
[]
[null,"Assinatura do Promotor:"]

{"sheet":"Mapa de Despesas","index":1,"n_rows":3480,"n_cols":49,"rows_kept":2250,"cut":true,"hidden":false,"merged":[[12,34,12,36],[2,10,2,11],[12,10,12,16],[12,2,12,8],[12,19,12,21],[5,10,6,10],[2,12,2,19],[12,27,12,32],[12,23,12,25]],"bounds":{"rows_first":1000,"rows_last":250,"rows_between":1000,"halvings":1}}
[]
[null,null,null,"REGIÃO AUTÓNOMA DOS AÇORES"]
[null,null,null,"VICE-PRESIDÊNCIA DO GOVERNO, EMPREGO E COMPETITIVIDADE EMPRESARIAL",null,null,null,null,null,null,"Promotor:",null,{"$f":"IF('Pedido de Pagamento'!D19<>\"\",'Pedido de Pagamento'!D19,\"\")","v":""}]
[null,null,null,"DIREÇÃO REGIONAL DE APOIO AO INVESTIMENTO E À COMPETITIVIDADE"]
[null,null,null,null,null,"COMPETIR MAIS / INTERNACIONALIZAÇÃO",null,null,null,null,null,null,null,null,null,"Data de Candidatura",{"$f":"IF('Pedido de Pagamento'!D24<>\"\",'Pedido de Pagamento'!D24,\"\")","v":""}]
[null,null,null,null,null,"ACESSO AOS MERCADOS",null,null,null,null,"Nº do processo: ","Ano","Processo","Ped. Pagamento",null,"Data de Retroatividade de Despesas:",{"$f":"IF('Pedido de Pagamento'!G24<>\"\",'Pedido de Pagamento'!G24,\"\")","v":""}]
[null,null,null,null,null,null,null,null,null,null,null,{"$f":"IF('Pedido de Pagamento'!D22<>\"\",'Pedido de Pagamento'!D22,\"\")","v":""},{"$f":"IF('Pedido de Pagamento'!E22<>\"\",'Pedido de Pagamento'!E22,\"\")","v":""},{"$f":"IF('Pedido de Pagamento'!F22<>\"\",'Pedido de Pagamento'!F22,\"\")","v":""},null,"Data Final",{"$f":"IF('Pedido de Pagamento'!D25<>\"\",'Pedido de Pagamento'!D25,\"\")","v":""}]
[]
[]
[]
[null,"MAPA DE DESPESAS"]
[]
[null,null,"Fatura de Venda ao Cliente",null,null,null,null,null,null,null,"Fatura de Despesa a Comparticipar",null,null,null,null,null,null,null,null,"Recibo de Despesa/Doc. Quitação",null,null,null,"Circuito do Transporte",null,null,null,"Informações do Transporte Marítimo",null,null,null,null,null,null,"Informações do Transporte Aéreo"]
[null,"N.º Ordem","N.º","Data","Valor Venda (Sem IVA)","Produto (NC)","Descrição","Peso               KG / Volume","% Imputação",null,"N.º","Data","Nome da Empresa","Tipo Transporte","RUB","Plano de Despesas","Valor de Despesa (Sem IVA)","Valor Elegível",null,"N.º","Data","Valor",null,"Origem","Circuito","Destino",null,"N.º Guia de Conhecimento Embarque","Referência Contentor","Quant.","Tipo",null,"Descritivo Contentor",null,"N.º de Carta de Porte","Peso Bruto","Peso Taxável"]
[]
[null,"TOTAIS",null,null,{"$f":"+E3382","v":0},null,null,null,null,null,null,null,null,null,null,null,{"$f":"+Q3382","v":0},{"$f":"+R3382","v":0}]
[]
[null,1,null,null,null,null,{"$f":"+IF(F18=\"\",\"\",VLOOKUP(F18,Tabelas!$B$7:$C$96,2))","v":""},null,{"$f":"IF(H18=\"\",\"\",1-SUM(I19:I25))","v":""},null,null,null,null,null,null,{"$f":"+IF(O18=\"\",\"\",IF(N18=\"Transporte Marítimo\",VLOOKUP(O18,Tabelas!$F$7:$G$12,2),IF(N18=\"Transporte Aéreo\",VLOOKUP(O18,Tabelas!$F$16:$G$21,2),\"\")))","v":""},null,null,null,null,null,null,null,null,null,null,null,null,null,null,null,{"$f":"+IF(AE18=\"20NL\",1,IF(AE18=\"40NL\",2,IF(AE18=\"20RF\",3,IF(AE18=\"40RF\",4,\"\"))))","v":""},{"$f":"+IF(AF18=\"\",\"\",VLOOKUP(AF18,Tabelas!$J$27:$K$30,2))","v":""},null,null,null,null,null,null,null,null,null,null,null,null,null,null,null," "]
[null,null,null,null,null,null,{"$f":"+IF(F19=\"\",\"\",VLOOKUP(F19,Tabelas!$B$7:$C$96,2))","v":""},null,{"$f":"IF(H19=\"\",\"\",ROUND(H19/SUM(H18:H25),4))","v":""},null,null,null,null,null,null,{"$f":"+IF(O19=\"\",\"\",IF(N18=\"Transporte Marítimo\",VLOOKUP(O19,Tabelas!$F$7:$G$12,2),IF(N18=\"Transporte Aéreo\",VLOOKUP(O19,Tabelas!$F$16:$G$21,2),\"\")))","v":""},null,null,null,null,null,null,null,null,null,null,null,null,null,null,null,{"$f":"+IF(AE19=\"20NL\",1,IF(AE19=\"40NL\",2,IF(AE19=\"20RF\",3,IF(AE19=\"40RF\",4,\"\"))))","v":""},{"$f":"+IF(AF19=\"\",\"\",VLOOKUP(AF19,Tabelas!$J$27:$K$30,2))","v":""}]
[null,null,null,null,null,null,{"$f":"+IF(F20=\"\",\"\",VLOOKUP(F20,Tabelas!$B$7:$C$96,2))","v":""},null,{"$f":"IF(H20=\"\",\"\",ROUND(H20/SUM(H18:H25),4))","v":""},null,null,null,null,null,null,{"$f":"+IF(O20=\"\",\"\",IF(N18=\"Transporte Marítimo\",VLOOKUP(O20,Tabelas!$F$7:$G$12,2),IF(N18=\"Transporte Aéreo\",VLOOKUP(O20,Tabelas!$F$16:$G$21,2),\"\")))","v":""},null,null,null,null,null,null,null,null,null,null,null,null,null,null,null,"",{"$f":"+IF(AF20=\"\",\"\",VLOOKUP(AF20,Tabelas!$J$27:$K$30,2))","v":""}]
[null,null,null,null,null,null,{"$f":"+IF(F21=\"\",\"\",VLOOKUP(F21,Tabelas!$B$7:$C$96,2))","v":""},null,{"$f":"IF(H21=\"\",\"\",ROUND(H21/SUM(H18:H25),4))","v":""},null,null,null,null,null,null,{"$f":"+IF(O21=\"\",\"\",IF(N18=\"Transporte Marítimo\",VLOOKUP(O21,Tabelas!$F$7:$G$12,2),IF(N18=\"Transporte Aéreo\",VLOOKUP(O21,Tabelas!$F$16:$G$21,2),\"\")))","v":""},null,null,null,null,null,null,null,null,null,null,null,null,null,null,null,"",{"$f":"+IF(AF21=\"\",\"\",VLOOKUP(AF21,Tabelas!$J$27:$K$30,2))","v":""}]
[null,null,null,null,null,null,{"$f":"+IF(F22=\"\",\"\",VLOOKUP(F22,Tabelas!$B$7:$C$96,2))","v":""},null,{"$f":"IF(H22=\"\",\"\",ROUND(H22/SUM(H18:H25),4))","v":""},null,null,null,null,null,null,{"$f":"+IF(O22=\"\",\"\",IF(N18=\"Transporte Marítimo\",VLOOKUP(O22,Tabelas!$F$7:$G$12,2),IF(N18=\"Transporte Aéreo\",VLOOKUP(O22,Tabelas!$F$16:$G$21,2),\"\")))","v":""},null,null,null,null,null,null,null,null,null,null,null,null,null,null,null,"",{"$f":"+IF(AF22=\"\",\"\",VLOOKUP(AF22,Tabelas!$J$27:$K$30,2))","v":""}]
[null,null,null,null,null,null,{"$f":"+IF(F23=\"\",\"\",VLOOKUP(F23,Tabelas!$B$7:$C$96,2))","v":""},null,{"$f":"IF(H23=\"\",\"\",ROUND(H23/SUM(H18:H25),4))","v":""},null,null,null,null,null,null,{"$f":"+IF(O23=\"\",\"\",IF(N18=\"Transporte Marítimo\",VLOOKUP(O23,Tabelas!$F$7:$G$12,2),IF(N18=\"Transporte Aéreo\",VLOOKUP(O23,Tabelas!$F$16:$G$21,2),\"\")))","v":""},null,null,null,null,null,null,null,null,null,null,null,null,null,null,null,"",{"$f":"+IF(AF23=\"\",\"\",VLOOKUP(AF23,Tabelas!$J$27:$K$30,2))","v":""}]
[null,null,null,null,null,null,{"$f":"+IF(F24=\"\",\"\",VLOOKUP(F24,Tabelas!$B$7:$C$96,2))","v":""},null,{"$f":"IF(H24=\"\",\"\",ROUND(H24/SUM(H18:H25),4))","v":""},null,null,null,null,null,null,{"$f":"+IF(O24=\"\",\"\",IF(N18=\"Transporte Marítimo\",VLOOKUP(O24,Tabelas!$F$7:$G$12,2),IF(N18=\"Transporte Aéreo\",VLOOKUP(O24,Tabelas!$F$16:$G$21,2),\"\")))","v":""},null,null,null,null,null,null,null,null,null,null,null,null,null,null,null,"",{"$f":"+IF(AF24=\"\",\"\",VLOOKUP(AF24,Tabelas!$J$27:$K$30,2))","v":""}]
[null,null,null,null,null,null,{"$f":"+IF(F25=\"\",\"\",VLOOKUP(F25,Tabelas!$B$7:$C$96,2))","v":""},null,{"$f":"IF(H25=\"\",\"\",ROUND(H25/SUM(H18:H25),4))","v":""},null,null,null,null,null,null,{"$f":"+IF(O25=\"\",\"\",IF(N18=\"Transporte Marítimo\",VLOOKUP(O25,Tabelas!$F$7:$G$12,2),IF(N18=\"Transporte Aéreo\",VLOOKUP(O25,Tabelas!$F$16:$G$21,2),\"\")))","v":""},null,null,null,null,null,null,null,null,null,null,null,null,null,null,null,"",{"$f":"+IF(AF25=\"\",\"\",VLOOKUP(AF25,Tabelas!$J$27:$K$30,2))","v":""}]
[null,{"$f":"+B18+1","v":2},null,null,null,null,{"$f":"+IF(F26=\"\",\"\",VLOOKUP(F26,Tabelas!$B$7:$C$96,2))","v":""},null,{"$f":"IF(H26=\"\",\"\",1-SUM(I27:I33))","v":""},null,null,null,null,null,null,{"$f":"+IF(O26=\"\",\"\",IF(N26=\"Transporte Marítimo\",VLOOKUP(O26,Tabelas!$F$7:$G$12,2),IF(N26=\"Transporte Aéreo\",VLOOKUP(O26,Tabelas!$F$16:$G$21,2),\"\")))","v":""},null,null,null,null,null,null,null,null,null,null,null,null,null,null,null,"",{"$f":"+IF(AF26=\"\",\"\",VLOOKUP(AF26,Tabelas!$J$27:$K$30,2))","v":""},null,null,null,null,null,null,null,null,null,null,null,null,null,null,null," "]
[null,null,null,null,null,null,{"$f":"+IF(F27=\"\",\"\",VLOOKUP(F27,Tabelas!$B$7:$C$96,2))","v":""},null,{"$f":"IF(H27=\"\",\"\",ROUND(H27/SUM(H26:H33),4))","v":""},null,null,null,null,null,null,{"$f":"+IF(O27=\"\",\"\",IF(N26=\"Transporte Marítimo\",VLOOKUP(O27,Tabelas!$F$7:$G$12,2),IF(N26=\"Transporte Aéreo\",VLOOKUP(O27,Tabelas!$F$16:$G$21,2),\"\")))","v":""},null,null,null,null,null,null,null,null,null,null,null,null,null,null,null,"",{"$f":"+IF(AF27=\"\",\"\",VLOOKUP(AF27,Tabelas!$J$27:$K$30,2))","v":""}]
[null,null,null,null,null,null,{"$f":"+IF(F28=\"\",\"\",VLOOKUP(F28,Tabelas!$B$7:$C$96,2))","v":""},null,{"$f":"IF(H28=\"\",\"\",ROUND(H28/SUM(H26:H33),4))","v":""},null,null,null,null,null,null,{"$f":"+IF(O28=\"\",\"\",IF(N26=\"Transporte Marítimo\",VLOOKUP(O28,Tabelas!$F$7:$G$12,2),IF(N26=\"Transporte Aéreo\",VLOOKUP(O28,Tabelas!$F$16:$G$21,2),\"\")))","v":""},null,null,null,null,null,null,null,null,null,null,null,null,null,null,null,"",{"$f":"+IF(AF28=\"\",\"\",VLOOKUP(AF28,Tabelas!$J$27:$K$30,2))","v":""}]
[null,null,null,null,null,null,{"$f":"+IF(F29=\"\",\"\",VLOOKUP(F29,Tabelas!$B$7:$C$96,2))","v":""},null,{"$f":"IF(H29=\"\",\"\",ROUND(H29/SUM(H26:H33),4))","v":""},null,null,null,null,null,null,{"$f":"+IF(O29=\"\",\"\",IF(N26=\"Transporte Marítimo\",VLOOKUP(O29,Tabelas!$F$7:$G$12,2),IF(N26=\"Transporte Aéreo\",VLOOKUP(O29,Tabelas!$F$16:$G$21,2),\"\")))","v":""},null,null,null,null,null,null,null,null,null,null,null,null,null,null,null,"",{"$f":"+IF(AF29=\"\",\"\",VLOOKUP(AF29,Tabelas!$J$27:$K$30,2))","v":""}]
[null,null,null,null,null,null,{"$f":"+IF(F30=\"\",\"\",VLOOKUP(F30,Tabelas!$B$7:$C$96,2))","v":""},null,{"$f":"IF(H30=\"\",\"\",ROUND(H30/SUM(H26:H33),4))","v":""},null,null,null,null,null,null,{"$f":"+IF(O30=\"\",\"\",IF(N26=\"Transporte Marítimo\",VLOOKUP(O30,Tabelas!$F$7:$G$12,2),IF(N26=\"Transporte Aéreo\",VLOOKUP(O30,Tabelas!$F$16:$G$21,2),\"\")))","v":""},null,null,null,null,null,null,null,null,null,null,null,null,null,null,null,"",{"$f":"+IF(AF30=\"\",\"\",VLOOKUP(AF30,Tabelas!$J$27:$K$30,2))","v":""}]
[null,null,null,null,null,null,{"$f":"+IF(F31=\"\",\"\",VLOOKUP(F31,Tabelas!$B$7:$C$96,2))","v":""},null,{"$f":"IF(H31=\"\",\"\",ROUND(H31/SUM(H26:H33),4))","v":""},null,null,null,null,null,null,{"$f":"+IF(O31=\"\",\"\",IF(N26=\"Transporte Marítimo\",VLOOKUP(O31,Tabelas!$F$7:$G$12,2),IF(N26=\"Transporte Aéreo\",VLOOKUP(O31,Tabelas!$F$16:$G$21,2),\"\")))","v":""},null,null,null,null,null,null,null,null,null,null,null,null,null,null,null,"",{"$f":"+IF(AF31=\"\",\"\",VLOOKUP(AF31,Tabelas!$J$27:$K$30,2))","v":""}]
[null,null,null,null,null,null,{"$f":"+IF(F32=\"\",\"\",VLOOKUP(F32,Tabelas!$B$7:$C$96,2))","v":""},null,{"$f":"IF(H32=\"\",\"\",ROUND(H32/SUM(H26:H33),4))","v":""},null,null,null,null,null,null,{"$f":"+IF(O32=\"\",\"\",IF(N26=\"Transporte Marítimo\",VLOOKUP(O32,Tabelas!$F$7:$G$12,2),IF(N26=\"Transporte Aéreo\",VLOOKUP(O32,Tabelas!$F$16:$G$21,2),\"\")))","v":""},null,null,null,null,null,null,null,null,null,null,null,null,null,null,null,"",{"$f":"+IF(AF32=\"\",\"\",VLOOKUP(AF32,Tabelas!$J$27:$K$30,2))","v":""}]
[null,null,null,null,null,null,{"$f":"+IF(F33=\"\",\"\",VLOOKUP(F33,Tabelas!$B$7:$C$96,2))","v":""},null,{"$f":"IF(H33=\"\",\"\",ROUND(H33/SUM(H26:H33),4))","v":""},null,null,null,null,null,null,{"$f":"+IF(O33=\"\",\"\",IF(N26=\"Transporte Marítimo\",VLOOKUP(O33,Tabelas!$F$7:$G$12,2),IF(N26=\"Transporte Aéreo\",VLOOKUP(O33,Tabelas!$F$16:$G$21,2),\"\")))","v":""},null,null,null,null,null,null,null,null,null,null,null,null,null,null,null,"",{"$f":"+IF(AF33=\"\",\"\",VLOOKUP(AF33,Tabelas!$J$27:$K$30,2))","v":""}]
[null,{"$f":"+B26+1","v":3},null,null,null,null,{"$f":"+IF(F34=\"\",\"\",VLOOKUP(F34,Tabelas!$B$7:$C$96,2))","v":""},null,{"$f":"IF(H34=\"\",\"\",1-SUM(I35:I41))","v":""},null,null,null,null,null,null,{"$f":"+IF(O34=\"\",\"\",IF(N34=\"Transporte Marítimo\",VLOOKUP(O34,Tabelas!$F$7:$G$12,2),IF(N34=\"Transporte Aéreo\",VLOOKUP(O34,Tabelas!$F$16:$G$21,2),\"\")))","v":""},null,null,null,null,null,null,null,null,null,null,null,null,null,null,null,"",{"$f":"+IF(AF34=\"\",\"\",VLOOKUP(AF34,Tabelas!$J$27:$K$30,2))","v":""},null,null,null,null,null,null,null,null,null,null,null,null,null,null,null," "]
[null,null,null,null,null,null,{"$f":"+IF(F35=\"\",\"\",VLOOKUP(F35,Tabelas!$B$7:$C$96,2))","v":""},null,{"$f":"IF(H35=\"\",\"\",ROUND(H35/SUM(H34:H41),4))","v":""},null,null,null,null,null,null,{"$f":"+IF(O35=\"\",\"\",IF(N34=\"Transporte Marítimo\",VLOOKUP(O35,Tabelas!$F$7:$G$12,2),IF(N34=\"Transporte Aéreo\",VLOOKUP(O35,Tabelas!$F$16:$G$21,2),\"\")))","v":""},null,null,null,null,null,null,null,null,null,null,null,null,null,null,null,"",{"$f":"+IF(AF35=\"\",\"\",VLOOKUP(AF35,Tabelas!$J$27:$K$30,2))","v":""}]
[null,null,null,null,null,null,{"$f":"+IF(F36=\"\",\"\",VLOOKUP(F36,Tabelas!$B$7:$C$96,2))","v":""},null,{"$f":"IF(H36=\"\",\"\",ROUND(H36/SUM(H34:H41),4))","v":""},null,null,null,null,null,null,{"$f":"+IF(O36=\"\",\"\",IF(N34=\"Transporte Marítimo\",VLOOKUP(O36,Tabelas!$F$7:$G$12,2),IF(N34=\"Transporte Aéreo\",VLOOKUP(O36,Tabelas!$F$16:$G$21,2),\"\")))","v":""},null,null,null,null,null,null,null,null,null,null,null,null,null,null,null,"",{"$f":"+IF(AF36=\"\",\"\",VLOOKUP(AF36,Tabelas!$J$27:$K$30,2))","v":""}]
[null,null,null,null,null,null,{"$f":"+IF(F37=\"\",\"\",VLOOKUP(F37,Tabelas!$B$7:$C$96,2))","v":""},null,{"$f":"IF(H37=\"\",\"\",ROUND(H37/SUM(H34:H41),4))","v":""},null,null,null,null,null,null,{"$f":"+IF(O37=\"\",\"\",IF(N34=\"Transporte Marítimo\",VLOOKUP(O37,Tabelas!$F$7:$G$12,2),IF(N34=\"Transporte Aéreo\",VLOOKUP(O37,Tabelas!$F$16:$G$21,2),\"\")))","v":""},null,null,null,null,null,null,null,null,null,null,null,null,null,null,null,"",{"$f":"+IF(AF37=\"\",\"\",VLOOKUP(AF37,Tabelas!$J$27:$K$30,2))","v":""}]
[null,null,null,null,null,null,{"$f":"+IF(F38=\"\",\"\",VLOOKUP(F38,Tabelas!$B$7:$C$96,2))","v":""},null,{"$f":"IF(H38=\"\",\"\",ROUND(H38/SUM(H34:H41),4))","v":""},null,null,null,null,null,null,{"$f":"+IF(O38=\"\",\"\",IF(N34=\"Transporte Marítimo\",VLOOKUP(O38,Tabelas!$F$7:$G$12,2),IF(N34=\"Transporte Aéreo\",VLOOKUP(O38,Tabelas!$F$16:$G$21,2),\"\")))","v":""},null,null,null,null,null,null,null,null,null,null,null,null,null,null,null,"",{"$f":"+IF(AF38=\"\",\"\",VLOOKUP(AF38,Tabelas!$J$27:$K$30,2))","v":""}]
[null,null,null,null,null,null,{"$f":"+IF(F39=\"\",\"\",VLOOKUP(F39,Tabelas!$B$7:$C$96,2))","v":""},null,{"$f":"IF(H39=\"\",\"\",ROUND(H39/SUM(H34:H41),4))","v":""},null,null,null,null,null,null,{"$f":"+IF(O39=\"\",\"\",IF(N34=\"Transporte Marítimo\",VLOOKUP(O39,Tabelas!$F$7:$G$12,2),IF(N34=\"Transporte Aéreo\",VLOOKUP(O39,Tabelas!$F$16:$G$21,2),\"\")))","v":""},null,null,null,null,null,null,null,null,null,null,null,null,null,null,null,"",{"$f":"+IF(AF39=\"\",\"\",VLOOKUP(AF39,Tabelas!$J$27:$K$30,2))","v":""}]
[null,null,null,null,null,null,{"$f":"+IF(F40=\"\",\"\",VLOOKUP(F40,Tabelas!$B$7:$C$96,2))","v":""},null,{"$f":"IF(H40=\"\",\"\",ROUND(H40/SUM(H34:H41),4))","v":""},null,null,null,null,null,null,{"$f":"+IF(O40=\"\",\"\",IF(N34=\"Transporte Marítimo\",VLOOKUP(O40,Tabelas!$F$7:$G$12,2),IF(N34=\"Transporte Aéreo\",VLOOKUP(O40,Tabelas!$F$16:$G$21,2),\"\")))","v":""},null,null,null,null,null,null,null,null,null,null,null,null,null,null,null,"",{"$f":"+IF(AF40=\"\",\"\",VLOOKUP(AF40,Tabelas!$J$27:$K$30,2))","v":""}]
[null,null,null,null,null,null,{"$f":"+IF(F41=\"\",\"\",VLOOKUP(F41,Tabelas!$B$7:$C$96,2))","v":""},null,{"$f":"IF(H41=\"\",\"\",ROUND(H41/SUM(H34:H41),4))","v":""},null,null,null,null,null,null,{"$f":"+IF(O41=\"\",\"\",IF(N34=\"Transporte Marítimo\",VLOOKUP(O41,Tabelas!$F$7:$G$12,2),IF(N34=\"Transporte Aéreo\",VLOOKUP(O41,Tabelas!$F$16:$G$21,2),\"\")))","v":""},null,null,null,null,null,null,null,null,null,null,null,null,null,null,null,"",{"$f":"+IF(AF41=\"\",\"\",VLOOKUP(AF41,Tabelas!$J$27:$K$30,2))","v":""}]
[null,{"$f":"+B34+1","v":4},null,null,null,null,{"$f":"+IF(F42=\"\",\"\",VLOOKUP(F42,Tabelas!$B$7:$C$96,2))","v":""},null,{"$f":"IF(H42=\"\",\"\",1-SUM(I43:I49))","v":""},null,null,null,null,null,null,{"$f":"+IF(O42=\"\",\"\",IF(N42=\"Transporte Marítimo\",VLOOKUP(O42,Tabelas!$F$7:$G$12,2),IF(N42=\"Transporte Aéreo\",VLOOKUP(O42,Tabelas!$F$16:$G$21,2),\"\")))","v":""},null,null,null,null,null,null,null,null,null,null,null,null,null,null,null,"",{"$f":"+IF(AF42=\"\",\"\",VLOOKUP(AF42,Tabelas!$J$27:$K$30,2))","v":""},null,null,null,null,null,null,null,null,null,null,null,null,null,null,null," "]
[null,null,null,null,null,null,{"$f":"+IF(F43=\"\",\"\",VLOOKUP(F43,Tabelas!$B$7:$C$96,2))","v":""},null,{"$f":"IF(H43=\"\",\"\",ROUND(H43/SUM(H42:H49),4))","v":""},null,null,null,null,null,null,{"$f":"+IF(O43=\"\",\"\",IF(N42=\"Transporte Marítimo\",VLOOKUP(O43,Tabelas!$F$7:$G$12,2),IF(N42=\"Transporte Aéreo\",VLOOKUP(O43,Tabelas!$F$16:$G$21,2),\"\")))","v":""},null,null,null,null,null,null,null,null,null,null,null,null,null,null,null,"",{"$f":"+IF(AF43=\"\",\"\",VLOOKUP(AF43,Tabelas!$J$27:$K$30,2))","v":""}]
[null,null,null,null,null,null,{"$f":"+IF(F44=\"\",\"\",VLOOKUP(F44,Tabelas!$B$7:$C$96,2))","v":""},null,{"$f":"IF(H44=\"\",\"\",ROUND(H44/SUM(H42:H49),4))","v":""},null,null,null,null,null,null,{"$f":"+IF(O44=\"\",\"\",IF(N42=\"Transporte Marítimo\",VLOOKUP(O44,Tabelas!$F$7:$G$12,2),IF(N42=\"Transporte Aéreo\",VLOOKUP(O44,Tabelas!$F$16:$G$21,2),\"\")))","v":""},null,null,null,null,null,null,null,null,null,null,null,null,null,null,null,"",{"$f":"+IF(AF44=\"\",\"\",VLOOKUP(AF44,Tabelas!$J$27:$K$30,2))","v":""}]
[null,null,null,null,null,null,{"$f":"+IF(F45=\"\",\"\",VLOOKUP(F45,Tabelas!$B$7:$C$96,2))","v":""},null,{"$f":"IF(H45=\"\",\"\",ROUND(H45/SUM(H42:H49),4))","v":""},null,null,null,null,null,null,{"$f":"+IF(O45=\"\",\"\",IF(N42=\"Transporte Marítimo\",VLOOKUP(O45,Tabelas!$F$7:$G$12,2),IF(N42=\"Transporte Aéreo\",VLOOKUP(O45,Tabelas!$F$16:$G$21,2),\"\")))","v":""},null,null,null,null,null,null,null,null,null,null,null,null,null,null,null,"",{"$f":"+IF(AF45=\"\",\"\",VLOOKUP(AF45,Tabelas!$J$27:$K$30,2))","v":""}]
[null,null,null,null,null,null,{"$f":"+IF(F46=\"\",\"\",VLOOKUP(F46,Tabelas!$B$7:$C$96,2))","v":""},null,{"$f":"IF(H46=\"\",\"\",ROUND(H46/SUM(H42:H49),4))","v":""},null,null,null,null,null,null,{"$f":"+IF(O46=\"\",\"\",IF(N42=\"Transporte Marítimo\",VLOOKUP(O46,Tabelas!$F$7:$G$12,2),IF(N42=\"Transporte Aéreo\",VLOOKUP(O46,Tabelas!$F$16:$G$21,2),\"\")))","v":""},null,null,null,null,null,null,null,null,null,null,null,null,null,null,null,"",{"$f":"+IF(AF46=\"\",\"\",VLOOKUP(AF46,Tabelas!$J$27:$K$30,2))","v":""}]
[null,null,null,null,null,null,{"$f":"+IF(F47=\"\",\"\",VLOOKUP(F47,Tabelas!$B$7:$C$96,2))","v":""},null,{"$f":"IF(H47=\"\",\"\",ROUND(H47/SUM(H42:H49),4))","v":""},null,null,null,null,null,null,{"$f":"+IF(O47=\"\",\"\",IF(N42=\"Transporte Marítimo\",VLOOKUP(O47,Tabelas!$F$7:$G$12,2),IF(N42=\"Transporte Aéreo\",VLOOKUP(O47,Tabelas!$F$16:$G$21,2),\"\")))","v":""},null,null,null,null,null,null,null,null,null,null,null,null,null,null,null,"",{"$f":"+IF(AF47=\"\",\"\",VLOOKUP(AF47,Tabelas!$J$27:$K$30,2))","v":""}]
[null,null,null,null,null,null,{"$f":"+IF(F48=\"\",\"\",VLOOKUP(F48,Tabelas!$B$7:$C$96,2))","v":""},null,{"$f":"IF(H48=\"\",\"\",ROUND(H48/SUM(H42:H49),4))","v":""},null,null,null,null,null,null,{"$f":"+IF(O48=\"\",\"\",IF(N42=\"Transporte Marítimo\",VLOOKUP(O48,Tabelas!$F$7:$G$12,2),IF(N42=\"Transporte Aéreo\",VLOOKUP(O48,Tabelas!$F$16:$G$21,2),\"\")))","v":""},null,null,null,null,null,null,null,null,null,null,null,null,null,null,null,"",{"$f":"+IF(AF48=\"\",\"\",VLOOKUP(AF48,Tabelas!$J$27:$K$30,2))","v":""}]
[null,null,null,null,null,null,{"$f":"+IF(F49=\"\",\"\",VLOOKUP(F49,Tabelas!$B$7:$C$96,2))","v":""},null,{"$f":"IF(H49=\"\",\"\",ROUND(H49/SUM(H42:H49),4))","v":""},null,null,null,null,null,null,{"$f":"+IF(O49=\"\",\"\",IF(N42=\"Transporte Marítimo\",VLOOKUP(O49,Tabelas!$F$7:$G$12,2),IF(N42=\"Transporte Aéreo\",VLOOKUP(O49,Tabelas!$F$16:$G$21,2),\"\")))","v":""},null,null,null,null,null,null,null,null,null,null,null,null,null,null,null,"",{"$f":"+IF(AF49=\"\",\"\",VLOOKUP(AF49,Tabelas!$J$27:$K$30,2))","v":""}]
[null,{"$f":"+B42+1","v":5},null,null,null,null,{"$f":"+IF(F50=\"\",\"\",VLOOKUP(F50,Tabelas!$B$7:$C$96,2))","v":""},null,{"$f":"IF(H50=\"\",\"\",1-SUM(I51:I57))","v":""},null,null,null,null,null,null,{"$f":"+IF(O50=\"\",\"\",IF(N50=\"Transporte Marítimo\",VLOOKUP(O50,Tabelas!$F$7:$G$12,2),IF(N50=\"Transporte Aéreo\",VLOOKUP(O50,Tabelas!$F$16:$G$21,2),\"\")))","v":""},null,null,null,null,null,null,null,null,null,null,null,null,null,null,null,"",{"$f":"+IF(AF50=\"\",\"\",VLOOKUP(AF50,Tabelas!$J$27:$K$30,2))","v":""},null,null,null,null,null,null,null,null,null,null,null,null,null,null,null," "]
[null,null,null,null,null,null,{"$f":"+IF(F51=\"\",\"\",VLOOKUP(F51,Tabelas!$B$7:$C$96,2))","v":""},null,{"$f":"IF(H51=\"\",\"\",ROUND(H51/SUM(H50:H57),4))","v":""},null,null,null,null,null,null,{"$f":"+IF(O51=\"\",\"\",IF(N50=\"Transporte Marítimo\",VLOOKUP(O51,Tabelas!$F$7:$G$12,2),IF(N50=\"Transporte Aéreo\",VLOOKUP(O51,Tabelas!$F$16:$G$21,2),\"\")))","v":""},null,null,null,null,null,null,null,null,null,null,null,null,null,null,null,"",{"$f":"+IF(AF51=\"\",\"\",VLOOKUP(AF51,Tabelas!$J$27:$K$30,2))","v":""}]
[null,null,null,null,null,null,{"$f":"+IF(F52=\"\",\"\",VLOOKUP(F52,Tabelas!$B$7:$C$96,2))","v":""},null,{"$f":"IF(H52=\"\",\"\",ROUND(H52/SUM(H50:H57),4))","v":""},null,null,null,null,null,null,{"$f":"+IF(O52=\"\",\"\",IF(N50=\"Transporte Marítimo\",VLOOKUP(O52,Tabelas!$F$7:$G$12,2),IF(N50=\"Transporte Aéreo\",VLOOKUP(O52,Tabelas!$F$16:$G$21,2),\"\")))","v":""},null,null,null,null,null,null,null,null,null,null,null,null,null,null,null,"",{"$f":"+IF(AF52=\"\",\"\",VLOOKUP(AF52,Tabelas!$J$27:$K$30,2))","v":""}]
[null,null,null,null,null,null,{"$f":"+IF(F53=\"\",\"\",VLOOKUP(F53,Tabelas!$B$7:$C$96,2))","v":""},null,{"$f":"IF(H53=\"\",\"\",ROUND(H53/SUM(H50:H57),4))","v":""},null,null,null,null,null,null,{"$f":"+IF(O53=\"\",\"\",IF(N50=\"Transporte Marítimo\",VLOOKUP(O53,Tabelas!$F$7:$G$12,2),IF(N50=\"Transporte Aéreo\",VLOOKUP(O53,Tabelas!$F$16:$G$21,2),\"\")))","v":""},null,null,null,null,null,null,null,null,null,null,null,null,null,null,null,"",{"$f":"+IF(AF53=\"\",\"\",VLOOKUP(AF53,Tabelas!$J$27:$K$30,2))","v":""}]
[null,null,null,null,null,null,{"$f":"+IF(F54=\"\",\"\",VLOOKUP(F54,Tabelas!$B$7:$C$96,2))","v":""},null,{"$f":"IF(H54=\"\",\"\",ROUND(H54/SUM(H50:H57),4))","v":""},null,null,null,null,null,null,{"$f":"+IF(O54=\"\",\"\",IF(N50=\"Transporte Marítimo\",VLOOKUP(O54,Tabelas!$F$7:$G$12,2),IF(N50=\"Transporte Aéreo\",VLOOKUP(O54,Tabelas!$F$16:$G$21,2),\"\")))","v":""},null,null,null,null,null,null,null,null,null,null,null,null,null,null,null,"",{"$f":"+IF(AF54=\"\",\"\",VLOOKUP(AF54,Tabelas!$J$27:$K$30,2))","v":""}]
[null,null,null,null,null,null,{"$f":"+IF(F55=\"\",\"\",VLOOKUP(F55,Tabelas!$B$7:$C$96,2))","v":""},null,{"$f":"IF(H55=\"\",\"\",ROUND(H55/SUM(H50:H57),4))","v":""},null,null,null,null,null,null,{"$f":"+IF(O55=\"\",\"\",IF(N50=\"Transporte Marítimo\",VLOOKUP(O55,Tabelas!$F$7:$G$12,2),IF(N50=\"Transporte Aéreo\",VLOOKUP(O55,Tabelas!$F$16:$G$21,2),\"\")))","v":""},null,null,null,null,null,null,null,null,null,null,null,null,null,null,null,"",{"$f":"+IF(AF55=\"\",\"\",VLOOKUP(AF55,Tabelas!$J$27:$K$30,2))","v":""}]
[null,null,null,null,null,null,{"$f":"+IF(F56=\"\",\"\",VLOOKUP(F56,Tabelas!$B$7:$C$96,2))","v":""},null,{"$f":"IF(H56=\"\",\"\",ROUND(H56/SUM(H50:H57),4))","v":""},null,null,null,null,null,null,{"$f":"+IF(O56=\"\",\"\",IF(N50=\"Transporte Marítimo\",VLOOKUP(O56,Tabelas!$F$7:$G$12,2),IF(N50=\"Transporte Aéreo\",VLOOKUP(O56,Tabelas!$F$16:$G$21,2),\"\")))","v":""},null,null,null,null,null,null,null,null,null,null,null,null,null,null,null,"",{"$f":"+IF(AF56=\"\",\"\",VLOOKUP(AF56,Tabelas!$J$27:$K$30,2))","v":""}]
[null,null,null,null,null,null,{"$f":"+IF(F57=\"\",\"\",VLOOKUP(F57,Tabelas!$B$7:$C$96,2))","v":""},null,{"$f":"IF(H57=\"\",\"\",ROUND(H57/SUM(H50:H57),4))","v":""},null,null,null,null,null,null,{"$f":"+IF(O57=\"\",\"\",IF(N50=\"Transporte Marítimo\",VLOOKUP(O57,Tabelas!$F$7:$G$12,2),IF(N50=\"Transporte Aéreo\",VLOOKUP(O57,Tabelas!$F$16:$G$21,2),\"\")))","v":""},null,null,null,null,null,null,null,null,null,null,null,null,null,null,null,"",{"$f":"+IF(AF57=\"\",\"\",VLOOKUP(AF57,Tabelas!$J$27:$K$30,2))","v":""}]
[null,{"$f":"+B50+1","v":6},null,null,null,null,{"$f":"+IF(F58=\"\",\"\",VLOOKUP(F58,Tabelas!$B$7:$C$96,2))","v":""},null,{"$f":"IF(H58=\"\",\"\",1-SUM(I59:I65))","v":""},null,null,null,null,null,null,{"$f":"+IF(O58=\"\",\"\",IF(N58=\"Transporte Marítimo\",VLOOKUP(O58,Tabelas!$F$7:$G$12,2),IF(N58=\"Transporte Aéreo\",VLOOKUP(O58,Tabelas!$F$16:$G$21,2),\"\")))","v":""},null,null,null,null,null,null,null,null,null,null,null,null,null,null,null,"",{"$f":"+IF(AF58=\"\",\"\",VLOOKUP(AF58,Tabelas!$J$27:$K$30,2))","v":""},null,null,null,null,null,null,null,null,null,null,null,null,null,null,null," "]
[null,null,null,null,null,null,{"$f":"+IF(F59=\"\",\"\",VLOOKUP(F59,Tabelas!$B$7:$C$96,2))","v":""},null,{"$f":"IF(H59=\"\",\"\",ROUND(H59/SUM(H58:H65),4))","v":""},null,null,null,null,null,null,{"$f":"+IF(O59=\"\",\"\",IF(N58=\"Transporte Marítimo\",VLOOKUP(O59,Tabelas!$F$7:$G$12,2),IF(N58=\"Transporte Aéreo\",VLOOKUP(O59,Tabelas!$F$16:$G$21,2),\"\")))","v":""},null,null,null,null,null,null,null,null,null,null,null,null,null,null,null,"",{"$f":"+IF(AF59=\"\",\"\",VLOOKUP(AF59,Tabelas!$J$27:$K$30,2))","v":""}]
[null,null,null,null,null,null,{"$f":"+IF(F60=\"\",\"\",VLOOKUP(F60,Tabelas!$B$7:$C$96,2))","v":""},null,{"$f":"IF(H60=\"\",\"\",ROUND(H60/SUM(H58:H65),4))","v":""},null,null,null,null,null,null,{"$f":"+IF(O60=\"\",\"\",IF(N58=\"Transporte Marítimo\",VLOOKUP(O60,Tabelas!$F$7:$G$12,2),IF(N58=\"Transporte Aéreo\",VLOOKUP(O60,Tabelas!$F$16:$G$21,2),\"\")))","v":""},null,null,null,null,null,null,null,null,null,null,null,null,null,null,null,"",{"$f":"+IF(AF60=\"\",\"\",VLOOKUP(AF60,Tabelas!$J$27:$K$30,2))","v":""}]
[null,null,null,null,null,null,{"$f":"+IF(F61=\"\",\"\",VLOOKUP(F61,Tabelas!$B$7:$C$96,2))","v":""},null,{"$f":"IF(H61=\"\",\"\",ROUND(H61/SUM(H58:H65),4))","v":""},null,null,null,null,null,null,{"$f":"+IF(O61=\"\",\"\",IF(N58=\"Transporte Marítimo\",VLOOKUP(O61,Tabelas!$F$7:$G$12,2),IF(N58=\"Transporte Aéreo\",VLOOKUP(O61,Tabelas!$F$16:$G$21,2),\"\")))","v":""},null,null,null,null,null,null,null,null,null,null,null,null,null,null,null,"",{"$f":"+IF(AF61=\"\",\"\",VLOOKUP(AF61,Tabelas!$J$27:$K$30,2))","v":""}]
[null,null,null,null,null,null,{"$f":"+IF(F62=\"\",\"\",VLOOKUP(F62,Tabelas!$B$7:$C$96,2))","v":""},null,{"$f":"IF(H62=\"\",\"\",ROUND(H62/SUM(H58:H65),4))","v":""},null,null,null,null,null,null,{"$f":"+IF(O62=\"\",\"\",IF(N58=\"Transporte Marítimo\",VLOOKUP(O62,Tabelas!$F$7:$G$12,2),IF(N58=\"Transporte Aéreo\",VLOOKUP(O62,Tabelas!$F$16:$G$21,2),\"\")))","v":""},null,null,null,null,null,null,null,null,null,null,null,null,null,null,null,"",{"$f":"+IF(AF62=\"\",\"\",VLOOKUP(AF62,Tabelas!$J$27:$K$30,2))","v":""}]
[null,null,null,null,null,null,{"$f":"+IF(F63=\"\",\"\",VLOOKUP(F63,Tabelas!$B$7:$C$96,2))","v":""},null,{"$f":"IF(H63=\"\",\"\",ROUND(H63/SUM(H58:H65),4))","v":""},null,null,null,null,null,null,{"$f":"+IF(O63=\"\",\"\",IF(N58=\"Transporte Marítimo\",VLOOKUP(O63,Tabelas!$F$7:$G$12,2),IF(N58=\"Transporte Aéreo\",VLOOKUP(O63,Tabelas!$F$16:$G$21,2),\"\")))","v":""},null,null,null,null,null,null,null,null,null,null,null,null,null,null,null,"",{"$f":"+IF(AF63=\"\",\"\",VLOOKUP(AF63,Tabelas!$J$27:$K$30,2))","v":""}]
[null,null,null,null,null,null,{"$f":"+IF(F64=\"\",\"\",VLOOKUP(F64,Tabelas!$B$7:$C$96,2))","v":""},null,{"$f":"IF(H64=\"\",\"\",ROUND(H64/SUM(H58:H65),4))","v":""},null,null,null,null,null,null,{"$f":"+IF(O64=\"\",\"\",IF(N58=\"Transporte Marítimo\",VLOOKUP(O64,Tabelas!$F$7:$G$12,2),IF(N58=\"Transporte Aéreo\",VLOOKUP(O64,Tabelas!$F$16:$G$21,2),\"\")))","v":""},null,null,null,null,null,null,null,null,null,null,null,null,null,null,null,"",{"$f":"+IF(AF64=\"\",\"\",VLOOKUP(AF64,Tabelas!$J$27:$K$30,2))","v":""}]
[null,null,null,null,null,null,{"$f":"+IF(F65=\"\",\"\",VLOOKUP(F65,Tabelas!$B$7:$C$96,2))","v":""},null,{"$f":"IF(H65=\"\",\"\",ROUND(H65/SUM(H58:H65),4))","v":""},null,null,null,null,null,null,{"$f":"+IF(O65=\"\",\"\",IF(N58=\"Transporte Marítimo\",VLOOKUP(O65,Tabelas!$F$7:$G$12,2),IF(N58=\"Transporte Aéreo\",VLOOKUP(O65,Tabelas!$F$16:$G$21,2),\"\")))","v":""},null,null,null,null,null,null,null,null,null,null,null,null,null,null,null,"",{"$f":"+IF(AF65=\"\",\"\",VLOOKUP(AF65,Tabelas!$J$27:$K$30,2))","v":""}]
[null,{"$f":"+B58+1","v":7},null,null,null,null,{"$f":"+IF(F66=\"\",\"\",VLOOKUP(F66,Tabelas!$B$7:$C$96,2))","v":""},null,{"$f":"IF(H66=\"\",\"\",1-SUM(I67:I73))","v":""},null,null,null,null,null,null,{"$f":"+IF(O66=\"\",\"\",IF(N66=\"Transporte Marítimo\",VLOOKUP(O66,Tabelas!$F$7:$G$12,2),IF(N66=\"Transporte Aéreo\",VLOOKUP(O66,Tabelas!$F$16:$G$21,2),\"\")))","v":""},null,null,null,null,null,null,null,null,null,null,null,null,null,null,null,"",{"$f":"+IF(AF66=\"\",\"\",VLOOKUP(AF66,Tabelas!$J$27:$K$30,2))","v":""},null,null,null,null,null,null,null,null,null,null,null,null,null,null,null," "]
[null,null,null,null,null,null,{"$f":"+IF(F67=\"\",\"\",VLOOKUP(F67,Tabelas!$B$7:$C$96,2))","v":""},null,{"$f":"IF(H67=\"\",\"\",ROUND(H67/SUM(H66:H73),4))","v":""},null,null,null,null,null,null,{"$f":"+IF(O67=\"\",\"\",IF(N66=\"Transporte Marítimo\",VLOOKUP(O67,Tabelas!$F$7:$G$12,2),IF(N66=\"Transporte Aéreo\",VLOOKUP(O67,Tabelas!$F$16:$G$21,2),\"\")))","v":""},null,null,null,null,null,null,null,null,null,null,null,null,null,null,null,"",{"$f":"+IF(AF67=\"\",\"\",VLOOKUP(AF67,Tabelas!$J$27:$K$30,2))","v":""}]
[null,null,null,null,null,null,{"$f":"+IF(F68=\"\",\"\",VLOOKUP(F68,Tabelas!$B$7:$C$96,2))","v":""},null,{"$f":"IF(H68=\"\",\"\",ROUND(H68/SUM(H66:H73),4))","v":""},null,null,null,null,null,null,{"$f":"+IF(O68=\"\",\"\",IF(N66=\"Transporte Marítimo\",VLOOKUP(O68,Tabelas!$F$7:$G$12,2),IF(N66=\"Transporte Aéreo\",VLOOKUP(O68,Tabelas!$F$16:$G$21,2),\"\")))","v":""},null,null,null,null,null,null,null,null,null,null,null,null,null,null,null,"",{"$f":"+IF(AF68=\"\",\"\",VLOOKUP(AF68,Tabelas!$J$27:$K$30,2))","v":""}]
[null,null,null,null,null,null,{"$f":"+IF(F69=\"\",\"\",VLOOKUP(F69,Tabelas!$B$7:$C$96,2))","v":""},null,{"$f":"IF(H69=\"\",\"\",ROUND(H69/SUM(H66:H73),4))","v":""},null,null,null,null,null,null,{"$f":"+IF(O69=\"\",\"\",IF(N66=\"Transporte Marítimo\",VLOOKUP(O69,Tabelas!$F$7:$G$12,2),IF(N66=\"Transporte Aéreo\",VLOOKUP(O69,Tabelas!$F$16:$G$21,2),\"\")))","v":""},null,null,null,null,null,null,null,null,null,null,null,null,null,null,null,"",{"$f":"+IF(AF69=\"\",\"\",VLOOKUP(AF69,Tabelas!$J$27:$K$30,2))","v":""}]
[null,null,null,null,null,null,{"$f":"+IF(F70=\"\",\"\",VLOOKUP(F70,Tabelas!$B$7:$C$96,2))","v":""},null,{"$f":"IF(H70=\"\",\"\",ROUND(H70/SUM(H66:H73),4))","v":""},null,null,null,null,null,null,{"$f":"+IF(O70=\"\",\"\",IF(N66=\"Transporte Marítimo\",VLOOKUP(O70,Tabelas!$F$7:$G$12,2),IF(N66=\"Transporte Aéreo\",VLOOKUP(O70,Tabelas!$F$16:$G$21,2),\"\")))","v":""},null,null,null,null,null,null,null,null,null,null,null,null,null,null,null,"",{"$f":"+IF(AF70=\"\",\"\",VLOOKUP(AF70,Tabelas!$J$27:$K$30,2))","v":""}]
[null,null,null,null,null,null,{"$f":"+IF(F71=\"\",\"\",VLOOKUP(F71,Tabelas!$B$7:$C$96,2))","v":""},null,{"$f":"IF(H71=\"\",\"\",ROUND(H71/SUM(H66:H73),4))","v":""},null,null,null,null,null,null,{"$f":"+IF(O71=\"\",\"\",IF(N66=\"Transporte Marítimo\",VLOOKUP(O71,Tabelas!$F$7:$G$12,2),IF(N66=\"Transporte Aéreo\",VLOOKUP(O71,Tabelas!$F$16:$G$21,2),\"\")))","v":""},null,null,null,null,null,null,null,null,null,null,null,null,null,null,null,"",{"$f":"+IF(AF71=\"\",\"\",VLOOKUP(AF71,Tabelas!$J$27:$K$30,2))","v":""}]
[null,null,null,null,null,null,{"$f":"+IF(F72=\"\",\"\",VLOOKUP(F72,Tabelas!$B$7:$C$96,2))","v":""},null,{"$f":"IF(H72=\"\",\"\",ROUND(H72/SUM(H66:H73),4))","v":""},null,null,null,null,null,null,{"$f":"+IF(O72=\"\",\"\",IF(N66=\"Transporte Marítimo\",VLOOKUP(O72,Tabelas!$F$7:$G$12,2),IF(N66=\"Transporte Aéreo\",VLOOKUP(O72,Tabelas!$F$16:$G$21,2),\"\")))","v":""},null,null,null,null,null,null,null,null,null,null,null,null,null,null,null,"",{"$f":"+IF(AF72=\"\",\"\",VLOOKUP(AF72,Tabelas!$J$27:$K$30,2))","v":""}]
[null,null,null,null,null,null,{"$f":"+IF(F73=\"\",\"\",VLOOKUP(F73,Tabelas!$B$7:$C$96,2))","v":""},null,{"$f":"IF(H73=\"\",\"\",ROUND(H73/SUM(H66:H73),4))","v":""},null,null,null,null,null,null,{"$f":"+IF(O73=\"\",\"\",IF(N66=\"Transporte Marítimo\",VLOOKUP(O73,Tabelas!$F$7:$G$12,2),IF(N66=\"Transporte Aéreo\",VLOOKUP(O73,Tabelas!$F$16:$G$21,2),\"\")))","v":""},null,null,null,null,null,null,null,null,null,null,null,null,null,null,null,"",{"$f":"+IF(AF73=\"\",\"\",VLOOKUP(AF73,Tabelas!$J$27:$K$30,2))","v":""}]
[null,{"$f":"+B66+1","v":8},null,null,null,null,{"$f":"+IF(F74=\"\",\"\",VLOOKUP(F74,Tabelas!$B$7:$C$96,2))","v":""},null,{"$f":"IF(H74=\"\",\"\",1-SUM(I75:I81))","v":""},null,null,null,null,null,null,{"$f":"+IF(O74=\"\",\"\",IF(N74=\"Transporte Marítimo\",VLOOKUP(O74,Tabelas!$F$7:$G$12,2),IF(N74=\"Transporte Aéreo\",VLOOKUP(O74,Tabelas!$F$16:$G$21,2),\"\")))","v":""},null,null,null,null,null,null,null,null,null,null,null,null,null,null,null,"",{"$f":"+IF(AF74=\"\",\"\",VLOOKUP(AF74,Tabelas!$J$27:$K$30,2))","v":""},null,null,null,null,null,null,null,null,null,null,null,null,null,null,null," "]
[null,null,null,null,null,null,{"$f":"+IF(F75=\"\",\"\",VLOOKUP(F75,Tabelas!$B$7:$C$96,2))","v":""},null,{"$f":"IF(H75=\"\",\"\",ROUND(H75/SUM(H74:H81),4))","v":""},null,null,null,null,null,null,{"$f":"+IF(O75=\"\",\"\",IF(N74=\"Transporte Marítimo\",VLOOKUP(O75,Tabelas!$F$7:$G$12,2),IF(N74=\"Transporte Aéreo\",VLOOKUP(O75,Tabelas!$F$16:$G$21,2),\"\")))","v":""},null,null,null,null,null,null,null,null,null,null,null,null,null,null,null,"",{"$f":"+IF(AF75=\"\",\"\",VLOOKUP(AF75,Tabelas!$J$27:$K$30,2))","v":""}]
[null,null,null,null,null,null,{"$f":"+IF(F76=\"\",\"\",VLOOKUP(F76,Tabelas!$B$7:$C$96,2))","v":""},null,{"$f":"IF(H76=\"\",\"\",ROUND(H76/SUM(H74:H81),4))","v":""},null,null,null,null,null,null,{"$f":"+IF(O76=\"\",\"\",IF(N74=\"Transporte Marítimo\",VLOOKUP(O76,Tabelas!$F$7:$G$12,2),IF(N74=\"Transporte Aéreo\",VLOOKUP(O76,Tabelas!$F$16:$G$21,2),\"\")))","v":""},null,null,null,null,null,null,null,null,null,null,null,null,null,null,null,"",{"$f":"+IF(AF76=\"\",\"\",VLOOKUP(AF76,Tabelas!$J$27:$K$30,2))","v":""}]
[null,null,null,null,null,null,{"$f":"+IF(F77=\"\",\"\",VLOOKUP(F77,Tabelas!$B$7:$C$96,2))","v":""},null,{"$f":"IF(H77=\"\",\"\",ROUND(H77/SUM(H74:H81),4))","v":""},null,null,null,null,null,null,{"$f":"+IF(O77=\"\",\"\",IF(N74=\"Transporte Marítimo\",VLOOKUP(O77,Tabelas!$F$7:$G$12,2),IF(N74=\"Transporte Aéreo\",VLOOKUP(O77,Tabelas!$F$16:$G$21,2),\"\")))","v":""},null,null,null,null,null,null,null,null,null,null,null,null,null,null,null,"",{"$f":"+IF(AF77=\"\",\"\",VLOOKUP(AF77,Tabelas!$J$27:$K$30,2))","v":""}]
[null,null,null,null,null,null,{"$f":"+IF(F78=\"\",\"\",VLOOKUP(F78,Tabelas!$B$7:$C$96,2))","v":""},null,{"$f":"IF(H78=\"\",\"\",ROUND(H78/SUM(H74:H81),4))","v":""},null,null,null,null,null,null,{"$f":"+IF(O78=\"\",\"\",IF(N74=\"Transporte Marítimo\",VLOOKUP(O78,Tabelas!$F$7:$G$12,2),IF(N74=\"Transporte Aéreo\",VLOOKUP(O78,Tabelas!$F$16:$G$21,2),\"\")))","v":""},null,null,null,null,null,null,null,null,null,null,null,null,null,null,null,"",{"$f":"+IF(AF78=\"\",\"\",VLOOKUP(AF78,Tabelas!$J$27:$K$30,2))","v":""}]
[null,null,null,null,null,null,{"$f":"+IF(F79=\"\",\"\",VLOOKUP(F79,Tabelas!$B$7:$C$96,2))","v":""},null,{"$f":"IF(H79=\"\",\"\",ROUND(H79/SUM(H74:H81),4))","v":""},null,null,null,null,null,null,{"$f":"+IF(O79=\"\",\"\",IF(N74=\"Transporte Marítimo\",VLOOKUP(O79,Tabelas!$F$7:$G$12,2),IF(N74=\"Transporte Aéreo\",VLOOKUP(O79,Tabelas!$F$16:$G$21,2),\"\")))","v":""},null,null,null,null,null,null,null,null,null,null,null,null,null,null,null,"",{"$f":"+IF(AF79=\"\",\"\",VLOOKUP(AF79,Tabelas!$J$27:$K$30,2))","v":""}]
[null,null,null,null,null,null,{"$f":"+IF(F80=\"\",\"\",VLOOKUP(F80,Tabelas!$B$7:$C$96,2))","v":""},null,{"$f":"IF(H80=\"\",\"\",ROUND(H80/SUM(H74:H81),4))","v":""},null,null,null,null,null,null,{"$f":"+IF(O80=\"\",\"\",IF(N74=\"Transporte Marítimo\",VLOOKUP(O80,Tabelas!$F$7:$G$12,2),IF(N74=\"Transporte Aéreo\",VLOOKUP(O80,Tabelas!$F$16:$G$21,2),\"\")))","v":""},null,null,null,null,null,null,null,null,null,null,null,null,null,null,null,"",{"$f":"+IF(AF80=\"\",\"\",VLOOKUP(AF80,Tabelas!$J$27:$K$30,2))","v":""}]
[null,null,null,null,null,null,{"$f":"+IF(F81=\"\",\"\",VLOOKUP(F81,Tabelas!$B$7:$C$96,2))","v":""},null,{"$f":"IF(H81=\"\",\"\",ROUND(H81/SUM(H74:H81),4))","v":""},null,null,null,null,null,null,{"$f":"+IF(O81=\"\",\"\",IF(N74=\"Transporte Marítimo\",VLOOKUP(O81,Tabelas!$F$7:$G$12,2),IF(N74=\"Transporte Aéreo\",VLOOKUP(O81,Tabelas!$F$16:$G$21,2),\"\")))","v":""},null,null,null,null,null,null,null,null,null,null,null,null,null,null,null,"",{"$f":"+IF(AF81=\"\",\"\",VLOOKUP(AF81,Tabelas!$J$27:$K$30,2))","v":""}]
[null,{"$f":"+B74+1","v":9},null,null,null,null,{"$f":"+IF(F82=\"\",\"\",VLOOKUP(F82,Tabelas!$B$7:$C$96,2))","v":""},null,{"$f":"IF(H82=\"\",\"\",1-SUM(I83:I89))","v":""},null,null,null,null,null,null,{"$f":"+IF(O82=\"\",\"\",IF(N82=\"Transporte Marítimo\",VLOOKUP(O82,Tabelas!$F$7:$G$12,2),IF(N82=\"Transporte Aéreo\",VLOOKUP(O82,Tabelas!$F$16:$G$21,2),\"\")))","v":""},null,null,null,null,null,null,null,null,null,null,null,null,null,null,null,"",{"$f":"+IF(AF82=\"\",\"\",VLOOKUP(AF82,Tabelas!$J$27:$K$30,2))","v":""},null,null,null,null,null,null,null,null,null,null,null,null,null,null,null," "]
[null,null,null,null,null,null,{"$f":"+IF(F83=\"\",\"\",VLOOKUP(F83,Tabelas!$B$7:$C$96,2))","v":""},null,{"$f":"IF(H83=\"\",\"\",ROUND(H83/SUM(H82:H89),4))","v":""},null,null,null,null,null,null,{"$f":"+IF(O83=\"\",\"\",IF(N82=\"Transporte Marítimo\",VLOOKUP(O83,Tabelas!$F$7:$G$12,2),IF(N82=\"Transporte Aéreo\",VLOOKUP(O83,Tabelas!$F$16:$G$21,2),\"\")))","v":""},null,null,null,null,null,null,null,null,null,null,null,null,null,null,null,{"$f":"+IF(AE83=\"20NL\",1,IF(AE83=\"40NL\",2,IF(AE83=\"20RF\",3,IF(AE83=\"40RF\",4,\"\"))))","v":""},{"$f":"+IF(AF83=\"\",\"\",VLOOKUP(AF83,Tabelas!$J$27:$K$30,2))","v":""}]
[null,null,null,null,null,null,{"$f":"+IF(F84=\"\",\"\",VLOOKUP(F84,Tabelas!$B$7:$C$96,2))","v":""},null,{"$f":"IF(H84=\"\",\"\",ROUND(H84/SUM(H82:H89),4))","v":""},null,null,null,null,null,null,{"$f":"+IF(O84=\"\",\"\",IF(N82=\"Transporte Marítimo\",VLOOKUP(O84,Tabelas!$F$7:$G$12,2),IF(N82=\"Transporte Aéreo\",VLOOKUP(O84,Tabelas!$F$16:$G$21,2),\"\")))","v":""},null,null,null,null,null,null,null,null,null,null,null,null,null,null,null,"",{"$f":"+IF(AF84=\"\",\"\",VLOOKUP(AF84,Tabelas!$J$27:$K$30,2))","v":""}]
[null,null,null,null,null,null,{"$f":"+IF(F85=\"\",\"\",VLOOKUP(F85,Tabelas!$B$7:$C$96,2))","v":""},null,{"$f":"IF(H85=\"\",\"\",ROUND(H85/SUM(H82:H89),4))","v":""},null,null,null,null,null,null,{"$f":"+IF(O85=\"\",\"\",IF(N82=\"Transporte Marítimo\",VLOOKUP(O85,Tabelas!$F$7:$G$12,2),IF(N82=\"Transporte Aéreo\",VLOOKUP(O85,Tabelas!$F$16:$G$21,2),\"\")))","v":""},null,null,null,null,null,null,null,null,null,null,null,null,null,null,null,"",{"$f":"+IF(AF85=\"\",\"\",VLOOKUP(AF85,Tabelas!$J$27:$K$30,2))","v":""}]
[null,null,null,null,null,null,{"$f":"+IF(F86=\"\",\"\",VLOOKUP(F86,Tabelas!$B$7:$C$96,2))","v":""},null,{"$f":"IF(H86=\"\",\"\",ROUND(H86/SUM(H82:H89),4))","v":""},null,null,null,null,null,null,{"$f":"+IF(O86=\"\",\"\",IF(N82=\"Transporte Marítimo\",VLOOKUP(O86,Tabelas!$F$7:$G$12,2),IF(N82=\"Transporte Aéreo\",VLOOKUP(O86,Tabelas!$F$16:$G$21,2),\"\")))","v":""},null,null,null,null,null,null,null,null,null,null,null,null,null,null,null,"",{"$f":"+IF(AF86=\"\",\"\",VLOOKUP(AF86,Tabelas!$J$27:$K$30,2))","v":""}]
[null,null,null,null,null,null,{"$f":"+IF(F87=\"\",\"\",VLOOKUP(F87,Tabelas!$B$7:$C$96,2))","v":""},null,{"$f":"IF(H87=\"\",\"\",ROUND(H87/SUM(H82:H89),4))","v":""},null,null,null,null,null,null,{"$f":"+IF(O87=\"\",\"\",IF(N82=\"Transporte Marítimo\",VLOOKUP(O87,Tabelas!$F$7:$G$12,2),IF(N82=\"Transporte Aéreo\",VLOOKUP(O87,Tabelas!$F$16:$G$21,2),\"\")))","v":""},null,null,null,null,null,null,null,null,null,null,null,null,null,null,null,"",{"$f":"+IF(AF87=\"\",\"\",VLOOKUP(AF87,Tabelas!$J$27:$K$30,2))","v":""}]
[null,null,null,null,null,null,{"$f":"+IF(F88=\"\",\"\",VLOOKUP(F88,Tabelas!$B$7:$C$96,2))","v":""},null,{"$f":"IF(H88=\"\",\"\",ROUND(H88/SUM(H82:H89),4))","v":""},null,null,null,null,null,null,{"$f":"+IF(O88=\"\",\"\",IF(N82=\"Transporte Marítimo\",VLOOKUP(O88,Tabelas!$F$7:$G$12,2),IF(N82=\"Transporte Aéreo\",VLOOKUP(O88,Tabelas!$F$16:$G$21,2),\"\")))","v":""},null,null,null,null,null,null,null,null,null,null,null,null,null,null,null,"",{"$f":"+IF(AF88=\"\",\"\",VLOOKUP(AF88,Tabelas!$J$27:$K$30,2))","v":""}]
[null,null,null,null,null,null,{"$f":"+IF(F89=\"\",\"\",VLOOKUP(F89,Tabelas!$B$7:$C$96,2))","v":""},null,{"$f":"IF(H89=\"\",\"\",ROUND(H89/SUM(H82:H89),4))","v":""},null,null,null,null,null,null,{"$f":"+IF(O89=\"\",\"\",IF(N82=\"Transporte Marítimo\",VLOOKUP(O89,Tabelas!$F$7:$G$12,2),IF(N82=\"Transporte Aéreo\",VLOOKUP(O89,Tabelas!$F$16:$G$21,2),\"\")))","v":""},null,null,null,null,null,null,null,null,null,null,null,null,null,null,null,"",{"$f":"+IF(AF89=\"\",\"\",VLOOKUP(AF89,Tabelas!$J$27:$K$30,2))","v":""}]
[null,{"$f":"+B82+1","v":10},null,null,null,null,{"$f":"+IF(F90=\"\",\"\",VLOOKUP(F90,Tabelas!$B$7:$C$96,2))","v":""},null,{"$f":"IF(H90=\"\",\"\",1-SUM(I91:I97))","v":""},null,null,null,null,null,null,{"$f":"+IF(O90=\"\",\"\",IF(N90=\"Transporte Marítimo\",VLOOKUP(O90,Tabelas!$F$7:$G$12,2),IF(N90=\"Transporte Aéreo\",VLOOKUP(O90,Tabelas!$F$16:$G$21,2),\"\")))","v":""},null,null,null,null,null,null,null,null,null,null,null,null,null,null,null,"",{"$f":"+IF(AF90=\"\",\"\",VLOOKUP(AF90,Tabelas!$J$27:$K$30,2))","v":""},null,null,null,null,null,null,null,null,null,null,null,null,null,null,null," "]
[null,null,null,null,null,null,{"$f":"+IF(F91=\"\",\"\",VLOOKUP(F91,Tabelas!$B$7:$C$96,2))","v":""},null,{"$f":"IF(H91=\"\",\"\",ROUND(H91/SUM(H90:H97),4))","v":""},null,null,null,null,null,null,{"$f":"+IF(O91=\"\",\"\",IF(N90=\"Transporte Marítimo\",VLOOKUP(O91,Tabelas!$F$7:$G$12,2),IF(N90=\"Transporte Aéreo\",VLOOKUP(O91,Tabelas!$F$16:$G$21,2),\"\")))","v":""},null,null,null,null,null,null,null,null,null,null,null,null,null,null,null,"",{"$f":"+IF(AF91=\"\",\"\",VLOOKUP(AF91,Tabelas!$J$27:$K$30,2))","v":""}]
[null,null,null,null,null,null,{"$f":"+IF(F92=\"\",\"\",VLOOKUP(F92,Tabelas!$B$7:$C$96,2))","v":""},null,{"$f":"IF(H92=\"\",\"\",ROUND(H92/SUM(H90:H97),4))","v":""},null,null,null,null,null,null,{"$f":"+IF(O92=\"\",\"\",IF(N90=\"Transporte Marítimo\",VLOOKUP(O92,Tabelas!$F$7:$G$12,2),IF(N90=\"Transporte Aéreo\",VLOOKUP(O92,Tabelas!$F$16:$G$21,2),\"\")))","v":""},null,null,null,null,null,null,null,null,null,null,null,null,null,null,null,"",{"$f":"+IF(AF92=\"\",\"\",VLOOKUP(AF92,Tabelas!$J$27:$K$30,2))","v":""}]
[null,null,null,null,null,null,{"$f":"+IF(F93=\"\",\"\",VLOOKUP(F93,Tabelas!$B$7:$C$96,2))","v":""},null,{"$f":"IF(H93=\"\",\"\",ROUND(H93/SUM(H90:H97),4))","v":""},null,null,null,null,null,null,{"$f":"+IF(O93=\"\",\"\",IF(N90=\"Transporte Marítimo\",VLOOKUP(O93,Tabelas!$F$7:$G$12,2),IF(N90=\"Transporte Aéreo\",VLOOKUP(O93,Tabelas!$F$16:$G$21,2),\"\")))","v":""},null,null,null,null,null,null,null,null,null,null,null,null,null,null,null,"",{"$f":"+IF(AF93=\"\",\"\",VLOOKUP(AF93,Tabelas!$J$27:$K$30,2))","v":""}]
[null,null,null,null,null,null,{"$f":"+IF(F94=\"\",\"\",VLOOKUP(F94,Tabelas!$B$7:$C$96,2))","v":""},null,{"$f":"IF(H94=\"\",\"\",ROUND(H94/SUM(H90:H97),4))","v":""},null,null,null,null,null,null,{"$f":"+IF(O94=\"\",\"\",IF(N90=\"Transporte Marítimo\",VLOOKUP(O94,Tabelas!$F$7:$G$12,2),IF(N90=\"Transporte Aéreo\",VLOOKUP(O94,Tabelas!$F$16:$G$21,2),\"\")))","v":""},null,null,null,null,null,null,null,null,null,null,null,null,null,null,null,"",{"$f":"+IF(AF94=\"\",\"\",VLOOKUP(AF94,Tabelas!$J$27:$K$30,2))","v":""}]
[null,null,null,null,null,null,{"$f":"+IF(F95=\"\",\"\",VLOOKUP(F95,Tabelas!$B$7:$C$96,2))","v":""},null,{"$f":"IF(H95=\"\",\"\",ROUND(H95/SUM(H90:H97),4))","v":""},null,null,null,null,null,null,{"$f":"+IF(O95=\"\",\"\",IF(N90=\"Transporte Marítimo\",VLOOKUP(O95,Tabelas!$F$7:$G$12,2),IF(N90=\"Transporte Aéreo\",VLOOKUP(O95,Tabelas!$F$16:$G$21,2),\"\")))","v":""},null,null,null,null,null,null,null,null,null,null,null,null,null,null,null,"",{"$f":"+IF(AF95=\"\",\"\",VLOOKUP(AF95,Tabelas!$J$27:$K$30,2))","v":""}]
[null,null,null,null,null,null,{"$f":"+IF(F96=\"\",\"\",VLOOKUP(F96,Tabelas!$B$7:$C$96,2))","v":""},null,{"$f":"IF(H96=\"\",\"\",ROUND(H96/SUM(H90:H97),4))","v":""},null,null,null,null,null,null,{"$f":"+IF(O96=\"\",\"\",IF(N90=\"Transporte Marítimo\",VLOOKUP(O96,Tabelas!$F$7:$G$12,2),IF(N90=\"Transporte Aéreo\",VLOOKUP(O96,Tabelas!$F$16:$G$21,2),\"\")))","v":""},null,null,null,null,null,null,null,null,null,null,null,null,null,null,null,"",{"$f":"+IF(AF96=\"\",\"\",VLOOKUP(AF96,Tabelas!$J$27:$K$30,2))","v":""}]
[null,null,null,null,null,null,{"$f":"+IF(F97=\"\",\"\",VLOOKUP(F97,Tabelas!$B$7:$C$96,2))","v":""},null,{"$f":"IF(H97=\"\",\"\",ROUND(H97/SUM(H90:H97),4))","v":""},null,null,null,null,null,null,{"$f":"+IF(O97=\"\",\"\",IF(N90=\"Transporte Marítimo\",VLOOKUP(O97,Tabelas!$F$7:$G$12,2),IF(N90=\"Transporte Aéreo\",VLOOKUP(O97,Tabelas!$F$16:$G$21,2),\"\")))","v":""},null,null,null,null,null,null,null,null,null,null,null,null,null,null,null,"",{"$f":"+IF(AF97=\"\",\"\",VLOOKUP(AF97,Tabelas!$J$27:$K$30,2))","v":""}]
[null,{"$f":"+B90+1","v":11},null,null,null,null,{"$f":"+IF(F98=\"\",\"\",VLOOKUP(F98,Tabelas!$B$7:$C$96,2))","v":""},null,{"$f":"IF(H98=\"\",\"\",1-SUM(I99:I105))","v":""},null,null,null,null,null,null,{"$f":"+IF(O98=\"\",\"\",IF(N98=\"Transporte Marítimo\",VLOOKUP(O98,Tabelas!$F$7:$G$12,2),IF(N98=\"Transporte Aéreo\",VLOOKUP(O98,Tabelas!$F$16:$G$21,2),\"\")))","v":""},null,null,null,null,null,null,null,null,null,null,null,null,null,null,null,"",{"$f":"+IF(AF98=\"\",\"\",VLOOKUP(AF98,Tabelas!$J$27:$K$30,2))","v":""},null,null,null,null,null,null,null,null,null,null,null,null,null,null,null," "]
[null,null,null,null,null,null,{"$f":"+IF(F99=\"\",\"\",VLOOKUP(F99,Tabelas!$B$7:$C$96,2))","v":""},null,{"$f":"IF(H99=\"\",\"\",ROUND(H99/SUM(H98:H105),4))","v":""},null,null,null,null,null,null,{"$f":"+IF(O99=\"\",\"\",IF(N98=\"Transporte Marítimo\",VLOOKUP(O99,Tabelas!$F$7:$G$12,2),IF(N98=\"Transporte Aéreo\",VLOOKUP(O99,Tabelas!$F$16:$G$21,2),\"\")))","v":""},null,null,null,null,null,null,null,null,null,null,null,null,null,null,null,"",{"$f":"+IF(AF99=\"\",\"\",VLOOKUP(AF99,Tabelas!$J$27:$K$30,2))","v":""}]
[null,null,null,null,null,null,{"$f":"+IF(F100=\"\",\"\",VLOOKUP(F100,Tabelas!$B$7:$C$96,2))","v":""},null,{"$f":"IF(H100=\"\",\"\",ROUND(H100/SUM(H98:H105),4))","v":""},null,null,null,null,null,null,{"$f":"+IF(O100=\"\",\"\",IF(N98=\"Transporte Marítimo\",VLOOKUP(O100,Tabelas!$F$7:$G$12,2),IF(N98=\"Transporte Aéreo\",VLOOKUP(O100,Tabelas!$F$16:$G$21,2),\"\")))","v":""},null,null,null,null,null,null,null,null,null,null,null,null,null,null,null,"",{"$f":"+IF(AF100=\"\",\"\",VLOOKUP(AF100,Tabelas!$J$27:$K$30,2))","v":""}]
[null,null,null,null,null,null,{"$f":"+IF(F101=\"\",\"\",VLOOKUP(F101,Tabelas!$B$7:$C$96,2))","v":""},null,{"$f":"IF(H101=\"\",\"\",ROUND(H101/SUM(H98:H105),4))","v":""},null,null,null,null,null,null,{"$f":"+IF(O101=\"\",\"\",IF(N98=\"Transporte Marítimo\",VLOOKUP(O101,Tabelas!$F$7:$G$12,2),IF(N98=\"Transporte Aéreo\",VLOOKUP(O101,Tabelas!$F$16:$G$21,2),\"\")))","v":""},null,null,null,null,null,null,null,null,null,null,null,null,null,null,null,"",{"$f":"+IF(AF101=\"\",\"\",VLOOKUP(AF101,Tabelas!$J$27:$K$30,2))","v":""}]
[null,null,null,null,null,null,{"$f":"+IF(F102=\"\",\"\",VLOOKUP(F102,Tabelas!$B$7:$C$96,2))","v":""},null,{"$f":"IF(H102=\"\",\"\",ROUND(H102/SUM(H98:H105),4))","v":""},null,null,null,null,null,null,{"$f":"+IF(O102=\"\",\"\",IF(N98=\"Transporte Marítimo\",VLOOKUP(O102,Tabelas!$F$7:$G$12,2),IF(N98=\"Transporte Aéreo\",VLOOKUP(O102,Tabelas!$F$16:$G$21,2),\"\")))","v":""},null,null,null,null,null,null,null,null,null,null,null,null,null,null,null,"",{"$f":"+IF(AF102=\"\",\"\",VLOOKUP(AF102,Tabelas!$J$27:$K$30,2))","v":""}]
[null,null,null,null,null,null,{"$f":"+IF(F103=\"\",\"\",VLOOKUP(F103,Tabelas!$B$7:$C$96,2))","v":""},null,{"$f":"IF(H103=\"\",\"\",ROUND(H103/SUM(H98:H105),4))","v":""},null,null,null,null,null,null,{"$f":"+IF(O103=\"\",\"\",IF(N98=\"Transporte Marítimo\",VLOOKUP(O103,Tabelas!$F$7:$G$12,2),IF(N98=\"Transporte Aéreo\",VLOOKUP(O103,Tabelas!$F$16:$G$21,2),\"\")))","v":""},null,null,null,null,null,null,null,null,null,null,null,null,null,null,null,"",{"$f":"+IF(AF103=\"\",\"\",VLOOKUP(AF103,Tabelas!$J$27:$K$30,2))","v":""}]
[null,null,null,null,null,null,{"$f":"+IF(F104=\"\",\"\",VLOOKUP(F104,Tabelas!$B$7:$C$96,2))","v":""},null,{"$f":"IF(H104=\"\",\"\",ROUND(H104/SUM(H98:H105),4))","v":""},null,null,null,null,null,null,{"$f":"+IF(O104=\"\",\"\",IF(N98=\"Transporte Marítimo\",VLOOKUP(O104,Tabelas!$F$7:$G$12,2),IF(N98=\"Transporte Aéreo\",VLOOKUP(O104,Tabelas!$F$16:$G$21,2),\"\")))","v":""},null,null,null,null,null,null,null,null,null,null,null,null,null,null,null,"",{"$f":"+IF(AF104=\"\",\"\",VLOOKUP(AF104,Tabelas!$J$27:$K$30,2))","v":""}]
[null,null,null,null,null,null,{"$f":"+IF(F105=\"\",\"\",VLOOKUP(F105,Tabelas!$B$7:$C$96,2))","v":""},null,{"$f":"IF(H105=\"\",\"\",ROUND(H105/SUM(H98:H105),4))","v":""},null,null,null,null,null,null,{"$f":"+IF(O105=\"\",\"\",IF(N98=\"Transporte Marítimo\",VLOOKUP(O105,Tabelas!$F$7:$G$12,2),IF(N98=\"Transporte Aéreo\",VLOOKUP(O105,Tabelas!$F$16:$G$21,2),\"\")))","v":""},null,null,null,null,null,null,null,null,null,null,null,null,null,null,null,"",{"$f":"+IF(AF105=\"\",\"\",VLOOKUP(AF105,Tabelas!$J$27:$K$30,2))","v":""}]
[null,{"$f":"+B98+1","v":12},null,null,null,null,{"$f":"+IF(F106=\"\",\"\",VLOOKUP(F106,Tabelas!$B$7:$C$96,2))","v":""},null,{"$f":"IF(H106=\"\",\"\",1-SUM(I107:I113))","v":""},null,null,null,null,null,null,{"$f":"+IF(O106=\"\",\"\",IF(N106=\"Transporte Marítimo\",VLOOKUP(O106,Tabelas!$F$7:$G$12,2),IF(N106=\"Transporte Aéreo\",VLOOKUP(O106,Tabelas!$F$16:$G$21,2),\"\")))","v":""},null,null,null,null,null,null,null,null,null,null,null,null,null,null,null,"",{"$f":"+IF(AF106=\"\",\"\",VLOOKUP(AF106,Tabelas!$J$27:$K$30,2))","v":""},null,null,null,null,null,null,null,null,null,null,null,null,null,null,null," "]
[null,null,null,null,null,null,{"$f":"+IF(F107=\"\",\"\",VLOOKUP(F107,Tabelas!$B$7:$C$96,2))","v":""},null,{"$f":"IF(H107=\"\",\"\",ROUND(H107/SUM(H106:H113),4))","v":""},null,null,null,null,null,null,{"$f":"+IF(O107=\"\",\"\",IF(N106=\"Transporte Marítimo\",VLOOKUP(O107,Tabelas!$F$7:$G$12,2),IF(N106=\"Transporte Aéreo\",VLOOKUP(O107,Tabelas!$F$16:$G$21,2),\"\")))","v":""},null,null,null,null,null,null,null,null,null,null,null,null,null,null,null,"",{"$f":"+IF(AF107=\"\",\"\",VLOOKUP(AF107,Tabelas!$J$27:$K$30,2))","v":""}]
[null,null,null,null,null,null,{"$f":"+IF(F108=\"\",\"\",VLOOKUP(F108,Tabelas!$B$7:$C$96,2))","v":""},null,{"$f":"IF(H108=\"\",\"\",ROUND(H108/SUM(H106:H113),4))","v":""},null,null,null,null,null,null,{"$f":"+IF(O108=\"\",\"\",IF(N106=\"Transporte Marítimo\",VLOOKUP(O108,Tabelas!$F$7:$G$12,2),IF(N106=\"Transporte Aéreo\",VLOOKUP(O108,Tabelas!$F$16:$G$21,2),\"\")))","v":""},null,null,null,null,null,null,null,null,null,null,null,null,null,null,null,"",{"$f":"+IF(AF108=\"\",\"\",VLOOKUP(AF108,Tabelas!$J$27:$K$30,2))","v":""}]
[null,null,null,null,null,null,{"$f":"+IF(F109=\"\",\"\",VLOOKUP(F109,Tabelas!$B$7:$C$96,2))","v":""},null,{"$f":"IF(H109=\"\",\"\",ROUND(H109/SUM(H106:H113),4))","v":""},null,null,null,null,null,null,{"$f":"+IF(O109=\"\",\"\",IF(N106=\"Transporte Marítimo\",VLOOKUP(O109,Tabelas!$F$7:$G$12,2),IF(N106=\"Transporte Aéreo\",VLOOKUP(O109,Tabelas!$F$16:$G$21,2),\"\")))","v":""},null,null,null,null,null,null,null,null,null,null,null,null,null,null,null,"",{"$f":"+IF(AF109=\"\",\"\",VLOOKUP(AF109,Tabelas!$J$27:$K$30,2))","v":""}]
[null,null,null,null,null,null,{"$f":"+IF(F110=\"\",\"\",VLOOKUP(F110,Tabelas!$B$7:$C$96,2))","v":""},null,{"$f":"IF(H110=\"\",\"\",ROUND(H110/SUM(H106:H113),4))","v":""},null,null,null,null,null,null,{"$f":"+IF(O110=\"\",\"\",IF(N106=\"Transporte Marítimo\",VLOOKUP(O110,Tabelas!$F$7:$G$12,2),IF(N106=\"Transporte Aéreo\",VLOOKUP(O110,Tabelas!$F$16:$G$21,2),\"\")))","v":""},null,null,null,null,null,null,null,null,null,null,null,null,null,null,null,"",{"$f":"+IF(AF110=\"\",\"\",VLOOKUP(AF110,Tabelas!$J$27:$K$30,2))","v":""}]
[null,null,null,null,null,null,{"$f":"+IF(F111=\"\",\"\",VLOOKUP(F111,Tabelas!$B$7:$C$96,2))","v":""},null,{"$f":"IF(H111=\"\",\"\",ROUND(H111/SUM(H106:H113),4))","v":""},null,null,null,null,null,null,{"$f":"+IF(O111=\"\",\"\",IF(N106=\"Transporte Marítimo\",VLOOKUP(O111,Tabelas!$F$7:$G$12,2),IF(N106=\"Transporte Aéreo\",VLOOKUP(O111,Tabelas!$F$16:$G$21,2),\"\")))","v":""},null,null,null,null,null,null,null,null,null,null,null,null,null,null,null,"",{"$f":"+IF(AF111=\"\",\"\",VLOOKUP(AF111,Tabelas!$J$27:$K$30,2))","v":""}]
[null,null,null,null,null,null,{"$f":"+IF(F112=\"\",\"\",VLOOKUP(F112,Tabelas!$B$7:$C$96,2))","v":""},null,{"$f":"IF(H112=\"\",\"\",ROUND(H112/SUM(H106:H113),4))","v":""},null,null,null,null,null,null,{"$f":"+IF(O112=\"\",\"\",IF(N106=\"Transporte Marítimo\",VLOOKUP(O112,Tabelas!$F$7:$G$12,2),IF(N106=\"Transporte Aéreo\",VLOOKUP(O112,Tabelas!$F$16:$G$21,2),\"\")))","v":""},null,null,null,null,null,null,null,null,null,null,null,null,null,null,null,"",{"$f":"+IF(AF112=\"\",\"\",VLOOKUP(AF112,Tabelas!$J$27:$K$30,2))","v":""}]
[null,null,null,null,null,null,{"$f":"+IF(F113=\"\",\"\",VLOOKUP(F113,Tabelas!$B$7:$C$96,2))","v":""},null,{"$f":"IF(H113=\"\",\"\",ROUND(H113/SUM(H106:H113),4))","v":""},null,null,null,null,null,null,{"$f":"+IF(O113=\"\",\"\",IF(N106=\"Transporte Marítimo\",VLOOKUP(O113,Tabelas!$F$7:$G$12,2),IF(N106=\"Transporte Aéreo\",VLOOKUP(O113,Tabelas!$F$16:$G$21,2),\"\")))","v":""},null,null,null,null,null,null,null,null,null,null,null,null,null,null,null,"",{"$f":"+IF(AF113=\"\",\"\",VLOOKUP(AF113,Tabelas!$J$27:$K$30,2))","v":""}]
[null,{"$f":"+B106+1","v":13},null,null,null,null,{"$f":"+IF(F114=\"\",\"\",VLOOKUP(F114,Tabelas!$B$7:$C$96,2))","v":""},null,{"$f":"IF(H114=\"\",\"\",1-SUM(I115:I121))","v":""},null,null,null,null,null,null,{"$f":"+IF(O114=\"\",\"\",IF(N114=\"Transporte Marítimo\",VLOOKUP(O114,Tabelas!$F$7:$G$12,2),IF(N114=\"Transporte Aéreo\",VLOOKUP(O114,Tabelas!$F$16:$G$21,2),\"\")))","v":""},null,null,null,null,null,null,null,null,null,null,null,null,null,null,null,"",{"$f":"+IF(AF114=\"\",\"\",VLOOKUP(AF114,Tabelas!$J$27:$K$30,2))","v":""},null,null,null,null,null,null,null,null,null,null,null,null,null,null,null," "]
[null,null,null,null,null,null,{"$f":"+IF(F115=\"\",\"\",VLOOKUP(F115,Tabelas!$B$7:$C$96,2))","v":""},null,{"$f":"IF(H115=\"\",\"\",ROUND(H115/SUM(H114:H121),4))","v":""},null,null,null,null,null,null,{"$f":"+IF(O115=\"\",\"\",IF(N114=\"Transporte Marítimo\",VLOOKUP(O115,Tabelas!$F$7:$G$12,2),IF(N114=\"Transporte Aéreo\",VLOOKUP(O115,Tabelas!$F$16:$G$21,2),\"\")))","v":""},null,null,null,null,null,null,null,null,null,null,null,null,null,null,null,"",{"$f":"+IF(AF115=\"\",\"\",VLOOKUP(AF115,Tabelas!$J$27:$K$30,2))","v":""}]
[null,null,null,null,null,null,{"$f":"+IF(F116=\"\",\"\",VLOOKUP(F116,Tabelas!$B$7:$C$96,2))","v":""},null,{"$f":"IF(H116=\"\",\"\",ROUND(H116/SUM(H114:H121),4))","v":""},null,null,null,null,null,null,{"$f":"+IF(O116=\"\",\"\",IF(N114=\"Transporte Marítimo\",VLOOKUP(O116,Tabelas!$F$7:$G$12,2),IF(N114=\"Transporte Aéreo\",VLOOKUP(O116,Tabelas!$F$16:$G$21,2),\"\")))","v":""},null,null,null,null,null,null,null,null,null,null,null,null,null,null,null,"",{"$f":"+IF(AF116=\"\",\"\",VLOOKUP(AF116,Tabelas!$J$27:$K$30,2))","v":""}]
[null,null,null,null,null,null,{"$f":"+IF(F117=\"\",\"\",VLOOKUP(F117,Tabelas!$B$7:$C$96,2))","v":""},null,{"$f":"IF(H117=\"\",\"\",ROUND(H117/SUM(H114:H121),4))","v":""},null,null,null,null,null,null,{"$f":"+IF(O117=\"\",\"\",IF(N114=\"Transporte Marítimo\",VLOOKUP(O117,Tabelas!$F$7:$G$12,2),IF(N114=\"Transporte Aéreo\",VLOOKUP(O117,Tabelas!$F$16:$G$21,2),\"\")))","v":""},null,null,null,null,null,null,null,null,null,null,null,null,null,null,null,"",{"$f":"+IF(AF117=\"\",\"\",VLOOKUP(AF117,Tabelas!$J$27:$K$30,2))","v":""}]
[null,null,null,null,null,null,{"$f":"+IF(F118=\"\",\"\",VLOOKUP(F118,Tabelas!$B$7:$C$96,2))","v":""},null,{"$f":"IF(H118=\"\",\"\",ROUND(H118/SUM(H114:H121),4))","v":""},null,null,null,null,null,null,{"$f":"+IF(O118=\"\",\"\",IF(N114=\"Transporte Marítimo\",VLOOKUP(O118,Tabelas!$F$7:$G$12,2),IF(N114=\"Transporte Aéreo\",VLOOKUP(O118,Tabelas!$F$16:$G$21,2),\"\")))","v":""},null,null,null,null,null,null,null,null,null,null,null,null,null,null,null,"",{"$f":"+IF(AF118=\"\",\"\",VLOOKUP(AF118,Tabelas!$J$27:$K$30,2))","v":""}]
[null,null,null,null,null,null,{"$f":"+IF(F119=\"\",\"\",VLOOKUP(F119,Tabelas!$B$7:$C$96,2))","v":""},null,{"$f":"IF(H119=\"\",\"\",ROUND(H119/SUM(H114:H121),4))","v":""},null,null,null,null,null,null,{"$f":"+IF(O119=\"\",\"\",IF(N114=\"Transporte Marítimo\",VLOOKUP(O119,Tabelas!$F$7:$G$12,2),IF(N114=\"Transporte Aéreo\",VLOOKUP(O119,Tabelas!$F$16:$G$21,2),\"\")))","v":""},null,null,null,null,null,null,null,null,null,null,null,null,null,null,null,"",{"$f":"+IF(AF119=\"\",\"\",VLOOKUP(AF119,Tabelas!$J$27:$K$30,2))","v":""}]
[null,null,null,null,null,null,{"$f":"+IF(F120=\"\",\"\",VLOOKUP(F120,Tabelas!$B$7:$C$96,2))","v":""},null,{"$f":"IF(H120=\"\",\"\",ROUND(H120/SUM(H114:H121),4))","v":""},null,null,null,null,null,null,{"$f":"+IF(O120=\"\",\"\",IF(N114=\"Transporte Marítimo\",VLOOKUP(O120,Tabelas!$F$7:$G$12,2),IF(N114=\"Transporte Aéreo\",VLOOKUP(O120,Tabelas!$F$16:$G$21,2),\"\")))","v":""},null,null,null,null,null,null,null,null,null,null,null,null,null,null,null,"",{"$f":"+IF(AF120=\"\",\"\",VLOOKUP(AF120,Tabelas!$J$27:$K$30,2))","v":""}]
[null,null,null,null,null,null,{"$f":"+IF(F121=\"\",\"\",VLOOKUP(F121,Tabelas!$B$7:$C$96,2))","v":""},null,{"$f":"IF(H121=\"\",\"\",ROUND(H121/SUM(H114:H121),4))","v":""},null,null,null,null,null,null,{"$f":"+IF(O121=\"\",\"\",IF(N114=\"Transporte Marítimo\",VLOOKUP(O121,Tabelas!$F$7:$G$12,2),IF(N114=\"Transporte Aéreo\",VLOOKUP(O121,Tabelas!$F$16:$G$21,2),\"\")))","v":""},null,null,null,null,null,null,null,null,null,null,null,null,null,null,null,"",{"$f":"+IF(AF121=\"\",\"\",VLOOKUP(AF121,Tabelas!$J$27:$K$30,2))","v":""}]
[null,{"$f":"+B114+1","v":14},null,null,null,null,{"$f":"+IF(F122=\"\",\"\",VLOOKUP(F122,Tabelas!$B$7:$C$96,2))","v":""},null,{"$f":"IF(H122=\"\",\"\",1-SUM(I123:I129))","v":""},null,null,null,null,null,null,{"$f":"+IF(O122=\"\",\"\",IF(N122=\"Transporte Marítimo\",VLOOKUP(O122,Tabelas!$F$7:$G$12,2),IF(N122=\"Transporte Aéreo\",VLOOKUP(O122,Tabelas!$F$16:$G$21,2),\"\")))","v":""},null,null,null,null,null,null,null,null,null,null,null,null,null,null,null,"",{"$f":"+IF(AF122=\"\",\"\",VLOOKUP(AF122,Tabelas!$J$27:$K$30,2))","v":""},null,null,null,null,null,null,null,null,null,null,null,null,null,null,null," "]
[null,null,null,null,null,null,{"$f":"+IF(F123=\"\",\"\",VLOOKUP(F123,Tabelas!$B$7:$C$96,2))","v":""},null,{"$f":"IF(H123=\"\",\"\",ROUND(H123/SUM(H122:H129),4))","v":""},null,null,null,null,null,null,{"$f":"+IF(O123=\"\",\"\",IF(N122=\"Transporte Marítimo\",VLOOKUP(O123,Tabelas!$F$7:$G$12,2),IF(N122=\"Transporte Aéreo\",VLOOKUP(O123,Tabelas!$F$16:$G$21,2),\"\")))","v":""},null,null,null,null,null,null,null,null,null,null,null,null,null,null,null,"",{"$f":"+IF(AF123=\"\",\"\",VLOOKUP(AF123,Tabelas!$J$27:$K$30,2))","v":""}]
[null,null,null,null,null,null,{"$f":"+IF(F124=\"\",\"\",VLOOKUP(F124,Tabelas!$B$7:$C$96,2))","v":""},null,{"$f":"IF(H124=\"\",\"\",ROUND(H124/SUM(H122:H129),4))","v":""},null,null,null,null,null,null,{"$f":"+IF(O124=\"\",\"\",IF(N122=\"Transporte Marítimo\",VLOOKUP(O124,Tabelas!$F$7:$G$12,2),IF(N122=\"Transporte Aéreo\",VLOOKUP(O124,Tabelas!$F$16:$G$21,2),\"\")))","v":""},null,null,null,null,null,null,null,null,null,null,null,null,null,null,null,"",{"$f":"+IF(AF124=\"\",\"\",VLOOKUP(AF124,Tabelas!$J$27:$K$30,2))","v":""}]
[null,null,null,null,null,null,{"$f":"+IF(F125=\"\",\"\",VLOOKUP(F125,Tabelas!$B$7:$C$96,2))","v":""},null,{"$f":"IF(H125=\"\",\"\",ROUND(H125/SUM(H122:H129),4))","v":""},null,null,null,null,null,null,{"$f":"+IF(O125=\"\",\"\",IF(N122=\"Transporte Marítimo\",VLOOKUP(O125,Tabelas!$F$7:$G$12,2),IF(N122=\"Transporte Aéreo\",VLOOKUP(O125,Tabelas!$F$16:$G$21,2),\"\")))","v":""},null,null,null,null,null,null,null,null,null,null,null,null,null,null,null,"",{"$f":"+IF(AF125=\"\",\"\",VLOOKUP(AF125,Tabelas!$J$27:$K$30,2))","v":""}]
[null,null,null,null,null,null,{"$f":"+IF(F126=\"\",\"\",VLOOKUP(F126,Tabelas!$B$7:$C$96,2))","v":""},null,{"$f":"IF(H126=\"\",\"\",ROUND(H126/SUM(H122:H129),4))","v":""},null,null,null,null,null,null,{"$f":"+IF(O126=\"\",\"\",IF(N122=\"Transporte Marítimo\",VLOOKUP(O126,Tabelas!$F$7:$G$12,2),IF(N122=\"Transporte Aéreo\",VLOOKUP(O126,Tabelas!$F$16:$G$21,2),\"\")))","v":""},null,null,null,null,null,null,null,null,null,null,null,null,null,null,null,"",{"$f":"+IF(AF126=\"\",\"\",VLOOKUP(AF126,Tabelas!$J$27:$K$30,2))","v":""}]
[null,null,null,null,null,null,{"$f":"+IF(F127=\"\",\"\",VLOOKUP(F127,Tabelas!$B$7:$C$96,2))","v":""},null,{"$f":"IF(H127=\"\",\"\",ROUND(H127/SUM(H122:H129),4))","v":""},null,null,null,null,null,null,{"$f":"+IF(O127=\"\",\"\",IF(N122=\"Transporte Marítimo\",VLOOKUP(O127,Tabelas!$F$7:$G$12,2),IF(N122=\"Transporte Aéreo\",VLOOKUP(O127,Tabelas!$F$16:$G$21,2),\"\")))","v":""},null,null,null,null,null,null,null,null,null,null,null,null,null,null,null,"",{"$f":"+IF(AF127=\"\",\"\",VLOOKUP(AF127,Tabelas!$J$27:$K$30,2))","v":""}]
[null,null,null,null,null,null,{"$f":"+IF(F128=\"\",\"\",VLOOKUP(F128,Tabelas!$B$7:$C$96,2))","v":""},null,{"$f":"IF(H128=\"\",\"\",ROUND(H128/SUM(H122:H129),4))","v":""},null,null,null,null,null,null,{"$f":"+IF(O128=\"\",\"\",IF(N122=\"Transporte Marítimo\",VLOOKUP(O128,Tabelas!$F$7:$G$12,2),IF(N122=\"Transporte Aéreo\",VLOOKUP(O128,Tabelas!$F$16:$G$21,2),\"\")))","v":""},null,null,null,null,null,null,null,null,null,null,null,null,null,null,null,"",{"$f":"+IF(AF128=\"\",\"\",VLOOKUP(AF128,Tabelas!$J$27:$K$30,2))","v":""}]
[null,null,null,null,null,null,{"$f":"+IF(F129=\"\",\"\",VLOOKUP(F129,Tabelas!$B$7:$C$96,2))","v":""},null,{"$f":"IF(H129=\"\",\"\",ROUND(H129/SUM(H122:H129),4))","v":""},null,null,null,null,null,null,{"$f":"+IF(O129=\"\",\"\",IF(N122=\"Transporte Marítimo\",VLOOKUP(O129,Tabelas!$F$7:$G$12,2),IF(N122=\"Transporte Aéreo\",VLOOKUP(O129,Tabelas!$F$16:$G$21,2),\"\")))","v":""},null,null,null,null,null,null,null,null,null,null,null,null,null,null,null,"",{"$f":"+IF(AF129=\"\",\"\",VLOOKUP(AF129,Tabelas!$J$27:$K$30,2))","v":""}]
[null,{"$f":"+B122+1","v":15},null,null,null,null,{"$f":"+IF(F130=\"\",\"\",VLOOKUP(F130,Tabelas!$B$7:$C$96,2))","v":""},null,{"$f":"IF(H130=\"\",\"\",1-SUM(I131:I137))","v":""},null,null,null,null,null,null,{"$f":"+IF(O130=\"\",\"\",IF(N130=\"Transporte Marítimo\",VLOOKUP(O130,Tabelas!$F$7:$G$12,2),IF(N130=\"Transporte Aéreo\",VLOOKUP(O130,Tabelas!$F$16:$G$21,2),\"\")))","v":""},null,null,null,null,null,null,null,null,null,null,null,null,null,null,null,"",{"$f":"+IF(AF130=\"\",\"\",VLOOKUP(AF130,Tabelas!$J$27:$K$30,2))","v":""},null,null,null,null,null,null,null,null,null,null,null,null,null,null,null," "]
[null,null,null,null,null,null,{"$f":"+IF(F131=\"\",\"\",VLOOKUP(F131,Tabelas!$B$7:$C$96,2))","v":""},null,{"$f":"IF(H131=\"\",\"\",ROUND(H131/SUM(H130:H137),4))","v":""},null,null,null,null,null,null,{"$f":"+IF(O131=\"\",\"\",IF(N130=\"Transporte Marítimo\",VLOOKUP(O131,Tabelas!$F$7:$G$12,2),IF(N130=\"Transporte Aéreo\",VLOOKUP(O131,Tabelas!$F$16:$G$21,2),\"\")))","v":""},null,null,null,null,null,null,null,null,null,null,null,null,null,null,null,"",{"$f":"+IF(AF131=\"\",\"\",VLOOKUP(AF131,Tabelas!$J$27:$K$30,2))","v":""}]
[null,null,null,null,null,null,{"$f":"+IF(F132=\"\",\"\",VLOOKUP(F132,Tabelas!$B$7:$C$96,2))","v":""},null,{"$f":"IF(H132=\"\",\"\",ROUND(H132/SUM(H130:H137),4))","v":""},null,null,null,null,null,null,{"$f":"+IF(O132=\"\",\"\",IF(N130=\"Transporte Marítimo\",VLOOKUP(O132,Tabelas!$F$7:$G$12,2),IF(N130=\"Transporte Aéreo\",VLOOKUP(O132,Tabelas!$F$16:$G$21,2),\"\")))","v":""},null,null,null,null,null,null,null,null,null,null,null,null,null,null,null,"",{"$f":"+IF(AF132=\"\",\"\",VLOOKUP(AF132,Tabelas!$J$27:$K$30,2))","v":""}]
[null,null,null,null,null,null,{"$f":"+IF(F133=\"\",\"\",VLOOKUP(F133,Tabelas!$B$7:$C$96,2))","v":""},null,{"$f":"IF(H133=\"\",\"\",ROUND(H133/SUM(H130:H137),4))","v":""},null,null,null,null,null,null,{"$f":"+IF(O133=\"\",\"\",IF(N130=\"Transporte Marítimo\",VLOOKUP(O133,Tabelas!$F$7:$G$12,2),IF(N130=\"Transporte Aéreo\",VLOOKUP(O133,Tabelas!$F$16:$G$21,2),\"\")))","v":""},null,null,null,null,null,null,null,null,null,null,null,null,null,null,null,"",{"$f":"+IF(AF133=\"\",\"\",VLOOKUP(AF133,Tabelas!$J$27:$K$30,2))","v":""}]
[null,null,null,null,null,null,{"$f":"+IF(F134=\"\",\"\",VLOOKUP(F134,Tabelas!$B$7:$C$96,2))","v":""},null,{"$f":"IF(H134=\"\",\"\",ROUND(H134/SUM(H130:H137),4))","v":""},null,null,null,null,null,null,{"$f":"+IF(O134=\"\",\"\",IF(N130=\"Transporte Marítimo\",VLOOKUP(O134,Tabelas!$F$7:$G$12,2),IF(N130=\"Transporte Aéreo\",VLOOKUP(O134,Tabelas!$F$16:$G$21,2),\"\")))","v":""},null,null,null,null,null,null,null,null,null,null,null,null,null,null,null,"",{"$f":"+IF(AF134=\"\",\"\",VLOOKUP(AF134,Tabelas!$J$27:$K$30,2))","v":""}]
[null,null,null,null,null,null,{"$f":"+IF(F135=\"\",\"\",VLOOKUP(F135,Tabelas!$B$7:$C$96,2))","v":""},null,{"$f":"IF(H135=\"\",\"\",ROUND(H135/SUM(H130:H137),4))","v":""},null,null,null,null,null,null,{"$f":"+IF(O135=\"\",\"\",IF(N130=\"Transporte Marítimo\",VLOOKUP(O135,Tabelas!$F$7:$G$12,2),IF(N130=\"Transporte Aéreo\",VLOOKUP(O135,Tabelas!$F$16:$G$21,2),\"\")))","v":""},null,null,null,null,null,null,null,null,null,null,null,null,null,null,null,"",{"$f":"+IF(AF135=\"\",\"\",VLOOKUP(AF135,Tabelas!$J$27:$K$30,2))","v":""}]
[null,null,null,null,null,null,{"$f":"+IF(F136=\"\",\"\",VLOOKUP(F136,Tabelas!$B$7:$C$96,2))","v":""},null,{"$f":"IF(H136=\"\",\"\",ROUND(H136/SUM(H130:H137),4))","v":""},null,null,null,null,null,null,{"$f":"+IF(O136=\"\",\"\",IF(N130=\"Transporte Marítimo\",VLOOKUP(O136,Tabelas!$F$7:$G$12,2),IF(N130=\"Transporte Aéreo\",VLOOKUP(O136,Tabelas!$F$16:$G$21,2),\"\")))","v":""},null,null,null,null,null,null,null,null,null,null,null,null,null,null,null,"",{"$f":"+IF(AF136=\"\",\"\",VLOOKUP(AF136,Tabelas!$J$27:$K$30,2))","v":""}]
[null,null,null,null,null,null,{"$f":"+IF(F137=\"\",\"\",VLOOKUP(F137,Tabelas!$B$7:$C$96,2))","v":""},null,{"$f":"IF(H137=\"\",\"\",ROUND(H137/SUM(H130:H137),4))","v":""},null,null,null,null,null,null,{"$f":"+IF(O137=\"\",\"\",IF(N130=\"Transporte Marítimo\",VLOOKUP(O137,Tabelas!$F$7:$G$12,2),IF(N130=\"Transporte Aéreo\",VLOOKUP(O137,Tabelas!$F$16:$G$21,2),\"\")))","v":""},null,null,null,null,null,null,null,null,null,null,null,null,null,null,null,"",{"$f":"+IF(AF137=\"\",\"\",VLOOKUP(AF137,Tabelas!$J$27:$K$30,2))","v":""}]
[null,{"$f":"+B130+1","v":16},null,null,null,null,{"$f":"+IF(F138=\"\",\"\",VLOOKUP(F138,Tabelas!$B$7:$C$96,2))","v":""},null,{"$f":"IF(H138=\"\",\"\",1-SUM(I139:I145))","v":""},null,null,null,null,null,null,{"$f":"+IF(O138=\"\",\"\",IF(N138=\"Transporte Marítimo\",VLOOKUP(O138,Tabelas!$F$7:$G$12,2),IF(N138=\"Transporte Aéreo\",VLOOKUP(O138,Tabelas!$F$16:$G$21,2),\"\")))","v":""},null,null,null,null,null,null,null,null,null,null,null,null,null,null,null,"",{"$f":"+IF(AF138=\"\",\"\",VLOOKUP(AF138,Tabelas!$J$27:$K$30,2))","v":""},null,null,null,null,null,null,null,null,null,null,null,null,null,null,null," "]
[null,null,null,null,null,null,{"$f":"+IF(F139=\"\",\"\",VLOOKUP(F139,Tabelas!$B$7:$C$96,2))","v":""},null,{"$f":"IF(H139=\"\",\"\",ROUND(H139/SUM(H138:H145),4))","v":""},null,null,null,null,null,null,{"$f":"+IF(O139=\"\",\"\",IF(N138=\"Transporte Marítimo\",VLOOKUP(O139,Tabelas!$F$7:$G$12,2),IF(N138=\"Transporte Aéreo\",VLOOKUP(O139,Tabelas!$F$16:$G$21,2),\"\")))","v":""},null,null,null,null,null,null,null,null,null,null,null,null,null,null,null,"",{"$f":"+IF(AF139=\"\",\"\",VLOOKUP(AF139,Tabelas!$J$27:$K$30,2))","v":""}]
[null,null,null,null,null,null,{"$f":"+IF(F140=\"\",\"\",VLOOKUP(F140,Tabelas!$B$7:$C$96,2))","v":""},null,{"$f":"IF(H140=\"\",\"\",ROUND(H140/SUM(H138:H145),4))","v":""},null,null,null,null,null,null,{"$f":"+IF(O140=\"\",\"\",IF(N138=\"Transporte Marítimo\",VLOOKUP(O140,Tabelas!$F$7:$G$12,2),IF(N138=\"Transporte Aéreo\",VLOOKUP(O140,Tabelas!$F$16:$G$21,2),\"\")))","v":""},null,null,null,null,null,null,null,null,null,null,null,null,null,null,null,"",{"$f":"+IF(AF140=\"\",\"\",VLOOKUP(AF140,Tabelas!$J$27:$K$30,2))","v":""}]
[null,null,null,null,null,null,{"$f":"+IF(F141=\"\",\"\",VLOOKUP(F141,Tabelas!$B$7:$C$96,2))","v":""},null,{"$f":"IF(H141=\"\",\"\",ROUND(H141/SUM(H138:H145),4))","v":""},null,null,null,null,null,null,{"$f":"+IF(O141=\"\",\"\",IF(N138=\"Transporte Marítimo\",VLOOKUP(O141,Tabelas!$F$7:$G$12,2),IF(N138=\"Transporte Aéreo\",VLOOKUP(O141,Tabelas!$F$16:$G$21,2),\"\")))","v":""},null,null,null,null,null,null,null,null,null,null,null,null,null,null,null,"",{"$f":"+IF(AF141=\"\",\"\",VLOOKUP(AF141,Tabelas!$J$27:$K$30,2))","v":""}]
[null,null,null,null,null,null,{"$f":"+IF(F142=\"\",\"\",VLOOKUP(F142,Tabelas!$B$7:$C$96,2))","v":""},null,{"$f":"IF(H142=\"\",\"\",ROUND(H142/SUM(H138:H145),4))","v":""},null,null,null,null,null,null,{"$f":"+IF(O142=\"\",\"\",IF(N138=\"Transporte Marítimo\",VLOOKUP(O142,Tabelas!$F$7:$G$12,2),IF(N138=\"Transporte Aéreo\",VLOOKUP(O142,Tabelas!$F$16:$G$21,2),\"\")))","v":""},null,null,null,null,null,null,null,null,null,null,null,null,null,null,null,"",{"$f":"+IF(AF142=\"\",\"\",VLOOKUP(AF142,Tabelas!$J$27:$K$30,2))","v":""}]
[null,null,null,null,null,null,{"$f":"+IF(F143=\"\",\"\",VLOOKUP(F143,Tabelas!$B$7:$C$96,2))","v":""},null,{"$f":"IF(H143=\"\",\"\",ROUND(H143/SUM(H138:H145),4))","v":""},null,null,null,null,null,null,{"$f":"+IF(O143=\"\",\"\",IF(N138=\"Transporte Marítimo\",VLOOKUP(O143,Tabelas!$F$7:$G$12,2),IF(N138=\"Transporte Aéreo\",VLOOKUP(O143,Tabelas!$F$16:$G$21,2),\"\")))","v":""},null,null,null,null,null,null,null,null,null,null,null,null,null,null,null,"",{"$f":"+IF(AF143=\"\",\"\",VLOOKUP(AF143,Tabelas!$J$27:$K$30,2))","v":""}]
[null,null,null,null,null,null,{"$f":"+IF(F144=\"\",\"\",VLOOKUP(F144,Tabelas!$B$7:$C$96,2))","v":""},null,{"$f":"IF(H144=\"\",\"\",ROUND(H144/SUM(H138:H145),4))","v":""},null,null,null,null,null,null,{"$f":"+IF(O144=\"\",\"\",IF(N138=\"Transporte Marítimo\",VLOOKUP(O144,Tabelas!$F$7:$G$12,2),IF(N138=\"Transporte Aéreo\",VLOOKUP(O144,Tabelas!$F$16:$G$21,2),\"\")))","v":""},null,null,null,null,null,null,null,null,null,null,null,null,null,null,null,"",{"$f":"+IF(AF144=\"\",\"\",VLOOKUP(AF144,Tabelas!$J$27:$K$30,2))","v":""}]
[null,null,null,null,null,null,{"$f":"+IF(F145=\"\",\"\",VLOOKUP(F145,Tabelas!$B$7:$C$96,2))","v":""},null,{"$f":"IF(H145=\"\",\"\",ROUND(H145/SUM(H138:H145),4))","v":""},null,null,null,null,null,null,{"$f":"+IF(O145=\"\",\"\",IF(N138=\"Transporte Marítimo\",VLOOKUP(O145,Tabelas!$F$7:$G$12,2),IF(N138=\"Transporte Aéreo\",VLOOKUP(O145,Tabelas!$F$16:$G$21,2),\"\")))","v":""},null,null,null,null,null,null,null,null,null,null,null,null,null,null,null,"",{"$f":"+IF(AF145=\"\",\"\",VLOOKUP(AF145,Tabelas!$J$27:$K$30,2))","v":""}]
[null,{"$f":"+B138+1","v":17},null,null,null,null,{"$f":"+IF(F146=\"\",\"\",VLOOKUP(F146,Tabelas!$B$7:$C$96,2))","v":""},null,{"$f":"IF(H146=\"\",\"\",1-SUM(I147:I153))","v":""},null,null,null,null,null,null,{"$f":"+IF(O146=\"\",\"\",IF(N146=\"Transporte Marítimo\",VLOOKUP(O146,Tabelas!$F$7:$G$12,2),IF(N146=\"Transporte Aéreo\",VLOOKUP(O146,Tabelas!$F$16:$G$21,2),\"\")))","v":""},null,null,null,null,null,null,null,null,null,null,null,null,null,null,null,"",{"$f":"+IF(AF146=\"\",\"\",VLOOKUP(AF146,Tabelas!$J$27:$K$30,2))","v":""},null,null,null,null,null,null,null,null,null,null,null,null,null,null,null," "]
[null,null,null,null,null,null,{"$f":"+IF(F147=\"\",\"\",VLOOKUP(F147,Tabelas!$B$7:$C$96,2))","v":""},null,{"$f":"IF(H147=\"\",\"\",ROUND(H147/SUM(H146:H153),4))","v":""},null,null,null,null,null,null,{"$f":"+IF(O147=\"\",\"\",IF(N146=\"Transporte Marítimo\",VLOOKUP(O147,Tabelas!$F$7:$G$12,2),IF(N146=\"Transporte Aéreo\",VLOOKUP(O147,Tabelas!$F$16:$G$21,2),\"\")))","v":""},null,null,null,null,null,null,null,null,null,null,null,null,null,null,null,{"$f":"+IF(AE147=\"20NL\",1,IF(AE147=\"40NL\",2,IF(AE147=\"20RF\",3,IF(AE147=\"40RF\",4,\"\"))))","v":""},{"$f":"+IF(AF147=\"\",\"\",VLOOKUP(AF147,Tabelas!$J$27:$K$30,2))","v":""}]
[null,null,null,null,null,null,{"$f":"+IF(F148=\"\",\"\",VLOOKUP(F148,Tabelas!$B$7:$C$96,2))","v":""},null,{"$f":"IF(H148=\"\",\"\",ROUND(H148/SUM(H146:H153),4))","v":""},null,null,null,null,null,null,{"$f":"+IF(O148=\"\",\"\",IF(N146=\"Transporte Marítimo\",VLOOKUP(O148,Tabelas!$F$7:$G$12,2),IF(N146=\"Transporte Aéreo\",VLOOKUP(O148,Tabelas!$F$16:$G$21,2),\"\")))","v":""},null,null,null,null,null,null,null,null,null,null,null,null,null,null,null,"",{"$f":"+IF(AF148=\"\",\"\",VLOOKUP(AF148,Tabelas!$J$27:$K$30,2))","v":""}]
[null,null,null,null,null,null,{"$f":"+IF(F149=\"\",\"\",VLOOKUP(F149,Tabelas!$B$7:$C$96,2))","v":""},null,{"$f":"IF(H149=\"\",\"\",ROUND(H149/SUM(H146:H153),4))","v":""},null,null,null,null,null,null,{"$f":"+IF(O149=\"\",\"\",IF(N146=\"Transporte Marítimo\",VLOOKUP(O149,Tabelas!$F$7:$G$12,2),IF(N146=\"Transporte Aéreo\",VLOOKUP(O149,Tabelas!$F$16:$G$21,2),\"\")))","v":""},null,null,null,null,null,null,null,null,null,null,null,null,null,null,null,"",{"$f":"+IF(AF149=\"\",\"\",VLOOKUP(AF149,Tabelas!$J$27:$K$30,2))","v":""}]
[null,null,null,null,null,null,{"$f":"+IF(F150=\"\",\"\",VLOOKUP(F150,Tabelas!$B$7:$C$96,2))","v":""},null,{"$f":"IF(H150=\"\",\"\",ROUND(H150/SUM(H146:H153),4))","v":""},null,null,null,null,null,null,{"$f":"+IF(O150=\"\",\"\",IF(N146=\"Transporte Marítimo\",VLOOKUP(O150,Tabelas!$F$7:$G$12,2),IF(N146=\"Transporte Aéreo\",VLOOKUP(O150,Tabelas!$F$16:$G$21,2),\"\")))","v":""},null,null,null,null,null,null,null,null,null,null,null,null,null,null,null,"",{"$f":"+IF(AF150=\"\",\"\",VLOOKUP(AF150,Tabelas!$J$27:$K$30,2))","v":""}]
[null,null,null,null,null,null,{"$f":"+IF(F151=\"\",\"\",VLOOKUP(F151,Tabelas!$B$7:$C$96,2))","v":""},null,{"$f":"IF(H151=\"\",\"\",ROUND(H151/SUM(H146:H153),4))","v":""},null,null,null,null,null,null,{"$f":"+IF(O151=\"\",\"\",IF(N146=\"Transporte Marítimo\",VLOOKUP(O151,Tabelas!$F$7:$G$12,2),IF(N146=\"Transporte Aéreo\",VLOOKUP(O151,Tabelas!$F$16:$G$21,2),\"\")))","v":""},null,null,null,null,null,null,null,null,null,null,null,null,null,null,null,"",{"$f":"+IF(AF151=\"\",\"\",VLOOKUP(AF151,Tabelas!$J$27:$K$30,2))","v":""}]
[null,null,null,null,null,null,{"$f":"+IF(F152=\"\",\"\",VLOOKUP(F152,Tabelas!$B$7:$C$96,2))","v":""},null,{"$f":"IF(H152=\"\",\"\",ROUND(H152/SUM(H146:H153),4))","v":""},null,null,null,null,null,null,{"$f":"+IF(O152=\"\",\"\",IF(N146=\"Transporte Marítimo\",VLOOKUP(O152,Tabelas!$F$7:$G$12,2),IF(N146=\"Transporte Aéreo\",VLOOKUP(O152,Tabelas!$F$16:$G$21,2),\"\")))","v":""},null,null,null,null,null,null,null,null,null,null,null,null,null,null,null,"",{"$f":"+IF(AF152=\"\",\"\",VLOOKUP(AF152,Tabelas!$J$27:$K$30,2))","v":""}]
[null,null,null,null,null,null,{"$f":"+IF(F153=\"\",\"\",VLOOKUP(F153,Tabelas!$B$7:$C$96,2))","v":""},null,{"$f":"IF(H153=\"\",\"\",ROUND(H153/SUM(H146:H153),4))","v":""},null,null,null,null,null,null,{"$f":"+IF(O153=\"\",\"\",IF(N146=\"Transporte Marítimo\",VLOOKUP(O153,Tabelas!$F$7:$G$12,2),IF(N146=\"Transporte Aéreo\",VLOOKUP(O153,Tabelas!$F$16:$G$21,2),\"\")))","v":""},null,null,null,null,null,null,null,null,null,null,null,null,null,null,null,"",{"$f":"+IF(AF153=\"\",\"\",VLOOKUP(AF153,Tabelas!$J$27:$K$30,2))","v":""}]
[null,{"$f":"+B146+1","v":18},null,null,null,null,{"$f":"+IF(F154=\"\",\"\",VLOOKUP(F154,Tabelas!$B$7:$C$96,2))","v":""},null,{"$f":"IF(H154=\"\",\"\",1-SUM(I155:I161))","v":""},null,null,null,null,null,null,{"$f":"+IF(O154=\"\",\"\",IF(N154=\"Transporte Marítimo\",VLOOKUP(O154,Tabelas!$F$7:$G$12,2),IF(N154=\"Transporte Aéreo\",VLOOKUP(O154,Tabelas!$F$16:$G$21,2),\"\")))","v":""},null,null,null,null,null,null,null,null,null,null,null,null,null,null,null,"",{"$f":"+IF(AF154=\"\",\"\",VLOOKUP(AF154,Tabelas!$J$27:$K$30,2))","v":""},null,null,null,null,null,null,null,null,null,null,null,null,null,null,null," "]
[null,null,null,null,null,null,{"$f":"+IF(F155=\"\",\"\",VLOOKUP(F155,Tabelas!$B$7:$C$96,2))","v":""},null,{"$f":"IF(H155=\"\",\"\",ROUND(H155/SUM(H154:H161),4))","v":""},null,null,null,null,null,null,{"$f":"+IF(O155=\"\",\"\",IF(N154=\"Transporte Marítimo\",VLOOKUP(O155,Tabelas!$F$7:$G$12,2),IF(N154=\"Transporte Aéreo\",VLOOKUP(O155,Tabelas!$F$16:$G$21,2),\"\")))","v":""},null,null,null,null,null,null,null,null,null,null,null,null,null,null,null,"",{"$f":"+IF(AF155=\"\",\"\",VLOOKUP(AF155,Tabelas!$J$27:$K$30,2))","v":""}]
[null,null,null,null,null,null,{"$f":"+IF(F156=\"\",\"\",VLOOKUP(F156,Tabelas!$B$7:$C$96,2))","v":""},null,{"$f":"IF(H156=\"\",\"\",ROUND(H156/SUM(H154:H161),4))","v":""},null,null,null,null,null,null,{"$f":"+IF(O156=\"\",\"\",IF(N154=\"Transporte Marítimo\",VLOOKUP(O156,Tabelas!$F$7:$G$12,2),IF(N154=\"Transporte Aéreo\",VLOOKUP(O156,Tabelas!$F$16:$G$21,2),\"\")))","v":""},null,null,null,null,null,null,null,null,null,null,null,null,null,null,null,"",{"$f":"+IF(AF156=\"\",\"\",VLOOKUP(AF156,Tabelas!$J$27:$K$30,2))","v":""}]
[null,null,null,null,null,null,{"$f":"+IF(F157=\"\",\"\",VLOOKUP(F157,Tabelas!$B$7:$C$96,2))","v":""},null,{"$f":"IF(H157=\"\",\"\",ROUND(H157/SUM(H154:H161),4))","v":""},null,null,null,null,null,null,{"$f":"+IF(O157=\"\",\"\",IF(N154=\"Transporte Marítimo\",VLOOKUP(O157,Tabelas!$F$7:$G$12,2),IF(N154=\"Transporte Aéreo\",VLOOKUP(O157,Tabelas!$F$16:$G$21,2),\"\")))","v":""},null,null,null,null,null,null,null,null,null,null,null,null,null,null,null,"",{"$f":"+IF(AF157=\"\",\"\",VLOOKUP(AF157,Tabelas!$J$27:$K$30,2))","v":""}]
[null,null,null,null,null,null,{"$f":"+IF(F158=\"\",\"\",VLOOKUP(F158,Tabelas!$B$7:$C$96,2))","v":""},null,{"$f":"IF(H158=\"\",\"\",ROUND(H158/SUM(H154:H161),4))","v":""},null,null,null,null,null,null,{"$f":"+IF(O158=\"\",\"\",IF(N154=\"Transporte Marítimo\",VLOOKUP(O158,Tabelas!$F$7:$G$12,2),IF(N154=\"Transporte Aéreo\",VLOOKUP(O158,Tabelas!$F$16:$G$21,2),\"\")))","v":""},null,null,null,null,null,null,null,null,null,null,null,null,null,null,null,"",{"$f":"+IF(AF158=\"\",\"\",VLOOKUP(AF158,Tabelas!$J$27:$K$30,2))","v":""}]
[null,null,null,null,null,null,{"$f":"+IF(F159=\"\",\"\",VLOOKUP(F159,Tabelas!$B$7:$C$96,2))","v":""},null,{"$f":"IF(H159=\"\",\"\",ROUND(H159/SUM(H154:H161),4))","v":""},null,null,null,null,null,null,{"$f":"+IF(O159=\"\",\"\",IF(N154=\"Transporte Marítimo\",VLOOKUP(O159,Tabelas!$F$7:$G$12,2),IF(N154=\"Transporte Aéreo\",VLOOKUP(O159,Tabelas!$F$16:$G$21,2),\"\")))","v":""},null,null,null,null,null,null,null,null,null,null,null,null,null,null,null,"",{"$f":"+IF(AF159=\"\",\"\",VLOOKUP(AF159,Tabelas!$J$27:$K$30,2))","v":""}]
[null,null,null,null,null,null,{"$f":"+IF(F160=\"\",\"\",VLOOKUP(F160,Tabelas!$B$7:$C$96,2))","v":""},null,{"$f":"IF(H160=\"\",\"\",ROUND(H160/SUM(H154:H161),4))","v":""},null,null,null,null,null,null,{"$f":"+IF(O160=\"\",\"\",IF(N154=\"Transporte Marítimo\",VLOOKUP(O160,Tabelas!$F$7:$G$12,2),IF(N154=\"Transporte Aéreo\",VLOOKUP(O160,Tabelas!$F$16:$G$21,2),\"\")))","v":""},null,null,null,null,null,null,null,null,null,null,null,null,null,null,null,"",{"$f":"+IF(AF160=\"\",\"\",VLOOKUP(AF160,Tabelas!$J$27:$K$30,2))","v":""}]
[null,null,null,null,null,null,{"$f":"+IF(F161=\"\",\"\",VLOOKUP(F161,Tabelas!$B$7:$C$96,2))","v":""},null,{"$f":"IF(H161=\"\",\"\",ROUND(H161/SUM(H154:H161),4))","v":""},null,null,null,null,null,null,{"$f":"+IF(O161=\"\",\"\",IF(N154=\"Transporte Marítimo\",VLOOKUP(O161,Tabelas!$F$7:$G$12,2),IF(N154=\"Transporte Aéreo\",VLOOKUP(O161,Tabelas!$F$16:$G$21,2),\"\")))","v":""},null,null,null,null,null,null,null,null,null,null,null,null,null,null,null,"",{"$f":"+IF(AF161=\"\",\"\",VLOOKUP(AF161,Tabelas!$J$27:$K$30,2))","v":""}]
[null,{"$f":"+B154+1","v":19},null,null,null,null,{"$f":"+IF(F162=\"\",\"\",VLOOKUP(F162,Tabelas!$B$7:$C$96,2))","v":""},null,{"$f":"IF(H162=\"\",\"\",1-SUM(I163:I169))","v":""},null,null,null,null,null,null,{"$f":"+IF(O162=\"\",\"\",IF(N162=\"Transporte Marítimo\",VLOOKUP(O162,Tabelas!$F$7:$G$12,2),IF(N162=\"Transporte Aéreo\",VLOOKUP(O162,Tabelas!$F$16:$G$21,2),\"\")))","v":""},null,null,null,null,null,null,null,null,null,null,null,null,null,null,null,"",{"$f":"+IF(AF162=\"\",\"\",VLOOKUP(AF162,Tabelas!$J$27:$K$30,2))","v":""},null,null,null,null,null,null,null,null,null,null,null,null,null,null,null," "]
[null,null,null,null,null,null,{"$f":"+IF(F163=\"\",\"\",VLOOKUP(F163,Tabelas!$B$7:$C$96,2))","v":""},null,{"$f":"IF(H163=\"\",\"\",ROUND(H163/SUM(H162:H169),4))","v":""},null,null,null,null,null,null,{"$f":"+IF(O163=\"\",\"\",IF(N162=\"Transporte Marítimo\",VLOOKUP(O163,Tabelas!$F$7:$G$12,2),IF(N162=\"Transporte Aéreo\",VLOOKUP(O163,Tabelas!$F$16:$G$21,2),\"\")))","v":""},null,null,null,null,null,null,null,null,null,null,null,null,null,null,null,"",{"$f":"+IF(AF163=\"\",\"\",VLOOKUP(AF163,Tabelas!$J$27:$K$30,2))","v":""}]
[null,null,null,null,null,null,{"$f":"+IF(F164=\"\",\"\",VLOOKUP(F164,Tabelas!$B$7:$C$96,2))","v":""},null,{"$f":"IF(H164=\"\",\"\",ROUND(H164/SUM(H162:H169),4))","v":""},null,null,null,null,null,null,{"$f":"+IF(O164=\"\",\"\",IF(N162=\"Transporte Marítimo\",VLOOKUP(O164,Tabelas!$F$7:$G$12,2),IF(N162=\"Transporte Aéreo\",VLOOKUP(O164,Tabelas!$F$16:$G$21,2),\"\")))","v":""},null,null,null,null,null,null,null,null,null,null,null,null,null,null,null,"",{"$f":"+IF(AF164=\"\",\"\",VLOOKUP(AF164,Tabelas!$J$27:$K$30,2))","v":""}]
[null,null,null,null,null,null,{"$f":"+IF(F165=\"\",\"\",VLOOKUP(F165,Tabelas!$B$7:$C$96,2))","v":""},null,{"$f":"IF(H165=\"\",\"\",ROUND(H165/SUM(H162:H169),4))","v":""},null,null,null,null,null,null,{"$f":"+IF(O165=\"\",\"\",IF(N162=\"Transporte Marítimo\",VLOOKUP(O165,Tabelas!$F$7:$G$12,2),IF(N162=\"Transporte Aéreo\",VLOOKUP(O165,Tabelas!$F$16:$G$21,2),\"\")))","v":""},null,null,null,null,null,null,null,null,null,null,null,null,null,null,null,"",{"$f":"+IF(AF165=\"\",\"\",VLOOKUP(AF165,Tabelas!$J$27:$K$30,2))","v":""}]
[null,null,null,null,null,null,{"$f":"+IF(F166=\"\",\"\",VLOOKUP(F166,Tabelas!$B$7:$C$96,2))","v":""},null,{"$f":"IF(H166=\"\",\"\",ROUND(H166/SUM(H162:H169),4))","v":""},null,null,null,null,null,null,{"$f":"+IF(O166=\"\",\"\",IF(N162=\"Transporte Marítimo\",VLOOKUP(O166,Tabelas!$F$7:$G$12,2),IF(N162=\"Transporte Aéreo\",VLOOKUP(O166,Tabelas!$F$16:$G$21,2),\"\")))","v":""},null,null,null,null,null,null,null,null,null,null,null,null,null,null,null,"",{"$f":"+IF(AF166=\"\",\"\",VLOOKUP(AF166,Tabelas!$J$27:$K$30,2))","v":""}]
[null,null,null,null,null,null,{"$f":"+IF(F167=\"\",\"\",VLOOKUP(F167,Tabelas!$B$7:$C$96,2))","v":""},null,{"$f":"IF(H167=\"\",\"\",ROUND(H167/SUM(H162:H169),4))","v":""},null,null,null,null,null,null,{"$f":"+IF(O167=\"\",\"\",IF(N162=\"Transporte Marítimo\",VLOOKUP(O167,Tabelas!$F$7:$G$12,2),IF(N162=\"Transporte Aéreo\",VLOOKUP(O167,Tabelas!$F$16:$G$21,2),\"\")))","v":""},null,null,null,null,null,null,null,null,null,null,null,null,null,null,null,"",{"$f":"+IF(AF167=\"\",\"\",VLOOKUP(AF167,Tabelas!$J$27:$K$30,2))","v":""}]
[null,null,null,null,null,null,{"$f":"+IF(F168=\"\",\"\",VLOOKUP(F168,Tabelas!$B$7:$C$96,2))","v":""},null,{"$f":"IF(H168=\"\",\"\",ROUND(H168/SUM(H162:H169),4))","v":""},null,null,null,null,null,null,{"$f":"+IF(O168=\"\",\"\",IF(N162=\"Transporte Marítimo\",VLOOKUP(O168,Tabelas!$F$7:$G$12,2),IF(N162=\"Transporte Aéreo\",VLOOKUP(O168,Tabelas!$F$16:$G$21,2),\"\")))","v":""},null,null,null,null,null,null,null,null,null,null,null,null,null,null,null,"",{"$f":"+IF(AF168=\"\",\"\",VLOOKUP(AF168,Tabelas!$J$27:$K$30,2))","v":""}]
[null,null,null,null,null,null,{"$f":"+IF(F169=\"\",\"\",VLOOKUP(F169,Tabelas!$B$7:$C$96,2))","v":""},null,{"$f":"IF(H169=\"\",\"\",ROUND(H169/SUM(H162:H169),4))","v":""},null,null,null,null,null,null,{"$f":"+IF(O169=\"\",\"\",IF(N162=\"Transporte Marítimo\",VLOOKUP(O169,Tabelas!$F$7:$G$12,2),IF(N162=\"Transporte Aéreo\",VLOOKUP(O169,Tabelas!$F$16:$G$21,2),\"\")))","v":""},null,null,null,null,null,null,null,null,null,null,null,null,null,null,null,"",{"$f":"+IF(AF169=\"\",\"\",VLOOKUP(AF169,Tabelas!$J$27:$K$30,2))","v":""}]
[null,{"$f":"+B162+1","v":20},null,null,null,null,{"$f":"+IF(F170=\"\",\"\",VLOOKUP(F170,Tabelas!$B$7:$C$96,2))","v":""},null,{"$f":"IF(H170=\"\",\"\",1-SUM(I171:I177))","v":""},null,null,null,null,null,null,{"$f":"+IF(O170=\"\",\"\",IF(N170=\"Transporte Marítimo\",VLOOKUP(O170,Tabelas!$F$7:$G$12,2),IF(N170=\"Transporte Aéreo\",VLOOKUP(O170,Tabelas!$F$16:$G$21,2),\"\")))","v":""},null,null,null,null,null,null,null,null,null,null,null,null,null,null,null,"",{"$f":"+IF(AF170=\"\",\"\",VLOOKUP(AF170,Tabelas!$J$27:$K$30,2))","v":""},null,null,null,null,null,null,null,null,null,null,null,null,null,null,null," "]
[null,null,null,null,null,null,{"$f":"+IF(F171=\"\",\"\",VLOOKUP(F171,Tabelas!$B$7:$C$96,2))","v":""},null,{"$f":"IF(H171=\"\",\"\",ROUND(H171/SUM(H170:H177),4))","v":""},null,null,null,null,null,null,{"$f":"+IF(O171=\"\",\"\",IF(N170=\"Transporte Marítimo\",VLOOKUP(O171,Tabelas!$F$7:$G$12,2),IF(N170=\"Transporte Aéreo\",VLOOKUP(O171,Tabelas!$F$16:$G$21,2),\"\")))","v":""},null,null,null,null,null,null,null,null,null,null,null,null,null,null,null,"",{"$f":"+IF(AF171=\"\",\"\",VLOOKUP(AF171,Tabelas!$J$27:$K$30,2))","v":""}]
[null,null,null,null,null,null,{"$f":"+IF(F172=\"\",\"\",VLOOKUP(F172,Tabelas!$B$7:$C$96,2))","v":""},null,{"$f":"IF(H172=\"\",\"\",ROUND(H172/SUM(H170:H177),4))","v":""},null,null,null,null,null,null,{"$f":"+IF(O172=\"\",\"\",IF(N170=\"Transporte Marítimo\",VLOOKUP(O172,Tabelas!$F$7:$G$12,2),IF(N170=\"Transporte Aéreo\",VLOOKUP(O172,Tabelas!$F$16:$G$21,2),\"\")))","v":""},null,null,null,null,null,null,null,null,null,null,null,null,null,null,null,"",{"$f":"+IF(AF172=\"\",\"\",VLOOKUP(AF172,Tabelas!$J$27:$K$30,2))","v":""}]
[null,null,null,null,null,null,{"$f":"+IF(F173=\"\",\"\",VLOOKUP(F173,Tabelas!$B$7:$C$96,2))","v":""},null,{"$f":"IF(H173=\"\",\"\",ROUND(H173/SUM(H170:H177),4))","v":""},null,null,null,null,null,null,{"$f":"+IF(O173=\"\",\"\",IF(N170=\"Transporte Marítimo\",VLOOKUP(O173,Tabelas!$F$7:$G$12,2),IF(N170=\"Transporte Aéreo\",VLOOKUP(O173,Tabelas!$F$16:$G$21,2),\"\")))","v":""},null,null,null,null,null,null,null,null,null,null,null,null,null,null,null,"",{"$f":"+IF(AF173=\"\",\"\",VLOOKUP(AF173,Tabelas!$J$27:$K$30,2))","v":""}]
[null,null,null,null,null,null,{"$f":"+IF(F174=\"\",\"\",VLOOKUP(F174,Tabelas!$B$7:$C$96,2))","v":""},null,{"$f":"IF(H174=\"\",\"\",ROUND(H174/SUM(H170:H177),4))","v":""},null,null,null,null,null,null,{"$f":"+IF(O174=\"\",\"\",IF(N170=\"Transporte Marítimo\",VLOOKUP(O174,Tabelas!$F$7:$G$12,2),IF(N170=\"Transporte Aéreo\",VLOOKUP(O174,Tabelas!$F$16:$G$21,2),\"\")))","v":""},null,null,null,null,null,null,null,null,null,null,null,null,null,null,null,"",{"$f":"+IF(AF174=\"\",\"\",VLOOKUP(AF174,Tabelas!$J$27:$K$30,2))","v":""}]
[null,null,null,null,null,null,{"$f":"+IF(F175=\"\",\"\",VLOOKUP(F175,Tabelas!$B$7:$C$96,2))","v":""},null,{"$f":"IF(H175=\"\",\"\",ROUND(H175/SUM(H170:H177),4))","v":""},null,null,null,null,null,null,{"$f":"+IF(O175=\"\",\"\",IF(N170=\"Transporte Marítimo\",VLOOKUP(O175,Tabelas!$F$7:$G$12,2),IF(N170=\"Transporte Aéreo\",VLOOKUP(O175,Tabelas!$F$16:$G$21,2),\"\")))","v":""},null,null,null,null,null,null,null,null,null,null,null,null,null,null,null,"",{"$f":"+IF(AF175=\"\",\"\",VLOOKUP(AF175,Tabelas!$J$27:$K$30,2))","v":""}]
[null,null,null,null,null,null,{"$f":"+IF(F176=\"\",\"\",VLOOKUP(F176,Tabelas!$B$7:$C$96,2))","v":""},null,{"$f":"IF(H176=\"\",\"\",ROUND(H176/SUM(H170:H177),4))","v":""},null,null,null,null,null,null,{"$f":"+IF(O176=\"\",\"\",IF(N170=\"Transporte Marítimo\",VLOOKUP(O176,Tabelas!$F$7:$G$12,2),IF(N170=\"Transporte Aéreo\",VLOOKUP(O176,Tabelas!$F$16:$G$21,2),\"\")))","v":""},null,null,null,null,null,null,null,null,null,null,null,null,null,null,null,"",{"$f":"+IF(AF176=\"\",\"\",VLOOKUP(AF176,Tabelas!$J$27:$K$30,2))","v":""}]
[null,null,null,null,null,null,{"$f":"+IF(F177=\"\",\"\",VLOOKUP(F177,Tabelas!$B$7:$C$96,2))","v":""},null,{"$f":"IF(H177=\"\",\"\",ROUND(H177/SUM(H170:H177),4))","v":""},null,null,null,null,null,null,{"$f":"+IF(O177=\"\",\"\",IF(N170=\"Transporte Marítimo\",VLOOKUP(O177,Tabelas!$F$7:$G$12,2),IF(N170=\"Transporte Aéreo\",VLOOKUP(O177,Tabelas!$F$16:$G$21,2),\"\")))","v":""},null,null,null,null,null,null,null,null,null,null,null,null,null,null,null,"",{"$f":"+IF(AF177=\"\",\"\",VLOOKUP(AF177,Tabelas!$J$27:$K$30,2))","v":""}]
[null,{"$f":"+B170+1","v":21},null,null,null,null,{"$f":"+IF(F178=\"\",\"\",VLOOKUP(F178,Tabelas!$B$7:$C$96,2))","v":""},null,{"$f":"IF(H178=\"\",\"\",1-SUM(I179:I185))","v":""},null,null,null,null,null,null,{"$f":"+IF(O178=\"\",\"\",IF(N178=\"Transporte Marítimo\",VLOOKUP(O178,Tabelas!$F$7:$G$12,2),IF(N178=\"Transporte Aéreo\",VLOOKUP(O178,Tabelas!$F$16:$G$21,2),\"\")))","v":""},null,null,null,null,null,null,null,null,null,null,null,null,null,null,null,"",{"$f":"+IF(AF178=\"\",\"\",VLOOKUP(AF178,Tabelas!$J$27:$K$30,2))","v":""},null,null,null,null,null,null,null,null,null,null,null,null,null,null,null," "]
[null,null,null,null,null,null,{"$f":"+IF(F179=\"\",\"\",VLOOKUP(F179,Tabelas!$B$7:$C$96,2))","v":""},null,{"$f":"IF(H179=\"\",\"\",ROUND(H179/SUM(H178:H185),4))","v":""},null,null,null,null,null,null,{"$f":"+IF(O179=\"\",\"\",IF(N178=\"Transporte Marítimo\",VLOOKUP(O179,Tabelas!$F$7:$G$12,2),IF(N178=\"Transporte Aéreo\",VLOOKUP(O179,Tabelas!$F$16:$G$21,2),\"\")))","v":""},null,null,null,null,null,null,null,null,null,null,null,null,null,null,null,"",{"$f":"+IF(AF179=\"\",\"\",VLOOKUP(AF179,Tabelas!$J$27:$K$30,2))","v":""}]
[null,null,null,null,null,null,{"$f":"+IF(F180=\"\",\"\",VLOOKUP(F180,Tabelas!$B$7:$C$96,2))","v":""},null,{"$f":"IF(H180=\"\",\"\",ROUND(H180/SUM(H178:H185),4))","v":""},null,null,null,null,null,null,{"$f":"+IF(O180=\"\",\"\",IF(N178=\"Transporte Marítimo\",VLOOKUP(O180,Tabelas!$F$7:$G$12,2),IF(N178=\"Transporte Aéreo\",VLOOKUP(O180,Tabelas!$F$16:$G$21,2),\"\")))","v":""},null,null,null,null,null,null,null,null,null,null,null,null,null,null,null,"",{"$f":"+IF(AF180=\"\",\"\",VLOOKUP(AF180,Tabelas!$J$27:$K$30,2))","v":""}]
[null,null,null,null,null,null,{"$f":"+IF(F181=\"\",\"\",VLOOKUP(F181,Tabelas!$B$7:$C$96,2))","v":""},null,{"$f":"IF(H181=\"\",\"\",ROUND(H181/SUM(H178:H185),4))","v":""},null,null,null,null,null,null,{"$f":"+IF(O181=\"\",\"\",IF(N178=\"Transporte Marítimo\",VLOOKUP(O181,Tabelas!$F$7:$G$12,2),IF(N178=\"Transporte Aéreo\",VLOOKUP(O181,Tabelas!$F$16:$G$21,2),\"\")))","v":""},null,null,null,null,null,null,null,null,null,null,null,null,null,null,null,"",{"$f":"+IF(AF181=\"\",\"\",VLOOKUP(AF181,Tabelas!$J$27:$K$30,2))","v":""}]
[null,null,null,null,null,null,{"$f":"+IF(F182=\"\",\"\",VLOOKUP(F182,Tabelas!$B$7:$C$96,2))","v":""},null,{"$f":"IF(H182=\"\",\"\",ROUND(H182/SUM(H178:H185),4))","v":""},null,null,null,null,null,null,{"$f":"+IF(O182=\"\",\"\",IF(N178=\"Transporte Marítimo\",VLOOKUP(O182,Tabelas!$F$7:$G$12,2),IF(N178=\"Transporte Aéreo\",VLOOKUP(O182,Tabelas!$F$16:$G$21,2),\"\")))","v":""},null,null,null,null,null,null,null,null,null,null,null,null,null,null,null,"",{"$f":"+IF(AF182=\"\",\"\",VLOOKUP(AF182,Tabelas!$J$27:$K$30,2))","v":""}]
[null,null,null,null,null,null,{"$f":"+IF(F183=\"\",\"\",VLOOKUP(F183,Tabelas!$B$7:$C$96,2))","v":""},null,{"$f":"IF(H183=\"\",\"\",ROUND(H183/SUM(H178:H185),4))","v":""},null,null,null,null,null,null,{"$f":"+IF(O183=\"\",\"\",IF(N178=\"Transporte Marítimo\",VLOOKUP(O183,Tabelas!$F$7:$G$12,2),IF(N178=\"Transporte Aéreo\",VLOOKUP(O183,Tabelas!$F$16:$G$21,2),\"\")))","v":""},null,null,null,null,null,null,null,null,null,null,null,null,null,null,null,"",{"$f":"+IF(AF183=\"\",\"\",VLOOKUP(AF183,Tabelas!$J$27:$K$30,2))","v":""}]
[null,null,null,null,null,null,{"$f":"+IF(F184=\"\",\"\",VLOOKUP(F184,Tabelas!$B$7:$C$96,2))","v":""},null,{"$f":"IF(H184=\"\",\"\",ROUND(H184/SUM(H178:H185),4))","v":""},null,null,null,null,null,null,{"$f":"+IF(O184=\"\",\"\",IF(N178=\"Transporte Marítimo\",VLOOKUP(O184,Tabelas!$F$7:$G$12,2),IF(N178=\"Transporte Aéreo\",VLOOKUP(O184,Tabelas!$F$16:$G$21,2),\"\")))","v":""},null,null,null,null,null,null,null,null,null,null,null,null,null,null,null,"",{"$f":"+IF(AF184=\"\",\"\",VLOOKUP(AF184,Tabelas!$J$27:$K$30,2))","v":""}]
[null,null,null,null,null,null,{"$f":"+IF(F185=\"\",\"\",VLOOKUP(F185,Tabelas!$B$7:$C$96,2))","v":""},null,{"$f":"IF(H185=\"\",\"\",ROUND(H185/SUM(H178:H185),4))","v":""},null,null,null,null,null,null,{"$f":"+IF(O185=\"\",\"\",IF(N178=\"Transporte Marítimo\",VLOOKUP(O185,Tabelas!$F$7:$G$12,2),IF(N178=\"Transporte Aéreo\",VLOOKUP(O185,Tabelas!$F$16:$G$21,2),\"\")))","v":""},null,null,null,null,null,null,null,null,null,null,null,null,null,null,null,"",{"$f":"+IF(AF185=\"\",\"\",VLOOKUP(AF185,Tabelas!$J$27:$K$30,2))","v":""}]
[null,{"$f":"+B178+1","v":22},null,null,null,null,{"$f":"+IF(F186=\"\",\"\",VLOOKUP(F186,Tabelas!$B$7:$C$96,2))","v":""},null,{"$f":"IF(H186=\"\",\"\",1-SUM(I187:I193))","v":""},null,null,null,null,null,null,{"$f":"+IF(O186=\"\",\"\",IF(N186=\"Transporte Marítimo\",VLOOKUP(O186,Tabelas!$F$7:$G$12,2),IF(N186=\"Transporte Aéreo\",VLOOKUP(O186,Tabelas!$F$16:$G$21,2),\"\")))","v":""},null,null,null,null,null,null,null,null,null,null,null,null,null,null,null,"",{"$f":"+IF(AF186=\"\",\"\",VLOOKUP(AF186,Tabelas!$J$27:$K$30,2))","v":""},null,null,null,null,null,null,null,null,null,null,null,null,null,null,null," "]
[null,null,null,null,null,null,{"$f":"+IF(F187=\"\",\"\",VLOOKUP(F187,Tabelas!$B$7:$C$96,2))","v":""},null,{"$f":"IF(H187=\"\",\"\",ROUND(H187/SUM(H186:H193),4))","v":""},null,null,null,null,null,null,{"$f":"+IF(O187=\"\",\"\",IF(N186=\"Transporte Marítimo\",VLOOKUP(O187,Tabelas!$F$7:$G$12,2),IF(N186=\"Transporte Aéreo\",VLOOKUP(O187,Tabelas!$F$16:$G$21,2),\"\")))","v":""},null,null,null,null,null,null,null,null,null,null,null,null,null,null,null,"",{"$f":"+IF(AF187=\"\",\"\",VLOOKUP(AF187,Tabelas!$J$27:$K$30,2))","v":""}]
[null,null,null,null,null,null,{"$f":"+IF(F188=\"\",\"\",VLOOKUP(F188,Tabelas!$B$7:$C$96,2))","v":""},null,{"$f":"IF(H188=\"\",\"\",ROUND(H188/SUM(H186:H193),4))","v":""},null,null,null,null,null,null,{"$f":"+IF(O188=\"\",\"\",IF(N186=\"Transporte Marítimo\",VLOOKUP(O188,Tabelas!$F$7:$G$12,2),IF(N186=\"Transporte Aéreo\",VLOOKUP(O188,Tabelas!$F$16:$G$21,2),\"\")))","v":""},null,null,null,null,null,null,null,null,null,null,null,null,null,null,null,"",{"$f":"+IF(AF188=\"\",\"\",VLOOKUP(AF188,Tabelas!$J$27:$K$30,2))","v":""}]
[null,null,null,null,null,null,{"$f":"+IF(F189=\"\",\"\",VLOOKUP(F189,Tabelas!$B$7:$C$96,2))","v":""},null,{"$f":"IF(H189=\"\",\"\",ROUND(H189/SUM(H186:H193),4))","v":""},null,null,null,null,null,null,{"$f":"+IF(O189=\"\",\"\",IF(N186=\"Transporte Marítimo\",VLOOKUP(O189,Tabelas!$F$7:$G$12,2),IF(N186=\"Transporte Aéreo\",VLOOKUP(O189,Tabelas!$F$16:$G$21,2),\"\")))","v":""},null,null,null,null,null,null,null,null,null,null,null,null,null,null,null,"",{"$f":"+IF(AF189=\"\",\"\",VLOOKUP(AF189,Tabelas!$J$27:$K$30,2))","v":""}]
[null,null,null,null,null,null,{"$f":"+IF(F190=\"\",\"\",VLOOKUP(F190,Tabelas!$B$7:$C$96,2))","v":""},null,{"$f":"IF(H190=\"\",\"\",ROUND(H190/SUM(H186:H193),4))","v":""},null,null,null,null,null,null,{"$f":"+IF(O190=\"\",\"\",IF(N186=\"Transporte Marítimo\",VLOOKUP(O190,Tabelas!$F$7:$G$12,2),IF(N186=\"Transporte Aéreo\",VLOOKUP(O190,Tabelas!$F$16:$G$21,2),\"\")))","v":""},null,null,null,null,null,null,null,null,null,null,null,null,null,null,null,"",{"$f":"+IF(AF190=\"\",\"\",VLOOKUP(AF190,Tabelas!$J$27:$K$30,2))","v":""}]
[null,null,null,null,null,null,{"$f":"+IF(F191=\"\",\"\",VLOOKUP(F191,Tabelas!$B$7:$C$96,2))","v":""},null,{"$f":"IF(H191=\"\",\"\",ROUND(H191/SUM(H186:H193),4))","v":""},null,null,null,null,null,null,{"$f":"+IF(O191=\"\",\"\",IF(N186=\"Transporte Marítimo\",VLOOKUP(O191,Tabelas!$F$7:$G$12,2),IF(N186=\"Transporte Aéreo\",VLOOKUP(O191,Tabelas!$F$16:$G$21,2),\"\")))","v":""},null,null,null,null,null,null,null,null,null,null,null,null,null,null,null,"",{"$f":"+IF(AF191=\"\",\"\",VLOOKUP(AF191,Tabelas!$J$27:$K$30,2))","v":""}]
[null,null,null,null,null,null,{"$f":"+IF(F192=\"\",\"\",VLOOKUP(F192,Tabelas!$B$7:$C$96,2))","v":""},null,{"$f":"IF(H192=\"\",\"\",ROUND(H192/SUM(H186:H193),4))","v":""},null,null,null,null,null,null,{"$f":"+IF(O192=\"\",\"\",IF(N186=\"Transporte Marítimo\",VLOOKUP(O192,Tabelas!$F$7:$G$12,2),IF(N186=\"Transporte Aéreo\",VLOOKUP(O192,Tabelas!$F$16:$G$21,2),\"\")))","v":""},null,null,null,null,null,null,null,null,null,null,null,null,null,null,null,"",{"$f":"+IF(AF192=\"\",\"\",VLOOKUP(AF192,Tabelas!$J$27:$K$30,2))","v":""}]
[null,null,null,null,null,null,{"$f":"+IF(F193=\"\",\"\",VLOOKUP(F193,Tabelas!$B$7:$C$96,2))","v":""},null,{"$f":"IF(H193=\"\",\"\",ROUND(H193/SUM(H186:H193),4))","v":""},null,null,null,null,null,null,{"$f":"+IF(O193=\"\",\"\",IF(N186=\"Transporte Marítimo\",VLOOKUP(O193,Tabelas!$F$7:$G$12,2),IF(N186=\"Transporte Aéreo\",VLOOKUP(O193,Tabelas!$F$16:$G$21,2),\"\")))","v":""},null,null,null,null,null,null,null,null,null,null,null,null,null,null,null,"",{"$f":"+IF(AF193=\"\",\"\",VLOOKUP(AF193,Tabelas!$J$27:$K$30,2))","v":""}]
[null,{"$f":"+B186+1","v":23},null,null,null,null,{"$f":"+IF(F194=\"\",\"\",VLOOKUP(F194,Tabelas!$B$7:$C$96,2))","v":""},null,{"$f":"IF(H194=\"\",\"\",1-SUM(I195:I201))","v":""},null,null,null,null,null,null,{"$f":"+IF(O194=\"\",\"\",IF(N194=\"Transporte Marítimo\",VLOOKUP(O194,Tabelas!$F$7:$G$12,2),IF(N194=\"Transporte Aéreo\",VLOOKUP(O194,Tabelas!$F$16:$G$21,2),\"\")))","v":""},null,null,null,null,null,null,null,null,null,null,null,null,null,null,null,"",{"$f":"+IF(AF194=\"\",\"\",VLOOKUP(AF194,Tabelas!$J$27:$K$30,2))","v":""},null,null,null,null,null,null,null,null,null,null,null,null,null,null,null," "]
[null,null,null,null,null,null,{"$f":"+IF(F195=\"\",\"\",VLOOKUP(F195,Tabelas!$B$7:$C$96,2))","v":""},null,{"$f":"IF(H195=\"\",\"\",ROUND(H195/SUM(H194:H201),4))","v":""},null,null,null,null,null,null,{"$f":"+IF(O195=\"\",\"\",IF(N194=\"Transporte Marítimo\",VLOOKUP(O195,Tabelas!$F$7:$G$12,2),IF(N194=\"Transporte Aéreo\",VLOOKUP(O195,Tabelas!$F$16:$G$21,2),\"\")))","v":""},null,null,null,null,null,null,null,null,null,null,null,null,null,null,null,"",{"$f":"+IF(AF195=\"\",\"\",VLOOKUP(AF195,Tabelas!$J$27:$K$30,2))","v":""}]
[null,null,null,null,null,null,{"$f":"+IF(F196=\"\",\"\",VLOOKUP(F196,Tabelas!$B$7:$C$96,2))","v":""},null,{"$f":"IF(H196=\"\",\"\",ROUND(H196/SUM(H194:H201),4))","v":""},null,null,null,null,null,null,{"$f":"+IF(O196=\"\",\"\",IF(N194=\"Transporte Marítimo\",VLOOKUP(O196,Tabelas!$F$7:$G$12,2),IF(N194=\"Transporte Aéreo\",VLOOKUP(O196,Tabelas!$F$16:$G$21,2),\"\")))","v":""},null,null,null,null,null,null,null,null,null,null,null,null,null,null,null,"",{"$f":"+IF(AF196=\"\",\"\",VLOOKUP(AF196,Tabelas!$J$27:$K$30,2))","v":""}]
[null,null,null,null,null,null,{"$f":"+IF(F197=\"\",\"\",VLOOKUP(F197,Tabelas!$B$7:$C$96,2))","v":""},null,{"$f":"IF(H197=\"\",\"\",ROUND(H197/SUM(H194:H201),4))","v":""},null,null,null,null,null,null,{"$f":"+IF(O197=\"\",\"\",IF(N194=\"Transporte Marítimo\",VLOOKUP(O197,Tabelas!$F$7:$G$12,2),IF(N194=\"Transporte Aéreo\",VLOOKUP(O197,Tabelas!$F$16:$G$21,2),\"\")))","v":""},null,null,null,null,null,null,null,null,null,null,null,null,null,null,null,"",{"$f":"+IF(AF197=\"\",\"\",VLOOKUP(AF197,Tabelas!$J$27:$K$30,2))","v":""}]
[null,null,null,null,null,null,{"$f":"+IF(F198=\"\",\"\",VLOOKUP(F198,Tabelas!$B$7:$C$96,2))","v":""},null,{"$f":"IF(H198=\"\",\"\",ROUND(H198/SUM(H194:H201),4))","v":""},null,null,null,null,null,null,{"$f":"+IF(O198=\"\",\"\",IF(N194=\"Transporte Marítimo\",VLOOKUP(O198,Tabelas!$F$7:$G$12,2),IF(N194=\"Transporte Aéreo\",VLOOKUP(O198,Tabelas!$F$16:$G$21,2),\"\")))","v":""},null,null,null,null,null,null,null,null,null,null,null,null,null,null,null,"",{"$f":"+IF(AF198=\"\",\"\",VLOOKUP(AF198,Tabelas!$J$27:$K$30,2))","v":""}]
[null,null,null,null,null,null,{"$f":"+IF(F199=\"\",\"\",VLOOKUP(F199,Tabelas!$B$7:$C$96,2))","v":""},null,{"$f":"IF(H199=\"\",\"\",ROUND(H199/SUM(H194:H201),4))","v":""},null,null,null,null,null,null,{"$f":"+IF(O199=\"\",\"\",IF(N194=\"Transporte Marítimo\",VLOOKUP(O199,Tabelas!$F$7:$G$12,2),IF(N194=\"Transporte Aéreo\",VLOOKUP(O199,Tabelas!$F$16:$G$21,2),\"\")))","v":""},null,null,null,null,null,null,null,null,null,null,null,null,null,null,null,"",{"$f":"+IF(AF199=\"\",\"\",VLOOKUP(AF199,Tabelas!$J$27:$K$30,2))","v":""}]
[null,null,null,null,null,null,{"$f":"+IF(F200=\"\",\"\",VLOOKUP(F200,Tabelas!$B$7:$C$96,2))","v":""},null,{"$f":"IF(H200=\"\",\"\",ROUND(H200/SUM(H194:H201),4))","v":""},null,null,null,null,null,null,{"$f":"+IF(O200=\"\",\"\",IF(N194=\"Transporte Marítimo\",VLOOKUP(O200,Tabelas!$F$7:$G$12,2),IF(N194=\"Transporte Aéreo\",VLOOKUP(O200,Tabelas!$F$16:$G$21,2),\"\")))","v":""},null,null,null,null,null,null,null,null,null,null,null,null,null,null,null,"",{"$f":"+IF(AF200=\"\",\"\",VLOOKUP(AF200,Tabelas!$J$27:$K$30,2))","v":""}]
[null,null,null,null,null,null,{"$f":"+IF(F201=\"\",\"\",VLOOKUP(F201,Tabelas!$B$7:$C$96,2))","v":""},null,{"$f":"IF(H201=\"\",\"\",ROUND(H201/SUM(H194:H201),4))","v":""},null,null,null,null,null,null,{"$f":"+IF(O201=\"\",\"\",IF(N194=\"Transporte Marítimo\",VLOOKUP(O201,Tabelas!$F$7:$G$12,2),IF(N194=\"Transporte Aéreo\",VLOOKUP(O201,Tabelas!$F$16:$G$21,2),\"\")))","v":""},null,null,null,null,null,null,null,null,null,null,null,null,null,null,null,"",{"$f":"+IF(AF201=\"\",\"\",VLOOKUP(AF201,Tabelas!$J$27:$K$30,2))","v":""}]
[null,{"$f":"+B194+1","v":24},null,null,null,null,{"$f":"+IF(F202=\"\",\"\",VLOOKUP(F202,Tabelas!$B$7:$C$96,2))","v":""},null,{"$f":"IF(H202=\"\",\"\",1-SUM(I203:I209))","v":""},null,null,null,null,null,null,{"$f":"+IF(O202=\"\",\"\",IF(N202=\"Transporte Marítimo\",VLOOKUP(O202,Tabelas!$F$7:$G$12,2),IF(N202=\"Transporte Aéreo\",VLOOKUP(O202,Tabelas!$F$16:$G$21,2),\"\")))","v":""},null,null,null,null,null,null,null,null,null,null,null,null,null,null,null,"",{"$f":"+IF(AF202=\"\",\"\",VLOOKUP(AF202,Tabelas!$J$27:$K$30,2))","v":""},null,null,null,null,null,null,null,null,null,null,null,null,null,null,null," "]
[null,null,null,null,null,null,{"$f":"+IF(F203=\"\",\"\",VLOOKUP(F203,Tabelas!$B$7:$C$96,2))","v":""},null,{"$f":"IF(H203=\"\",\"\",ROUND(H203/SUM(H202:H209),4))","v":""},null,null,null,null,null,null,{"$f":"+IF(O203=\"\",\"\",IF(N202=\"Transporte Marítimo\",VLOOKUP(O203,Tabelas!$F$7:$G$12,2),IF(N202=\"Transporte Aéreo\",VLOOKUP(O203,Tabelas!$F$16:$G$21,2),\"\")))","v":""},null,null,null,null,null,null,null,null,null,null,null,null,null,null,null,"",{"$f":"+IF(AF203=\"\",\"\",VLOOKUP(AF203,Tabelas!$J$27:$K$30,2))","v":""}]
[null,null,null,null,null,null,{"$f":"+IF(F204=\"\",\"\",VLOOKUP(F204,Tabelas!$B$7:$C$96,2))","v":""},null,{"$f":"IF(H204=\"\",\"\",ROUND(H204/SUM(H202:H209),4))","v":""},null,null,null,null,null,null,{"$f":"+IF(O204=\"\",\"\",IF(N202=\"Transporte Marítimo\",VLOOKUP(O204,Tabelas!$F$7:$G$12,2),IF(N202=\"Transporte Aéreo\",VLOOKUP(O204,Tabelas!$F$16:$G$21,2),\"\")))","v":""},null,null,null,null,null,null,null,null,null,null,null,null,null,null,null,"",{"$f":"+IF(AF204=\"\",\"\",VLOOKUP(AF204,Tabelas!$J$27:$K$30,2))","v":""}]
[null,null,null,null,null,null,{"$f":"+IF(F205=\"\",\"\",VLOOKUP(F205,Tabelas!$B$7:$C$96,2))","v":""},null,{"$f":"IF(H205=\"\",\"\",ROUND(H205/SUM(H202:H209),4))","v":""},null,null,null,null,null,null,{"$f":"+IF(O205=\"\",\"\",IF(N202=\"Transporte Marítimo\",VLOOKUP(O205,Tabelas!$F$7:$G$12,2),IF(N202=\"Transporte Aéreo\",VLOOKUP(O205,Tabelas!$F$16:$G$21,2),\"\")))","v":""},null,null,null,null,null,null,null,null,null,null,null,null,null,null,null,"",{"$f":"+IF(AF205=\"\",\"\",VLOOKUP(AF205,Tabelas!$J$27:$K$30,2))","v":""}]
[null,null,null,null,null,null,{"$f":"+IF(F206=\"\",\"\",VLOOKUP(F206,Tabelas!$B$7:$C$96,2))","v":""},null,{"$f":"IF(H206=\"\",\"\",ROUND(H206/SUM(H202:H209),4))","v":""},null,null,null,null,null,null,{"$f":"+IF(O206=\"\",\"\",IF(N202=\"Transporte Marítimo\",VLOOKUP(O206,Tabelas!$F$7:$G$12,2),IF(N202=\"Transporte Aéreo\",VLOOKUP(O206,Tabelas!$F$16:$G$21,2),\"\")))","v":""},null,null,null,null,null,null,null,null,null,null,null,null,null,null,null,"",{"$f":"+IF(AF206=\"\",\"\",VLOOKUP(AF206,Tabelas!$J$27:$K$30,2))","v":""}]
[null,null,null,null,null,null,{"$f":"+IF(F207=\"\",\"\",VLOOKUP(F207,Tabelas!$B$7:$C$96,2))","v":""},null,{"$f":"IF(H207=\"\",\"\",ROUND(H207/SUM(H202:H209),4))","v":""},null,null,null,null,null,null,{"$f":"+IF(O207=\"\",\"\",IF(N202=\"Transporte Marítimo\",VLOOKUP(O207,Tabelas!$F$7:$G$12,2),IF(N202=\"Transporte Aéreo\",VLOOKUP(O207,Tabelas!$F$16:$G$21,2),\"\")))","v":""},null,null,null,null,null,null,null,null,null,null,null,null,null,null,null,"",{"$f":"+IF(AF207=\"\",\"\",VLOOKUP(AF207,Tabelas!$J$27:$K$30,2))","v":""}]
[null,null,null,null,null,null,{"$f":"+IF(F208=\"\",\"\",VLOOKUP(F208,Tabelas!$B$7:$C$96,2))","v":""},null,{"$f":"IF(H208=\"\",\"\",ROUND(H208/SUM(H202:H209),4))","v":""},null,null,null,null,null,null,{"$f":"+IF(O208=\"\",\"\",IF(N202=\"Transporte Marítimo\",VLOOKUP(O208,Tabelas!$F$7:$G$12,2),IF(N202=\"Transporte Aéreo\",VLOOKUP(O208,Tabelas!$F$16:$G$21,2),\"\")))","v":""},null,null,null,null,null,null,null,null,null,null,null,null,null,null,null,"",{"$f":"+IF(AF208=\"\",\"\",VLOOKUP(AF208,Tabelas!$J$27:$K$30,2))","v":""}]
[null,null,null,null,null,null,{"$f":"+IF(F209=\"\",\"\",VLOOKUP(F209,Tabelas!$B$7:$C$96,2))","v":""},null,{"$f":"IF(H209=\"\",\"\",ROUND(H209/SUM(H202:H209),4))","v":""},null,null,null,null,null,null,{"$f":"+IF(O209=\"\",\"\",IF(N202=\"Transporte Marítimo\",VLOOKUP(O209,Tabelas!$F$7:$G$12,2),IF(N202=\"Transporte Aéreo\",VLOOKUP(O209,Tabelas!$F$16:$G$21,2),\"\")))","v":""},null,null,null,null,null,null,null,null,null,null,null,null,null,null,null,"",{"$f":"+IF(AF209=\"\",\"\",VLOOKUP(AF209,Tabelas!$J$27:$K$30,2))","v":""}]
[null,{"$f":"+B202+1","v":25},null,null,null,null,{"$f":"+IF(F210=\"\",\"\",VLOOKUP(F210,Tabelas!$B$7:$C$96,2))","v":""},null,{"$f":"IF(H210=\"\",\"\",1-SUM(I211:I217))","v":""},null,null,null,null,null,null,{"$f":"+IF(O210=\"\",\"\",IF(N210=\"Transporte Marítimo\",VLOOKUP(O210,Tabelas!$F$7:$G$12,2),IF(N210=\"Transporte Aéreo\",VLOOKUP(O210,Tabelas!$F$16:$G$21,2),\"\")))","v":""},null,null,null,null,null,null,null,null,null,null,null,null,null,null,null,"",{"$f":"+IF(AF210=\"\",\"\",VLOOKUP(AF210,Tabelas!$J$27:$K$30,2))","v":""},null,null,null,null,null,null,null,null,null,null,null,null,null,null,null," "]
[null,null,null,null,null,null,{"$f":"+IF(F211=\"\",\"\",VLOOKUP(F211,Tabelas!$B$7:$C$96,2))","v":""},null,{"$f":"IF(H211=\"\",\"\",ROUND(H211/SUM(H210:H217),4))","v":""},null,null,null,null,null,null,{"$f":"+IF(O211=\"\",\"\",IF(N210=\"Transporte Marítimo\",VLOOKUP(O211,Tabelas!$F$7:$G$12,2),IF(N210=\"Transporte Aéreo\",VLOOKUP(O211,Tabelas!$F$16:$G$21,2),\"\")))","v":""},null,null,null,null,null,null,null,null,null,null,null,null,null,null,null,{"$f":"+IF(AE211=\"20NL\",1,IF(AE211=\"40NL\",2,IF(AE211=\"20RF\",3,IF(AE211=\"40RF\",4,\"\"))))","v":""},{"$f":"+IF(AF211=\"\",\"\",VLOOKUP(AF211,Tabelas!$J$27:$K$30,2))","v":""}]
[null,null,null,null,null,null,{"$f":"+IF(F212=\"\",\"\",VLOOKUP(F212,Tabelas!$B$7:$C$96,2))","v":""},null,{"$f":"IF(H212=\"\",\"\",ROUND(H212/SUM(H210:H217),4))","v":""},null,null,null,null,null,null,{"$f":"+IF(O212=\"\",\"\",IF(N210=\"Transporte Marítimo\",VLOOKUP(O212,Tabelas!$F$7:$G$12,2),IF(N210=\"Transporte Aéreo\",VLOOKUP(O212,Tabelas!$F$16:$G$21,2),\"\")))","v":""},null,null,null,null,null,null,null,null,null,null,null,null,null,null,null,"",{"$f":"+IF(AF212=\"\",\"\",VLOOKUP(AF212,Tabelas!$J$27:$K$30,2))","v":""}]
[null,null,null,null,null,null,{"$f":"+IF(F213=\"\",\"\",VLOOKUP(F213,Tabelas!$B$7:$C$96,2))","v":""},null,{"$f":"IF(H213=\"\",\"\",ROUND(H213/SUM(H210:H217),4))","v":""},null,null,null,null,null,null,{"$f":"+IF(O213=\"\",\"\",IF(N210=\"Transporte Marítimo\",VLOOKUP(O213,Tabelas!$F$7:$G$12,2),IF(N210=\"Transporte Aéreo\",VLOOKUP(O213,Tabelas!$F$16:$G$21,2),\"\")))","v":""},null,null,null,null,null,null,null,null,null,null,null,null,null,null,null,"",{"$f":"+IF(AF213=\"\",\"\",VLOOKUP(AF213,Tabelas!$J$27:$K$30,2))","v":""}]
[null,null,null,null,null,null,{"$f":"+IF(F214=\"\",\"\",VLOOKUP(F214,Tabelas!$B$7:$C$96,2))","v":""},null,{"$f":"IF(H214=\"\",\"\",ROUND(H214/SUM(H210:H217),4))","v":""},null,null,null,null,null,null,{"$f":"+IF(O214=\"\",\"\",IF(N210=\"Transporte Marítimo\",VLOOKUP(O214,Tabelas!$F$7:$G$12,2),IF(N210=\"Transporte Aéreo\",VLOOKUP(O214,Tabelas!$F$16:$G$21,2),\"\")))","v":""},null,null,null,null,null,null,null,null,null,null,null,null,null,null,null,"",{"$f":"+IF(AF214=\"\",\"\",VLOOKUP(AF214,Tabelas!$J$27:$K$30,2))","v":""}]
[null,null,null,null,null,null,{"$f":"+IF(F215=\"\",\"\",VLOOKUP(F215,Tabelas!$B$7:$C$96,2))","v":""},null,{"$f":"IF(H215=\"\",\"\",ROUND(H215/SUM(H210:H217),4))","v":""},null,null,null,null,null,null,{"$f":"+IF(O215=\"\",\"\",IF(N210=\"Transporte Marítimo\",VLOOKUP(O215,Tabelas!$F$7:$G$12,2),IF(N210=\"Transporte Aéreo\",VLOOKUP(O215,Tabelas!$F$16:$G$21,2),\"\")))","v":""},null,null,null,null,null,null,null,null,null,null,null,null,null,null,null,"",{"$f":"+IF(AF215=\"\",\"\",VLOOKUP(AF215,Tabelas!$J$27:$K$30,2))","v":""}]
[null,null,null,null,null,null,{"$f":"+IF(F216=\"\",\"\",VLOOKUP(F216,Tabelas!$B$7:$C$96,2))","v":""},null,{"$f":"IF(H216=\"\",\"\",ROUND(H216/SUM(H210:H217),4))","v":""},null,null,null,null,null,null,{"$f":"+IF(O216=\"\",\"\",IF(N210=\"Transporte Marítimo\",VLOOKUP(O216,Tabelas!$F$7:$G$12,2),IF(N210=\"Transporte Aéreo\",VLOOKUP(O216,Tabelas!$F$16:$G$21,2),\"\")))","v":""},null,null,null,null,null,null,null,null,null,null,null,null,null,null,null,"",{"$f":"+IF(AF216=\"\",\"\",VLOOKUP(AF216,Tabelas!$J$27:$K$30,2))","v":""}]
[null,null,null,null,null,null,{"$f":"+IF(F217=\"\",\"\",VLOOKUP(F217,Tabelas!$B$7:$C$96,2))","v":""},null,{"$f":"IF(H217=\"\",\"\",ROUND(H217/SUM(H210:H217),4))","v":""},null,null,null,null,null,null,{"$f":"+IF(O217=\"\",\"\",IF(N210=\"Transporte Marítimo\",VLOOKUP(O217,Tabelas!$F$7:$G$12,2),IF(N210=\"Transporte Aéreo\",VLOOKUP(O217,Tabelas!$F$16:$G$21,2),\"\")))","v":""},null,null,null,null,null,null,null,null,null,null,null,null,null,null,null,"",{"$f":"+IF(AF217=\"\",\"\",VLOOKUP(AF217,Tabelas!$J$27:$K$30,2))","v":""}]
[null,{"$f":"+B210+1","v":26},null,null,null,null,{"$f":"+IF(F218=\"\",\"\",VLOOKUP(F218,Tabelas!$B$7:$C$96,2))","v":""},null,{"$f":"IF(H218=\"\",\"\",1-SUM(I219:I225))","v":""},null,null,null,null,null,null,{"$f":"+IF(O218=\"\",\"\",IF(N218=\"Transporte Marítimo\",VLOOKUP(O218,Tabelas!$F$7:$G$12,2),IF(N218=\"Transporte Aéreo\",VLOOKUP(O218,Tabelas!$F$16:$G$21,2),\"\")))","v":""},null,null,null,null,null,null,null,null,null,null,null,null,null,null,null,"",{"$f":"+IF(AF218=\"\",\"\",VLOOKUP(AF218,Tabelas!$J$27:$K$30,2))","v":""},null,null,null,null,null,null,null,null,null,null,null,null,null,null,null," "]
[null,null,null,null,null,null,{"$f":"+IF(F219=\"\",\"\",VLOOKUP(F219,Tabelas!$B$7:$C$96,2))","v":""},null,{"$f":"IF(H219=\"\",\"\",ROUND(H219/SUM(H218:H225),4))","v":""},null,null,null,null,null,null,{"$f":"+IF(O219=\"\",\"\",IF(N218=\"Transporte Marítimo\",VLOOKUP(O219,Tabelas!$F$7:$G$12,2),IF(N218=\"Transporte Aéreo\",VLOOKUP(O219,Tabelas!$F$16:$G$21,2),\"\")))","v":""},null,null,null,null,null,null,null,null,null,null,null,null,null,null,null,"",{"$f":"+IF(AF219=\"\",\"\",VLOOKUP(AF219,Tabelas!$J$27:$K$30,2))","v":""}]
[null,null,null,null,null,null,{"$f":"+IF(F220=\"\",\"\",VLOOKUP(F220,Tabelas!$B$7:$C$96,2))","v":""},null,{"$f":"IF(H220=\"\",\"\",ROUND(H220/SUM(H218:H225),4))","v":""},null,null,null,null,null,null,{"$f":"+IF(O220=\"\",\"\",IF(N218=\"Transporte Marítimo\",VLOOKUP(O220,Tabelas!$F$7:$G$12,2),IF(N218=\"Transporte Aéreo\",VLOOKUP(O220,Tabelas!$F$16:$G$21,2),\"\")))","v":""},null,null,null,null,null,null,null,null,null,null,null,null,null,null,null,"",{"$f":"+IF(AF220=\"\",\"\",VLOOKUP(AF220,Tabelas!$J$27:$K$30,2))","v":""}]
[null,null,null,null,null,null,{"$f":"+IF(F221=\"\",\"\",VLOOKUP(F221,Tabelas!$B$7:$C$96,2))","v":""},null,{"$f":"IF(H221=\"\",\"\",ROUND(H221/SUM(H218:H225),4))","v":""},null,null,null,null,null,null,{"$f":"+IF(O221=\"\",\"\",IF(N218=\"Transporte Marítimo\",VLOOKUP(O221,Tabelas!$F$7:$G$12,2),IF(N218=\"Transporte Aéreo\",VLOOKUP(O221,Tabelas!$F$16:$G$21,2),\"\")))","v":""},null,null,null,null,null,null,null,null,null,null,null,null,null,null,null,"",{"$f":"+IF(AF221=\"\",\"\",VLOOKUP(AF221,Tabelas!$J$27:$K$30,2))","v":""}]
[null,null,null,null,null,null,{"$f":"+IF(F222=\"\",\"\",VLOOKUP(F222,Tabelas!$B$7:$C$96,2))","v":""},null,{"$f":"IF(H222=\"\",\"\",ROUND(H222/SUM(H218:H225),4))","v":""},null,null,null,null,null,null,{"$f":"+IF(O222=\"\",\"\",IF(N218=\"Transporte Marítimo\",VLOOKUP(O222,Tabelas!$F$7:$G$12,2),IF(N218=\"Transporte Aéreo\",VLOOKUP(O222,Tabelas!$F$16:$G$21,2),\"\")))","v":""},null,null,null,null,null,null,null,null,null,null,null,null,null,null,null,"",{"$f":"+IF(AF222=\"\",\"\",VLOOKUP(AF222,Tabelas!$J$27:$K$30,2))","v":""}]
[null,null,null,null,null,null,{"$f":"+IF(F223=\"\",\"\",VLOOKUP(F223,Tabelas!$B$7:$C$96,2))","v":""},null,{"$f":"IF(H223=\"\",\"\",ROUND(H223/SUM(H218:H225),4))","v":""},null,null,null,null,null,null,{"$f":"+IF(O223=\"\",\"\",IF(N218=\"Transporte Marítimo\",VLOOKUP(O223,Tabelas!$F$7:$G$12,2),IF(N218=\"Transporte Aéreo\",VLOOKUP(O223,Tabelas!$F$16:$G$21,2),\"\")))","v":""},null,null,null,null,null,null,null,null,null,null,null,null,null,null,null,"",{"$f":"+IF(AF223=\"\",\"\",VLOOKUP(AF223,Tabelas!$J$27:$K$30,2))","v":""}]
[null,null,null,null,null,null,{"$f":"+IF(F224=\"\",\"\",VLOOKUP(F224,Tabelas!$B$7:$C$96,2))","v":""},null,{"$f":"IF(H224=\"\",\"\",ROUND(H224/SUM(H218:H225),4))","v":""},null,null,null,null,null,null,{"$f":"+IF(O224=\"\",\"\",IF(N218=\"Transporte Marítimo\",VLOOKUP(O224,Tabelas!$F$7:$G$12,2),IF(N218=\"Transporte Aéreo\",VLOOKUP(O224,Tabelas!$F$16:$G$21,2),\"\")))","v":""},null,null,null,null,null,null,null,null,null,null,null,null,null,null,null,"",{"$f":"+IF(AF224=\"\",\"\",VLOOKUP(AF224,Tabelas!$J$27:$K$30,2))","v":""}]
[null,null,null,null,null,null,{"$f":"+IF(F225=\"\",\"\",VLOOKUP(F225,Tabelas!$B$7:$C$96,2))","v":""},null,{"$f":"IF(H225=\"\",\"\",ROUND(H225/SUM(H218:H225),4))","v":""},null,null,null,null,null,null,{"$f":"+IF(O225=\"\",\"\",IF(N218=\"Transporte Marítimo\",VLOOKUP(O225,Tabelas!$F$7:$G$12,2),IF(N218=\"Transporte Aéreo\",VLOOKUP(O225,Tabelas!$F$16:$G$21,2),\"\")))","v":""},null,null,null,null,null,null,null,null,null,null,null,null,null,null,null,"",{"$f":"+IF(AF225=\"\",\"\",VLOOKUP(AF225,Tabelas!$J$27:$K$30,2))","v":""}]
[null,{"$f":"+B218+1","v":27},null,null,null,null,{"$f":"+IF(F226=\"\",\"\",VLOOKUP(F226,Tabelas!$B$7:$C$96,2))","v":""},null,{"$f":"IF(H226=\"\",\"\",1-SUM(I227:I233))","v":""},null,null,null,null,null,null,{"$f":"+IF(O226=\"\",\"\",IF(N226=\"Transporte Marítimo\",VLOOKUP(O226,Tabelas!$F$7:$G$12,2),IF(N226=\"Transporte Aéreo\",VLOOKUP(O226,Tabelas!$F$16:$G$21,2),\"\")))","v":""},null,null,null,null,null,null,null,null,null,null,null,null,null,null,null,"",{"$f":"+IF(AF226=\"\",\"\",VLOOKUP(AF226,Tabelas!$J$27:$K$30,2))","v":""},null,null,null,null,null,null,null,null,null,null,null,null,null,null,null," "]
[null,null,null,null,null,null,{"$f":"+IF(F227=\"\",\"\",VLOOKUP(F227,Tabelas!$B$7:$C$96,2))","v":""},null,{"$f":"IF(H227=\"\",\"\",ROUND(H227/SUM(H226:H233),4))","v":""},null,null,null,null,null,null,{"$f":"+IF(O227=\"\",\"\",IF(N226=\"Transporte Marítimo\",VLOOKUP(O227,Tabelas!$F$7:$G$12,2),IF(N226=\"Transporte Aéreo\",VLOOKUP(O227,Tabelas!$F$16:$G$21,2),\"\")))","v":""},null,null,null,null,null,null,null,null,null,null,null,null,null,null,null,"",{"$f":"+IF(AF227=\"\",\"\",VLOOKUP(AF227,Tabelas!$J$27:$K$30,2))","v":""}]
[null,null,null,null,null,null,{"$f":"+IF(F228=\"\",\"\",VLOOKUP(F228,Tabelas!$B$7:$C$96,2))","v":""},null,{"$f":"IF(H228=\"\",\"\",ROUND(H228/SUM(H226:H233),4))","v":""},null,null,null,null,null,null,{"$f":"+IF(O228=\"\",\"\",IF(N226=\"Transporte Marítimo\",VLOOKUP(O228,Tabelas!$F$7:$G$12,2),IF(N226=\"Transporte Aéreo\",VLOOKUP(O228,Tabelas!$F$16:$G$21,2),\"\")))","v":""},null,null,null,null,null,null,null,null,null,null,null,null,null,null,null,"",{"$f":"+IF(AF228=\"\",\"\",VLOOKUP(AF228,Tabelas!$J$27:$K$30,2))","v":""}]
[null,null,null,null,null,null,{"$f":"+IF(F229=\"\",\"\",VLOOKUP(F229,Tabelas!$B$7:$C$96,2))","v":""},null,{"$f":"IF(H229=\"\",\"\",ROUND(H229/SUM(H226:H233),4))","v":""},null,null,null,null,null,null,{"$f":"+IF(O229=\"\",\"\",IF(N226=\"Transporte Marítimo\",VLOOKUP(O229,Tabelas!$F$7:$G$12,2),IF(N226=\"Transporte Aéreo\",VLOOKUP(O229,Tabelas!$F$16:$G$21,2),\"\")))","v":""},null,null,null,null,null,null,null,null,null,null,null,null,null,null,null,"",{"$f":"+IF(AF229=\"\",\"\",VLOOKUP(AF229,Tabelas!$J$27:$K$30,2))","v":""}]
[null,null,null,null,null,null,{"$f":"+IF(F230=\"\",\"\",VLOOKUP(F230,Tabelas!$B$7:$C$96,2))","v":""},null,{"$f":"IF(H230=\"\",\"\",ROUND(H230/SUM(H226:H233),4))","v":""},null,null,null,null,null,null,{"$f":"+IF(O230=\"\",\"\",IF(N226=\"Transporte Marítimo\",VLOOKUP(O230,Tabelas!$F$7:$G$12,2),IF(N226=\"Transporte Aéreo\",VLOOKUP(O230,Tabelas!$F$16:$G$21,2),\"\")))","v":""},null,null,null,null,null,null,null,null,null,null,null,null,null,null,null,"",{"$f":"+IF(AF230=\"\",\"\",VLOOKUP(AF230,Tabelas!$J$27:$K$30,2))","v":""}]
[null,null,null,null,null,null,{"$f":"+IF(F231=\"\",\"\",VLOOKUP(F231,Tabelas!$B$7:$C$96,2))","v":""},null,{"$f":"IF(H231=\"\",\"\",ROUND(H231/SUM(H226:H233),4))","v":""},null,null,null,null,null,null,{"$f":"+IF(O231=\"\",\"\",IF(N226=\"Transporte Marítimo\",VLOOKUP(O231,Tabelas!$F$7:$G$12,2),IF(N226=\"Transporte Aéreo\",VLOOKUP(O231,Tabelas!$F$16:$G$21,2),\"\")))","v":""},null,null,null,null,null,null,null,null,null,null,null,null,null,null,null,"",{"$f":"+IF(AF231=\"\",\"\",VLOOKUP(AF231,Tabelas!$J$27:$K$30,2))","v":""}]
[null,null,null,null,null,null,{"$f":"+IF(F232=\"\",\"\",VLOOKUP(F232,Tabelas!$B$7:$C$96,2))","v":""},null,{"$f":"IF(H232=\"\",\"\",ROUND(H232/SUM(H226:H233),4))","v":""},null,null,null,null,null,null,{"$f":"+IF(O232=\"\",\"\",IF(N226=\"Transporte Marítimo\",VLOOKUP(O232,Tabelas!$F$7:$G$12,2),IF(N226=\"Transporte Aéreo\",VLOOKUP(O232,Tabelas!$F$16:$G$21,2),\"\")))","v":""},null,null,null,null,null,null,null,null,null,null,null,null,null,null,null,"",{"$f":"+IF(AF232=\"\",\"\",VLOOKUP(AF232,Tabelas!$J$27:$K$30,2))","v":""}]
[null,null,null,null,null,null,{"$f":"+IF(F233=\"\",\"\",VLOOKUP(F233,Tabelas!$B$7:$C$96,2))","v":""},null,{"$f":"IF(H233=\"\",\"\",ROUND(H233/SUM(H226:H233),4))","v":""},null,null,null,null,null,null,{"$f":"+IF(O233=\"\",\"\",IF(N226=\"Transporte Marítimo\",VLOOKUP(O233,Tabelas!$F$7:$G$12,2),IF(N226=\"Transporte Aéreo\",VLOOKUP(O233,Tabelas!$F$16:$G$21,2),\"\")))","v":""},null,null,null,null,null,null,null,null,null,null,null,null,null,null,null,"",{"$f":"+IF(AF233=\"\",\"\",VLOOKUP(AF233,Tabelas!$J$27:$K$30,2))","v":""}]
[null,{"$f":"+B226+1","v":28},null,null,null,null,{"$f":"+IF(F234=\"\",\"\",VLOOKUP(F234,Tabelas!$B$7:$C$96,2))","v":""},null,{"$f":"IF(H234=\"\",\"\",1-SUM(I235:I241))","v":""},null,null,null,null,null,null,{"$f":"+IF(O234=\"\",\"\",IF(N234=\"Transporte Marítimo\",VLOOKUP(O234,Tabelas!$F$7:$G$12,2),IF(N234=\"Transporte Aéreo\",VLOOKUP(O234,Tabelas!$F$16:$G$21,2),\"\")))","v":""},null,null,null,null,null,null,null,null,null,null,null,null,null,null,null,"",{"$f":"+IF(AF234=\"\",\"\",VLOOKUP(AF234,Tabelas!$J$27:$K$30,2))","v":""},null,null,null,null,null,null,null,null,null,null,null,null,null,null,null," "]
[null,null,null,null,null,null,{"$f":"+IF(F235=\"\",\"\",VLOOKUP(F235,Tabelas!$B$7:$C$96,2))","v":""},null,{"$f":"IF(H235=\"\",\"\",ROUND(H235/SUM(H234:H241),4))","v":""},null,null,null,null,null,null,{"$f":"+IF(O235=\"\",\"\",IF(N234=\"Transporte Marítimo\",VLOOKUP(O235,Tabelas!$F$7:$G$12,2),IF(N234=\"Transporte Aéreo\",VLOOKUP(O235,Tabelas!$F$16:$G$21,2),\"\")))","v":""},null,null,null,null,null,null,null,null,null,null,null,null,null,null,null,"",{"$f":"+IF(AF235=\"\",\"\",VLOOKUP(AF235,Tabelas!$J$27:$K$30,2))","v":""}]
[null,null,null,null,null,null,{"$f":"+IF(F236=\"\",\"\",VLOOKUP(F236,Tabelas!$B$7:$C$96,2))","v":""},null,{"$f":"IF(H236=\"\",\"\",ROUND(H236/SUM(H234:H241),4))","v":""},null,null,null,null,null,null,{"$f":"+IF(O236=\"\",\"\",IF(N234=\"Transporte Marítimo\",VLOOKUP(O236,Tabelas!$F$7:$G$12,2),IF(N234=\"Transporte Aéreo\",VLOOKUP(O236,Tabelas!$F$16:$G$21,2),\"\")))","v":""},null,null,null,null,null,null,null,null,null,null,null,null,null,null,null,"",{"$f":"+IF(AF236=\"\",\"\",VLOOKUP(AF236,Tabelas!$J$27:$K$30,2))","v":""}]
[null,null,null,null,null,null,{"$f":"+IF(F237=\"\",\"\",VLOOKUP(F237,Tabelas!$B$7:$C$96,2))","v":""},null,{"$f":"IF(H237=\"\",\"\",ROUND(H237/SUM(H234:H241),4))","v":""},null,null,null,null,null,null,{"$f":"+IF(O237=\"\",\"\",IF(N234=\"Transporte Marítimo\",VLOOKUP(O237,Tabelas!$F$7:$G$12,2),IF(N234=\"Transporte Aéreo\",VLOOKUP(O237,Tabelas!$F$16:$G$21,2),\"\")))","v":""},null,null,null,null,null,null,null,null,null,null,null,null,null,null,null,"",{"$f":"+IF(AF237=\"\",\"\",VLOOKUP(AF237,Tabelas!$J$27:$K$30,2))","v":""}]
[null,null,null,null,null,null,{"$f":"+IF(F238=\"\",\"\",VLOOKUP(F238,Tabelas!$B$7:$C$96,2))","v":""},null,{"$f":"IF(H238=\"\",\"\",ROUND(H238/SUM(H234:H241),4))","v":""},null,null,null,null,null,null,{"$f":"+IF(O238=\"\",\"\",IF(N234=\"Transporte Marítimo\",VLOOKUP(O238,Tabelas!$F$7:$G$12,2),IF(N234=\"Transporte Aéreo\",VLOOKUP(O238,Tabelas!$F$16:$G$21,2),\"\")))","v":""},null,null,null,null,null,null,null,null,null,null,null,null,null,null,null,"",{"$f":"+IF(AF238=\"\",\"\",VLOOKUP(AF238,Tabelas!$J$27:$K$30,2))","v":""}]
[null,null,null,null,null,null,{"$f":"+IF(F239=\"\",\"\",VLOOKUP(F239,Tabelas!$B$7:$C$96,2))","v":""},null,{"$f":"IF(H239=\"\",\"\",ROUND(H239/SUM(H234:H241),4))","v":""},null,null,null,null,null,null,{"$f":"+IF(O239=\"\",\"\",IF(N234=\"Transporte Marítimo\",VLOOKUP(O239,Tabelas!$F$7:$G$12,2),IF(N234=\"Transporte Aéreo\",VLOOKUP(O239,Tabelas!$F$16:$G$21,2),\"\")))","v":""},null,null,null,null,null,null,null,null,null,null,null,null,null,null,null,"",{"$f":"+IF(AF239=\"\",\"\",VLOOKUP(AF239,Tabelas!$J$27:$K$30,2))","v":""}]
[null,null,null,null,null,null,{"$f":"+IF(F240=\"\",\"\",VLOOKUP(F240,Tabelas!$B$7:$C$96,2))","v":""},null,{"$f":"IF(H240=\"\",\"\",ROUND(H240/SUM(H234:H241),4))","v":""},null,null,null,null,null,null,{"$f":"+IF(O240=\"\",\"\",IF(N234=\"Transporte Marítimo\",VLOOKUP(O240,Tabelas!$F$7:$G$12,2),IF(N234=\"Transporte Aéreo\",VLOOKUP(O240,Tabelas!$F$16:$G$21,2),\"\")))","v":""},null,null,null,null,null,null,null,null,null,null,null,null,null,null,null,"",{"$f":"+IF(AF240=\"\",\"\",VLOOKUP(AF240,Tabelas!$J$27:$K$30,2))","v":""}]
[null,null,null,null,null,null,{"$f":"+IF(F241=\"\",\"\",VLOOKUP(F241,Tabelas!$B$7:$C$96,2))","v":""},null,{"$f":"IF(H241=\"\",\"\",ROUND(H241/SUM(H234:H241),4))","v":""},null,null,null,null,null,null,{"$f":"+IF(O241=\"\",\"\",IF(N234=\"Transporte Marítimo\",VLOOKUP(O241,Tabelas!$F$7:$G$12,2),IF(N234=\"Transporte Aéreo\",VLOOKUP(O241,Tabelas!$F$16:$G$21,2),\"\")))","v":""},null,null,null,null,null,null,null,null,null,null,null,null,null,null,null,"",{"$f":"+IF(AF241=\"\",\"\",VLOOKUP(AF241,Tabelas!$J$27:$K$30,2))","v":""}]
[null,{"$f":"+B234+1","v":29},null,null,null,null,{"$f":"+IF(F242=\"\",\"\",VLOOKUP(F242,Tabelas!$B$7:$C$96,2))","v":""},null,{"$f":"IF(H242=\"\",\"\",1-SUM(I243:I249))","v":""},null,null,null,null,null,null,{"$f":"+IF(O242=\"\",\"\",IF(N242=\"Transporte Marítimo\",VLOOKUP(O242,Tabelas!$F$7:$G$12,2),IF(N242=\"Transporte Aéreo\",VLOOKUP(O242,Tabelas!$F$16:$G$21,2),\"\")))","v":""},null,null,null,null,null,null,null,null,null,null,null,null,null,null,null,"",{"$f":"+IF(AF242=\"\",\"\",VLOOKUP(AF242,Tabelas!$J$27:$K$30,2))","v":""},null,null,null,null,null,null,null,null,null,null,null,null,null,null,null," "]
[null,null,null,null,null,null,{"$f":"+IF(F243=\"\",\"\",VLOOKUP(F243,Tabelas!$B$7:$C$96,2))","v":""},null,{"$f":"IF(H243=\"\",\"\",ROUND(H243/SUM(H242:H249),4))","v":""},null,null,null,null,null,null,{"$f":"+IF(O243=\"\",\"\",IF(N242=\"Transporte Marítimo\",VLOOKUP(O243,Tabelas!$F$7:$G$12,2),IF(N242=\"Transporte Aéreo\",VLOOKUP(O243,Tabelas!$F$16:$G$21,2),\"\")))","v":""},null,null,null,null,null,null,null,null,null,null,null,null,null,null,null,"",{"$f":"+IF(AF243=\"\",\"\",VLOOKUP(AF243,Tabelas!$J$27:$K$30,2))","v":""}]
[null,null,null,null,null,null,{"$f":"+IF(F244=\"\",\"\",VLOOKUP(F244,Tabelas!$B$7:$C$96,2))","v":""},null,{"$f":"IF(H244=\"\",\"\",ROUND(H244/SUM(H242:H249),4))","v":""},null,null,null,null,null,null,{"$f":"+IF(O244=\"\",\"\",IF(N242=\"Transporte Marítimo\",VLOOKUP(O244,Tabelas!$F$7:$G$12,2),IF(N242=\"Transporte Aéreo\",VLOOKUP(O244,Tabelas!$F$16:$G$21,2),\"\")))","v":""},null,null,null,null,null,null,null,null,null,null,null,null,null,null,null,"",{"$f":"+IF(AF244=\"\",\"\",VLOOKUP(AF244,Tabelas!$J$27:$K$30,2))","v":""}]
[null,null,null,null,null,null,{"$f":"+IF(F245=\"\",\"\",VLOOKUP(F245,Tabelas!$B$7:$C$96,2))","v":""},null,{"$f":"IF(H245=\"\",\"\",ROUND(H245/SUM(H242:H249),4))","v":""},null,null,null,null,null,null,{"$f":"+IF(O245=\"\",\"\",IF(N242=\"Transporte Marítimo\",VLOOKUP(O245,Tabelas!$F$7:$G$12,2),IF(N242=\"Transporte Aéreo\",VLOOKUP(O245,Tabelas!$F$16:$G$21,2),\"\")))","v":""},null,null,null,null,null,null,null,null,null,null,null,null,null,null,null,"",{"$f":"+IF(AF245=\"\",\"\",VLOOKUP(AF245,Tabelas!$J$27:$K$30,2))","v":""}]
[null,null,null,null,null,null,{"$f":"+IF(F246=\"\",\"\",VLOOKUP(F246,Tabelas!$B$7:$C$96,2))","v":""},null,{"$f":"IF(H246=\"\",\"\",ROUND(H246/SUM(H242:H249),4))","v":""},null,null,null,null,null,null,{"$f":"+IF(O246=\"\",\"\",IF(N242=\"Transporte Marítimo\",VLOOKUP(O246,Tabelas!$F$7:$G$12,2),IF(N242=\"Transporte Aéreo\",VLOOKUP(O246,Tabelas!$F$16:$G$21,2),\"\")))","v":""},null,null,null,null,null,null,null,null,null,null,null,null,null,null,null,"",{"$f":"+IF(AF246=\"\",\"\",VLOOKUP(AF246,Tabelas!$J$27:$K$30,2))","v":""}]
[null,null,null,null,null,null,{"$f":"+IF(F247=\"\",\"\",VLOOKUP(F247,Tabelas!$B$7:$C$96,2))","v":""},null,{"$f":"IF(H247=\"\",\"\",ROUND(H247/SUM(H242:H249),4))","v":""},null,null,null,null,null,null,{"$f":"+IF(O247=\"\",\"\",IF(N242=\"Transporte Marítimo\",VLOOKUP(O247,Tabelas!$F$7:$G$12,2),IF(N242=\"Transporte Aéreo\",VLOOKUP(O247,Tabelas!$F$16:$G$21,2),\"\")))","v":""},null,null,null,null,null,null,null,null,null,null,null,null,null,null,null,"",{"$f":"+IF(AF247=\"\",\"\",VLOOKUP(AF247,Tabelas!$J$27:$K$30,2))","v":""}]
[null,null,null,null,null,null,{"$f":"+IF(F248=\"\",\"\",VLOOKUP(F248,Tabelas!$B$7:$C$96,2))","v":""},null,{"$f":"IF(H248=\"\",\"\",ROUND(H248/SUM(H242:H249),4))","v":""},null,null,null,null,null,null,{"$f":"+IF(O248=\"\",\"\",IF(N242=\"Transporte Marítimo\",VLOOKUP(O248,Tabelas!$F$7:$G$12,2),IF(N242=\"Transporte Aéreo\",VLOOKUP(O248,Tabelas!$F$16:$G$21,2),\"\")))","v":""},null,null,null,null,null,null,null,null,null,null,null,null,null,null,null,"",{"$f":"+IF(AF248=\"\",\"\",VLOOKUP(AF248,Tabelas!$J$27:$K$30,2))","v":""}]
[null,null,null,null,null,null,{"$f":"+IF(F249=\"\",\"\",VLOOKUP(F249,Tabelas!$B$7:$C$96,2))","v":""},null,{"$f":"IF(H249=\"\",\"\",ROUND(H249/SUM(H242:H249),4))","v":""},null,null,null,null,null,null,{"$f":"+IF(O249=\"\",\"\",IF(N242=\"Transporte Marítimo\",VLOOKUP(O249,Tabelas!$F$7:$G$12,2),IF(N242=\"Transporte Aéreo\",VLOOKUP(O249,Tabelas!$F$16:$G$21,2),\"\")))","v":""},null,null,null,null,null,null,null,null,null,null,null,null,null,null,null,"",{"$f":"+IF(AF249=\"\",\"\",VLOOKUP(AF249,Tabelas!$J$27:$K$30,2))","v":""}]
[null,{"$f":"+B242+1","v":30},null,null,null,null,{"$f":"+IF(F250=\"\",\"\",VLOOKUP(F250,Tabelas!$B$7:$C$96,2))","v":""},null,{"$f":"IF(H250=\"\",\"\",1-SUM(I251:I257))","v":""},null,null,null,null,null,null,{"$f":"+IF(O250=\"\",\"\",IF(N250=\"Transporte Marítimo\",VLOOKUP(O250,Tabelas!$F$7:$G$12,2),IF(N250=\"Transporte Aéreo\",VLOOKUP(O250,Tabelas!$F$16:$G$21,2),\"\")))","v":""},null,null,null,null,null,null,null,null,null,null,null,null,null,null,null,"",{"$f":"+IF(AF250=\"\",\"\",VLOOKUP(AF250,Tabelas!$J$27:$K$30,2))","v":""},null,null,null,null,null,null,null,null,null,null,null,null,null,null,null," "]
[null,null,null,null,null,null,{"$f":"+IF(F251=\"\",\"\",VLOOKUP(F251,Tabelas!$B$7:$C$96,2))","v":""},null,{"$f":"IF(H251=\"\",\"\",ROUND(H251/SUM(H250:H257),4))","v":""},null,null,null,null,null,null,{"$f":"+IF(O251=\"\",\"\",IF(N250=\"Transporte Marítimo\",VLOOKUP(O251,Tabelas!$F$7:$G$12,2),IF(N250=\"Transporte Aéreo\",VLOOKUP(O251,Tabelas!$F$16:$G$21,2),\"\")))","v":""},null,null,null,null,null,null,null,null,null,null,null,null,null,null,null,"",{"$f":"+IF(AF251=\"\",\"\",VLOOKUP(AF251,Tabelas!$J$27:$K$30,2))","v":""}]
[null,null,null,null,null,null,{"$f":"+IF(F252=\"\",\"\",VLOOKUP(F252,Tabelas!$B$7:$C$96,2))","v":""},null,{"$f":"IF(H252=\"\",\"\",ROUND(H252/SUM(H250:H257),4))","v":""},null,null,null,null,null,null,{"$f":"+IF(O252=\"\",\"\",IF(N250=\"Transporte Marítimo\",VLOOKUP(O252,Tabelas!$F$7:$G$12,2),IF(N250=\"Transporte Aéreo\",VLOOKUP(O252,Tabelas!$F$16:$G$21,2),\"\")))","v":""},null,null,null,null,null,null,null,null,null,null,null,null,null,null,null,"",{"$f":"+IF(AF252=\"\",\"\",VLOOKUP(AF252,Tabelas!$J$27:$K$30,2))","v":""}]
[null,null,null,null,null,null,{"$f":"+IF(F253=\"\",\"\",VLOOKUP(F253,Tabelas!$B$7:$C$96,2))","v":""},null,{"$f":"IF(H253=\"\",\"\",ROUND(H253/SUM(H250:H257),4))","v":""},null,null,null,null,null,null,{"$f":"+IF(O253=\"\",\"\",IF(N250=\"Transporte Marítimo\",VLOOKUP(O253,Tabelas!$F$7:$G$12,2),IF(N250=\"Transporte Aéreo\",VLOOKUP(O253,Tabelas!$F$16:$G$21,2),\"\")))","v":""},null,null,null,null,null,null,null,null,null,null,null,null,null,null,null,"",{"$f":"+IF(AF253=\"\",\"\",VLOOKUP(AF253,Tabelas!$J$27:$K$30,2))","v":""}]
[null,null,null,null,null,null,{"$f":"+IF(F254=\"\",\"\",VLOOKUP(F254,Tabelas!$B$7:$C$96,2))","v":""},null,{"$f":"IF(H254=\"\",\"\",ROUND(H254/SUM(H250:H257),4))","v":""},null,null,null,null,null,null,{"$f":"+IF(O254=\"\",\"\",IF(N250=\"Transporte Marítimo\",VLOOKUP(O254,Tabelas!$F$7:$G$12,2),IF(N250=\"Transporte Aéreo\",VLOOKUP(O254,Tabelas!$F$16:$G$21,2),\"\")))","v":""},null,null,null,null,null,null,null,null,null,null,null,null,null,null,null,"",{"$f":"+IF(AF254=\"\",\"\",VLOOKUP(AF254,Tabelas!$J$27:$K$30,2))","v":""}]
[null,null,null,null,null,null,{"$f":"+IF(F255=\"\",\"\",VLOOKUP(F255,Tabelas!$B$7:$C$96,2))","v":""},null,{"$f":"IF(H255=\"\",\"\",ROUND(H255/SUM(H250:H257),4))","v":""},null,null,null,null,null,null,{"$f":"+IF(O255=\"\",\"\",IF(N250=\"Transporte Marítimo\",VLOOKUP(O255,Tabelas!$F$7:$G$12,2),IF(N250=\"Transporte Aéreo\",VLOOKUP(O255,Tabelas!$F$16:$G$21,2),\"\")))","v":""},null,null,null,null,null,null,null,null,null,null,null,null,null,null,null,"",{"$f":"+IF(AF255=\"\",\"\",VLOOKUP(AF255,Tabelas!$J$27:$K$30,2))","v":""}]
[null,null,null,null,null,null,{"$f":"+IF(F256=\"\",\"\",VLOOKUP(F256,Tabelas!$B$7:$C$96,2))","v":""},null,{"$f":"IF(H256=\"\",\"\",ROUND(H256/SUM(H250:H257),4))","v":""},null,null,null,null,null,null,{"$f":"+IF(O256=\"\",\"\",IF(N250=\"Transporte Marítimo\",VLOOKUP(O256,Tabelas!$F$7:$G$12,2),IF(N250=\"Transporte Aéreo\",VLOOKUP(O256,Tabelas!$F$16:$G$21,2),\"\")))","v":""},null,null,null,null,null,null,null,null,null,null,null,null,null,null,null,"",{"$f":"+IF(AF256=\"\",\"\",VLOOKUP(AF256,Tabelas!$J$27:$K$30,2))","v":""}]
[null,null,null,null,null,null,{"$f":"+IF(F257=\"\",\"\",VLOOKUP(F257,Tabelas!$B$7:$C$96,2))","v":""},null,{"$f":"IF(H257=\"\",\"\",ROUND(H257/SUM(H250:H257),4))","v":""},null,null,null,null,null,null,{"$f":"+IF(O257=\"\",\"\",IF(N250=\"Transporte Marítimo\",VLOOKUP(O257,Tabelas!$F$7:$G$12,2),IF(N250=\"Transporte Aéreo\",VLOOKUP(O257,Tabelas!$F$16:$G$21,2),\"\")))","v":""},null,null,null,null,null,null,null,null,null,null,null,null,null,null,null,"",{"$f":"+IF(AF257=\"\",\"\",VLOOKUP(AF257,Tabelas!$J$27:$K$30,2))","v":""}]
[null,{"$f":"+B250+1","v":31},null,null,null,null,{"$f":"+IF(F258=\"\",\"\",VLOOKUP(F258,Tabelas!$B$7:$C$96,2))","v":""},null,{"$f":"IF(H258=\"\",\"\",1-SUM(I259:I265))","v":""},null,null,null,null,null,null,{"$f":"+IF(O258=\"\",\"\",IF(N258=\"Transporte Marítimo\",VLOOKUP(O258,Tabelas!$F$7:$G$12,2),IF(N258=\"Transporte Aéreo\",VLOOKUP(O258,Tabelas!$F$16:$G$21,2),\"\")))","v":""},null,null,null,null,null,null,null,null,null,null,null,null,null,null,null,"",{"$f":"+IF(AF258=\"\",\"\",VLOOKUP(AF258,Tabelas!$J$27:$K$30,2))","v":""},null,null,null,null,null,null,null,null,null,null,null,null,null,null,null," "]
[null,null,null,null,null,null,{"$f":"+IF(F259=\"\",\"\",VLOOKUP(F259,Tabelas!$B$7:$C$96,2))","v":""},null,{"$f":"IF(H259=\"\",\"\",ROUND(H259/SUM(H258:H265),4))","v":""},null,null,null,null,null,null,{"$f":"+IF(O259=\"\",\"\",IF(N258=\"Transporte Marítimo\",VLOOKUP(O259,Tabelas!$F$7:$G$12,2),IF(N258=\"Transporte Aéreo\",VLOOKUP(O259,Tabelas!$F$16:$G$21,2),\"\")))","v":""},null,null,null,null,null,null,null,null,null,null,null,null,null,null,null,"",{"$f":"+IF(AF259=\"\",\"\",VLOOKUP(AF259,Tabelas!$J$27:$K$30,2))","v":""}]
[null,null,null,null,null,null,{"$f":"+IF(F260=\"\",\"\",VLOOKUP(F260,Tabelas!$B$7:$C$96,2))","v":""},null,{"$f":"IF(H260=\"\",\"\",ROUND(H260/SUM(H258:H265),4))","v":""},null,null,null,null,null,null,{"$f":"+IF(O260=\"\",\"\",IF(N258=\"Transporte Marítimo\",VLOOKUP(O260,Tabelas!$F$7:$G$12,2),IF(N258=\"Transporte Aéreo\",VLOOKUP(O260,Tabelas!$F$16:$G$21,2),\"\")))","v":""},null,null,null,null,null,null,null,null,null,null,null,null,null,null,null,"",{"$f":"+IF(AF260=\"\",\"\",VLOOKUP(AF260,Tabelas!$J$27:$K$30,2))","v":""}]
[null,null,null,null,null,null,{"$f":"+IF(F261=\"\",\"\",VLOOKUP(F261,Tabelas!$B$7:$C$96,2))","v":""},null,{"$f":"IF(H261=\"\",\"\",ROUND(H261/SUM(H258:H265),4))","v":""},null,null,null,null,null,null,{"$f":"+IF(O261=\"\",\"\",IF(N258=\"Transporte Marítimo\",VLOOKUP(O261,Tabelas!$F$7:$G$12,2),IF(N258=\"Transporte Aéreo\",VLOOKUP(O261,Tabelas!$F$16:$G$21,2),\"\")))","v":""},null,null,null,null,null,null,null,null,null,null,null,null,null,null,null,"",{"$f":"+IF(AF261=\"\",\"\",VLOOKUP(AF261,Tabelas!$J$27:$K$30,2))","v":""}]
[null,null,null,null,null,null,{"$f":"+IF(F262=\"\",\"\",VLOOKUP(F262,Tabelas!$B$7:$C$96,2))","v":""},null,{"$f":"IF(H262=\"\",\"\",ROUND(H262/SUM(H258:H265),4))","v":""},null,null,null,null,null,null,{"$f":"+IF(O262=\"\",\"\",IF(N258=\"Transporte Marítimo\",VLOOKUP(O262,Tabelas!$F$7:$G$12,2),IF(N258=\"Transporte Aéreo\",VLOOKUP(O262,Tabelas!$F$16:$G$21,2),\"\")))","v":""},null,null,null,null,null,null,null,null,null,null,null,null,null,null,null,"",{"$f":"+IF(AF262=\"\",\"\",VLOOKUP(AF262,Tabelas!$J$27:$K$30,2))","v":""}]
[null,null,null,null,null,null,{"$f":"+IF(F263=\"\",\"\",VLOOKUP(F263,Tabelas!$B$7:$C$96,2))","v":""},null,{"$f":"IF(H263=\"\",\"\",ROUND(H263/SUM(H258:H265),4))","v":""},null,null,null,null,null,null,{"$f":"+IF(O263=\"\",\"\",IF(N258=\"Transporte Marítimo\",VLOOKUP(O263,Tabelas!$F$7:$G$12,2),IF(N258=\"Transporte Aéreo\",VLOOKUP(O263,Tabelas!$F$16:$G$21,2),\"\")))","v":""},null,null,null,null,null,null,null,null,null,null,null,null,null,null,null,"",{"$f":"+IF(AF263=\"\",\"\",VLOOKUP(AF263,Tabelas!$J$27:$K$30,2))","v":""}]
[null,null,null,null,null,null,{"$f":"+IF(F264=\"\",\"\",VLOOKUP(F264,Tabelas!$B$7:$C$96,2))","v":""},null,{"$f":"IF(H264=\"\",\"\",ROUND(H264/SUM(H258:H265),4))","v":""},null,null,null,null,null,null,{"$f":"+IF(O264=\"\",\"\",IF(N258=\"Transporte Marítimo\",VLOOKUP(O264,Tabelas!$F$7:$G$12,2),IF(N258=\"Transporte Aéreo\",VLOOKUP(O264,Tabelas!$F$16:$G$21,2),\"\")))","v":""},null,null,null,null,null,null,null,null,null,null,null,null,null,null,null,"",{"$f":"+IF(AF264=\"\",\"\",VLOOKUP(AF264,Tabelas!$J$27:$K$30,2))","v":""}]
[null,null,null,null,null,null,{"$f":"+IF(F265=\"\",\"\",VLOOKUP(F265,Tabelas!$B$7:$C$96,2))","v":""},null,{"$f":"IF(H265=\"\",\"\",ROUND(H265/SUM(H258:H265),4))","v":""},null,null,null,null,null,null,{"$f":"+IF(O265=\"\",\"\",IF(N258=\"Transporte Marítimo\",VLOOKUP(O265,Tabelas!$F$7:$G$12,2),IF(N258=\"Transporte Aéreo\",VLOOKUP(O265,Tabelas!$F$16:$G$21,2),\"\")))","v":""},null,null,null,null,null,null,null,null,null,null,null,null,null,null,null,"",{"$f":"+IF(AF265=\"\",\"\",VLOOKUP(AF265,Tabelas!$J$27:$K$30,2))","v":""}]
[null,{"$f":"+B258+1","v":32},null,null,null,null,{"$f":"+IF(F266=\"\",\"\",VLOOKUP(F266,Tabelas!$B$7:$C$96,2))","v":""},null,{"$f":"IF(H266=\"\",\"\",1-SUM(I267:I273))","v":""},null,null,null,null,null,null,{"$f":"+IF(O266=\"\",\"\",IF(N266=\"Transporte Marítimo\",VLOOKUP(O266,Tabelas!$F$7:$G$12,2),IF(N266=\"Transporte Aéreo\",VLOOKUP(O266,Tabelas!$F$16:$G$21,2),\"\")))","v":""},null,null,null,null,null,null,null,null,null,null,null,null,null,null,null,"",{"$f":"+IF(AF266=\"\",\"\",VLOOKUP(AF266,Tabelas!$J$27:$K$30,2))","v":""},null,null,null,null,null,null,null,null,null,null,null,null,null,null,null," "]
[null,null,null,null,null,null,{"$f":"+IF(F267=\"\",\"\",VLOOKUP(F267,Tabelas!$B$7:$C$96,2))","v":""},null,{"$f":"IF(H267=\"\",\"\",ROUND(H267/SUM(H266:H273),4))","v":""},null,null,null,null,null,null,{"$f":"+IF(O267=\"\",\"\",IF(N266=\"Transporte Marítimo\",VLOOKUP(O267,Tabelas!$F$7:$G$12,2),IF(N266=\"Transporte Aéreo\",VLOOKUP(O267,Tabelas!$F$16:$G$21,2),\"\")))","v":""},null,null,null,null,null,null,null,null,null,null,null,null,null,null,null,"",{"$f":"+IF(AF267=\"\",\"\",VLOOKUP(AF267,Tabelas!$J$27:$K$30,2))","v":""}]
[null,null,null,null,null,null,{"$f":"+IF(F268=\"\",\"\",VLOOKUP(F268,Tabelas!$B$7:$C$96,2))","v":""},null,{"$f":"IF(H268=\"\",\"\",ROUND(H268/SUM(H266:H273),4))","v":""},null,null,null,null,null,null,{"$f":"+IF(O268=\"\",\"\",IF(N266=\"Transporte Marítimo\",VLOOKUP(O268,Tabelas!$F$7:$G$12,2),IF(N266=\"Transporte Aéreo\",VLOOKUP(O268,Tabelas!$F$16:$G$21,2),\"\")))","v":""},null,null,null,null,null,null,null,null,null,null,null,null,null,null,null,"",{"$f":"+IF(AF268=\"\",\"\",VLOOKUP(AF268,Tabelas!$J$27:$K$30,2))","v":""}]
[null,null,null,null,null,null,{"$f":"+IF(F269=\"\",\"\",VLOOKUP(F269,Tabelas!$B$7:$C$96,2))","v":""},null,{"$f":"IF(H269=\"\",\"\",ROUND(H269/SUM(H266:H273),4))","v":""},null,null,null,null,null,null,{"$f":"+IF(O269=\"\",\"\",IF(N266=\"Transporte Marítimo\",VLOOKUP(O269,Tabelas!$F$7:$G$12,2),IF(N266=\"Transporte Aéreo\",VLOOKUP(O269,Tabelas!$F$16:$G$21,2),\"\")))","v":""},null,null,null,null,null,null,null,null,null,null,null,null,null,null,null,"",{"$f":"+IF(AF269=\"\",\"\",VLOOKUP(AF269,Tabelas!$J$27:$K$30,2))","v":""}]
[null,null,null,null,null,null,{"$f":"+IF(F270=\"\",\"\",VLOOKUP(F270,Tabelas!$B$7:$C$96,2))","v":""},null,{"$f":"IF(H270=\"\",\"\",ROUND(H270/SUM(H266:H273),4))","v":""},null,null,null,null,null,null,{"$f":"+IF(O270=\"\",\"\",IF(N266=\"Transporte Marítimo\",VLOOKUP(O270,Tabelas!$F$7:$G$12,2),IF(N266=\"Transporte Aéreo\",VLOOKUP(O270,Tabelas!$F$16:$G$21,2),\"\")))","v":""},null,null,null,null,null,null,null,null,null,null,null,null,null,null,null,"",{"$f":"+IF(AF270=\"\",\"\",VLOOKUP(AF270,Tabelas!$J$27:$K$30,2))","v":""}]
[null,null,null,null,null,null,{"$f":"+IF(F271=\"\",\"\",VLOOKUP(F271,Tabelas!$B$7:$C$96,2))","v":""},null,{"$f":"IF(H271=\"\",\"\",ROUND(H271/SUM(H266:H273),4))","v":""},null,null,null,null,null,null,{"$f":"+IF(O271=\"\",\"\",IF(N266=\"Transporte Marítimo\",VLOOKUP(O271,Tabelas!$F$7:$G$12,2),IF(N266=\"Transporte Aéreo\",VLOOKUP(O271,Tabelas!$F$16:$G$21,2),\"\")))","v":""},null,null,null,null,null,null,null,null,null,null,null,null,null,null,null,"",{"$f":"+IF(AF271=\"\",\"\",VLOOKUP(AF271,Tabelas!$J$27:$K$30,2))","v":""}]
[null,null,null,null,null,null,{"$f":"+IF(F272=\"\",\"\",VLOOKUP(F272,Tabelas!$B$7:$C$96,2))","v":""},null,{"$f":"IF(H272=\"\",\"\",ROUND(H272/SUM(H266:H273),4))","v":""},null,null,null,null,null,null,{"$f":"+IF(O272=\"\",\"\",IF(N266=\"Transporte Marítimo\",VLOOKUP(O272,Tabelas!$F$7:$G$12,2),IF(N266=\"Transporte Aéreo\",VLOOKUP(O272,Tabelas!$F$16:$G$21,2),\"\")))","v":""},null,null,null,null,null,null,null,null,null,null,null,null,null,null,null,"",{"$f":"+IF(AF272=\"\",\"\",VLOOKUP(AF272,Tabelas!$J$27:$K$30,2))","v":""}]
[null,null,null,null,null,null,{"$f":"+IF(F273=\"\",\"\",VLOOKUP(F273,Tabelas!$B$7:$C$96,2))","v":""},null,{"$f":"IF(H273=\"\",\"\",ROUND(H273/SUM(H266:H273),4))","v":""},null,null,null,null,null,null,{"$f":"+IF(O273=\"\",\"\",IF(N266=\"Transporte Marítimo\",VLOOKUP(O273,Tabelas!$F$7:$G$12,2),IF(N266=\"Transporte Aéreo\",VLOOKUP(O273,Tabelas!$F$16:$G$21,2),\"\")))","v":""},null,null,null,null,null,null,null,null,null,null,null,null,null,null,null,"",{"$f":"+IF(AF273=\"\",\"\",VLOOKUP(AF273,Tabelas!$J$27:$K$30,2))","v":""}]
[null,{"$f":"+B266+1","v":33},null,null,null,null,{"$f":"+IF(F274=\"\",\"\",VLOOKUP(F274,Tabelas!$B$7:$C$96,2))","v":""},null,{"$f":"IF(H274=\"\",\"\",1-SUM(I275:I281))","v":""},null,null,null,null,null,null,{"$f":"+IF(O274=\"\",\"\",IF(N274=\"Transporte Marítimo\",VLOOKUP(O274,Tabelas!$F$7:$G$12,2),IF(N274=\"Transporte Aéreo\",VLOOKUP(O274,Tabelas!$F$16:$G$21,2),\"\")))","v":""},null,null,null,null,null,null,null,null,null,null,null,null,null,null,null,"",{"$f":"+IF(AF274=\"\",\"\",VLOOKUP(AF274,Tabelas!$J$27:$K$30,2))","v":""},null,null,null,null,null,null,null,null,null,null,null,null,null,null,null," "]
[null,null,null,null,null,null,{"$f":"+IF(F275=\"\",\"\",VLOOKUP(F275,Tabelas!$B$7:$C$96,2))","v":""},null,{"$f":"IF(H275=\"\",\"\",ROUND(H275/SUM(H274:H281),4))","v":""},null,null,null,null,null,null,{"$f":"+IF(O275=\"\",\"\",IF(N274=\"Transporte Marítimo\",VLOOKUP(O275,Tabelas!$F$7:$G$12,2),IF(N274=\"Transporte Aéreo\",VLOOKUP(O275,Tabelas!$F$16:$G$21,2),\"\")))","v":""},null,null,null,null,null,null,null,null,null,null,null,null,null,null,null,{"$f":"+IF(AE275=\"20NL\",1,IF(AE275=\"40NL\",2,IF(AE275=\"20RF\",3,IF(AE275=\"40RF\",4,\"\"))))","v":""},{"$f":"+IF(AF275=\"\",\"\",VLOOKUP(AF275,Tabelas!$J$27:$K$30,2))","v":""}]
[null,null,null,null,null,null,{"$f":"+IF(F276=\"\",\"\",VLOOKUP(F276,Tabelas!$B$7:$C$96,2))","v":""},null,{"$f":"IF(H276=\"\",\"\",ROUND(H276/SUM(H274:H281),4))","v":""},null,null,null,null,null,null,{"$f":"+IF(O276=\"\",\"\",IF(N274=\"Transporte Marítimo\",VLOOKUP(O276,Tabelas!$F$7:$G$12,2),IF(N274=\"Transporte Aéreo\",VLOOKUP(O276,Tabelas!$F$16:$G$21,2),\"\")))","v":""},null,null,null,null,null,null,null,null,null,null,null,null,null,null,null,"",{"$f":"+IF(AF276=\"\",\"\",VLOOKUP(AF276,Tabelas!$J$27:$K$30,2))","v":""}]
[null,null,null,null,null,null,{"$f":"+IF(F277=\"\",\"\",VLOOKUP(F277,Tabelas!$B$7:$C$96,2))","v":""},null,{"$f":"IF(H277=\"\",\"\",ROUND(H277/SUM(H274:H281),4))","v":""},null,null,null,null,null,null,{"$f":"+IF(O277=\"\",\"\",IF(N274=\"Transporte Marítimo\",VLOOKUP(O277,Tabelas!$F$7:$G$12,2),IF(N274=\"Transporte Aéreo\",VLOOKUP(O277,Tabelas!$F$16:$G$21,2),\"\")))","v":""},null,null,null,null,null,null,null,null,null,null,null,null,null,null,null,"",{"$f":"+IF(AF277=\"\",\"\",VLOOKUP(AF277,Tabelas!$J$27:$K$30,2))","v":""}]
[null,null,null,null,null,null,{"$f":"+IF(F278=\"\",\"\",VLOOKUP(F278,Tabelas!$B$7:$C$96,2))","v":""},null,{"$f":"IF(H278=\"\",\"\",ROUND(H278/SUM(H274:H281),4))","v":""},null,null,null,null,null,null,{"$f":"+IF(O278=\"\",\"\",IF(N274=\"Transporte Marítimo\",VLOOKUP(O278,Tabelas!$F$7:$G$12,2),IF(N274=\"Transporte Aéreo\",VLOOKUP(O278,Tabelas!$F$16:$G$21,2),\"\")))","v":""},null,null,null,null,null,null,null,null,null,null,null,null,null,null,null,"",{"$f":"+IF(AF278=\"\",\"\",VLOOKUP(AF278,Tabelas!$J$27:$K$30,2))","v":""}]
[null,null,null,null,null,null,{"$f":"+IF(F279=\"\",\"\",VLOOKUP(F279,Tabelas!$B$7:$C$96,2))","v":""},null,{"$f":"IF(H279=\"\",\"\",ROUND(H279/SUM(H274:H281),4))","v":""},null,null,null,null,null,null,{"$f":"+IF(O279=\"\",\"\",IF(N274=\"Transporte Marítimo\",VLOOKUP(O279,Tabelas!$F$7:$G$12,2),IF(N274=\"Transporte Aéreo\",VLOOKUP(O279,Tabelas!$F$16:$G$21,2),\"\")))","v":""},null,null,null,null,null,null,null,null,null,null,null,null,null,null,null,"",{"$f":"+IF(AF279=\"\",\"\",VLOOKUP(AF279,Tabelas!$J$27:$K$30,2))","v":""}]
[null,null,null,null,null,null,{"$f":"+IF(F280=\"\",\"\",VLOOKUP(F280,Tabelas!$B$7:$C$96,2))","v":""},null,{"$f":"IF(H280=\"\",\"\",ROUND(H280/SUM(H274:H281),4))","v":""},null,null,null,null,null,null,{"$f":"+IF(O280=\"\",\"\",IF(N274=\"Transporte Marítimo\",VLOOKUP(O280,Tabelas!$F$7:$G$12,2),IF(N274=\"Transporte Aéreo\",VLOOKUP(O280,Tabelas!$F$16:$G$21,2),\"\")))","v":""},null,null,null,null,null,null,null,null,null,null,null,null,null,null,null,"",{"$f":"+IF(AF280=\"\",\"\",VLOOKUP(AF280,Tabelas!$J$27:$K$30,2))","v":""}]
[null,null,null,null,null,null,{"$f":"+IF(F281=\"\",\"\",VLOOKUP(F281,Tabelas!$B$7:$C$96,2))","v":""},null,{"$f":"IF(H281=\"\",\"\",ROUND(H281/SUM(H274:H281),4))","v":""},null,null,null,null,null,null,{"$f":"+IF(O281=\"\",\"\",IF(N274=\"Transporte Marítimo\",VLOOKUP(O281,Tabelas!$F$7:$G$12,2),IF(N274=\"Transporte Aéreo\",VLOOKUP(O281,Tabelas!$F$16:$G$21,2),\"\")))","v":""},null,null,null,null,null,null,null,null,null,null,null,null,null,null,null,"",{"$f":"+IF(AF281=\"\",\"\",VLOOKUP(AF281,Tabelas!$J$27:$K$30,2))","v":""}]
[null,{"$f":"+B274+1","v":34},null,null,null,null,{"$f":"+IF(F282=\"\",\"\",VLOOKUP(F282,Tabelas!$B$7:$C$96,2))","v":""},null,{"$f":"IF(H282=\"\",\"\",1-SUM(I283:I289))","v":""},null,null,null,null,null,null,{"$f":"+IF(O282=\"\",\"\",IF(N282=\"Transporte Marítimo\",VLOOKUP(O282,Tabelas!$F$7:$G$12,2),IF(N282=\"Transporte Aéreo\",VLOOKUP(O282,Tabelas!$F$16:$G$21,2),\"\")))","v":""},null,null,null,null,null,null,null,null,null,null,null,null,null,null,null,"",{"$f":"+IF(AF282=\"\",\"\",VLOOKUP(AF282,Tabelas!$J$27:$K$30,2))","v":""},null,null,null,null,null,null,null,null,null,null,null,null,null,null,null," "]
[null,null,null,null,null,null,{"$f":"+IF(F283=\"\",\"\",VLOOKUP(F283,Tabelas!$B$7:$C$96,2))","v":""},null,{"$f":"IF(H283=\"\",\"\",ROUND(H283/SUM(H282:H289),4))","v":""},null,null,null,null,null,null,{"$f":"+IF(O283=\"\",\"\",IF(N282=\"Transporte Marítimo\",VLOOKUP(O283,Tabelas!$F$7:$G$12,2),IF(N282=\"Transporte Aéreo\",VLOOKUP(O283,Tabelas!$F$16:$G$21,2),\"\")))","v":""},null,null,null,null,null,null,null,null,null,null,null,null,null,null,null,"",{"$f":"+IF(AF283=\"\",\"\",VLOOKUP(AF283,Tabelas!$J$27:$K$30,2))","v":""}]
[null,null,null,null,null,null,{"$f":"+IF(F284=\"\",\"\",VLOOKUP(F284,Tabelas!$B$7:$C$96,2))","v":""},null,{"$f":"IF(H284=\"\",\"\",ROUND(H284/SUM(H282:H289),4))","v":""},null,null,null,null,null,null,{"$f":"+IF(O284=\"\",\"\",IF(N282=\"Transporte Marítimo\",VLOOKUP(O284,Tabelas!$F$7:$G$12,2),IF(N282=\"Transporte Aéreo\",VLOOKUP(O284,Tabelas!$F$16:$G$21,2),\"\")))","v":""},null,null,null,null,null,null,null,null,null,null,null,null,null,null,null,"",{"$f":"+IF(AF284=\"\",\"\",VLOOKUP(AF284,Tabelas!$J$27:$K$30,2))","v":""}]
[null,null,null,null,null,null,{"$f":"+IF(F285=\"\",\"\",VLOOKUP(F285,Tabelas!$B$7:$C$96,2))","v":""},null,{"$f":"IF(H285=\"\",\"\",ROUND(H285/SUM(H282:H289),4))","v":""},null,null,null,null,null,null,{"$f":"+IF(O285=\"\",\"\",IF(N282=\"Transporte Marítimo\",VLOOKUP(O285,Tabelas!$F$7:$G$12,2),IF(N282=\"Transporte Aéreo\",VLOOKUP(O285,Tabelas!$F$16:$G$21,2),\"\")))","v":""},null,null,null,null,null,null,null,null,null,null,null,null,null,null,null,"",{"$f":"+IF(AF285=\"\",\"\",VLOOKUP(AF285,Tabelas!$J$27:$K$30,2))","v":""}]
[null,null,null,null,null,null,{"$f":"+IF(F286=\"\",\"\",VLOOKUP(F286,Tabelas!$B$7:$C$96,2))","v":""},null,{"$f":"IF(H286=\"\",\"\",ROUND(H286/SUM(H282:H289),4))","v":""},null,null,null,null,null,null,{"$f":"+IF(O286=\"\",\"\",IF(N282=\"Transporte Marítimo\",VLOOKUP(O286,Tabelas!$F$7:$G$12,2),IF(N282=\"Transporte Aéreo\",VLOOKUP(O286,Tabelas!$F$16:$G$21,2),\"\")))","v":""},null,null,null,null,null,null,null,null,null,null,null,null,null,null,null,"",{"$f":"+IF(AF286=\"\",\"\",VLOOKUP(AF286,Tabelas!$J$27:$K$30,2))","v":""}]
[null,null,null,null,null,null,{"$f":"+IF(F287=\"\",\"\",VLOOKUP(F287,Tabelas!$B$7:$C$96,2))","v":""},null,{"$f":"IF(H287=\"\",\"\",ROUND(H287/SUM(H282:H289),4))","v":""},null,null,null,null,null,null,{"$f":"+IF(O287=\"\",\"\",IF(N282=\"Transporte Marítimo\",VLOOKUP(O287,Tabelas!$F$7:$G$12,2),IF(N282=\"Transporte Aéreo\",VLOOKUP(O287,Tabelas!$F$16:$G$21,2),\"\")))","v":""},null,null,null,null,null,null,null,null,null,null,null,null,null,null,null,"",{"$f":"+IF(AF287=\"\",\"\",VLOOKUP(AF287,Tabelas!$J$27:$K$30,2))","v":""}]
[null,null,null,null,null,null,{"$f":"+IF(F288=\"\",\"\",VLOOKUP(F288,Tabelas!$B$7:$C$96,2))","v":""},null,{"$f":"IF(H288=\"\",\"\",ROUND(H288/SUM(H282:H289),4))","v":""},null,null,null,null,null,null,{"$f":"+IF(O288=\"\",\"\",IF(N282=\"Transporte Marítimo\",VLOOKUP(O288,Tabelas!$F$7:$G$12,2),IF(N282=\"Transporte Aéreo\",VLOOKUP(O288,Tabelas!$F$16:$G$21,2),\"\")))","v":""},null,null,null,null,null,null,null,null,null,null,null,null,null,null,null,"",{"$f":"+IF(AF288=\"\",\"\",VLOOKUP(AF288,Tabelas!$J$27:$K$30,2))","v":""}]
[null,null,null,null,null,null,{"$f":"+IF(F289=\"\",\"\",VLOOKUP(F289,Tabelas!$B$7:$C$96,2))","v":""},null,{"$f":"IF(H289=\"\",\"\",ROUND(H289/SUM(H282:H289),4))","v":""},null,null,null,null,null,null,{"$f":"+IF(O289=\"\",\"\",IF(N282=\"Transporte Marítimo\",VLOOKUP(O289,Tabelas!$F$7:$G$12,2),IF(N282=\"Transporte Aéreo\",VLOOKUP(O289,Tabelas!$F$16:$G$21,2),\"\")))","v":""},null,null,null,null,null,null,null,null,null,null,null,null,null,null,null,"",{"$f":"+IF(AF289=\"\",\"\",VLOOKUP(AF289,Tabelas!$J$27:$K$30,2))","v":""}]
[null,{"$f":"+B282+1","v":35},null,null,null,null,{"$f":"+IF(F290=\"\",\"\",VLOOKUP(F290,Tabelas!$B$7:$C$96,2))","v":""},null,{"$f":"IF(H290=\"\",\"\",1-SUM(I291:I297))","v":""},null,null,null,null,null,null,{"$f":"+IF(O290=\"\",\"\",IF(N290=\"Transporte Marítimo\",VLOOKUP(O290,Tabelas!$F$7:$G$12,2),IF(N290=\"Transporte Aéreo\",VLOOKUP(O290,Tabelas!$F$16:$G$21,2),\"\")))","v":""},null,null,null,null,null,null,null,null,null,null,null,null,null,null,null,"",{"$f":"+IF(AF290=\"\",\"\",VLOOKUP(AF290,Tabelas!$J$27:$K$30,2))","v":""},null,null,null,null,null,null,null,null,null,null,null,null,null,null,null," "]
[null,null,null,null,null,null,{"$f":"+IF(F291=\"\",\"\",VLOOKUP(F291,Tabelas!$B$7:$C$96,2))","v":""},null,{"$f":"IF(H291=\"\",\"\",ROUND(H291/SUM(H290:H297),4))","v":""},null,null,null,null,null,null,{"$f":"+IF(O291=\"\",\"\",IF(N290=\"Transporte Marítimo\",VLOOKUP(O291,Tabelas!$F$7:$G$12,2),IF(N290=\"Transporte Aéreo\",VLOOKUP(O291,Tabelas!$F$16:$G$21,2),\"\")))","v":""},null,null,null,null,null,null,null,null,null,null,null,null,null,null,null,"",{"$f":"+IF(AF291=\"\",\"\",VLOOKUP(AF291,Tabelas!$J$27:$K$30,2))","v":""}]
[null,null,null,null,null,null,{"$f":"+IF(F292=\"\",\"\",VLOOKUP(F292,Tabelas!$B$7:$C$96,2))","v":""},null,{"$f":"IF(H292=\"\",\"\",ROUND(H292/SUM(H290:H297),4))","v":""},null,null,null,null,null,null,{"$f":"+IF(O292=\"\",\"\",IF(N290=\"Transporte Marítimo\",VLOOKUP(O292,Tabelas!$F$7:$G$12,2),IF(N290=\"Transporte Aéreo\",VLOOKUP(O292,Tabelas!$F$16:$G$21,2),\"\")))","v":""},null,null,null,null,null,null,null,null,null,null,null,null,null,null,null,"",{"$f":"+IF(AF292=\"\",\"\",VLOOKUP(AF292,Tabelas!$J$27:$K$30,2))","v":""}]
[null,null,null,null,null,null,{"$f":"+IF(F293=\"\",\"\",VLOOKUP(F293,Tabelas!$B$7:$C$96,2))","v":""},null,{"$f":"IF(H293=\"\",\"\",ROUND(H293/SUM(H290:H297),4))","v":""},null,null,null,null,null,null,{"$f":"+IF(O293=\"\",\"\",IF(N290=\"Transporte Marítimo\",VLOOKUP(O293,Tabelas!$F$7:$G$12,2),IF(N290=\"Transporte Aéreo\",VLOOKUP(O293,Tabelas!$F$16:$G$21,2),\"\")))","v":""},null,null,null,null,null,null,null,null,null,null,null,null,null,null,null,"",{"$f":"+IF(AF293=\"\",\"\",VLOOKUP(AF293,Tabelas!$J$27:$K$30,2))","v":""}]
[null,null,null,null,null,null,{"$f":"+IF(F294=\"\",\"\",VLOOKUP(F294,Tabelas!$B$7:$C$96,2))","v":""},null,{"$f":"IF(H294=\"\",\"\",ROUND(H294/SUM(H290:H297),4))","v":""},null,null,null,null,null,null,{"$f":"+IF(O294=\"\",\"\",IF(N290=\"Transporte Marítimo\",VLOOKUP(O294,Tabelas!$F$7:$G$12,2),IF(N290=\"Transporte Aéreo\",VLOOKUP(O294,Tabelas!$F$16:$G$21,2),\"\")))","v":""},null,null,null,null,null,null,null,null,null,null,null,null,null,null,null,"",{"$f":"+IF(AF294=\"\",\"\",VLOOKUP(AF294,Tabelas!$J$27:$K$30,2))","v":""}]
[null,null,null,null,null,null,{"$f":"+IF(F295=\"\",\"\",VLOOKUP(F295,Tabelas!$B$7:$C$96,2))","v":""},null,{"$f":"IF(H295=\"\",\"\",ROUND(H295/SUM(H290:H297),4))","v":""},null,null,null,null,null,null,{"$f":"+IF(O295=\"\",\"\",IF(N290=\"Transporte Marítimo\",VLOOKUP(O295,Tabelas!$F$7:$G$12,2),IF(N290=\"Transporte Aéreo\",VLOOKUP(O295,Tabelas!$F$16:$G$21,2),\"\")))","v":""},null,null,null,null,null,null,null,null,null,null,null,null,null,null,null,"",{"$f":"+IF(AF295=\"\",\"\",VLOOKUP(AF295,Tabelas!$J$27:$K$30,2))","v":""}]
[null,null,null,null,null,null,{"$f":"+IF(F296=\"\",\"\",VLOOKUP(F296,Tabelas!$B$7:$C$96,2))","v":""},null,{"$f":"IF(H296=\"\",\"\",ROUND(H296/SUM(H290:H297),4))","v":""},null,null,null,null,null,null,{"$f":"+IF(O296=\"\",\"\",IF(N290=\"Transporte Marítimo\",VLOOKUP(O296,Tabelas!$F$7:$G$12,2),IF(N290=\"Transporte Aéreo\",VLOOKUP(O296,Tabelas!$F$16:$G$21,2),\"\")))","v":""},null,null,null,null,null,null,null,null,null,null,null,null,null,null,null,"",{"$f":"+IF(AF296=\"\",\"\",VLOOKUP(AF296,Tabelas!$J$27:$K$30,2))","v":""}]
[null,null,null,null,null,null,{"$f":"+IF(F297=\"\",\"\",VLOOKUP(F297,Tabelas!$B$7:$C$96,2))","v":""},null,{"$f":"IF(H297=\"\",\"\",ROUND(H297/SUM(H290:H297),4))","v":""},null,null,null,null,null,null,{"$f":"+IF(O297=\"\",\"\",IF(N290=\"Transporte Marítimo\",VLOOKUP(O297,Tabelas!$F$7:$G$12,2),IF(N290=\"Transporte Aéreo\",VLOOKUP(O297,Tabelas!$F$16:$G$21,2),\"\")))","v":""},null,null,null,null,null,null,null,null,null,null,null,null,null,null,null,"",{"$f":"+IF(AF297=\"\",\"\",VLOOKUP(AF297,Tabelas!$J$27:$K$30,2))","v":""}]
[null,{"$f":"+B290+1","v":36},null,null,null,null,{"$f":"+IF(F298=\"\",\"\",VLOOKUP(F298,Tabelas!$B$7:$C$96,2))","v":""},null,{"$f":"IF(H298=\"\",\"\",1-SUM(I299:I305))","v":""},null,null,null,null,null,null,{"$f":"+IF(O298=\"\",\"\",IF(N298=\"Transporte Marítimo\",VLOOKUP(O298,Tabelas!$F$7:$G$12,2),IF(N298=\"Transporte Aéreo\",VLOOKUP(O298,Tabelas!$F$16:$G$21,2),\"\")))","v":""},null,null,null,null,null,null,null,null,null,null,null,null,null,null,null,"",{"$f":"+IF(AF298=\"\",\"\",VLOOKUP(AF298,Tabelas!$J$27:$K$30,2))","v":""},null,null,null,null,null,null,null,null,null,null,null,null,null,null,null," "]
[null,null,null,null,null,null,{"$f":"+IF(F299=\"\",\"\",VLOOKUP(F299,Tabelas!$B$7:$C$96,2))","v":""},null,{"$f":"IF(H299=\"\",\"\",ROUND(H299/SUM(H298:H305),4))","v":""},null,null,null,null,null,null,{"$f":"+IF(O299=\"\",\"\",IF(N298=\"Transporte Marítimo\",VLOOKUP(O299,Tabelas!$F$7:$G$12,2),IF(N298=\"Transporte Aéreo\",VLOOKUP(O299,Tabelas!$F$16:$G$21,2),\"\")))","v":""},null,null,null,null,null,null,null,null,null,null,null,null,null,null,null,"",{"$f":"+IF(AF299=\"\",\"\",VLOOKUP(AF299,Tabelas!$J$27:$K$30,2))","v":""}]
[null,null,null,null,null,null,{"$f":"+IF(F300=\"\",\"\",VLOOKUP(F300,Tabelas!$B$7:$C$96,2))","v":""},null,{"$f":"IF(H300=\"\",\"\",ROUND(H300/SUM(H298:H305),4))","v":""},null,null,null,null,null,null,{"$f":"+IF(O300=\"\",\"\",IF(N298=\"Transporte Marítimo\",VLOOKUP(O300,Tabelas!$F$7:$G$12,2),IF(N298=\"Transporte Aéreo\",VLOOKUP(O300,Tabelas!$F$16:$G$21,2),\"\")))","v":""},null,null,null,null,null,null,null,null,null,null,null,null,null,null,null,"",{"$f":"+IF(AF300=\"\",\"\",VLOOKUP(AF300,Tabelas!$J$27:$K$30,2))","v":""}]
[null,null,null,null,null,null,{"$f":"+IF(F301=\"\",\"\",VLOOKUP(F301,Tabelas!$B$7:$C$96,2))","v":""},null,{"$f":"IF(H301=\"\",\"\",ROUND(H301/SUM(H298:H305),4))","v":""},null,null,null,null,null,null,{"$f":"+IF(O301=\"\",\"\",IF(N298=\"Transporte Marítimo\",VLOOKUP(O301,Tabelas!$F$7:$G$12,2),IF(N298=\"Transporte Aéreo\",VLOOKUP(O301,Tabelas!$F$16:$G$21,2),\"\")))","v":""},null,null,null,null,null,null,null,null,null,null,null,null,null,null,null,"",{"$f":"+IF(AF301=\"\",\"\",VLOOKUP(AF301,Tabelas!$J$27:$K$30,2))","v":""}]
[null,null,null,null,null,null,{"$f":"+IF(F302=\"\",\"\",VLOOKUP(F302,Tabelas!$B$7:$C$96,2))","v":""},null,{"$f":"IF(H302=\"\",\"\",ROUND(H302/SUM(H298:H305),4))","v":""},null,null,null,null,null,null,{"$f":"+IF(O302=\"\",\"\",IF(N298=\"Transporte Marítimo\",VLOOKUP(O302,Tabelas!$F$7:$G$12,2),IF(N298=\"Transporte Aéreo\",VLOOKUP(O302,Tabelas!$F$16:$G$21,2),\"\")))","v":""},null,null,null,null,null,null,null,null,null,null,null,null,null,null,null,"",{"$f":"+IF(AF302=\"\",\"\",VLOOKUP(AF302,Tabelas!$J$27:$K$30,2))","v":""}]
[null,null,null,null,null,null,{"$f":"+IF(F303=\"\",\"\",VLOOKUP(F303,Tabelas!$B$7:$C$96,2))","v":""},null,{"$f":"IF(H303=\"\",\"\",ROUND(H303/SUM(H298:H305),4))","v":""},null,null,null,null,null,null,{"$f":"+IF(O303=\"\",\"\",IF(N298=\"Transporte Marítimo\",VLOOKUP(O303,Tabelas!$F$7:$G$12,2),IF(N298=\"Transporte Aéreo\",VLOOKUP(O303,Tabelas!$F$16:$G$21,2),\"\")))","v":""},null,null,null,null,null,null,null,null,null,null,null,null,null,null,null,"",{"$f":"+IF(AF303=\"\",\"\",VLOOKUP(AF303,Tabelas!$J$27:$K$30,2))","v":""}]
[null,null,null,null,null,null,{"$f":"+IF(F304=\"\",\"\",VLOOKUP(F304,Tabelas!$B$7:$C$96,2))","v":""},null,{"$f":"IF(H304=\"\",\"\",ROUND(H304/SUM(H298:H305),4))","v":""},null,null,null,null,null,null,{"$f":"+IF(O304=\"\",\"\",IF(N298=\"Transporte Marítimo\",VLOOKUP(O304,Tabelas!$F$7:$G$12,2),IF(N298=\"Transporte Aéreo\",VLOOKUP(O304,Tabelas!$F$16:$G$21,2),\"\")))","v":""},null,null,null,null,null,null,null,null,null,null,null,null,null,null,null,"",{"$f":"+IF(AF304=\"\",\"\",VLOOKUP(AF304,Tabelas!$J$27:$K$30,2))","v":""}]
[null,null,null,null,null,null,{"$f":"+IF(F305=\"\",\"\",VLOOKUP(F305,Tabelas!$B$7:$C$96,2))","v":""},null,{"$f":"IF(H305=\"\",\"\",ROUND(H305/SUM(H298:H305),4))","v":""},null,null,null,null,null,null,{"$f":"+IF(O305=\"\",\"\",IF(N298=\"Transporte Marítimo\",VLOOKUP(O305,Tabelas!$F$7:$G$12,2),IF(N298=\"Transporte Aéreo\",VLOOKUP(O305,Tabelas!$F$16:$G$21,2),\"\")))","v":""},null,null,null,null,null,null,null,null,null,null,null,null,null,null,null,"",{"$f":"+IF(AF305=\"\",\"\",VLOOKUP(AF305,Tabelas!$J$27:$K$30,2))","v":""}]
[null,{"$f":"+B298+1","v":37},null,null,null,null,{"$f":"+IF(F306=\"\",\"\",VLOOKUP(F306,Tabelas!$B$7:$C$96,2))","v":""},null,{"$f":"IF(H306=\"\",\"\",1-SUM(I307:I313))","v":""},null,null,null,null,null,null,{"$f":"+IF(O306=\"\",\"\",IF(N306=\"Transporte Marítimo\",VLOOKUP(O306,Tabelas!$F$7:$G$12,2),IF(N306=\"Transporte Aéreo\",VLOOKUP(O306,Tabelas!$F$16:$G$21,2),\"\")))","v":""},null,null,null,null,null,null,null,null,null,null,null,null,null,null,null,"",{"$f":"+IF(AF306=\"\",\"\",VLOOKUP(AF306,Tabelas!$J$27:$K$30,2))","v":""},null,null,null,null,null,null,null,null,null,null,null,null,null,null,null," "]
[null,null,null,null,null,null,{"$f":"+IF(F307=\"\",\"\",VLOOKUP(F307,Tabelas!$B$7:$C$96,2))","v":""},null,{"$f":"IF(H307=\"\",\"\",ROUND(H307/SUM(H306:H313),4))","v":""},null,null,null,null,null,null,{"$f":"+IF(O307=\"\",\"\",IF(N306=\"Transporte Marítimo\",VLOOKUP(O307,Tabelas!$F$7:$G$12,2),IF(N306=\"Transporte Aéreo\",VLOOKUP(O307,Tabelas!$F$16:$G$21,2),\"\")))","v":""},null,null,null,null,null,null,null,null,null,null,null,null,null,null,null,"",{"$f":"+IF(AF307=\"\",\"\",VLOOKUP(AF307,Tabelas!$J$27:$K$30,2))","v":""}]
[null,null,null,null,null,null,{"$f":"+IF(F308=\"\",\"\",VLOOKUP(F308,Tabelas!$B$7:$C$96,2))","v":""},null,{"$f":"IF(H308=\"\",\"\",ROUND(H308/SUM(H306:H313),4))","v":""},null,null,null,null,null,null,{"$f":"+IF(O308=\"\",\"\",IF(N306=\"Transporte Marítimo\",VLOOKUP(O308,Tabelas!$F$7:$G$12,2),IF(N306=\"Transporte Aéreo\",VLOOKUP(O308,Tabelas!$F$16:$G$21,2),\"\")))","v":""},null,null,null,null,null,null,null,null,null,null,null,null,null,null,null,"",{"$f":"+IF(AF308=\"\",\"\",VLOOKUP(AF308,Tabelas!$J$27:$K$30,2))","v":""}]
[null,null,null,null,null,null,{"$f":"+IF(F309=\"\",\"\",VLOOKUP(F309,Tabelas!$B$7:$C$96,2))","v":""},null,{"$f":"IF(H309=\"\",\"\",ROUND(H309/SUM(H306:H313),4))","v":""},null,null,null,null,null,null,{"$f":"+IF(O309=\"\",\"\",IF(N306=\"Transporte Marítimo\",VLOOKUP(O309,Tabelas!$F$7:$G$12,2),IF(N306=\"Transporte Aéreo\",VLOOKUP(O309,Tabelas!$F$16:$G$21,2),\"\")))","v":""},null,null,null,null,null,null,null,null,null,null,null,null,null,null,null,"",{"$f":"+IF(AF309=\"\",\"\",VLOOKUP(AF309,Tabelas!$J$27:$K$30,2))","v":""}]
[null,null,null,null,null,null,{"$f":"+IF(F310=\"\",\"\",VLOOKUP(F310,Tabelas!$B$7:$C$96,2))","v":""},null,{"$f":"IF(H310=\"\",\"\",ROUND(H310/SUM(H306:H313),4))","v":""},null,null,null,null,null,null,{"$f":"+IF(O310=\"\",\"\",IF(N306=\"Transporte Marítimo\",VLOOKUP(O310,Tabelas!$F$7:$G$12,2),IF(N306=\"Transporte Aéreo\",VLOOKUP(O310,Tabelas!$F$16:$G$21,2),\"\")))","v":""},null,null,null,null,null,null,null,null,null,null,null,null,null,null,null,"",{"$f":"+IF(AF310=\"\",\"\",VLOOKUP(AF310,Tabelas!$J$27:$K$30,2))","v":""}]
[null,null,null,null,null,null,{"$f":"+IF(F311=\"\",\"\",VLOOKUP(F311,Tabelas!$B$7:$C$96,2))","v":""},null,{"$f":"IF(H311=\"\",\"\",ROUND(H311/SUM(H306:H313),4))","v":""},null,null,null,null,null,null,{"$f":"+IF(O311=\"\",\"\",IF(N306=\"Transporte Marítimo\",VLOOKUP(O311,Tabelas!$F$7:$G$12,2),IF(N306=\"Transporte Aéreo\",VLOOKUP(O311,Tabelas!$F$16:$G$21,2),\"\")))","v":""},null,null,null,null,null,null,null,null,null,null,null,null,null,null,null,"",{"$f":"+IF(AF311=\"\",\"\",VLOOKUP(AF311,Tabelas!$J$27:$K$30,2))","v":""}]
[null,null,null,null,null,null,{"$f":"+IF(F312=\"\",\"\",VLOOKUP(F312,Tabelas!$B$7:$C$96,2))","v":""},null,{"$f":"IF(H312=\"\",\"\",ROUND(H312/SUM(H306:H313),4))","v":""},null,null,null,null,null,null,{"$f":"+IF(O312=\"\",\"\",IF(N306=\"Transporte Marítimo\",VLOOKUP(O312,Tabelas!$F$7:$G$12,2),IF(N306=\"Transporte Aéreo\",VLOOKUP(O312,Tabelas!$F$16:$G$21,2),\"\")))","v":""},null,null,null,null,null,null,null,null,null,null,null,null,null,null,null,"",{"$f":"+IF(AF312=\"\",\"\",VLOOKUP(AF312,Tabelas!$J$27:$K$30,2))","v":""}]
[null,null,null,null,null,null,{"$f":"+IF(F313=\"\",\"\",VLOOKUP(F313,Tabelas!$B$7:$C$96,2))","v":""},null,{"$f":"IF(H313=\"\",\"\",ROUND(H313/SUM(H306:H313),4))","v":""},null,null,null,null,null,null,{"$f":"+IF(O313=\"\",\"\",IF(N306=\"Transporte Marítimo\",VLOOKUP(O313,Tabelas!$F$7:$G$12,2),IF(N306=\"Transporte Aéreo\",VLOOKUP(O313,Tabelas!$F$16:$G$21,2),\"\")))","v":""},null,null,null,null,null,null,null,null,null,null,null,null,null,null,null,"",{"$f":"+IF(AF313=\"\",\"\",VLOOKUP(AF313,Tabelas!$J$27:$K$30,2))","v":""}]
[null,{"$f":"+B306+1","v":38},null,null,null,null,{"$f":"+IF(F314=\"\",\"\",VLOOKUP(F314,Tabelas!$B$7:$C$96,2))","v":""},null,{"$f":"IF(H314=\"\",\"\",1-SUM(I315:I321))","v":""},null,null,null,null,null,null,{"$f":"+IF(O314=\"\",\"\",IF(N314=\"Transporte Marítimo\",VLOOKUP(O314,Tabelas!$F$7:$G$12,2),IF(N314=\"Transporte Aéreo\",VLOOKUP(O314,Tabelas!$F$16:$G$21,2),\"\")))","v":""},null,null,null,null,null,null,null,null,null,null,null,null,null,null,null,"",{"$f":"+IF(AF314=\"\",\"\",VLOOKUP(AF314,Tabelas!$J$27:$K$30,2))","v":""},null,null,null,null,null,null,null,null,null,null,null,null,null,null,null," "]
[null,null,null,null,null,null,{"$f":"+IF(F315=\"\",\"\",VLOOKUP(F315,Tabelas!$B$7:$C$96,2))","v":""},null,{"$f":"IF(H315=\"\",\"\",ROUND(H315/SUM(H314:H321),4))","v":""},null,null,null,null,null,null,{"$f":"+IF(O315=\"\",\"\",IF(N314=\"Transporte Marítimo\",VLOOKUP(O315,Tabelas!$F$7:$G$12,2),IF(N314=\"Transporte Aéreo\",VLOOKUP(O315,Tabelas!$F$16:$G$21,2),\"\")))","v":""},null,null,null,null,null,null,null,null,null,null,null,null,null,null,null,"",{"$f":"+IF(AF315=\"\",\"\",VLOOKUP(AF315,Tabelas!$J$27:$K$30,2))","v":""}]
[null,null,null,null,null,null,{"$f":"+IF(F316=\"\",\"\",VLOOKUP(F316,Tabelas!$B$7:$C$96,2))","v":""},null,{"$f":"IF(H316=\"\",\"\",ROUND(H316/SUM(H314:H321),4))","v":""},null,null,null,null,null,null,{"$f":"+IF(O316=\"\",\"\",IF(N314=\"Transporte Marítimo\",VLOOKUP(O316,Tabelas!$F$7:$G$12,2),IF(N314=\"Transporte Aéreo\",VLOOKUP(O316,Tabelas!$F$16:$G$21,2),\"\")))","v":""},null,null,null,null,null,null,null,null,null,null,null,null,null,null,null,"",{"$f":"+IF(AF316=\"\",\"\",VLOOKUP(AF316,Tabelas!$J$27:$K$30,2))","v":""}]
[null,null,null,null,null,null,{"$f":"+IF(F317=\"\",\"\",VLOOKUP(F317,Tabelas!$B$7:$C$96,2))","v":""},null,{"$f":"IF(H317=\"\",\"\",ROUND(H317/SUM(H314:H321),4))","v":""},null,null,null,null,null,null,{"$f":"+IF(O317=\"\",\"\",IF(N314=\"Transporte Marítimo\",VLOOKUP(O317,Tabelas!$F$7:$G$12,2),IF(N314=\"Transporte Aéreo\",VLOOKUP(O317,Tabelas!$F$16:$G$21,2),\"\")))","v":""},null,null,null,null,null,null,null,null,null,null,null,null,null,null,null,"",{"$f":"+IF(AF317=\"\",\"\",VLOOKUP(AF317,Tabelas!$J$27:$K$30,2))","v":""}]
[null,null,null,null,null,null,{"$f":"+IF(F318=\"\",\"\",VLOOKUP(F318,Tabelas!$B$7:$C$96,2))","v":""},null,{"$f":"IF(H318=\"\",\"\",ROUND(H318/SUM(H314:H321),4))","v":""},null,null,null,null,null,null,{"$f":"+IF(O318=\"\",\"\",IF(N314=\"Transporte Marítimo\",VLOOKUP(O318,Tabelas!$F$7:$G$12,2),IF(N314=\"Transporte Aéreo\",VLOOKUP(O318,Tabelas!$F$16:$G$21,2),\"\")))","v":""},null,null,null,null,null,null,null,null,null,null,null,null,null,null,null,"",{"$f":"+IF(AF318=\"\",\"\",VLOOKUP(AF318,Tabelas!$J$27:$K$30,2))","v":""}]
[null,null,null,null,null,null,{"$f":"+IF(F319=\"\",\"\",VLOOKUP(F319,Tabelas!$B$7:$C$96,2))","v":""},null,{"$f":"IF(H319=\"\",\"\",ROUND(H319/SUM(H314:H321),4))","v":""},null,null,null,null,null,null,{"$f":"+IF(O319=\"\",\"\",IF(N314=\"Transporte Marítimo\",VLOOKUP(O319,Tabelas!$F$7:$G$12,2),IF(N314=\"Transporte Aéreo\",VLOOKUP(O319,Tabelas!$F$16:$G$21,2),\"\")))","v":""},null,null,null,null,null,null,null,null,null,null,null,null,null,null,null,"",{"$f":"+IF(AF319=\"\",\"\",VLOOKUP(AF319,Tabelas!$J$27:$K$30,2))","v":""}]
[null,null,null,null,null,null,{"$f":"+IF(F320=\"\",\"\",VLOOKUP(F320,Tabelas!$B$7:$C$96,2))","v":""},null,{"$f":"IF(H320=\"\",\"\",ROUND(H320/SUM(H314:H321),4))","v":""},null,null,null,null,null,null,{"$f":"+IF(O320=\"\",\"\",IF(N314=\"Transporte Marítimo\",VLOOKUP(O320,Tabelas!$F$7:$G$12,2),IF(N314=\"Transporte Aéreo\",VLOOKUP(O320,Tabelas!$F$16:$G$21,2),\"\")))","v":""},null,null,null,null,null,null,null,null,null,null,null,null,null,null,null,"",{"$f":"+IF(AF320=\"\",\"\",VLOOKUP(AF320,Tabelas!$J$27:$K$30,2))","v":""}]
[null,null,null,null,null,null,{"$f":"+IF(F321=\"\",\"\",VLOOKUP(F321,Tabelas!$B$7:$C$96,2))","v":""},null,{"$f":"IF(H321=\"\",\"\",ROUND(H321/SUM(H314:H321),4))","v":""},null,null,null,null,null,null,{"$f":"+IF(O321=\"\",\"\",IF(N314=\"Transporte Marítimo\",VLOOKUP(O321,Tabelas!$F$7:$G$12,2),IF(N314=\"Transporte Aéreo\",VLOOKUP(O321,Tabelas!$F$16:$G$21,2),\"\")))","v":""},null,null,null,null,null,null,null,null,null,null,null,null,null,null,null,"",{"$f":"+IF(AF321=\"\",\"\",VLOOKUP(AF321,Tabelas!$J$27:$K$30,2))","v":""}]
[null,{"$f":"+B314+1","v":39},null,null,null,null,{"$f":"+IF(F322=\"\",\"\",VLOOKUP(F322,Tabelas!$B$7:$C$96,2))","v":""},null,{"$f":"IF(H322=\"\",\"\",1-SUM(I323:I329))","v":""},null,null,null,null,null,null,{"$f":"+IF(O322=\"\",\"\",IF(N322=\"Transporte Marítimo\",VLOOKUP(O322,Tabelas!$F$7:$G$12,2),IF(N322=\"Transporte Aéreo\",VLOOKUP(O322,Tabelas!$F$16:$G$21,2),\"\")))","v":""},null,null,null,null,null,null,null,null,null,null,null,null,null,null,null,"",{"$f":"+IF(AF322=\"\",\"\",VLOOKUP(AF322,Tabelas!$J$27:$K$30,2))","v":""},null,null,null,null,null,null,null,null,null,null,null,null,null,null,null," "]
[null,null,null,null,null,null,{"$f":"+IF(F323=\"\",\"\",VLOOKUP(F323,Tabelas!$B$7:$C$96,2))","v":""},null,{"$f":"IF(H323=\"\",\"\",ROUND(H323/SUM(H322:H329),4))","v":""},null,null,null,null,null,null,{"$f":"+IF(O323=\"\",\"\",IF(N322=\"Transporte Marítimo\",VLOOKUP(O323,Tabelas!$F$7:$G$12,2),IF(N322=\"Transporte Aéreo\",VLOOKUP(O323,Tabelas!$F$16:$G$21,2),\"\")))","v":""},null,null,null,null,null,null,null,null,null,null,null,null,null,null,null,"",{"$f":"+IF(AF323=\"\",\"\",VLOOKUP(AF323,Tabelas!$J$27:$K$30,2))","v":""}]
[null,null,null,null,null,null,{"$f":"+IF(F324=\"\",\"\",VLOOKUP(F324,Tabelas!$B$7:$C$96,2))","v":""},null,{"$f":"IF(H324=\"\",\"\",ROUND(H324/SUM(H322:H329),4))","v":""},null,null,null,null,null,null,{"$f":"+IF(O324=\"\",\"\",IF(N322=\"Transporte Marítimo\",VLOOKUP(O324,Tabelas!$F$7:$G$12,2),IF(N322=\"Transporte Aéreo\",VLOOKUP(O324,Tabelas!$F$16:$G$21,2),\"\")))","v":""},null,null,null,null,null,null,null,null,null,null,null,null,null,null,null,"",{"$f":"+IF(AF324=\"\",\"\",VLOOKUP(AF324,Tabelas!$J$27:$K$30,2))","v":""}]
[null,null,null,null,null,null,{"$f":"+IF(F325=\"\",\"\",VLOOKUP(F325,Tabelas!$B$7:$C$96,2))","v":""},null,{"$f":"IF(H325=\"\",\"\",ROUND(H325/SUM(H322:H329),4))","v":""},null,null,null,null,null,null,{"$f":"+IF(O325=\"\",\"\",IF(N322=\"Transporte Marítimo\",VLOOKUP(O325,Tabelas!$F$7:$G$12,2),IF(N322=\"Transporte Aéreo\",VLOOKUP(O325,Tabelas!$F$16:$G$21,2),\"\")))","v":""},null,null,null,null,null,null,null,null,null,null,null,null,null,null,null,"",{"$f":"+IF(AF325=\"\",\"\",VLOOKUP(AF325,Tabelas!$J$27:$K$30,2))","v":""}]
[null,null,null,null,null,null,{"$f":"+IF(F326=\"\",\"\",VLOOKUP(F326,Tabelas!$B$7:$C$96,2))","v":""},null,{"$f":"IF(H326=\"\",\"\",ROUND(H326/SUM(H322:H329),4))","v":""},null,null,null,null,null,null,{"$f":"+IF(O326=\"\",\"\",IF(N322=\"Transporte Marítimo\",VLOOKUP(O326,Tabelas!$F$7:$G$12,2),IF(N322=\"Transporte Aéreo\",VLOOKUP(O326,Tabelas!$F$16:$G$21,2),\"\")))","v":""},null,null,null,null,null,null,null,null,null,null,null,null,null,null,null,"",{"$f":"+IF(AF326=\"\",\"\",VLOOKUP(AF326,Tabelas!$J$27:$K$30,2))","v":""}]
[null,null,null,null,null,null,{"$f":"+IF(F327=\"\",\"\",VLOOKUP(F327,Tabelas!$B$7:$C$96,2))","v":""},null,{"$f":"IF(H327=\"\",\"\",ROUND(H327/SUM(H322:H329),4))","v":""},null,null,null,null,null,null,{"$f":"+IF(O327=\"\",\"\",IF(N322=\"Transporte Marítimo\",VLOOKUP(O327,Tabelas!$F$7:$G$12,2),IF(N322=\"Transporte Aéreo\",VLOOKUP(O327,Tabelas!$F$16:$G$21,2),\"\")))","v":""},null,null,null,null,null,null,null,null,null,null,null,null,null,null,null,"",{"$f":"+IF(AF327=\"\",\"\",VLOOKUP(AF327,Tabelas!$J$27:$K$30,2))","v":""}]
[null,null,null,null,null,null,{"$f":"+IF(F328=\"\",\"\",VLOOKUP(F328,Tabelas!$B$7:$C$96,2))","v":""},null,{"$f":"IF(H328=\"\",\"\",ROUND(H328/SUM(H322:H329),4))","v":""},null,null,null,null,null,null,{"$f":"+IF(O328=\"\",\"\",IF(N322=\"Transporte Marítimo\",VLOOKUP(O328,Tabelas!$F$7:$G$12,2),IF(N322=\"Transporte Aéreo\",VLOOKUP(O328,Tabelas!$F$16:$G$21,2),\"\")))","v":""},null,null,null,null,null,null,null,null,null,null,null,null,null,null,null,"",{"$f":"+IF(AF328=\"\",\"\",VLOOKUP(AF328,Tabelas!$J$27:$K$30,2))","v":""}]
[null,null,null,null,null,null,{"$f":"+IF(F329=\"\",\"\",VLOOKUP(F329,Tabelas!$B$7:$C$96,2))","v":""},null,{"$f":"IF(H329=\"\",\"\",ROUND(H329/SUM(H322:H329),4))","v":""},null,null,null,null,null,null,{"$f":"+IF(O329=\"\",\"\",IF(N322=\"Transporte Marítimo\",VLOOKUP(O329,Tabelas!$F$7:$G$12,2),IF(N322=\"Transporte Aéreo\",VLOOKUP(O329,Tabelas!$F$16:$G$21,2),\"\")))","v":""},null,null,null,null,null,null,null,null,null,null,null,null,null,null,null,"",{"$f":"+IF(AF329=\"\",\"\",VLOOKUP(AF329,Tabelas!$J$27:$K$30,2))","v":""}]
[null,{"$f":"+B322+1","v":40},null,null,null,null,{"$f":"+IF(F330=\"\",\"\",VLOOKUP(F330,Tabelas!$B$7:$C$96,2))","v":""},null,{"$f":"IF(H330=\"\",\"\",1-SUM(I331:I337))","v":""},null,null,null,null,null,null,{"$f":"+IF(O330=\"\",\"\",IF(N330=\"Transporte Marítimo\",VLOOKUP(O330,Tabelas!$F$7:$G$12,2),IF(N330=\"Transporte Aéreo\",VLOOKUP(O330,Tabelas!$F$16:$G$21,2),\"\")))","v":""},null,null,null,null,null,null,null,null,null,null,null,null,null,null,null,"",{"$f":"+IF(AF330=\"\",\"\",VLOOKUP(AF330,Tabelas!$J$27:$K$30,2))","v":""},null,null,null,null,null,null,null,null,null,null,null,null,null,null,null," "]
[null,null,null,null,null,null,{"$f":"+IF(F331=\"\",\"\",VLOOKUP(F331,Tabelas!$B$7:$C$96,2))","v":""},null,{"$f":"IF(H331=\"\",\"\",ROUND(H331/SUM(H330:H337),4))","v":""},null,null,null,null,null,null,{"$f":"+IF(O331=\"\",\"\",IF(N330=\"Transporte Marítimo\",VLOOKUP(O331,Tabelas!$F$7:$G$12,2),IF(N330=\"Transporte Aéreo\",VLOOKUP(O331,Tabelas!$F$16:$G$21,2),\"\")))","v":""},null,null,null,null,null,null,null,null,null,null,null,null,null,null,null,"",{"$f":"+IF(AF331=\"\",\"\",VLOOKUP(AF331,Tabelas!$J$27:$K$30,2))","v":""}]
[null,null,null,null,null,null,{"$f":"+IF(F332=\"\",\"\",VLOOKUP(F332,Tabelas!$B$7:$C$96,2))","v":""},null,{"$f":"IF(H332=\"\",\"\",ROUND(H332/SUM(H330:H337),4))","v":""},null,null,null,null,null,null,{"$f":"+IF(O332=\"\",\"\",IF(N330=\"Transporte Marítimo\",VLOOKUP(O332,Tabelas!$F$7:$G$12,2),IF(N330=\"Transporte Aéreo\",VLOOKUP(O332,Tabelas!$F$16:$G$21,2),\"\")))","v":""},null,null,null,null,null,null,null,null,null,null,null,null,null,null,null,"",{"$f":"+IF(AF332=\"\",\"\",VLOOKUP(AF332,Tabelas!$J$27:$K$30,2))","v":""}]
[null,null,null,null,null,null,{"$f":"+IF(F333=\"\",\"\",VLOOKUP(F333,Tabelas!$B$7:$C$96,2))","v":""},null,{"$f":"IF(H333=\"\",\"\",ROUND(H333/SUM(H330:H337),4))","v":""},null,null,null,null,null,null,{"$f":"+IF(O333=\"\",\"\",IF(N330=\"Transporte Marítimo\",VLOOKUP(O333,Tabelas!$F$7:$G$12,2),IF(N330=\"Transporte Aéreo\",VLOOKUP(O333,Tabelas!$F$16:$G$21,2),\"\")))","v":""},null,null,null,null,null,null,null,null,null,null,null,null,null,null,null,"",{"$f":"+IF(AF333=\"\",\"\",VLOOKUP(AF333,Tabelas!$J$27:$K$30,2))","v":""}]
[null,null,null,null,null,null,{"$f":"+IF(F334=\"\",\"\",VLOOKUP(F334,Tabelas!$B$7:$C$96,2))","v":""},null,{"$f":"IF(H334=\"\",\"\",ROUND(H334/SUM(H330:H337),4))","v":""},null,null,null,null,null,null,{"$f":"+IF(O334=\"\",\"\",IF(N330=\"Transporte Marítimo\",VLOOKUP(O334,Tabelas!$F$7:$G$12,2),IF(N330=\"Transporte Aéreo\",VLOOKUP(O334,Tabelas!$F$16:$G$21,2),\"\")))","v":""},null,null,null,null,null,null,null,null,null,null,null,null,null,null,null,"",{"$f":"+IF(AF334=\"\",\"\",VLOOKUP(AF334,Tabelas!$J$27:$K$30,2))","v":""}]
[null,null,null,null,null,null,{"$f":"+IF(F335=\"\",\"\",VLOOKUP(F335,Tabelas!$B$7:$C$96,2))","v":""},null,{"$f":"IF(H335=\"\",\"\",ROUND(H335/SUM(H330:H337),4))","v":""},null,null,null,null,null,null,{"$f":"+IF(O335=\"\",\"\",IF(N330=\"Transporte Marítimo\",VLOOKUP(O335,Tabelas!$F$7:$G$12,2),IF(N330=\"Transporte Aéreo\",VLOOKUP(O335,Tabelas!$F$16:$G$21,2),\"\")))","v":""},null,null,null,null,null,null,null,null,null,null,null,null,null,null,null,"",{"$f":"+IF(AF335=\"\",\"\",VLOOKUP(AF335,Tabelas!$J$27:$K$30,2))","v":""}]
[null,null,null,null,null,null,{"$f":"+IF(F336=\"\",\"\",VLOOKUP(F336,Tabelas!$B$7:$C$96,2))","v":""},null,{"$f":"IF(H336=\"\",\"\",ROUND(H336/SUM(H330:H337),4))","v":""},null,null,null,null,null,null,{"$f":"+IF(O336=\"\",\"\",IF(N330=\"Transporte Marítimo\",VLOOKUP(O336,Tabelas!$F$7:$G$12,2),IF(N330=\"Transporte Aéreo\",VLOOKUP(O336,Tabelas!$F$16:$G$21,2),\"\")))","v":""},null,null,null,null,null,null,null,null,null,null,null,null,null,null,null,"",{"$f":"+IF(AF336=\"\",\"\",VLOOKUP(AF336,Tabelas!$J$27:$K$30,2))","v":""}]
[null,null,null,null,null,null,{"$f":"+IF(F337=\"\",\"\",VLOOKUP(F337,Tabelas!$B$7:$C$96,2))","v":""},null,{"$f":"IF(H337=\"\",\"\",ROUND(H337/SUM(H330:H337),4))","v":""},null,null,null,null,null,null,{"$f":"+IF(O337=\"\",\"\",IF(N330=\"Transporte Marítimo\",VLOOKUP(O337,Tabelas!$F$7:$G$12,2),IF(N330=\"Transporte Aéreo\",VLOOKUP(O337,Tabelas!$F$16:$G$21,2),\"\")))","v":""},null,null,null,null,null,null,null,null,null,null,null,null,null,null,null,"",{"$f":"+IF(AF337=\"\",\"\",VLOOKUP(AF337,Tabelas!$J$27:$K$30,2))","v":""}]
[null,{"$f":"+B330+1","v":41},null,null,null,null,{"$f":"+IF(F338=\"\",\"\",VLOOKUP(F338,Tabelas!$B$7:$C$96,2))","v":""},null,{"$f":"IF(H338=\"\",\"\",1-SUM(I339:I345))","v":""},null,null,null,null,null,null,{"$f":"+IF(O338=\"\",\"\",IF(N338=\"Transporte Marítimo\",VLOOKUP(O338,Tabelas!$F$7:$G$12,2),IF(N338=\"Transporte Aéreo\",VLOOKUP(O338,Tabelas!$F$16:$G$21,2),\"\")))","v":""},null,null,null,null,null,null,null,null,null,null,null,null,null,null,null,"",{"$f":"+IF(AF338=\"\",\"\",VLOOKUP(AF338,Tabelas!$J$27:$K$30,2))","v":""},null,null,null,null,null,null,null,null,null,null,null,null,null,null,null," "]
[null,null,null,null,null,null,{"$f":"+IF(F339=\"\",\"\",VLOOKUP(F339,Tabelas!$B$7:$C$96,2))","v":""},null,{"$f":"IF(H339=\"\",\"\",ROUND(H339/SUM(H338:H345),4))","v":""},null,null,null,null,null,null,{"$f":"+IF(O339=\"\",\"\",IF(N338=\"Transporte Marítimo\",VLOOKUP(O339,Tabelas!$F$7:$G$12,2),IF(N338=\"Transporte Aéreo\",VLOOKUP(O339,Tabelas!$F$16:$G$21,2),\"\")))","v":""},null,null,null,null,null,null,null,null,null,null,null,null,null,null,null,{"$f":"+IF(AE339=\"20NL\",1,IF(AE339=\"40NL\",2,IF(AE339=\"20RF\",3,IF(AE339=\"40RF\",4,\"\"))))","v":""},{"$f":"+IF(AF339=\"\",\"\",VLOOKUP(AF339,Tabelas!$J$27:$K$30,2))","v":""}]
[null,null,null,null,null,null,{"$f":"+IF(F340=\"\",\"\",VLOOKUP(F340,Tabelas!$B$7:$C$96,2))","v":""},null,{"$f":"IF(H340=\"\",\"\",ROUND(H340/SUM(H338:H345),4))","v":""},null,null,null,null,null,null,{"$f":"+IF(O340=\"\",\"\",IF(N338=\"Transporte Marítimo\",VLOOKUP(O340,Tabelas!$F$7:$G$12,2),IF(N338=\"Transporte Aéreo\",VLOOKUP(O340,Tabelas!$F$16:$G$21,2),\"\")))","v":""},null,null,null,null,null,null,null,null,null,null,null,null,null,null,null,"",{"$f":"+IF(AF340=\"\",\"\",VLOOKUP(AF340,Tabelas!$J$27:$K$30,2))","v":""}]
[null,null,null,null,null,null,{"$f":"+IF(F341=\"\",\"\",VLOOKUP(F341,Tabelas!$B$7:$C$96,2))","v":""},null,{"$f":"IF(H341=\"\",\"\",ROUND(H341/SUM(H338:H345),4))","v":""},null,null,null,null,null,null,{"$f":"+IF(O341=\"\",\"\",IF(N338=\"Transporte Marítimo\",VLOOKUP(O341,Tabelas!$F$7:$G$12,2),IF(N338=\"Transporte Aéreo\",VLOOKUP(O341,Tabelas!$F$16:$G$21,2),\"\")))","v":""},null,null,null,null,null,null,null,null,null,null,null,null,null,null,null,"",{"$f":"+IF(AF341=\"\",\"\",VLOOKUP(AF341,Tabelas!$J$27:$K$30,2))","v":""}]
[null,null,null,null,null,null,{"$f":"+IF(F342=\"\",\"\",VLOOKUP(F342,Tabelas!$B$7:$C$96,2))","v":""},null,{"$f":"IF(H342=\"\",\"\",ROUND(H342/SUM(H338:H345),4))","v":""},null,null,null,null,null,null,{"$f":"+IF(O342=\"\",\"\",IF(N338=\"Transporte Marítimo\",VLOOKUP(O342,Tabelas!$F$7:$G$12,2),IF(N338=\"Transporte Aéreo\",VLOOKUP(O342,Tabelas!$F$16:$G$21,2),\"\")))","v":""},null,null,null,null,null,null,null,null,null,null,null,null,null,null,null,"",{"$f":"+IF(AF342=\"\",\"\",VLOOKUP(AF342,Tabelas!$J$27:$K$30,2))","v":""}]
[null,null,null,null,null,null,{"$f":"+IF(F343=\"\",\"\",VLOOKUP(F343,Tabelas!$B$7:$C$96,2))","v":""},null,{"$f":"IF(H343=\"\",\"\",ROUND(H343/SUM(H338:H345),4))","v":""},null,null,null,null,null,null,{"$f":"+IF(O343=\"\",\"\",IF(N338=\"Transporte Marítimo\",VLOOKUP(O343,Tabelas!$F$7:$G$12,2),IF(N338=\"Transporte Aéreo\",VLOOKUP(O343,Tabelas!$F$16:$G$21,2),\"\")))","v":""},null,null,null,null,null,null,null,null,null,null,null,null,null,null,null,"",{"$f":"+IF(AF343=\"\",\"\",VLOOKUP(AF343,Tabelas!$J$27:$K$30,2))","v":""}]
[null,null,null,null,null,null,{"$f":"+IF(F344=\"\",\"\",VLOOKUP(F344,Tabelas!$B$7:$C$96,2))","v":""},null,{"$f":"IF(H344=\"\",\"\",ROUND(H344/SUM(H338:H345),4))","v":""},null,null,null,null,null,null,{"$f":"+IF(O344=\"\",\"\",IF(N338=\"Transporte Marítimo\",VLOOKUP(O344,Tabelas!$F$7:$G$12,2),IF(N338=\"Transporte Aéreo\",VLOOKUP(O344,Tabelas!$F$16:$G$21,2),\"\")))","v":""},null,null,null,null,null,null,null,null,null,null,null,null,null,null,null,"",{"$f":"+IF(AF344=\"\",\"\",VLOOKUP(AF344,Tabelas!$J$27:$K$30,2))","v":""}]
[null,null,null,null,null,null,{"$f":"+IF(F345=\"\",\"\",VLOOKUP(F345,Tabelas!$B$7:$C$96,2))","v":""},null,{"$f":"IF(H345=\"\",\"\",ROUND(H345/SUM(H338:H345),4))","v":""},null,null,null,null,null,null,{"$f":"+IF(O345=\"\",\"\",IF(N338=\"Transporte Marítimo\",VLOOKUP(O345,Tabelas!$F$7:$G$12,2),IF(N338=\"Transporte Aéreo\",VLOOKUP(O345,Tabelas!$F$16:$G$21,2),\"\")))","v":""},null,null,null,null,null,null,null,null,null,null,null,null,null,null,null,"",{"$f":"+IF(AF345=\"\",\"\",VLOOKUP(AF345,Tabelas!$J$27:$K$30,2))","v":""}]
[null,{"$f":"+B338+1","v":42},null,null,null,null,{"$f":"+IF(F346=\"\",\"\",VLOOKUP(F346,Tabelas!$B$7:$C$96,2))","v":""},null,{"$f":"IF(H346=\"\",\"\",1-SUM(I347:I353))","v":""},null,null,null,null,null,null,{"$f":"+IF(O346=\"\",\"\",IF(N346=\"Transporte Marítimo\",VLOOKUP(O346,Tabelas!$F$7:$G$12,2),IF(N346=\"Transporte Aéreo\",VLOOKUP(O346,Tabelas!$F$16:$G$21,2),\"\")))","v":""},null,null,null,null,null,null,null,null,null,null,null,null,null,null,null,"",{"$f":"+IF(AF346=\"\",\"\",VLOOKUP(AF346,Tabelas!$J$27:$K$30,2))","v":""},null,null,null,null,null,null,null,null,null,null,null,null,null,null,null," "]
[null,null,null,null,null,null,{"$f":"+IF(F347=\"\",\"\",VLOOKUP(F347,Tabelas!$B$7:$C$96,2))","v":""},null,{"$f":"IF(H347=\"\",\"\",ROUND(H347/SUM(H346:H353),4))","v":""},null,null,null,null,null,null,{"$f":"+IF(O347=\"\",\"\",IF(N346=\"Transporte Marítimo\",VLOOKUP(O347,Tabelas!$F$7:$G$12,2),IF(N346=\"Transporte Aéreo\",VLOOKUP(O347,Tabelas!$F$16:$G$21,2),\"\")))","v":""},null,null,null,null,null,null,null,null,null,null,null,null,null,null,null,"",{"$f":"+IF(AF347=\"\",\"\",VLOOKUP(AF347,Tabelas!$J$27:$K$30,2))","v":""}]
[null,null,null,null,null,null,{"$f":"+IF(F348=\"\",\"\",VLOOKUP(F348,Tabelas!$B$7:$C$96,2))","v":""},null,{"$f":"IF(H348=\"\",\"\",ROUND(H348/SUM(H346:H353),4))","v":""},null,null,null,null,null,null,{"$f":"+IF(O348=\"\",\"\",IF(N346=\"Transporte Marítimo\",VLOOKUP(O348,Tabelas!$F$7:$G$12,2),IF(N346=\"Transporte Aéreo\",VLOOKUP(O348,Tabelas!$F$16:$G$21,2),\"\")))","v":""},null,null,null,null,null,null,null,null,null,null,null,null,null,null,null,"",{"$f":"+IF(AF348=\"\",\"\",VLOOKUP(AF348,Tabelas!$J$27:$K$30,2))","v":""}]
[null,null,null,null,null,null,{"$f":"+IF(F349=\"\",\"\",VLOOKUP(F349,Tabelas!$B$7:$C$96,2))","v":""},null,{"$f":"IF(H349=\"\",\"\",ROUND(H349/SUM(H346:H353),4))","v":""},null,null,null,null,null,null,{"$f":"+IF(O349=\"\",\"\",IF(N346=\"Transporte Marítimo\",VLOOKUP(O349,Tabelas!$F$7:$G$12,2),IF(N346=\"Transporte Aéreo\",VLOOKUP(O349,Tabelas!$F$16:$G$21,2),\"\")))","v":""},null,null,null,null,null,null,null,null,null,null,null,null,null,null,null,"",{"$f":"+IF(AF349=\"\",\"\",VLOOKUP(AF349,Tabelas!$J$27:$K$30,2))","v":""}]
[null,null,null,null,null,null,{"$f":"+IF(F350=\"\",\"\",VLOOKUP(F350,Tabelas!$B$7:$C$96,2))","v":""},null,{"$f":"IF(H350=\"\",\"\",ROUND(H350/SUM(H346:H353),4))","v":""},null,null,null,null,null,null,{"$f":"+IF(O350=\"\",\"\",IF(N346=\"Transporte Marítimo\",VLOOKUP(O350,Tabelas!$F$7:$G$12,2),IF(N346=\"Transporte Aéreo\",VLOOKUP(O350,Tabelas!$F$16:$G$21,2),\"\")))","v":""},null,null,null,null,null,null,null,null,null,null,null,null,null,null,null,"",{"$f":"+IF(AF350=\"\",\"\",VLOOKUP(AF350,Tabelas!$J$27:$K$30,2))","v":""}]
[null,null,null,null,null,null,{"$f":"+IF(F351=\"\",\"\",VLOOKUP(F351,Tabelas!$B$7:$C$96,2))","v":""},null,{"$f":"IF(H351=\"\",\"\",ROUND(H351/SUM(H346:H353),4))","v":""},null,null,null,null,null,null,{"$f":"+IF(O351=\"\",\"\",IF(N346=\"Transporte Marítimo\",VLOOKUP(O351,Tabelas!$F$7:$G$12,2),IF(N346=\"Transporte Aéreo\",VLOOKUP(O351,Tabelas!$F$16:$G$21,2),\"\")))","v":""},null,null,null,null,null,null,null,null,null,null,null,null,null,null,null,"",{"$f":"+IF(AF351=\"\",\"\",VLOOKUP(AF351,Tabelas!$J$27:$K$30,2))","v":""}]
[null,null,null,null,null,null,{"$f":"+IF(F352=\"\",\"\",VLOOKUP(F352,Tabelas!$B$7:$C$96,2))","v":""},null,{"$f":"IF(H352=\"\",\"\",ROUND(H352/SUM(H346:H353),4))","v":""},null,null,null,null,null,null,{"$f":"+IF(O352=\"\",\"\",IF(N346=\"Transporte Marítimo\",VLOOKUP(O352,Tabelas!$F$7:$G$12,2),IF(N346=\"Transporte Aéreo\",VLOOKUP(O352,Tabelas!$F$16:$G$21,2),\"\")))","v":""},null,null,null,null,null,null,null,null,null,null,null,null,null,null,null,"",{"$f":"+IF(AF352=\"\",\"\",VLOOKUP(AF352,Tabelas!$J$27:$K$30,2))","v":""}]
[null,null,null,null,null,null,{"$f":"+IF(F353=\"\",\"\",VLOOKUP(F353,Tabelas!$B$7:$C$96,2))","v":""},null,{"$f":"IF(H353=\"\",\"\",ROUND(H353/SUM(H346:H353),4))","v":""},null,null,null,null,null,null,{"$f":"+IF(O353=\"\",\"\",IF(N346=\"Transporte Marítimo\",VLOOKUP(O353,Tabelas!$F$7:$G$12,2),IF(N346=\"Transporte Aéreo\",VLOOKUP(O353,Tabelas!$F$16:$G$21,2),\"\")))","v":""},null,null,null,null,null,null,null,null,null,null,null,null,null,null,null,"",{"$f":"+IF(AF353=\"\",\"\",VLOOKUP(AF353,Tabelas!$J$27:$K$30,2))","v":""}]
[null,{"$f":"+B346+1","v":43},null,null,null,null,{"$f":"+IF(F354=\"\",\"\",VLOOKUP(F354,Tabelas!$B$7:$C$96,2))","v":""},null,{"$f":"IF(H354=\"\",\"\",1-SUM(I355:I361))","v":""},null,null,null,null,null,null,{"$f":"+IF(O354=\"\",\"\",IF(N354=\"Transporte Marítimo\",VLOOKUP(O354,Tabelas!$F$7:$G$12,2),IF(N354=\"Transporte Aéreo\",VLOOKUP(O354,Tabelas!$F$16:$G$21,2),\"\")))","v":""},null,null,null,null,null,null,null,null,null,null,null,null,null,null,null,"",{"$f":"+IF(AF354=\"\",\"\",VLOOKUP(AF354,Tabelas!$J$27:$K$30,2))","v":""},null,null,null,null,null,null,null,null,null,null,null,null,null,null,null," "]
[null,null,null,null,null,null,{"$f":"+IF(F355=\"\",\"\",VLOOKUP(F355,Tabelas!$B$7:$C$96,2))","v":""},null,{"$f":"IF(H355=\"\",\"\",ROUND(H355/SUM(H354:H361),4))","v":""},null,null,null,null,null,null,{"$f":"+IF(O355=\"\",\"\",IF(N354=\"Transporte Marítimo\",VLOOKUP(O355,Tabelas!$F$7:$G$12,2),IF(N354=\"Transporte Aéreo\",VLOOKUP(O355,Tabelas!$F$16:$G$21,2),\"\")))","v":""},null,null,null,null,null,null,null,null,null,null,null,null,null,null,null,"",{"$f":"+IF(AF355=\"\",\"\",VLOOKUP(AF355,Tabelas!$J$27:$K$30,2))","v":""}]
[null,null,null,null,null,null,{"$f":"+IF(F356=\"\",\"\",VLOOKUP(F356,Tabelas!$B$7:$C$96,2))","v":""},null,{"$f":"IF(H356=\"\",\"\",ROUND(H356/SUM(H354:H361),4))","v":""},null,null,null,null,null,null,{"$f":"+IF(O356=\"\",\"\",IF(N354=\"Transporte Marítimo\",VLOOKUP(O356,Tabelas!$F$7:$G$12,2),IF(N354=\"Transporte Aéreo\",VLOOKUP(O356,Tabelas!$F$16:$G$21,2),\"\")))","v":""},null,null,null,null,null,null,null,null,null,null,null,null,null,null,null,"",{"$f":"+IF(AF356=\"\",\"\",VLOOKUP(AF356,Tabelas!$J$27:$K$30,2))","v":""}]
[null,null,null,null,null,null,{"$f":"+IF(F357=\"\",\"\",VLOOKUP(F357,Tabelas!$B$7:$C$96,2))","v":""},null,{"$f":"IF(H357=\"\",\"\",ROUND(H357/SUM(H354:H361),4))","v":""},null,null,null,null,null,null,{"$f":"+IF(O357=\"\",\"\",IF(N354=\"Transporte Marítimo\",VLOOKUP(O357,Tabelas!$F$7:$G$12,2),IF(N354=\"Transporte Aéreo\",VLOOKUP(O357,Tabelas!$F$16:$G$21,2),\"\")))","v":""},null,null,null,null,null,null,null,null,null,null,null,null,null,null,null,"",{"$f":"+IF(AF357=\"\",\"\",VLOOKUP(AF357,Tabelas!$J$27:$K$30,2))","v":""}]
[null,null,null,null,null,null,{"$f":"+IF(F358=\"\",\"\",VLOOKUP(F358,Tabelas!$B$7:$C$96,2))","v":""},null,{"$f":"IF(H358=\"\",\"\",ROUND(H358/SUM(H354:H361),4))","v":""},null,null,null,null,null,null,{"$f":"+IF(O358=\"\",\"\",IF(N354=\"Transporte Marítimo\",VLOOKUP(O358,Tabelas!$F$7:$G$12,2),IF(N354=\"Transporte Aéreo\",VLOOKUP(O358,Tabelas!$F$16:$G$21,2),\"\")))","v":""},null,null,null,null,null,null,null,null,null,null,null,null,null,null,null,"",{"$f":"+IF(AF358=\"\",\"\",VLOOKUP(AF358,Tabelas!$J$27:$K$30,2))","v":""}]
[null,null,null,null,null,null,{"$f":"+IF(F359=\"\",\"\",VLOOKUP(F359,Tabelas!$B$7:$C$96,2))","v":""},null,{"$f":"IF(H359=\"\",\"\",ROUND(H359/SUM(H354:H361),4))","v":""},null,null,null,null,null,null,{"$f":"+IF(O359=\"\",\"\",IF(N354=\"Transporte Marítimo\",VLOOKUP(O359,Tabelas!$F$7:$G$12,2),IF(N354=\"Transporte Aéreo\",VLOOKUP(O359,Tabelas!$F$16:$G$21,2),\"\")))","v":""},null,null,null,null,null,null,null,null,null,null,null,null,null,null,null,"",{"$f":"+IF(AF359=\"\",\"\",VLOOKUP(AF359,Tabelas!$J$27:$K$30,2))","v":""}]
[null,null,null,null,null,null,{"$f":"+IF(F360=\"\",\"\",VLOOKUP(F360,Tabelas!$B$7:$C$96,2))","v":""},null,{"$f":"IF(H360=\"\",\"\",ROUND(H360/SUM(H354:H361),4))","v":""},null,null,null,null,null,null,{"$f":"+IF(O360=\"\",\"\",IF(N354=\"Transporte Marítimo\",VLOOKUP(O360,Tabelas!$F$7:$G$12,2),IF(N354=\"Transporte Aéreo\",VLOOKUP(O360,Tabelas!$F$16:$G$21,2),\"\")))","v":""},null,null,null,null,null,null,null,null,null,null,null,null,null,null,null,"",{"$f":"+IF(AF360=\"\",\"\",VLOOKUP(AF360,Tabelas!$J$27:$K$30,2))","v":""}]
[null,null,null,null,null,null,{"$f":"+IF(F361=\"\",\"\",VLOOKUP(F361,Tabelas!$B$7:$C$96,2))","v":""},null,{"$f":"IF(H361=\"\",\"\",ROUND(H361/SUM(H354:H361),4))","v":""},null,null,null,null,null,null,{"$f":"+IF(O361=\"\",\"\",IF(N354=\"Transporte Marítimo\",VLOOKUP(O361,Tabelas!$F$7:$G$12,2),IF(N354=\"Transporte Aéreo\",VLOOKUP(O361,Tabelas!$F$16:$G$21,2),\"\")))","v":""},null,null,null,null,null,null,null,null,null,null,null,null,null,null,null,"",{"$f":"+IF(AF361=\"\",\"\",VLOOKUP(AF361,Tabelas!$J$27:$K$30,2))","v":""}]
[null,{"$f":"+B354+1","v":44},null,null,null,null,{"$f":"+IF(F362=\"\",\"\",VLOOKUP(F362,Tabelas!$B$7:$C$96,2))","v":""},null,{"$f":"IF(H362=\"\",\"\",1-SUM(I363:I369))","v":""},null,null,null,null,null,null,{"$f":"+IF(O362=\"\",\"\",IF(N362=\"Transporte Marítimo\",VLOOKUP(O362,Tabelas!$F$7:$G$12,2),IF(N362=\"Transporte Aéreo\",VLOOKUP(O362,Tabelas!$F$16:$G$21,2),\"\")))","v":""},null,null,null,null,null,null,null,null,null,null,null,null,null,null,null,"",{"$f":"+IF(AF362=\"\",\"\",VLOOKUP(AF362,Tabelas!$J$27:$K$30,2))","v":""},null,null,null,null,null,null,null,null,null,null,null,null,null,null,null," "]
[null,null,null,null,null,null,{"$f":"+IF(F363=\"\",\"\",VLOOKUP(F363,Tabelas!$B$7:$C$96,2))","v":""},null,{"$f":"IF(H363=\"\",\"\",ROUND(H363/SUM(H362:H369),4))","v":""},null,null,null,null,null,null,{"$f":"+IF(O363=\"\",\"\",IF(N362=\"Transporte Marítimo\",VLOOKUP(O363,Tabelas!$F$7:$G$12,2),IF(N362=\"Transporte Aéreo\",VLOOKUP(O363,Tabelas!$F$16:$G$21,2),\"\")))","v":""},null,null,null,null,null,null,null,null,null,null,null,null,null,null,null,"",{"$f":"+IF(AF363=\"\",\"\",VLOOKUP(AF363,Tabelas!$J$27:$K$30,2))","v":""}]
[null,null,null,null,null,null,{"$f":"+IF(F364=\"\",\"\",VLOOKUP(F364,Tabelas!$B$7:$C$96,2))","v":""},null,{"$f":"IF(H364=\"\",\"\",ROUND(H364/SUM(H362:H369),4))","v":""},null,null,null,null,null,null,{"$f":"+IF(O364=\"\",\"\",IF(N362=\"Transporte Marítimo\",VLOOKUP(O364,Tabelas!$F$7:$G$12,2),IF(N362=\"Transporte Aéreo\",VLOOKUP(O364,Tabelas!$F$16:$G$21,2),\"\")))","v":""},null,null,null,null,null,null,null,null,null,null,null,null,null,null,null,"",{"$f":"+IF(AF364=\"\",\"\",VLOOKUP(AF364,Tabelas!$J$27:$K$30,2))","v":""}]
[null,null,null,null,null,null,{"$f":"+IF(F365=\"\",\"\",VLOOKUP(F365,Tabelas!$B$7:$C$96,2))","v":""},null,{"$f":"IF(H365=\"\",\"\",ROUND(H365/SUM(H362:H369),4))","v":""},null,null,null,null,null,null,{"$f":"+IF(O365=\"\",\"\",IF(N362=\"Transporte Marítimo\",VLOOKUP(O365,Tabelas!$F$7:$G$12,2),IF(N362=\"Transporte Aéreo\",VLOOKUP(O365,Tabelas!$F$16:$G$21,2),\"\")))","v":""},null,null,null,null,null,null,null,null,null,null,null,null,null,null,null,"",{"$f":"+IF(AF365=\"\",\"\",VLOOKUP(AF365,Tabelas!$J$27:$K$30,2))","v":""}]
[null,null,null,null,null,null,{"$f":"+IF(F366=\"\",\"\",VLOOKUP(F366,Tabelas!$B$7:$C$96,2))","v":""},null,{"$f":"IF(H366=\"\",\"\",ROUND(H366/SUM(H362:H369),4))","v":""},null,null,null,null,null,null,{"$f":"+IF(O366=\"\",\"\",IF(N362=\"Transporte Marítimo\",VLOOKUP(O366,Tabelas!$F$7:$G$12,2),IF(N362=\"Transporte Aéreo\",VLOOKUP(O366,Tabelas!$F$16:$G$21,2),\"\")))","v":""},null,null,null,null,null,null,null,null,null,null,null,null,null,null,null,"",{"$f":"+IF(AF366=\"\",\"\",VLOOKUP(AF366,Tabelas!$J$27:$K$30,2))","v":""}]
[null,null,null,null,null,null,{"$f":"+IF(F367=\"\",\"\",VLOOKUP(F367,Tabelas!$B$7:$C$96,2))","v":""},null,{"$f":"IF(H367=\"\",\"\",ROUND(H367/SUM(H362:H369),4))","v":""},null,null,null,null,null,null,{"$f":"+IF(O367=\"\",\"\",IF(N362=\"Transporte Marítimo\",VLOOKUP(O367,Tabelas!$F$7:$G$12,2),IF(N362=\"Transporte Aéreo\",VLOOKUP(O367,Tabelas!$F$16:$G$21,2),\"\")))","v":""},null,null,null,null,null,null,null,null,null,null,null,null,null,null,null,"",{"$f":"+IF(AF367=\"\",\"\",VLOOKUP(AF367,Tabelas!$J$27:$K$30,2))","v":""}]
[null,null,null,null,null,null,{"$f":"+IF(F368=\"\",\"\",VLOOKUP(F368,Tabelas!$B$7:$C$96,2))","v":""},null,{"$f":"IF(H368=\"\",\"\",ROUND(H368/SUM(H362:H369),4))","v":""},null,null,null,null,null,null,{"$f":"+IF(O368=\"\",\"\",IF(N362=\"Transporte Marítimo\",VLOOKUP(O368,Tabelas!$F$7:$G$12,2),IF(N362=\"Transporte Aéreo\",VLOOKUP(O368,Tabelas!$F$16:$G$21,2),\"\")))","v":""},null,null,null,null,null,null,null,null,null,null,null,null,null,null,null,"",{"$f":"+IF(AF368=\"\",\"\",VLOOKUP(AF368,Tabelas!$J$27:$K$30,2))","v":""}]
[null,null,null,null,null,null,{"$f":"+IF(F369=\"\",\"\",VLOOKUP(F369,Tabelas!$B$7:$C$96,2))","v":""},null,{"$f":"IF(H369=\"\",\"\",ROUND(H369/SUM(H362:H369),4))","v":""},null,null,null,null,null,null,{"$f":"+IF(O369=\"\",\"\",IF(N362=\"Transporte Marítimo\",VLOOKUP(O369,Tabelas!$F$7:$G$12,2),IF(N362=\"Transporte Aéreo\",VLOOKUP(O369,Tabelas!$F$16:$G$21,2),\"\")))","v":""},null,null,null,null,null,null,null,null,null,null,null,null,null,null,null,"",{"$f":"+IF(AF369=\"\",\"\",VLOOKUP(AF369,Tabelas!$J$27:$K$30,2))","v":""}]
[null,{"$f":"+B362+1","v":45},null,null,null,null,{"$f":"+IF(F370=\"\",\"\",VLOOKUP(F370,Tabelas!$B$7:$C$96,2))","v":""},null,{"$f":"IF(H370=\"\",\"\",1-SUM(I371:I377))","v":""},null,null,null,null,null,null,{"$f":"+IF(O370=\"\",\"\",IF(N370=\"Transporte Marítimo\",VLOOKUP(O370,Tabelas!$F$7:$G$12,2),IF(N370=\"Transporte Aéreo\",VLOOKUP(O370,Tabelas!$F$16:$G$21,2),\"\")))","v":""},null,null,null,null,null,null,null,null,null,null,null,null,null,null,null,"",{"$f":"+IF(AF370=\"\",\"\",VLOOKUP(AF370,Tabelas!$J$27:$K$30,2))","v":""},null,null,null,null,null,null,null,null,null,null,null,null,null,null,null," "]
[null,null,null,null,null,null,{"$f":"+IF(F371=\"\",\"\",VLOOKUP(F371,Tabelas!$B$7:$C$96,2))","v":""},null,{"$f":"IF(H371=\"\",\"\",ROUND(H371/SUM(H370:H377),4))","v":""},null,null,null,null,null,null,{"$f":"+IF(O371=\"\",\"\",IF(N370=\"Transporte Marítimo\",VLOOKUP(O371,Tabelas!$F$7:$G$12,2),IF(N370=\"Transporte Aéreo\",VLOOKUP(O371,Tabelas!$F$16:$G$21,2),\"\")))","v":""},null,null,null,null,null,null,null,null,null,null,null,null,null,null,null,"",{"$f":"+IF(AF371=\"\",\"\",VLOOKUP(AF371,Tabelas!$J$27:$K$30,2))","v":""}]
[null,null,null,null,null,null,{"$f":"+IF(F372=\"\",\"\",VLOOKUP(F372,Tabelas!$B$7:$C$96,2))","v":""},null,{"$f":"IF(H372=\"\",\"\",ROUND(H372/SUM(H370:H377),4))","v":""},null,null,null,null,null,null,{"$f":"+IF(O372=\"\",\"\",IF(N370=\"Transporte Marítimo\",VLOOKUP(O372,Tabelas!$F$7:$G$12,2),IF(N370=\"Transporte Aéreo\",VLOOKUP(O372,Tabelas!$F$16:$G$21,2),\"\")))","v":""},null,null,null,null,null,null,null,null,null,null,null,null,null,null,null,"",{"$f":"+IF(AF372=\"\",\"\",VLOOKUP(AF372,Tabelas!$J$27:$K$30,2))","v":""}]
[null,null,null,null,null,null,{"$f":"+IF(F373=\"\",\"\",VLOOKUP(F373,Tabelas!$B$7:$C$96,2))","v":""},null,{"$f":"IF(H373=\"\",\"\",ROUND(H373/SUM(H370:H377),4))","v":""},null,null,null,null,null,null,{"$f":"+IF(O373=\"\",\"\",IF(N370=\"Transporte Marítimo\",VLOOKUP(O373,Tabelas!$F$7:$G$12,2),IF(N370=\"Transporte Aéreo\",VLOOKUP(O373,Tabelas!$F$16:$G$21,2),\"\")))","v":""},null,null,null,null,null,null,null,null,null,null,null,null,null,null,null,"",{"$f":"+IF(AF373=\"\",\"\",VLOOKUP(AF373,Tabelas!$J$27:$K$30,2))","v":""}]
[null,null,null,null,null,null,{"$f":"+IF(F374=\"\",\"\",VLOOKUP(F374,Tabelas!$B$7:$C$96,2))","v":""},null,{"$f":"IF(H374=\"\",\"\",ROUND(H374/SUM(H370:H377),4))","v":""},null,null,null,null,null,null,{"$f":"+IF(O374=\"\",\"\",IF(N370=\"Transporte Marítimo\",VLOOKUP(O374,Tabelas!$F$7:$G$12,2),IF(N370=\"Transporte Aéreo\",VLOOKUP(O374,Tabelas!$F$16:$G$21,2),\"\")))","v":""},null,null,null,null,null,null,null,null,null,null,null,null,null,null,null,"",{"$f":"+IF(AF374=\"\",\"\",VLOOKUP(AF374,Tabelas!$J$27:$K$30,2))","v":""}]
[null,null,null,null,null,null,{"$f":"+IF(F375=\"\",\"\",VLOOKUP(F375,Tabelas!$B$7:$C$96,2))","v":""},null,{"$f":"IF(H375=\"\",\"\",ROUND(H375/SUM(H370:H377),4))","v":""},null,null,null,null,null,null,{"$f":"+IF(O375=\"\",\"\",IF(N370=\"Transporte Marítimo\",VLOOKUP(O375,Tabelas!$F$7:$G$12,2),IF(N370=\"Transporte Aéreo\",VLOOKUP(O375,Tabelas!$F$16:$G$21,2),\"\")))","v":""},null,null,null,null,null,null,null,null,null,null,null,null,null,null,null,"",{"$f":"+IF(AF375=\"\",\"\",VLOOKUP(AF375,Tabelas!$J$27:$K$30,2))","v":""}]
[null,null,null,null,null,null,{"$f":"+IF(F376=\"\",\"\",VLOOKUP(F376,Tabelas!$B$7:$C$96,2))","v":""},null,{"$f":"IF(H376=\"\",\"\",ROUND(H376/SUM(H370:H377),4))","v":""},null,null,null,null,null,null,{"$f":"+IF(O376=\"\",\"\",IF(N370=\"Transporte Marítimo\",VLOOKUP(O376,Tabelas!$F$7:$G$12,2),IF(N370=\"Transporte Aéreo\",VLOOKUP(O376,Tabelas!$F$16:$G$21,2),\"\")))","v":""},null,null,null,null,null,null,null,null,null,null,null,null,null,null,null,"",{"$f":"+IF(AF376=\"\",\"\",VLOOKUP(AF376,Tabelas!$J$27:$K$30,2))","v":""}]
[null,null,null,null,null,null,{"$f":"+IF(F377=\"\",\"\",VLOOKUP(F377,Tabelas!$B$7:$C$96,2))","v":""},null,{"$f":"IF(H377=\"\",\"\",ROUND(H377/SUM(H370:H377),4))","v":""},null,null,null,null,null,null,{"$f":"+IF(O377=\"\",\"\",IF(N370=\"Transporte Marítimo\",VLOOKUP(O377,Tabelas!$F$7:$G$12,2),IF(N370=\"Transporte Aéreo\",VLOOKUP(O377,Tabelas!$F$16:$G$21,2),\"\")))","v":""},null,null,null,null,null,null,null,null,null,null,null,null,null,null,null,"",{"$f":"+IF(AF377=\"\",\"\",VLOOKUP(AF377,Tabelas!$J$27:$K$30,2))","v":""}]
[null,{"$f":"+B370+1","v":46},null,null,null,null,{"$f":"+IF(F378=\"\",\"\",VLOOKUP(F378,Tabelas!$B$7:$C$96,2))","v":""},null,{"$f":"IF(H378=\"\",\"\",1-SUM(I379:I385))","v":""},null,null,null,null,null,null,{"$f":"+IF(O378=\"\",\"\",IF(N378=\"Transporte Marítimo\",VLOOKUP(O378,Tabelas!$F$7:$G$12,2),IF(N378=\"Transporte Aéreo\",VLOOKUP(O378,Tabelas!$F$16:$G$21,2),\"\")))","v":""},null,null,null,null,null,null,null,null,null,null,null,null,null,null,null,"",{"$f":"+IF(AF378=\"\",\"\",VLOOKUP(AF378,Tabelas!$J$27:$K$30,2))","v":""},null,null,null,null,null,null,null,null,null,null,null,null,null,null,null," "]
[null,null,null,null,null,null,{"$f":"+IF(F379=\"\",\"\",VLOOKUP(F379,Tabelas!$B$7:$C$96,2))","v":""},null,{"$f":"IF(H379=\"\",\"\",ROUND(H379/SUM(H378:H385),4))","v":""},null,null,null,null,null,null,{"$f":"+IF(O379=\"\",\"\",IF(N378=\"Transporte Marítimo\",VLOOKUP(O379,Tabelas!$F$7:$G$12,2),IF(N378=\"Transporte Aéreo\",VLOOKUP(O379,Tabelas!$F$16:$G$21,2),\"\")))","v":""},null,null,null,null,null,null,null,null,null,null,null,null,null,null,null,"",{"$f":"+IF(AF379=\"\",\"\",VLOOKUP(AF379,Tabelas!$J$27:$K$30,2))","v":""}]
[null,null,null,null,null,null,{"$f":"+IF(F380=\"\",\"\",VLOOKUP(F380,Tabelas!$B$7:$C$96,2))","v":""},null,{"$f":"IF(H380=\"\",\"\",ROUND(H380/SUM(H378:H385),4))","v":""},null,null,null,null,null,null,{"$f":"+IF(O380=\"\",\"\",IF(N378=\"Transporte Marítimo\",VLOOKUP(O380,Tabelas!$F$7:$G$12,2),IF(N378=\"Transporte Aéreo\",VLOOKUP(O380,Tabelas!$F$16:$G$21,2),\"\")))","v":""},null,null,null,null,null,null,null,null,null,null,null,null,null,null,null,"",{"$f":"+IF(AF380=\"\",\"\",VLOOKUP(AF380,Tabelas!$J$27:$K$30,2))","v":""}]
[null,null,null,null,null,null,{"$f":"+IF(F381=\"\",\"\",VLOOKUP(F381,Tabelas!$B$7:$C$96,2))","v":""},null,{"$f":"IF(H381=\"\",\"\",ROUND(H381/SUM(H378:H385),4))","v":""},null,null,null,null,null,null,{"$f":"+IF(O381=\"\",\"\",IF(N378=\"Transporte Marítimo\",VLOOKUP(O381,Tabelas!$F$7:$G$12,2),IF(N378=\"Transporte Aéreo\",VLOOKUP(O381,Tabelas!$F$16:$G$21,2),\"\")))","v":""},null,null,null,null,null,null,null,null,null,null,null,null,null,null,null,"",{"$f":"+IF(AF381=\"\",\"\",VLOOKUP(AF381,Tabelas!$J$27:$K$30,2))","v":""}]
[null,null,null,null,null,null,{"$f":"+IF(F382=\"\",\"\",VLOOKUP(F382,Tabelas!$B$7:$C$96,2))","v":""},null,{"$f":"IF(H382=\"\",\"\",ROUND(H382/SUM(H378:H385),4))","v":""},null,null,null,null,null,null,{"$f":"+IF(O382=\"\",\"\",IF(N378=\"Transporte Marítimo\",VLOOKUP(O382,Tabelas!$F$7:$G$12,2),IF(N378=\"Transporte Aéreo\",VLOOKUP(O382,Tabelas!$F$16:$G$21,2),\"\")))","v":""},null,null,null,null,null,null,null,null,null,null,null,null,null,null,null,"",{"$f":"+IF(AF382=\"\",\"\",VLOOKUP(AF382,Tabelas!$J$27:$K$30,2))","v":""}]
[null,null,null,null,null,null,{"$f":"+IF(F383=\"\",\"\",VLOOKUP(F383,Tabelas!$B$7:$C$96,2))","v":""},null,{"$f":"IF(H383=\"\",\"\",ROUND(H383/SUM(H378:H385),4))","v":""},null,null,null,null,null,null,{"$f":"+IF(O383=\"\",\"\",IF(N378=\"Transporte Marítimo\",VLOOKUP(O383,Tabelas!$F$7:$G$12,2),IF(N378=\"Transporte Aéreo\",VLOOKUP(O383,Tabelas!$F$16:$G$21,2),\"\")))","v":""},null,null,null,null,null,null,null,null,null,null,null,null,null,null,null,"",{"$f":"+IF(AF383=\"\",\"\",VLOOKUP(AF383,Tabelas!$J$27:$K$30,2))","v":""}]
[null,null,null,null,null,null,{"$f":"+IF(F384=\"\",\"\",VLOOKUP(F384,Tabelas!$B$7:$C$96,2))","v":""},null,{"$f":"IF(H384=\"\",\"\",ROUND(H384/SUM(H378:H385),4))","v":""},null,null,null,null,null,null,{"$f":"+IF(O384=\"\",\"\",IF(N378=\"Transporte Marítimo\",VLOOKUP(O384,Tabelas!$F$7:$G$12,2),IF(N378=\"Transporte Aéreo\",VLOOKUP(O384,Tabelas!$F$16:$G$21,2),\"\")))","v":""},null,null,null,null,null,null,null,null,null,null,null,null,null,null,null,"",{"$f":"+IF(AF384=\"\",\"\",VLOOKUP(AF384,Tabelas!$J$27:$K$30,2))","v":""}]
[null,null,null,null,null,null,{"$f":"+IF(F385=\"\",\"\",VLOOKUP(F385,Tabelas!$B$7:$C$96,2))","v":""},null,{"$f":"IF(H385=\"\",\"\",ROUND(H385/SUM(H378:H385),4))","v":""},null,null,null,null,null,null,{"$f":"+IF(O385=\"\",\"\",IF(N378=\"Transporte Marítimo\",VLOOKUP(O385,Tabelas!$F$7:$G$12,2),IF(N378=\"Transporte Aéreo\",VLOOKUP(O385,Tabelas!$F$16:$G$21,2),\"\")))","v":""},null,null,null,null,null,null,null,null,null,null,null,null,null,null,null,"",{"$f":"+IF(AF385=\"\",\"\",VLOOKUP(AF385,Tabelas!$J$27:$K$30,2))","v":""}]
[null,{"$f":"+B378+1","v":47},null,null,null,null,{"$f":"+IF(F386=\"\",\"\",VLOOKUP(F386,Tabelas!$B$7:$C$96,2))","v":""},null,{"$f":"IF(H386=\"\",\"\",1-SUM(I387:I393))","v":""},null,null,null,null,null,null,{"$f":"+IF(O386=\"\",\"\",IF(N386=\"Transporte Marítimo\",VLOOKUP(O386,Tabelas!$F$7:$G$12,2),IF(N386=\"Transporte Aéreo\",VLOOKUP(O386,Tabelas!$F$16:$G$21,2),\"\")))","v":""},null,null,null,null,null,null,null,null,null,null,null,null,null,null,null,"",{"$f":"+IF(AF386=\"\",\"\",VLOOKUP(AF386,Tabelas!$J$27:$K$30,2))","v":""},null,null,null,null,null,null,null,null,null,null,null,null,null,null,null," "]
[null,null,null,null,null,null,{"$f":"+IF(F387=\"\",\"\",VLOOKUP(F387,Tabelas!$B$7:$C$96,2))","v":""},null,{"$f":"IF(H387=\"\",\"\",ROUND(H387/SUM(H386:H393),4))","v":""},null,null,null,null,null,null,{"$f":"+IF(O387=\"\",\"\",IF(N386=\"Transporte Marítimo\",VLOOKUP(O387,Tabelas!$F$7:$G$12,2),IF(N386=\"Transporte Aéreo\",VLOOKUP(O387,Tabelas!$F$16:$G$21,2),\"\")))","v":""},null,null,null,null,null,null,null,null,null,null,null,null,null,null,null,"",{"$f":"+IF(AF387=\"\",\"\",VLOOKUP(AF387,Tabelas!$J$27:$K$30,2))","v":""}]
[null,null,null,null,null,null,{"$f":"+IF(F388=\"\",\"\",VLOOKUP(F388,Tabelas!$B$7:$C$96,2))","v":""},null,{"$f":"IF(H388=\"\",\"\",ROUND(H388/SUM(H386:H393),4))","v":""},null,null,null,null,null,null,{"$f":"+IF(O388=\"\",\"\",IF(N386=\"Transporte Marítimo\",VLOOKUP(O388,Tabelas!$F$7:$G$12,2),IF(N386=\"Transporte Aéreo\",VLOOKUP(O388,Tabelas!$F$16:$G$21,2),\"\")))","v":""},null,null,null,null,null,null,null,null,null,null,null,null,null,null,null,"",{"$f":"+IF(AF388=\"\",\"\",VLOOKUP(AF388,Tabelas!$J$27:$K$30,2))","v":""}]
[null,null,null,null,null,null,{"$f":"+IF(F389=\"\",\"\",VLOOKUP(F389,Tabelas!$B$7:$C$96,2))","v":""},null,{"$f":"IF(H389=\"\",\"\",ROUND(H389/SUM(H386:H393),4))","v":""},null,null,null,null,null,null,{"$f":"+IF(O389=\"\",\"\",IF(N386=\"Transporte Marítimo\",VLOOKUP(O389,Tabelas!$F$7:$G$12,2),IF(N386=\"Transporte Aéreo\",VLOOKUP(O389,Tabelas!$F$16:$G$21,2),\"\")))","v":""},null,null,null,null,null,null,null,null,null,null,null,null,null,null,null,"",{"$f":"+IF(AF389=\"\",\"\",VLOOKUP(AF389,Tabelas!$J$27:$K$30,2))","v":""}]
[null,null,null,null,null,null,{"$f":"+IF(F390=\"\",\"\",VLOOKUP(F390,Tabelas!$B$7:$C$96,2))","v":""},null,{"$f":"IF(H390=\"\",\"\",ROUND(H390/SUM(H386:H393),4))","v":""},null,null,null,null,null,null,{"$f":"+IF(O390=\"\",\"\",IF(N386=\"Transporte Marítimo\",VLOOKUP(O390,Tabelas!$F$7:$G$12,2),IF(N386=\"Transporte Aéreo\",VLOOKUP(O390,Tabelas!$F$16:$G$21,2),\"\")))","v":""},null,null,null,null,null,null,null,null,null,null,null,null,null,null,null,"",{"$f":"+IF(AF390=\"\",\"\",VLOOKUP(AF390,Tabelas!$J$27:$K$30,2))","v":""}]
[null,null,null,null,null,null,{"$f":"+IF(F391=\"\",\"\",VLOOKUP(F391,Tabelas!$B$7:$C$96,2))","v":""},null,{"$f":"IF(H391=\"\",\"\",ROUND(H391/SUM(H386:H393),4))","v":""},null,null,null,null,null,null,{"$f":"+IF(O391=\"\",\"\",IF(N386=\"Transporte Marítimo\",VLOOKUP(O391,Tabelas!$F$7:$G$12,2),IF(N386=\"Transporte Aéreo\",VLOOKUP(O391,Tabelas!$F$16:$G$21,2),\"\")))","v":""},null,null,null,null,null,null,null,null,null,null,null,null,null,null,null,"",{"$f":"+IF(AF391=\"\",\"\",VLOOKUP(AF391,Tabelas!$J$27:$K$30,2))","v":""}]
[null,null,null,null,null,null,{"$f":"+IF(F392=\"\",\"\",VLOOKUP(F392,Tabelas!$B$7:$C$96,2))","v":""},null,{"$f":"IF(H392=\"\",\"\",ROUND(H392/SUM(H386:H393),4))","v":""},null,null,null,null,null,null,{"$f":"+IF(O392=\"\",\"\",IF(N386=\"Transporte Marítimo\",VLOOKUP(O392,Tabelas!$F$7:$G$12,2),IF(N386=\"Transporte Aéreo\",VLOOKUP(O392,Tabelas!$F$16:$G$21,2),\"\")))","v":""},null,null,null,null,null,null,null,null,null,null,null,null,null,null,null,"",{"$f":"+IF(AF392=\"\",\"\",VLOOKUP(AF392,Tabelas!$J$27:$K$30,2))","v":""}]
[null,null,null,null,null,null,{"$f":"+IF(F393=\"\",\"\",VLOOKUP(F393,Tabelas!$B$7:$C$96,2))","v":""},null,{"$f":"IF(H393=\"\",\"\",ROUND(H393/SUM(H386:H393),4))","v":""},null,null,null,null,null,null,{"$f":"+IF(O393=\"\",\"\",IF(N386=\"Transporte Marítimo\",VLOOKUP(O393,Tabelas!$F$7:$G$12,2),IF(N386=\"Transporte Aéreo\",VLOOKUP(O393,Tabelas!$F$16:$G$21,2),\"\")))","v":""},null,null,null,null,null,null,null,null,null,null,null,null,null,null,null,"",{"$f":"+IF(AF393=\"\",\"\",VLOOKUP(AF393,Tabelas!$J$27:$K$30,2))","v":""}]
[null,{"$f":"+B386+1","v":48},null,null,null,null,{"$f":"+IF(F394=\"\",\"\",VLOOKUP(F394,Tabelas!$B$7:$C$96,2))","v":""},null,{"$f":"IF(H394=\"\",\"\",1-SUM(I395:I401))","v":""},null,null,null,null,null,null,{"$f":"+IF(O394=\"\",\"\",IF(N394=\"Transporte Marítimo\",VLOOKUP(O394,Tabelas!$F$7:$G$12,2),IF(N394=\"Transporte Aéreo\",VLOOKUP(O394,Tabelas!$F$16:$G$21,2),\"\")))","v":""},null,null,null,null,null,null,null,null,null,null,null,null,null,null,null,"",{"$f":"+IF(AF394=\"\",\"\",VLOOKUP(AF394,Tabelas!$J$27:$K$30,2))","v":""},null,null,null,null,null,null,null,null,null,null,null,null,null,null,null," "]
[null,null,null,null,null,null,{"$f":"+IF(F395=\"\",\"\",VLOOKUP(F395,Tabelas!$B$7:$C$96,2))","v":""},null,{"$f":"IF(H395=\"\",\"\",ROUND(H395/SUM(H394:H401),4))","v":""},null,null,null,null,null,null,{"$f":"+IF(O395=\"\",\"\",IF(N394=\"Transporte Marítimo\",VLOOKUP(O395,Tabelas!$F$7:$G$12,2),IF(N394=\"Transporte Aéreo\",VLOOKUP(O395,Tabelas!$F$16:$G$21,2),\"\")))","v":""},null,null,null,null,null,null,null,null,null,null,null,null,null,null,null,"",{"$f":"+IF(AF395=\"\",\"\",VLOOKUP(AF395,Tabelas!$J$27:$K$30,2))","v":""}]
[null,null,null,null,null,null,{"$f":"+IF(F396=\"\",\"\",VLOOKUP(F396,Tabelas!$B$7:$C$96,2))","v":""},null,{"$f":"IF(H396=\"\",\"\",ROUND(H396/SUM(H394:H401),4))","v":""},null,null,null,null,null,null,{"$f":"+IF(O396=\"\",\"\",IF(N394=\"Transporte Marítimo\",VLOOKUP(O396,Tabelas!$F$7:$G$12,2),IF(N394=\"Transporte Aéreo\",VLOOKUP(O396,Tabelas!$F$16:$G$21,2),\"\")))","v":""},null,null,null,null,null,null,null,null,null,null,null,null,null,null,null,"",{"$f":"+IF(AF396=\"\",\"\",VLOOKUP(AF396,Tabelas!$J$27:$K$30,2))","v":""}]
[null,null,null,null,null,null,{"$f":"+IF(F397=\"\",\"\",VLOOKUP(F397,Tabelas!$B$7:$C$96,2))","v":""},null,{"$f":"IF(H397=\"\",\"\",ROUND(H397/SUM(H394:H401),4))","v":""},null,null,null,null,null,null,{"$f":"+IF(O397=\"\",\"\",IF(N394=\"Transporte Marítimo\",VLOOKUP(O397,Tabelas!$F$7:$G$12,2),IF(N394=\"Transporte Aéreo\",VLOOKUP(O397,Tabelas!$F$16:$G$21,2),\"\")))","v":""},null,null,null,null,null,null,null,null,null,null,null,null,null,null,null,"",{"$f":"+IF(AF397=\"\",\"\",VLOOKUP(AF397,Tabelas!$J$27:$K$30,2))","v":""}]
[null,null,null,null,null,null,{"$f":"+IF(F398=\"\",\"\",VLOOKUP(F398,Tabelas!$B$7:$C$96,2))","v":""},null,{"$f":"IF(H398=\"\",\"\",ROUND(H398/SUM(H394:H401),4))","v":""},null,null,null,null,null,null,{"$f":"+IF(O398=\"\",\"\",IF(N394=\"Transporte Marítimo\",VLOOKUP(O398,Tabelas!$F$7:$G$12,2),IF(N394=\"Transporte Aéreo\",VLOOKUP(O398,Tabelas!$F$16:$G$21,2),\"\")))","v":""},null,null,null,null,null,null,null,null,null,null,null,null,null,null,null,"",{"$f":"+IF(AF398=\"\",\"\",VLOOKUP(AF398,Tabelas!$J$27:$K$30,2))","v":""}]
[null,null,null,null,null,null,{"$f":"+IF(F399=\"\",\"\",VLOOKUP(F399,Tabelas!$B$7:$C$96,2))","v":""},null,{"$f":"IF(H399=\"\",\"\",ROUND(H399/SUM(H394:H401),4))","v":""},null,null,null,null,null,null,{"$f":"+IF(O399=\"\",\"\",IF(N394=\"Transporte Marítimo\",VLOOKUP(O399,Tabelas!$F$7:$G$12,2),IF(N394=\"Transporte Aéreo\",VLOOKUP(O399,Tabelas!$F$16:$G$21,2),\"\")))","v":""},null,null,null,null,null,null,null,null,null,null,null,null,null,null,null,"",{"$f":"+IF(AF399=\"\",\"\",VLOOKUP(AF399,Tabelas!$J$27:$K$30,2))","v":""}]
[null,null,null,null,null,null,{"$f":"+IF(F400=\"\",\"\",VLOOKUP(F400,Tabelas!$B$7:$C$96,2))","v":""},null,{"$f":"IF(H400=\"\",\"\",ROUND(H400/SUM(H394:H401),4))","v":""},null,null,null,null,null,null,{"$f":"+IF(O400=\"\",\"\",IF(N394=\"Transporte Marítimo\",VLOOKUP(O400,Tabelas!$F$7:$G$12,2),IF(N394=\"Transporte Aéreo\",VLOOKUP(O400,Tabelas!$F$16:$G$21,2),\"\")))","v":""},null,null,null,null,null,null,null,null,null,null,null,null,null,null,null,"",{"$f":"+IF(AF400=\"\",\"\",VLOOKUP(AF400,Tabelas!$J$27:$K$30,2))","v":""}]
[null,null,null,null,null,null,{"$f":"+IF(F401=\"\",\"\",VLOOKUP(F401,Tabelas!$B$7:$C$96,2))","v":""},null,{"$f":"IF(H401=\"\",\"\",ROUND(H401/SUM(H394:H401),4))","v":""},null,null,null,null,null,null,{"$f":"+IF(O401=\"\",\"\",IF(N394=\"Transporte Marítimo\",VLOOKUP(O401,Tabelas!$F$7:$G$12,2),IF(N394=\"Transporte Aéreo\",VLOOKUP(O401,Tabelas!$F$16:$G$21,2),\"\")))","v":""},null,null,null,null,null,null,null,null,null,null,null,null,null,null,null,"",{"$f":"+IF(AF401=\"\",\"\",VLOOKUP(AF401,Tabelas!$J$27:$K$30,2))","v":""}]
[null,{"$f":"+B394+1","v":49},null,null,null,null,{"$f":"+IF(F402=\"\",\"\",VLOOKUP(F402,Tabelas!$B$7:$C$96,2))","v":""},null,{"$f":"IF(H402=\"\",\"\",1-SUM(I403:I409))","v":""},null,null,null,null,null,null,{"$f":"+IF(O402=\"\",\"\",IF(N402=\"Transporte Marítimo\",VLOOKUP(O402,Tabelas!$F$7:$G$12,2),IF(N402=\"Transporte Aéreo\",VLOOKUP(O402,Tabelas!$F$16:$G$21,2),\"\")))","v":""},null,null,null,null,null,null,null,null,null,null,null,null,null,null,null,"",{"$f":"+IF(AF402=\"\",\"\",VLOOKUP(AF402,Tabelas!$J$27:$K$30,2))","v":""},null,null,null,null,null,null,null,null,null,null,null,null,null,null,null," "]
[null,null,null,null,null,null,{"$f":"+IF(F403=\"\",\"\",VLOOKUP(F403,Tabelas!$B$7:$C$96,2))","v":""},null,{"$f":"IF(H403=\"\",\"\",ROUND(H403/SUM(H402:H409),4))","v":""},null,null,null,null,null,null,{"$f":"+IF(O403=\"\",\"\",IF(N402=\"Transporte Marítimo\",VLOOKUP(O403,Tabelas!$F$7:$G$12,2),IF(N402=\"Transporte Aéreo\",VLOOKUP(O403,Tabelas!$F$16:$G$21,2),\"\")))","v":""},null,null,null,null,null,null,null,null,null,null,null,null,null,null,null,{"$f":"+IF(AE403=\"20NL\",1,IF(AE403=\"40NL\",2,IF(AE403=\"20RF\",3,IF(AE403=\"40RF\",4,\"\"))))","v":""},{"$f":"+IF(AF403=\"\",\"\",VLOOKUP(AF403,Tabelas!$J$27:$K$30,2))","v":""}]
[null,null,null,null,null,null,{"$f":"+IF(F404=\"\",\"\",VLOOKUP(F404,Tabelas!$B$7:$C$96,2))","v":""},null,{"$f":"IF(H404=\"\",\"\",ROUND(H404/SUM(H402:H409),4))","v":""},null,null,null,null,null,null,{"$f":"+IF(O404=\"\",\"\",IF(N402=\"Transporte Marítimo\",VLOOKUP(O404,Tabelas!$F$7:$G$12,2),IF(N402=\"Transporte Aéreo\",VLOOKUP(O404,Tabelas!$F$16:$G$21,2),\"\")))","v":""},null,null,null,null,null,null,null,null,null,null,null,null,null,null,null,"",{"$f":"+IF(AF404=\"\",\"\",VLOOKUP(AF404,Tabelas!$J$27:$K$30,2))","v":""}]
[null,null,null,null,null,null,{"$f":"+IF(F405=\"\",\"\",VLOOKUP(F405,Tabelas!$B$7:$C$96,2))","v":""},null,{"$f":"IF(H405=\"\",\"\",ROUND(H405/SUM(H402:H409),4))","v":""},null,null,null,null,null,null,{"$f":"+IF(O405=\"\",\"\",IF(N402=\"Transporte Marítimo\",VLOOKUP(O405,Tabelas!$F$7:$G$12,2),IF(N402=\"Transporte Aéreo\",VLOOKUP(O405,Tabelas!$F$16:$G$21,2),\"\")))","v":""},null,null,null,null,null,null,null,null,null,null,null,null,null,null,null,"",{"$f":"+IF(AF405=\"\",\"\",VLOOKUP(AF405,Tabelas!$J$27:$K$30,2))","v":""}]
[null,null,null,null,null,null,{"$f":"+IF(F406=\"\",\"\",VLOOKUP(F406,Tabelas!$B$7:$C$96,2))","v":""},null,{"$f":"IF(H406=\"\",\"\",ROUND(H406/SUM(H402:H409),4))","v":""},null,null,null,null,null,null,{"$f":"+IF(O406=\"\",\"\",IF(N402=\"Transporte Marítimo\",VLOOKUP(O406,Tabelas!$F$7:$G$12,2),IF(N402=\"Transporte Aéreo\",VLOOKUP(O406,Tabelas!$F$16:$G$21,2),\"\")))","v":""},null,null,null,null,null,null,null,null,null,null,null,null,null,null,null,"",{"$f":"+IF(AF406=\"\",\"\",VLOOKUP(AF406,Tabelas!$J$27:$K$30,2))","v":""}]
[null,null,null,null,null,null,{"$f":"+IF(F407=\"\",\"\",VLOOKUP(F407,Tabelas!$B$7:$C$96,2))","v":""},null,{"$f":"IF(H407=\"\",\"\",ROUND(H407/SUM(H402:H409),4))","v":""},null,null,null,null,null,null,{"$f":"+IF(O407=\"\",\"\",IF(N402=\"Transporte Marítimo\",VLOOKUP(O407,Tabelas!$F$7:$G$12,2),IF(N402=\"Transporte Aéreo\",VLOOKUP(O407,Tabelas!$F$16:$G$21,2),\"\")))","v":""},null,null,null,null,null,null,null,null,null,null,null,null,null,null,null,"",{"$f":"+IF(AF407=\"\",\"\",VLOOKUP(AF407,Tabelas!$J$27:$K$30,2))","v":""}]
[null,null,null,null,null,null,{"$f":"+IF(F408=\"\",\"\",VLOOKUP(F408,Tabelas!$B$7:$C$96,2))","v":""},null,{"$f":"IF(H408=\"\",\"\",ROUND(H408/SUM(H402:H409),4))","v":""},null,null,null,null,null,null,{"$f":"+IF(O408=\"\",\"\",IF(N402=\"Transporte Marítimo\",VLOOKUP(O408,Tabelas!$F$7:$G$12,2),IF(N402=\"Transporte Aéreo\",VLOOKUP(O408,Tabelas!$F$16:$G$21,2),\"\")))","v":""},null,null,null,null,null,null,null,null,null,null,null,null,null,null,null,"",{"$f":"+IF(AF408=\"\",\"\",VLOOKUP(AF408,Tabelas!$J$27:$K$30,2))","v":""}]
[null,null,null,null,null,null,{"$f":"+IF(F409=\"\",\"\",VLOOKUP(F409,Tabelas!$B$7:$C$96,2))","v":""},null,{"$f":"IF(H409=\"\",\"\",ROUND(H409/SUM(H402:H409),4))","v":""},null,null,null,null,null,null,{"$f":"+IF(O409=\"\",\"\",IF(N402=\"Transporte Marítimo\",VLOOKUP(O409,Tabelas!$F$7:$G$12,2),IF(N402=\"Transporte Aéreo\",VLOOKUP(O409,Tabelas!$F$16:$G$21,2),\"\")))","v":""},null,null,null,null,null,null,null,null,null,null,null,null,null,null,null,"",{"$f":"+IF(AF409=\"\",\"\",VLOOKUP(AF409,Tabelas!$J$27:$K$30,2))","v":""}]
[null,{"$f":"+B402+1","v":50},null,null,null,null,{"$f":"+IF(F410=\"\",\"\",VLOOKUP(F410,Tabelas!$B$7:$C$96,2))","v":""},null,{"$f":"IF(H410=\"\",\"\",1-SUM(I411:I417))","v":""},null,null,null,null,null,null,{"$f":"+IF(O410=\"\",\"\",IF(N410=\"Transporte Marítimo\",VLOOKUP(O410,Tabelas!$F$7:$G$12,2),IF(N410=\"Transporte Aéreo\",VLOOKUP(O410,Tabelas!$F$16:$G$21,2),\"\")))","v":""},null,null,null,null,null,null,null,null,null,null,null,null,null,null,null,"",{"$f":"+IF(AF410=\"\",\"\",VLOOKUP(AF410,Tabelas!$J$27:$K$30,2))","v":""},null,null,null,null,null,null,null,null,null,null,null,null,null,null,null," "]
[null,null,null,null,null,null,{"$f":"+IF(F411=\"\",\"\",VLOOKUP(F411,Tabelas!$B$7:$C$96,2))","v":""},null,{"$f":"IF(H411=\"\",\"\",ROUND(H411/SUM(H410:H417),4))","v":""},null,null,null,null,null,null,{"$f":"+IF(O411=\"\",\"\",IF(N410=\"Transporte Marítimo\",VLOOKUP(O411,Tabelas!$F$7:$G$12,2),IF(N410=\"Transporte Aéreo\",VLOOKUP(O411,Tabelas!$F$16:$G$21,2),\"\")))","v":""},null,null,null,null,null,null,null,null,null,null,null,null,null,null,null,"",{"$f":"+IF(AF411=\"\",\"\",VLOOKUP(AF411,Tabelas!$J$27:$K$30,2))","v":""}]
[null,null,null,null,null,null,{"$f":"+IF(F412=\"\",\"\",VLOOKUP(F412,Tabelas!$B$7:$C$96,2))","v":""},null,{"$f":"IF(H412=\"\",\"\",ROUND(H412/SUM(H410:H417),4))","v":""},null,null,null,null,null,null,{"$f":"+IF(O412=\"\",\"\",IF(N410=\"Transporte Marítimo\",VLOOKUP(O412,Tabelas!$F$7:$G$12,2),IF(N410=\"Transporte Aéreo\",VLOOKUP(O412,Tabelas!$F$16:$G$21,2),\"\")))","v":""},null,null,null,null,null,null,null,null,null,null,null,null,null,null,null,"",{"$f":"+IF(AF412=\"\",\"\",VLOOKUP(AF412,Tabelas!$J$27:$K$30,2))","v":""}]
[null,null,null,null,null,null,{"$f":"+IF(F413=\"\",\"\",VLOOKUP(F413,Tabelas!$B$7:$C$96,2))","v":""},null,{"$f":"IF(H413=\"\",\"\",ROUND(H413/SUM(H410:H417),4))","v":""},null,null,null,null,null,null,{"$f":"+IF(O413=\"\",\"\",IF(N410=\"Transporte Marítimo\",VLOOKUP(O413,Tabelas!$F$7:$G$12,2),IF(N410=\"Transporte Aéreo\",VLOOKUP(O413,Tabelas!$F$16:$G$21,2),\"\")))","v":""},null,null,null,null,null,null,null,null,null,null,null,null,null,null,null,"",{"$f":"+IF(AF413=\"\",\"\",VLOOKUP(AF413,Tabelas!$J$27:$K$30,2))","v":""}]
[null,null,null,null,null,null,{"$f":"+IF(F414=\"\",\"\",VLOOKUP(F414,Tabelas!$B$7:$C$96,2))","v":""},null,{"$f":"IF(H414=\"\",\"\",ROUND(H414/SUM(H410:H417),4))","v":""},null,null,null,null,null,null,{"$f":"+IF(O414=\"\",\"\",IF(N410=\"Transporte Marítimo\",VLOOKUP(O414,Tabelas!$F$7:$G$12,2),IF(N410=\"Transporte Aéreo\",VLOOKUP(O414,Tabelas!$F$16:$G$21,2),\"\")))","v":""},null,null,null,null,null,null,null,null,null,null,null,null,null,null,null,"",{"$f":"+IF(AF414=\"\",\"\",VLOOKUP(AF414,Tabelas!$J$27:$K$30,2))","v":""}]
[null,null,null,null,null,null,{"$f":"+IF(F415=\"\",\"\",VLOOKUP(F415,Tabelas!$B$7:$C$96,2))","v":""},null,{"$f":"IF(H415=\"\",\"\",ROUND(H415/SUM(H410:H417),4))","v":""},null,null,null,null,null,null,{"$f":"+IF(O415=\"\",\"\",IF(N410=\"Transporte Marítimo\",VLOOKUP(O415,Tabelas!$F$7:$G$12,2),IF(N410=\"Transporte Aéreo\",VLOOKUP(O415,Tabelas!$F$16:$G$21,2),\"\")))","v":""},null,null,null,null,null,null,null,null,null,null,null,null,null,null,null,"",{"$f":"+IF(AF415=\"\",\"\",VLOOKUP(AF415,Tabelas!$J$27:$K$30,2))","v":""}]
[null,null,null,null,null,null,{"$f":"+IF(F416=\"\",\"\",VLOOKUP(F416,Tabelas!$B$7:$C$96,2))","v":""},null,{"$f":"IF(H416=\"\",\"\",ROUND(H416/SUM(H410:H417),4))","v":""},null,null,null,null,null,null,{"$f":"+IF(O416=\"\",\"\",IF(N410=\"Transporte Marítimo\",VLOOKUP(O416,Tabelas!$F$7:$G$12,2),IF(N410=\"Transporte Aéreo\",VLOOKUP(O416,Tabelas!$F$16:$G$21,2),\"\")))","v":""},null,null,null,null,null,null,null,null,null,null,null,null,null,null,null,"",{"$f":"+IF(AF416=\"\",\"\",VLOOKUP(AF416,Tabelas!$J$27:$K$30,2))","v":""}]
[null,null,null,null,null,null,{"$f":"+IF(F417=\"\",\"\",VLOOKUP(F417,Tabelas!$B$7:$C$96,2))","v":""},null,{"$f":"IF(H417=\"\",\"\",ROUND(H417/SUM(H410:H417),4))","v":""},null,null,null,null,null,null,{"$f":"+IF(O417=\"\",\"\",IF(N410=\"Transporte Marítimo\",VLOOKUP(O417,Tabelas!$F$7:$G$12,2),IF(N410=\"Transporte Aéreo\",VLOOKUP(O417,Tabelas!$F$16:$G$21,2),\"\")))","v":""},null,null,null,null,null,null,null,null,null,null,null,null,null,null,null,"",{"$f":"+IF(AF417=\"\",\"\",VLOOKUP(AF417,Tabelas!$J$27:$K$30,2))","v":""}]
[null,{"$f":"+B410+1","v":51},null,null,null,null,{"$f":"+IF(F418=\"\",\"\",VLOOKUP(F418,Tabelas!$B$7:$C$96,2))","v":""},null,{"$f":"IF(H418=\"\",\"\",1-SUM(I419:I425))","v":""},null,null,null,null,null,null,{"$f":"+IF(O418=\"\",\"\",IF(N418=\"Transporte Marítimo\",VLOOKUP(O418,Tabelas!$F$7:$G$12,2),IF(N418=\"Transporte Aéreo\",VLOOKUP(O418,Tabelas!$F$16:$G$21,2),\"\")))","v":""},null,null,null,null,null,null,null,null,null,null,null,null,null,null,null,"",{"$f":"+IF(AF418=\"\",\"\",VLOOKUP(AF418,Tabelas!$J$27:$K$30,2))","v":""},null,null,null,null,null,null,null,null,null,null,null,null,null,null,null," "]
[null,null,null,null,null,null,{"$f":"+IF(F419=\"\",\"\",VLOOKUP(F419,Tabelas!$B$7:$C$96,2))","v":""},null,{"$f":"IF(H419=\"\",\"\",ROUND(H419/SUM(H418:H425),4))","v":""},null,null,null,null,null,null,{"$f":"+IF(O419=\"\",\"\",IF(N418=\"Transporte Marítimo\",VLOOKUP(O419,Tabelas!$F$7:$G$12,2),IF(N418=\"Transporte Aéreo\",VLOOKUP(O419,Tabelas!$F$16:$G$21,2),\"\")))","v":""},null,null,null,null,null,null,null,null,null,null,null,null,null,null,null,"",{"$f":"+IF(AF419=\"\",\"\",VLOOKUP(AF419,Tabelas!$J$27:$K$30,2))","v":""}]
[null,null,null,null,null,null,{"$f":"+IF(F420=\"\",\"\",VLOOKUP(F420,Tabelas!$B$7:$C$96,2))","v":""},null,{"$f":"IF(H420=\"\",\"\",ROUND(H420/SUM(H418:H425),4))","v":""},null,null,null,null,null,null,{"$f":"+IF(O420=\"\",\"\",IF(N418=\"Transporte Marítimo\",VLOOKUP(O420,Tabelas!$F$7:$G$12,2),IF(N418=\"Transporte Aéreo\",VLOOKUP(O420,Tabelas!$F$16:$G$21,2),\"\")))","v":""},null,null,null,null,null,null,null,null,null,null,null,null,null,null,null,"",{"$f":"+IF(AF420=\"\",\"\",VLOOKUP(AF420,Tabelas!$J$27:$K$30,2))","v":""}]
[null,null,null,null,null,null,{"$f":"+IF(F421=\"\",\"\",VLOOKUP(F421,Tabelas!$B$7:$C$96,2))","v":""},null,{"$f":"IF(H421=\"\",\"\",ROUND(H421/SUM(H418:H425),4))","v":""},null,null,null,null,null,null,{"$f":"+IF(O421=\"\",\"\",IF(N418=\"Transporte Marítimo\",VLOOKUP(O421,Tabelas!$F$7:$G$12,2),IF(N418=\"Transporte Aéreo\",VLOOKUP(O421,Tabelas!$F$16:$G$21,2),\"\")))","v":""},null,null,null,null,null,null,null,null,null,null,null,null,null,null,null,"",{"$f":"+IF(AF421=\"\",\"\",VLOOKUP(AF421,Tabelas!$J$27:$K$30,2))","v":""}]
[null,null,null,null,null,null,{"$f":"+IF(F422=\"\",\"\",VLOOKUP(F422,Tabelas!$B$7:$C$96,2))","v":""},null,{"$f":"IF(H422=\"\",\"\",ROUND(H422/SUM(H418:H425),4))","v":""},null,null,null,null,null,null,{"$f":"+IF(O422=\"\",\"\",IF(N418=\"Transporte Marítimo\",VLOOKUP(O422,Tabelas!$F$7:$G$12,2),IF(N418=\"Transporte Aéreo\",VLOOKUP(O422,Tabelas!$F$16:$G$21,2),\"\")))","v":""},null,null,null,null,null,null,null,null,null,null,null,null,null,null,null,"",{"$f":"+IF(AF422=\"\",\"\",VLOOKUP(AF422,Tabelas!$J$27:$K$30,2))","v":""}]
[null,null,null,null,null,null,{"$f":"+IF(F423=\"\",\"\",VLOOKUP(F423,Tabelas!$B$7:$C$96,2))","v":""},null,{"$f":"IF(H423=\"\",\"\",ROUND(H423/SUM(H418:H425),4))","v":""},null,null,null,null,null,null,{"$f":"+IF(O423=\"\",\"\",IF(N418=\"Transporte Marítimo\",VLOOKUP(O423,Tabelas!$F$7:$G$12,2),IF(N418=\"Transporte Aéreo\",VLOOKUP(O423,Tabelas!$F$16:$G$21,2),\"\")))","v":""},null,null,null,null,null,null,null,null,null,null,null,null,null,null,null,"",{"$f":"+IF(AF423=\"\",\"\",VLOOKUP(AF423,Tabelas!$J$27:$K$30,2))","v":""}]
[null,null,null,null,null,null,{"$f":"+IF(F424=\"\",\"\",VLOOKUP(F424,Tabelas!$B$7:$C$96,2))","v":""},null,{"$f":"IF(H424=\"\",\"\",ROUND(H424/SUM(H418:H425),4))","v":""},null,null,null,null,null,null,{"$f":"+IF(O424=\"\",\"\",IF(N418=\"Transporte Marítimo\",VLOOKUP(O424,Tabelas!$F$7:$G$12,2),IF(N418=\"Transporte Aéreo\",VLOOKUP(O424,Tabelas!$F$16:$G$21,2),\"\")))","v":""},null,null,null,null,null,null,null,null,null,null,null,null,null,null,null,"",{"$f":"+IF(AF424=\"\",\"\",VLOOKUP(AF424,Tabelas!$J$27:$K$30,2))","v":""}]
[null,null,null,null,null,null,{"$f":"+IF(F425=\"\",\"\",VLOOKUP(F425,Tabelas!$B$7:$C$96,2))","v":""},null,{"$f":"IF(H425=\"\",\"\",ROUND(H425/SUM(H418:H425),4))","v":""},null,null,null,null,null,null,{"$f":"+IF(O425=\"\",\"\",IF(N418=\"Transporte Marítimo\",VLOOKUP(O425,Tabelas!$F$7:$G$12,2),IF(N418=\"Transporte Aéreo\",VLOOKUP(O425,Tabelas!$F$16:$G$21,2),\"\")))","v":""},null,null,null,null,null,null,null,null,null,null,null,null,null,null,null,"",{"$f":"+IF(AF425=\"\",\"\",VLOOKUP(AF425,Tabelas!$J$27:$K$30,2))","v":""}]
[null,{"$f":"+B418+1","v":52},null,null,null,null,{"$f":"+IF(F426=\"\",\"\",VLOOKUP(F426,Tabelas!$B$7:$C$96,2))","v":""},null,{"$f":"IF(H426=\"\",\"\",1-SUM(I427:I433))","v":""},null,null,null,null,null,null,{"$f":"+IF(O426=\"\",\"\",IF(N426=\"Transporte Marítimo\",VLOOKUP(O426,Tabelas!$F$7:$G$12,2),IF(N426=\"Transporte Aéreo\",VLOOKUP(O426,Tabelas!$F$16:$G$21,2),\"\")))","v":""},null,null,null,null,null,null,null,null,null,null,null,null,null,null,null,"",{"$f":"+IF(AF426=\"\",\"\",VLOOKUP(AF426,Tabelas!$J$27:$K$30,2))","v":""},null,null,null,null,null,null,null,null,null,null,null,null,null,null,null," "]
[null,null,null,null,null,null,{"$f":"+IF(F427=\"\",\"\",VLOOKUP(F427,Tabelas!$B$7:$C$96,2))","v":""},null,{"$f":"IF(H427=\"\",\"\",ROUND(H427/SUM(H426:H433),4))","v":""},null,null,null,null,null,null,{"$f":"+IF(O427=\"\",\"\",IF(N426=\"Transporte Marítimo\",VLOOKUP(O427,Tabelas!$F$7:$G$12,2),IF(N426=\"Transporte Aéreo\",VLOOKUP(O427,Tabelas!$F$16:$G$21,2),\"\")))","v":""},null,null,null,null,null,null,null,null,null,null,null,null,null,null,null,"",{"$f":"+IF(AF427=\"\",\"\",VLOOKUP(AF427,Tabelas!$J$27:$K$30,2))","v":""}]
[null,null,null,null,null,null,{"$f":"+IF(F428=\"\",\"\",VLOOKUP(F428,Tabelas!$B$7:$C$96,2))","v":""},null,{"$f":"IF(H428=\"\",\"\",ROUND(H428/SUM(H426:H433),4))","v":""},null,null,null,null,null,null,{"$f":"+IF(O428=\"\",\"\",IF(N426=\"Transporte Marítimo\",VLOOKUP(O428,Tabelas!$F$7:$G$12,2),IF(N426=\"Transporte Aéreo\",VLOOKUP(O428,Tabelas!$F$16:$G$21,2),\"\")))","v":""},null,null,null,null,null,null,null,null,null,null,null,null,null,null,null,"",{"$f":"+IF(AF428=\"\",\"\",VLOOKUP(AF428,Tabelas!$J$27:$K$30,2))","v":""}]
[null,null,null,null,null,null,{"$f":"+IF(F429=\"\",\"\",VLOOKUP(F429,Tabelas!$B$7:$C$96,2))","v":""},null,{"$f":"IF(H429=\"\",\"\",ROUND(H429/SUM(H426:H433),4))","v":""},null,null,null,null,null,null,{"$f":"+IF(O429=\"\",\"\",IF(N426=\"Transporte Marítimo\",VLOOKUP(O429,Tabelas!$F$7:$G$12,2),IF(N426=\"Transporte Aéreo\",VLOOKUP(O429,Tabelas!$F$16:$G$21,2),\"\")))","v":""},null,null,null,null,null,null,null,null,null,null,null,null,null,null,null,"",{"$f":"+IF(AF429=\"\",\"\",VLOOKUP(AF429,Tabelas!$J$27:$K$30,2))","v":""}]
[null,null,null,null,null,null,{"$f":"+IF(F430=\"\",\"\",VLOOKUP(F430,Tabelas!$B$7:$C$96,2))","v":""},null,{"$f":"IF(H430=\"\",\"\",ROUND(H430/SUM(H426:H433),4))","v":""},null,null,null,null,null,null,{"$f":"+IF(O430=\"\",\"\",IF(N426=\"Transporte Marítimo\",VLOOKUP(O430,Tabelas!$F$7:$G$12,2),IF(N426=\"Transporte Aéreo\",VLOOKUP(O430,Tabelas!$F$16:$G$21,2),\"\")))","v":""},null,null,null,null,null,null,null,null,null,null,null,null,null,null,null,"",{"$f":"+IF(AF430=\"\",\"\",VLOOKUP(AF430,Tabelas!$J$27:$K$30,2))","v":""}]
[null,null,null,null,null,null,{"$f":"+IF(F431=\"\",\"\",VLOOKUP(F431,Tabelas!$B$7:$C$96,2))","v":""},null,{"$f":"IF(H431=\"\",\"\",ROUND(H431/SUM(H426:H433),4))","v":""},null,null,null,null,null,null,{"$f":"+IF(O431=\"\",\"\",IF(N426=\"Transporte Marítimo\",VLOOKUP(O431,Tabelas!$F$7:$G$12,2),IF(N426=\"Transporte Aéreo\",VLOOKUP(O431,Tabelas!$F$16:$G$21,2),\"\")))","v":""},null,null,null,null,null,null,null,null,null,null,null,null,null,null,null,"",{"$f":"+IF(AF431=\"\",\"\",VLOOKUP(AF431,Tabelas!$J$27:$K$30,2))","v":""}]
[null,null,null,null,null,null,{"$f":"+IF(F432=\"\",\"\",VLOOKUP(F432,Tabelas!$B$7:$C$96,2))","v":""},null,{"$f":"IF(H432=\"\",\"\",ROUND(H432/SUM(H426:H433),4))","v":""},null,null,null,null,null,null,{"$f":"+IF(O432=\"\",\"\",IF(N426=\"Transporte Marítimo\",VLOOKUP(O432,Tabelas!$F$7:$G$12,2),IF(N426=\"Transporte Aéreo\",VLOOKUP(O432,Tabelas!$F$16:$G$21,2),\"\")))","v":""},null,null,null,null,null,null,null,null,null,null,null,null,null,null,null,"",{"$f":"+IF(AF432=\"\",\"\",VLOOKUP(AF432,Tabelas!$J$27:$K$30,2))","v":""}]
[null,null,null,null,null,null,{"$f":"+IF(F433=\"\",\"\",VLOOKUP(F433,Tabelas!$B$7:$C$96,2))","v":""},null,{"$f":"IF(H433=\"\",\"\",ROUND(H433/SUM(H426:H433),4))","v":""},null,null,null,null,null,null,{"$f":"+IF(O433=\"\",\"\",IF(N426=\"Transporte Marítimo\",VLOOKUP(O433,Tabelas!$F$7:$G$12,2),IF(N426=\"Transporte Aéreo\",VLOOKUP(O433,Tabelas!$F$16:$G$21,2),\"\")))","v":""},null,null,null,null,null,null,null,null,null,null,null,null,null,null,null,"",{"$f":"+IF(AF433=\"\",\"\",VLOOKUP(AF433,Tabelas!$J$27:$K$30,2))","v":""}]
[null,{"$f":"+B426+1","v":53},null,null,null,null,{"$f":"+IF(F434=\"\",\"\",VLOOKUP(F434,Tabelas!$B$7:$C$96,2))","v":""},null,{"$f":"IF(H434=\"\",\"\",1-SUM(I435:I441))","v":""},null,null,null,null,null,null,{"$f":"+IF(O434=\"\",\"\",IF(N434=\"Transporte Marítimo\",VLOOKUP(O434,Tabelas!$F$7:$G$12,2),IF(N434=\"Transporte Aéreo\",VLOOKUP(O434,Tabelas!$F$16:$G$21,2),\"\")))","v":""},null,null,null,null,null,null,null,null,null,null,null,null,null,null,null,"",{"$f":"+IF(AF434=\"\",\"\",VLOOKUP(AF434,Tabelas!$J$27:$K$30,2))","v":""},null,null,null,null,null,null,null,null,null,null,null,null,null,null,null," "]
[null,null,null,null,null,null,{"$f":"+IF(F435=\"\",\"\",VLOOKUP(F435,Tabelas!$B$7:$C$96,2))","v":""},null,{"$f":"IF(H435=\"\",\"\",ROUND(H435/SUM(H434:H441),4))","v":""},null,null,null,null,null,null,{"$f":"+IF(O435=\"\",\"\",IF(N434=\"Transporte Marítimo\",VLOOKUP(O435,Tabelas!$F$7:$G$12,2),IF(N434=\"Transporte Aéreo\",VLOOKUP(O435,Tabelas!$F$16:$G$21,2),\"\")))","v":""},null,null,null,null,null,null,null,null,null,null,null,null,null,null,null,"",{"$f":"+IF(AF435=\"\",\"\",VLOOKUP(AF435,Tabelas!$J$27:$K$30,2))","v":""}]
[null,null,null,null,null,null,{"$f":"+IF(F436=\"\",\"\",VLOOKUP(F436,Tabelas!$B$7:$C$96,2))","v":""},null,{"$f":"IF(H436=\"\",\"\",ROUND(H436/SUM(H434:H441),4))","v":""},null,null,null,null,null,null,{"$f":"+IF(O436=\"\",\"\",IF(N434=\"Transporte Marítimo\",VLOOKUP(O436,Tabelas!$F$7:$G$12,2),IF(N434=\"Transporte Aéreo\",VLOOKUP(O436,Tabelas!$F$16:$G$21,2),\"\")))","v":""},null,null,null,null,null,null,null,null,null,null,null,null,null,null,null,"",{"$f":"+IF(AF436=\"\",\"\",VLOOKUP(AF436,Tabelas!$J$27:$K$30,2))","v":""}]
[null,null,null,null,null,null,{"$f":"+IF(F437=\"\",\"\",VLOOKUP(F437,Tabelas!$B$7:$C$96,2))","v":""},null,{"$f":"IF(H437=\"\",\"\",ROUND(H437/SUM(H434:H441),4))","v":""},null,null,null,null,null,null,{"$f":"+IF(O437=\"\",\"\",IF(N434=\"Transporte Marítimo\",VLOOKUP(O437,Tabelas!$F$7:$G$12,2),IF(N434=\"Transporte Aéreo\",VLOOKUP(O437,Tabelas!$F$16:$G$21,2),\"\")))","v":""},null,null,null,null,null,null,null,null,null,null,null,null,null,null,null,"",{"$f":"+IF(AF437=\"\",\"\",VLOOKUP(AF437,Tabelas!$J$27:$K$30,2))","v":""}]
[null,null,null,null,null,null,{"$f":"+IF(F438=\"\",\"\",VLOOKUP(F438,Tabelas!$B$7:$C$96,2))","v":""},null,{"$f":"IF(H438=\"\",\"\",ROUND(H438/SUM(H434:H441),4))","v":""},null,null,null,null,null,null,{"$f":"+IF(O438=\"\",\"\",IF(N434=\"Transporte Marítimo\",VLOOKUP(O438,Tabelas!$F$7:$G$12,2),IF(N434=\"Transporte Aéreo\",VLOOKUP(O438,Tabelas!$F$16:$G$21,2),\"\")))","v":""},null,null,null,null,null,null,null,null,null,null,null,null,null,null,null,"",{"$f":"+IF(AF438=\"\",\"\",VLOOKUP(AF438,Tabelas!$J$27:$K$30,2))","v":""}]
[null,null,null,null,null,null,{"$f":"+IF(F439=\"\",\"\",VLOOKUP(F439,Tabelas!$B$7:$C$96,2))","v":""},null,{"$f":"IF(H439=\"\",\"\",ROUND(H439/SUM(H434:H441),4))","v":""},null,null,null,null,null,null,{"$f":"+IF(O439=\"\",\"\",IF(N434=\"Transporte Marítimo\",VLOOKUP(O439,Tabelas!$F$7:$G$12,2),IF(N434=\"Transporte Aéreo\",VLOOKUP(O439,Tabelas!$F$16:$G$21,2),\"\")))","v":""},null,null,null,null,null,null,null,null,null,null,null,null,null,null,null,"",{"$f":"+IF(AF439=\"\",\"\",VLOOKUP(AF439,Tabelas!$J$27:$K$30,2))","v":""}]
[null,null,null,null,null,null,{"$f":"+IF(F440=\"\",\"\",VLOOKUP(F440,Tabelas!$B$7:$C$96,2))","v":""},null,{"$f":"IF(H440=\"\",\"\",ROUND(H440/SUM(H434:H441),4))","v":""},null,null,null,null,null,null,{"$f":"+IF(O440=\"\",\"\",IF(N434=\"Transporte Marítimo\",VLOOKUP(O440,Tabelas!$F$7:$G$12,2),IF(N434=\"Transporte Aéreo\",VLOOKUP(O440,Tabelas!$F$16:$G$21,2),\"\")))","v":""},null,null,null,null,null,null,null,null,null,null,null,null,null,null,null,"",{"$f":"+IF(AF440=\"\",\"\",VLOOKUP(AF440,Tabelas!$J$27:$K$30,2))","v":""}]
[null,null,null,null,null,null,{"$f":"+IF(F441=\"\",\"\",VLOOKUP(F441,Tabelas!$B$7:$C$96,2))","v":""},null,{"$f":"IF(H441=\"\",\"\",ROUND(H441/SUM(H434:H441),4))","v":""},null,null,null,null,null,null,{"$f":"+IF(O441=\"\",\"\",IF(N434=\"Transporte Marítimo\",VLOOKUP(O441,Tabelas!$F$7:$G$12,2),IF(N434=\"Transporte Aéreo\",VLOOKUP(O441,Tabelas!$F$16:$G$21,2),\"\")))","v":""},null,null,null,null,null,null,null,null,null,null,null,null,null,null,null,"",{"$f":"+IF(AF441=\"\",\"\",VLOOKUP(AF441,Tabelas!$J$27:$K$30,2))","v":""}]
[null,{"$f":"+B434+1","v":54},null,null,null,null,{"$f":"+IF(F442=\"\",\"\",VLOOKUP(F442,Tabelas!$B$7:$C$96,2))","v":""},null,{"$f":"IF(H442=\"\",\"\",1-SUM(I443:I449))","v":""},null,null,null,null,null,null,{"$f":"+IF(O442=\"\",\"\",IF(N442=\"Transporte Marítimo\",VLOOKUP(O442,Tabelas!$F$7:$G$12,2),IF(N442=\"Transporte Aéreo\",VLOOKUP(O442,Tabelas!$F$16:$G$21,2),\"\")))","v":""},null,null,null,null,null,null,null,null,null,null,null,null,null,null,null,"",{"$f":"+IF(AF442=\"\",\"\",VLOOKUP(AF442,Tabelas!$J$27:$K$30,2))","v":""},null,null,null,null,null,null,null,null,null,null,null,null,null,null,null," "]
[null,null,null,null,null,null,{"$f":"+IF(F443=\"\",\"\",VLOOKUP(F443,Tabelas!$B$7:$C$96,2))","v":""},null,{"$f":"IF(H443=\"\",\"\",ROUND(H443/SUM(H442:H449),4))","v":""},null,null,null,null,null,null,{"$f":"+IF(O443=\"\",\"\",IF(N442=\"Transporte Marítimo\",VLOOKUP(O443,Tabelas!$F$7:$G$12,2),IF(N442=\"Transporte Aéreo\",VLOOKUP(O443,Tabelas!$F$16:$G$21,2),\"\")))","v":""},null,null,null,null,null,null,null,null,null,null,null,null,null,null,null,"",{"$f":"+IF(AF443=\"\",\"\",VLOOKUP(AF443,Tabelas!$J$27:$K$30,2))","v":""}]
[null,null,null,null,null,null,{"$f":"+IF(F444=\"\",\"\",VLOOKUP(F444,Tabelas!$B$7:$C$96,2))","v":""},null,{"$f":"IF(H444=\"\",\"\",ROUND(H444/SUM(H442:H449),4))","v":""},null,null,null,null,null,null,{"$f":"+IF(O444=\"\",\"\",IF(N442=\"Transporte Marítimo\",VLOOKUP(O444,Tabelas!$F$7:$G$12,2),IF(N442=\"Transporte Aéreo\",VLOOKUP(O444,Tabelas!$F$16:$G$21,2),\"\")))","v":""},null,null,null,null,null,null,null,null,null,null,null,null,null,null,null,"",{"$f":"+IF(AF444=\"\",\"\",VLOOKUP(AF444,Tabelas!$J$27:$K$30,2))","v":""}]
[null,null,null,null,null,null,{"$f":"+IF(F445=\"\",\"\",VLOOKUP(F445,Tabelas!$B$7:$C$96,2))","v":""},null,{"$f":"IF(H445=\"\",\"\",ROUND(H445/SUM(H442:H449),4))","v":""},null,null,null,null,null,null,{"$f":"+IF(O445=\"\",\"\",IF(N442=\"Transporte Marítimo\",VLOOKUP(O445,Tabelas!$F$7:$G$12,2),IF(N442=\"Transporte Aéreo\",VLOOKUP(O445,Tabelas!$F$16:$G$21,2),\"\")))","v":""},null,null,null,null,null,null,null,null,null,null,null,null,null,null,null,"",{"$f":"+IF(AF445=\"\",\"\",VLOOKUP(AF445,Tabelas!$J$27:$K$30,2))","v":""}]
[null,null,null,null,null,null,{"$f":"+IF(F446=\"\",\"\",VLOOKUP(F446,Tabelas!$B$7:$C$96,2))","v":""},null,{"$f":"IF(H446=\"\",\"\",ROUND(H446/SUM(H442:H449),4))","v":""},null,null,null,null,null,null,{"$f":"+IF(O446=\"\",\"\",IF(N442=\"Transporte Marítimo\",VLOOKUP(O446,Tabelas!$F$7:$G$12,2),IF(N442=\"Transporte Aéreo\",VLOOKUP(O446,Tabelas!$F$16:$G$21,2),\"\")))","v":""},null,null,null,null,null,null,null,null,null,null,null,null,null,null,null,"",{"$f":"+IF(AF446=\"\",\"\",VLOOKUP(AF446,Tabelas!$J$27:$K$30,2))","v":""}]
[null,null,null,null,null,null,{"$f":"+IF(F447=\"\",\"\",VLOOKUP(F447,Tabelas!$B$7:$C$96,2))","v":""},null,{"$f":"IF(H447=\"\",\"\",ROUND(H447/SUM(H442:H449),4))","v":""},null,null,null,null,null,null,{"$f":"+IF(O447=\"\",\"\",IF(N442=\"Transporte Marítimo\",VLOOKUP(O447,Tabelas!$F$7:$G$12,2),IF(N442=\"Transporte Aéreo\",VLOOKUP(O447,Tabelas!$F$16:$G$21,2),\"\")))","v":""},null,null,null,null,null,null,null,null,null,null,null,null,null,null,null,"",{"$f":"+IF(AF447=\"\",\"\",VLOOKUP(AF447,Tabelas!$J$27:$K$30,2))","v":""}]
[null,null,null,null,null,null,{"$f":"+IF(F448=\"\",\"\",VLOOKUP(F448,Tabelas!$B$7:$C$96,2))","v":""},null,{"$f":"IF(H448=\"\",\"\",ROUND(H448/SUM(H442:H449),4))","v":""},null,null,null,null,null,null,{"$f":"+IF(O448=\"\",\"\",IF(N442=\"Transporte Marítimo\",VLOOKUP(O448,Tabelas!$F$7:$G$12,2),IF(N442=\"Transporte Aéreo\",VLOOKUP(O448,Tabelas!$F$16:$G$21,2),\"\")))","v":""},null,null,null,null,null,null,null,null,null,null,null,null,null,null,null,"",{"$f":"+IF(AF448=\"\",\"\",VLOOKUP(AF448,Tabelas!$J$27:$K$30,2))","v":""}]
[null,null,null,null,null,null,{"$f":"+IF(F449=\"\",\"\",VLOOKUP(F449,Tabelas!$B$7:$C$96,2))","v":""},null,{"$f":"IF(H449=\"\",\"\",ROUND(H449/SUM(H442:H449),4))","v":""},null,null,null,null,null,null,{"$f":"+IF(O449=\"\",\"\",IF(N442=\"Transporte Marítimo\",VLOOKUP(O449,Tabelas!$F$7:$G$12,2),IF(N442=\"Transporte Aéreo\",VLOOKUP(O449,Tabelas!$F$16:$G$21,2),\"\")))","v":""},null,null,null,null,null,null,null,null,null,null,null,null,null,null,null,"",{"$f":"+IF(AF449=\"\",\"\",VLOOKUP(AF449,Tabelas!$J$27:$K$30,2))","v":""}]
[null,{"$f":"+B442+1","v":55},null,null,null,null,{"$f":"+IF(F450=\"\",\"\",VLOOKUP(F450,Tabelas!$B$7:$C$96,2))","v":""},null,{"$f":"IF(H450=\"\",\"\",1-SUM(I451:I457))","v":""},null,null,null,null,null,null,{"$f":"+IF(O450=\"\",\"\",IF(N450=\"Transporte Marítimo\",VLOOKUP(O450,Tabelas!$F$7:$G$12,2),IF(N450=\"Transporte Aéreo\",VLOOKUP(O450,Tabelas!$F$16:$G$21,2),\"\")))","v":""},null,null,null,null,null,null,null,null,null,null,null,null,null,null,null,"",{"$f":"+IF(AF450=\"\",\"\",VLOOKUP(AF450,Tabelas!$J$27:$K$30,2))","v":""},null,null,null,null,null,null,null,null,null,null,null,null,null,null,null," "]
[null,null,null,null,null,null,{"$f":"+IF(F451=\"\",\"\",VLOOKUP(F451,Tabelas!$B$7:$C$96,2))","v":""},null,{"$f":"IF(H451=\"\",\"\",ROUND(H451/SUM(H450:H457),4))","v":""},null,null,null,null,null,null,{"$f":"+IF(O451=\"\",\"\",IF(N450=\"Transporte Marítimo\",VLOOKUP(O451,Tabelas!$F$7:$G$12,2),IF(N450=\"Transporte Aéreo\",VLOOKUP(O451,Tabelas!$F$16:$G$21,2),\"\")))","v":""},null,null,null,null,null,null,null,null,null,null,null,null,null,null,null,"",{"$f":"+IF(AF451=\"\",\"\",VLOOKUP(AF451,Tabelas!$J$27:$K$30,2))","v":""}]
[null,null,null,null,null,null,{"$f":"+IF(F452=\"\",\"\",VLOOKUP(F452,Tabelas!$B$7:$C$96,2))","v":""},null,{"$f":"IF(H452=\"\",\"\",ROUND(H452/SUM(H450:H457),4))","v":""},null,null,null,null,null,null,{"$f":"+IF(O452=\"\",\"\",IF(N450=\"Transporte Marítimo\",VLOOKUP(O452,Tabelas!$F$7:$G$12,2),IF(N450=\"Transporte Aéreo\",VLOOKUP(O452,Tabelas!$F$16:$G$21,2),\"\")))","v":""},null,null,null,null,null,null,null,null,null,null,null,null,null,null,null,"",{"$f":"+IF(AF452=\"\",\"\",VLOOKUP(AF452,Tabelas!$J$27:$K$30,2))","v":""}]
[null,null,null,null,null,null,{"$f":"+IF(F453=\"\",\"\",VLOOKUP(F453,Tabelas!$B$7:$C$96,2))","v":""},null,{"$f":"IF(H453=\"\",\"\",ROUND(H453/SUM(H450:H457),4))","v":""},null,null,null,null,null,null,{"$f":"+IF(O453=\"\",\"\",IF(N450=\"Transporte Marítimo\",VLOOKUP(O453,Tabelas!$F$7:$G$12,2),IF(N450=\"Transporte Aéreo\",VLOOKUP(O453,Tabelas!$F$16:$G$21,2),\"\")))","v":""},null,null,null,null,null,null,null,null,null,null,null,null,null,null,null,"",{"$f":"+IF(AF453=\"\",\"\",VLOOKUP(AF453,Tabelas!$J$27:$K$30,2))","v":""}]
[null,null,null,null,null,null,{"$f":"+IF(F454=\"\",\"\",VLOOKUP(F454,Tabelas!$B$7:$C$96,2))","v":""},null,{"$f":"IF(H454=\"\",\"\",ROUND(H454/SUM(H450:H457),4))","v":""},null,null,null,null,null,null,{"$f":"+IF(O454=\"\",\"\",IF(N450=\"Transporte Marítimo\",VLOOKUP(O454,Tabelas!$F$7:$G$12,2),IF(N450=\"Transporte Aéreo\",VLOOKUP(O454,Tabelas!$F$16:$G$21,2),\"\")))","v":""},null,null,null,null,null,null,null,null,null,null,null,null,null,null,null,"",{"$f":"+IF(AF454=\"\",\"\",VLOOKUP(AF454,Tabelas!$J$27:$K$30,2))","v":""}]
[null,null,null,null,null,null,{"$f":"+IF(F455=\"\",\"\",VLOOKUP(F455,Tabelas!$B$7:$C$96,2))","v":""},null,{"$f":"IF(H455=\"\",\"\",ROUND(H455/SUM(H450:H457),4))","v":""},null,null,null,null,null,null,{"$f":"+IF(O455=\"\",\"\",IF(N450=\"Transporte Marítimo\",VLOOKUP(O455,Tabelas!$F$7:$G$12,2),IF(N450=\"Transporte Aéreo\",VLOOKUP(O455,Tabelas!$F$16:$G$21,2),\"\")))","v":""},null,null,null,null,null,null,null,null,null,null,null,null,null,null,null,"",{"$f":"+IF(AF455=\"\",\"\",VLOOKUP(AF455,Tabelas!$J$27:$K$30,2))","v":""}]
[null,null,null,null,null,null,{"$f":"+IF(F456=\"\",\"\",VLOOKUP(F456,Tabelas!$B$7:$C$96,2))","v":""},null,{"$f":"IF(H456=\"\",\"\",ROUND(H456/SUM(H450:H457),4))","v":""},null,null,null,null,null,null,{"$f":"+IF(O456=\"\",\"\",IF(N450=\"Transporte Marítimo\",VLOOKUP(O456,Tabelas!$F$7:$G$12,2),IF(N450=\"Transporte Aéreo\",VLOOKUP(O456,Tabelas!$F$16:$G$21,2),\"\")))","v":""},null,null,null,null,null,null,null,null,null,null,null,null,null,null,null,"",{"$f":"+IF(AF456=\"\",\"\",VLOOKUP(AF456,Tabelas!$J$27:$K$30,2))","v":""}]
[null,null,null,null,null,null,{"$f":"+IF(F457=\"\",\"\",VLOOKUP(F457,Tabelas!$B$7:$C$96,2))","v":""},null,{"$f":"IF(H457=\"\",\"\",ROUND(H457/SUM(H450:H457),4))","v":""},null,null,null,null,null,null,{"$f":"+IF(O457=\"\",\"\",IF(N450=\"Transporte Marítimo\",VLOOKUP(O457,Tabelas!$F$7:$G$12,2),IF(N450=\"Transporte Aéreo\",VLOOKUP(O457,Tabelas!$F$16:$G$21,2),\"\")))","v":""},null,null,null,null,null,null,null,null,null,null,null,null,null,null,null,"",{"$f":"+IF(AF457=\"\",\"\",VLOOKUP(AF457,Tabelas!$J$27:$K$30,2))","v":""}]
[null,{"$f":"+B450+1","v":56},null,null,null,null,{"$f":"+IF(F458=\"\",\"\",VLOOKUP(F458,Tabelas!$B$7:$C$96,2))","v":""},null,{"$f":"IF(H458=\"\",\"\",1-SUM(I459:I465))","v":""},null,null,null,null,null,null,{"$f":"+IF(O458=\"\",\"\",IF(N458=\"Transporte Marítimo\",VLOOKUP(O458,Tabelas!$F$7:$G$12,2),IF(N458=\"Transporte Aéreo\",VLOOKUP(O458,Tabelas!$F$16:$G$21,2),\"\")))","v":""},null,null,null,null,null,null,null,null,null,null,null,null,null,null,null,"",{"$f":"+IF(AF458=\"\",\"\",VLOOKUP(AF458,Tabelas!$J$27:$K$30,2))","v":""},null,null,null,null,null,null,null,null,null,null,null,null,null,null,null," "]
[null,null,null,null,null,null,{"$f":"+IF(F459=\"\",\"\",VLOOKUP(F459,Tabelas!$B$7:$C$96,2))","v":""},null,{"$f":"IF(H459=\"\",\"\",ROUND(H459/SUM(H458:H465),4))","v":""},null,null,null,null,null,null,{"$f":"+IF(O459=\"\",\"\",IF(N458=\"Transporte Marítimo\",VLOOKUP(O459,Tabelas!$F$7:$G$12,2),IF(N458=\"Transporte Aéreo\",VLOOKUP(O459,Tabelas!$F$16:$G$21,2),\"\")))","v":""},null,null,null,null,null,null,null,null,null,null,null,null,null,null,null,"",{"$f":"+IF(AF459=\"\",\"\",VLOOKUP(AF459,Tabelas!$J$27:$K$30,2))","v":""}]
[null,null,null,null,null,null,{"$f":"+IF(F460=\"\",\"\",VLOOKUP(F460,Tabelas!$B$7:$C$96,2))","v":""},null,{"$f":"IF(H460=\"\",\"\",ROUND(H460/SUM(H458:H465),4))","v":""},null,null,null,null,null,null,{"$f":"+IF(O460=\"\",\"\",IF(N458=\"Transporte Marítimo\",VLOOKUP(O460,Tabelas!$F$7:$G$12,2),IF(N458=\"Transporte Aéreo\",VLOOKUP(O460,Tabelas!$F$16:$G$21,2),\"\")))","v":""},null,null,null,null,null,null,null,null,null,null,null,null,null,null,null,"",{"$f":"+IF(AF460=\"\",\"\",VLOOKUP(AF460,Tabelas!$J$27:$K$30,2))","v":""}]
[null,null,null,null,null,null,{"$f":"+IF(F461=\"\",\"\",VLOOKUP(F461,Tabelas!$B$7:$C$96,2))","v":""},null,{"$f":"IF(H461=\"\",\"\",ROUND(H461/SUM(H458:H465),4))","v":""},null,null,null,null,null,null,{"$f":"+IF(O461=\"\",\"\",IF(N458=\"Transporte Marítimo\",VLOOKUP(O461,Tabelas!$F$7:$G$12,2),IF(N458=\"Transporte Aéreo\",VLOOKUP(O461,Tabelas!$F$16:$G$21,2),\"\")))","v":""},null,null,null,null,null,null,null,null,null,null,null,null,null,null,null,"",{"$f":"+IF(AF461=\"\",\"\",VLOOKUP(AF461,Tabelas!$J$27:$K$30,2))","v":""}]
[null,null,null,null,null,null,{"$f":"+IF(F462=\"\",\"\",VLOOKUP(F462,Tabelas!$B$7:$C$96,2))","v":""},null,{"$f":"IF(H462=\"\",\"\",ROUND(H462/SUM(H458:H465),4))","v":""},null,null,null,null,null,null,{"$f":"+IF(O462=\"\",\"\",IF(N458=\"Transporte Marítimo\",VLOOKUP(O462,Tabelas!$F$7:$G$12,2),IF(N458=\"Transporte Aéreo\",VLOOKUP(O462,Tabelas!$F$16:$G$21,2),\"\")))","v":""},null,null,null,null,null,null,null,null,null,null,null,null,null,null,null,"",{"$f":"+IF(AF462=\"\",\"\",VLOOKUP(AF462,Tabelas!$J$27:$K$30,2))","v":""}]
[null,null,null,null,null,null,{"$f":"+IF(F463=\"\",\"\",VLOOKUP(F463,Tabelas!$B$7:$C$96,2))","v":""},null,{"$f":"IF(H463=\"\",\"\",ROUND(H463/SUM(H458:H465),4))","v":""},null,null,null,null,null,null,{"$f":"+IF(O463=\"\",\"\",IF(N458=\"Transporte Marítimo\",VLOOKUP(O463,Tabelas!$F$7:$G$12,2),IF(N458=\"Transporte Aéreo\",VLOOKUP(O463,Tabelas!$F$16:$G$21,2),\"\")))","v":""},null,null,null,null,null,null,null,null,null,null,null,null,null,null,null,"",{"$f":"+IF(AF463=\"\",\"\",VLOOKUP(AF463,Tabelas!$J$27:$K$30,2))","v":""}]
[null,null,null,null,null,null,{"$f":"+IF(F464=\"\",\"\",VLOOKUP(F464,Tabelas!$B$7:$C$96,2))","v":""},null,{"$f":"IF(H464=\"\",\"\",ROUND(H464/SUM(H458:H465),4))","v":""},null,null,null,null,null,null,{"$f":"+IF(O464=\"\",\"\",IF(N458=\"Transporte Marítimo\",VLOOKUP(O464,Tabelas!$F$7:$G$12,2),IF(N458=\"Transporte Aéreo\",VLOOKUP(O464,Tabelas!$F$16:$G$21,2),\"\")))","v":""},null,null,null,null,null,null,null,null,null,null,null,null,null,null,null,"",{"$f":"+IF(AF464=\"\",\"\",VLOOKUP(AF464,Tabelas!$J$27:$K$30,2))","v":""}]
[null,null,null,null,null,null,{"$f":"+IF(F465=\"\",\"\",VLOOKUP(F465,Tabelas!$B$7:$C$96,2))","v":""},null,{"$f":"IF(H465=\"\",\"\",ROUND(H465/SUM(H458:H465),4))","v":""},null,null,null,null,null,null,{"$f":"+IF(O465=\"\",\"\",IF(N458=\"Transporte Marítimo\",VLOOKUP(O465,Tabelas!$F$7:$G$12,2),IF(N458=\"Transporte Aéreo\",VLOOKUP(O465,Tabelas!$F$16:$G$21,2),\"\")))","v":""},null,null,null,null,null,null,null,null,null,null,null,null,null,null,null,"",{"$f":"+IF(AF465=\"\",\"\",VLOOKUP(AF465,Tabelas!$J$27:$K$30,2))","v":""}]
[null,{"$f":"+B458+1","v":57},null,null,null,null,{"$f":"+IF(F466=\"\",\"\",VLOOKUP(F466,Tabelas!$B$7:$C$96,2))","v":""},null,{"$f":"IF(H466=\"\",\"\",1-SUM(I467:I473))","v":""},null,null,null,null,null,null,{"$f":"+IF(O466=\"\",\"\",IF(N466=\"Transporte Marítimo\",VLOOKUP(O466,Tabelas!$F$7:$G$12,2),IF(N466=\"Transporte Aéreo\",VLOOKUP(O466,Tabelas!$F$16:$G$21,2),\"\")))","v":""},null,null,null,null,null,null,null,null,null,null,null,null,null,null,null,"",{"$f":"+IF(AF466=\"\",\"\",VLOOKUP(AF466,Tabelas!$J$27:$K$30,2))","v":""},null,null,null,null,null,null,null,null,null,null,null,null,null,null,null," "]
[null,null,null,null,null,null,{"$f":"+IF(F467=\"\",\"\",VLOOKUP(F467,Tabelas!$B$7:$C$96,2))","v":""},null,{"$f":"IF(H467=\"\",\"\",ROUND(H467/SUM(H466:H473),4))","v":""},null,null,null,null,null,null,{"$f":"+IF(O467=\"\",\"\",IF(N466=\"Transporte Marítimo\",VLOOKUP(O467,Tabelas!$F$7:$G$12,2),IF(N466=\"Transporte Aéreo\",VLOOKUP(O467,Tabelas!$F$16:$G$21,2),\"\")))","v":""},null,null,null,null,null,null,null,null,null,null,null,null,null,null,null,{"$f":"+IF(AE467=\"20NL\",1,IF(AE467=\"40NL\",2,IF(AE467=\"20RF\",3,IF(AE467=\"40RF\",4,\"\"))))","v":""},{"$f":"+IF(AF467=\"\",\"\",VLOOKUP(AF467,Tabelas!$J$27:$K$30,2))","v":""}]
[null,null,null,null,null,null,{"$f":"+IF(F468=\"\",\"\",VLOOKUP(F468,Tabelas!$B$7:$C$96,2))","v":""},null,{"$f":"IF(H468=\"\",\"\",ROUND(H468/SUM(H466:H473),4))","v":""},null,null,null,null,null,null,{"$f":"+IF(O468=\"\",\"\",IF(N466=\"Transporte Marítimo\",VLOOKUP(O468,Tabelas!$F$7:$G$12,2),IF(N466=\"Transporte Aéreo\",VLOOKUP(O468,Tabelas!$F$16:$G$21,2),\"\")))","v":""},null,null,null,null,null,null,null,null,null,null,null,null,null,null,null,"",{"$f":"+IF(AF468=\"\",\"\",VLOOKUP(AF468,Tabelas!$J$27:$K$30,2))","v":""}]
[null,null,null,null,null,null,{"$f":"+IF(F469=\"\",\"\",VLOOKUP(F469,Tabelas!$B$7:$C$96,2))","v":""},null,{"$f":"IF(H469=\"\",\"\",ROUND(H469/SUM(H466:H473),4))","v":""},null,null,null,null,null,null,{"$f":"+IF(O469=\"\",\"\",IF(N466=\"Transporte Marítimo\",VLOOKUP(O469,Tabelas!$F$7:$G$12,2),IF(N466=\"Transporte Aéreo\",VLOOKUP(O469,Tabelas!$F$16:$G$21,2),\"\")))","v":""},null,null,null,null,null,null,null,null,null,null,null,null,null,null,null,"",{"$f":"+IF(AF469=\"\",\"\",VLOOKUP(AF469,Tabelas!$J$27:$K$30,2))","v":""}]
[null,null,null,null,null,null,{"$f":"+IF(F470=\"\",\"\",VLOOKUP(F470,Tabelas!$B$7:$C$96,2))","v":""},null,{"$f":"IF(H470=\"\",\"\",ROUND(H470/SUM(H466:H473),4))","v":""},null,null,null,null,null,null,{"$f":"+IF(O470=\"\",\"\",IF(N466=\"Transporte Marítimo\",VLOOKUP(O470,Tabelas!$F$7:$G$12,2),IF(N466=\"Transporte Aéreo\",VLOOKUP(O470,Tabelas!$F$16:$G$21,2),\"\")))","v":""},null,null,null,null,null,null,null,null,null,null,null,null,null,null,null,"",{"$f":"+IF(AF470=\"\",\"\",VLOOKUP(AF470,Tabelas!$J$27:$K$30,2))","v":""}]
[null,null,null,null,null,null,{"$f":"+IF(F471=\"\",\"\",VLOOKUP(F471,Tabelas!$B$7:$C$96,2))","v":""},null,{"$f":"IF(H471=\"\",\"\",ROUND(H471/SUM(H466:H473),4))","v":""},null,null,null,null,null,null,{"$f":"+IF(O471=\"\",\"\",IF(N466=\"Transporte Marítimo\",VLOOKUP(O471,Tabelas!$F$7:$G$12,2),IF(N466=\"Transporte Aéreo\",VLOOKUP(O471,Tabelas!$F$16:$G$21,2),\"\")))","v":""},null,null,null,null,null,null,null,null,null,null,null,null,null,null,null,"",{"$f":"+IF(AF471=\"\",\"\",VLOOKUP(AF471,Tabelas!$J$27:$K$30,2))","v":""}]
[null,null,null,null,null,null,{"$f":"+IF(F472=\"\",\"\",VLOOKUP(F472,Tabelas!$B$7:$C$96,2))","v":""},null,{"$f":"IF(H472=\"\",\"\",ROUND(H472/SUM(H466:H473),4))","v":""},null,null,null,null,null,null,{"$f":"+IF(O472=\"\",\"\",IF(N466=\"Transporte Marítimo\",VLOOKUP(O472,Tabelas!$F$7:$G$12,2),IF(N466=\"Transporte Aéreo\",VLOOKUP(O472,Tabelas!$F$16:$G$21,2),\"\")))","v":""},null,null,null,null,null,null,null,null,null,null,null,null,null,null,null,"",{"$f":"+IF(AF472=\"\",\"\",VLOOKUP(AF472,Tabelas!$J$27:$K$30,2))","v":""}]
[null,null,null,null,null,null,{"$f":"+IF(F473=\"\",\"\",VLOOKUP(F473,Tabelas!$B$7:$C$96,2))","v":""},null,{"$f":"IF(H473=\"\",\"\",ROUND(H473/SUM(H466:H473),4))","v":""},null,null,null,null,null,null,{"$f":"+IF(O473=\"\",\"\",IF(N466=\"Transporte Marítimo\",VLOOKUP(O473,Tabelas!$F$7:$G$12,2),IF(N466=\"Transporte Aéreo\",VLOOKUP(O473,Tabelas!$F$16:$G$21,2),\"\")))","v":""},null,null,null,null,null,null,null,null,null,null,null,null,null,null,null,"",{"$f":"+IF(AF473=\"\",\"\",VLOOKUP(AF473,Tabelas!$J$27:$K$30,2))","v":""}]
[null,{"$f":"+B466+1","v":58},null,null,null,null,{"$f":"+IF(F474=\"\",\"\",VLOOKUP(F474,Tabelas!$B$7:$C$96,2))","v":""},null,{"$f":"IF(H474=\"\",\"\",1-SUM(I475:I481))","v":""},null,null,null,null,null,null,{"$f":"+IF(O474=\"\",\"\",IF(N474=\"Transporte Marítimo\",VLOOKUP(O474,Tabelas!$F$7:$G$12,2),IF(N474=\"Transporte Aéreo\",VLOOKUP(O474,Tabelas!$F$16:$G$21,2),\"\")))","v":""},null,null,null,null,null,null,null,null,null,null,null,null,null,null,null,"",{"$f":"+IF(AF474=\"\",\"\",VLOOKUP(AF474,Tabelas!$J$27:$K$30,2))","v":""},null,null,null,null,null,null,null,null,null,null,null,null,null,null,null," "]
[null,null,null,null,null,null,{"$f":"+IF(F475=\"\",\"\",VLOOKUP(F475,Tabelas!$B$7:$C$96,2))","v":""},null,{"$f":"IF(H475=\"\",\"\",ROUND(H475/SUM(H474:H481),4))","v":""},null,null,null,null,null,null,{"$f":"+IF(O475=\"\",\"\",IF(N474=\"Transporte Marítimo\",VLOOKUP(O475,Tabelas!$F$7:$G$12,2),IF(N474=\"Transporte Aéreo\",VLOOKUP(O475,Tabelas!$F$16:$G$21,2),\"\")))","v":""},null,null,null,null,null,null,null,null,null,null,null,null,null,null,null,"",{"$f":"+IF(AF475=\"\",\"\",VLOOKUP(AF475,Tabelas!$J$27:$K$30,2))","v":""}]
[null,null,null,null,null,null,{"$f":"+IF(F476=\"\",\"\",VLOOKUP(F476,Tabelas!$B$7:$C$96,2))","v":""},null,{"$f":"IF(H476=\"\",\"\",ROUND(H476/SUM(H474:H481),4))","v":""},null,null,null,null,null,null,{"$f":"+IF(O476=\"\",\"\",IF(N474=\"Transporte Marítimo\",VLOOKUP(O476,Tabelas!$F$7:$G$12,2),IF(N474=\"Transporte Aéreo\",VLOOKUP(O476,Tabelas!$F$16:$G$21,2),\"\")))","v":""},null,null,null,null,null,null,null,null,null,null,null,null,null,null,null,"",{"$f":"+IF(AF476=\"\",\"\",VLOOKUP(AF476,Tabelas!$J$27:$K$30,2))","v":""}]
[null,null,null,null,null,null,{"$f":"+IF(F477=\"\",\"\",VLOOKUP(F477,Tabelas!$B$7:$C$96,2))","v":""},null,{"$f":"IF(H477=\"\",\"\",ROUND(H477/SUM(H474:H481),4))","v":""},null,null,null,null,null,null,{"$f":"+IF(O477=\"\",\"\",IF(N474=\"Transporte Marítimo\",VLOOKUP(O477,Tabelas!$F$7:$G$12,2),IF(N474=\"Transporte Aéreo\",VLOOKUP(O477,Tabelas!$F$16:$G$21,2),\"\")))","v":""},null,null,null,null,null,null,null,null,null,null,null,null,null,null,null,"",{"$f":"+IF(AF477=\"\",\"\",VLOOKUP(AF477,Tabelas!$J$27:$K$30,2))","v":""}]
[null,null,null,null,null,null,{"$f":"+IF(F478=\"\",\"\",VLOOKUP(F478,Tabelas!$B$7:$C$96,2))","v":""},null,{"$f":"IF(H478=\"\",\"\",ROUND(H478/SUM(H474:H481),4))","v":""},null,null,null,null,null,null,{"$f":"+IF(O478=\"\",\"\",IF(N474=\"Transporte Marítimo\",VLOOKUP(O478,Tabelas!$F$7:$G$12,2),IF(N474=\"Transporte Aéreo\",VLOOKUP(O478,Tabelas!$F$16:$G$21,2),\"\")))","v":""},null,null,null,null,null,null,null,null,null,null,null,null,null,null,null,"",{"$f":"+IF(AF478=\"\",\"\",VLOOKUP(AF478,Tabelas!$J$27:$K$30,2))","v":""}]
[null,null,null,null,null,null,{"$f":"+IF(F479=\"\",\"\",VLOOKUP(F479,Tabelas!$B$7:$C$96,2))","v":""},null,{"$f":"IF(H479=\"\",\"\",ROUND(H479/SUM(H474:H481),4))","v":""},null,null,null,null,null,null,{"$f":"+IF(O479=\"\",\"\",IF(N474=\"Transporte Marítimo\",VLOOKUP(O479,Tabelas!$F$7:$G$12,2),IF(N474=\"Transporte Aéreo\",VLOOKUP(O479,Tabelas!$F$16:$G$21,2),\"\")))","v":""},null,null,null,null,null,null,null,null,null,null,null,null,null,null,null,"",{"$f":"+IF(AF479=\"\",\"\",VLOOKUP(AF479,Tabelas!$J$27:$K$30,2))","v":""}]
[null,null,null,null,null,null,{"$f":"+IF(F480=\"\",\"\",VLOOKUP(F480,Tabelas!$B$7:$C$96,2))","v":""},null,{"$f":"IF(H480=\"\",\"\",ROUND(H480/SUM(H474:H481),4))","v":""},null,null,null,null,null,null,{"$f":"+IF(O480=\"\",\"\",IF(N474=\"Transporte Marítimo\",VLOOKUP(O480,Tabelas!$F$7:$G$12,2),IF(N474=\"Transporte Aéreo\",VLOOKUP(O480,Tabelas!$F$16:$G$21,2),\"\")))","v":""},null,null,null,null,null,null,null,null,null,null,null,null,null,null,null,"",{"$f":"+IF(AF480=\"\",\"\",VLOOKUP(AF480,Tabelas!$J$27:$K$30,2))","v":""}]
[null,null,null,null,null,null,{"$f":"+IF(F481=\"\",\"\",VLOOKUP(F481,Tabelas!$B$7:$C$96,2))","v":""},null,{"$f":"IF(H481=\"\",\"\",ROUND(H481/SUM(H474:H481),4))","v":""},null,null,null,null,null,null,{"$f":"+IF(O481=\"\",\"\",IF(N474=\"Transporte Marítimo\",VLOOKUP(O481,Tabelas!$F$7:$G$12,2),IF(N474=\"Transporte Aéreo\",VLOOKUP(O481,Tabelas!$F$16:$G$21,2),\"\")))","v":""},null,null,null,null,null,null,null,null,null,null,null,null,null,null,null,"",{"$f":"+IF(AF481=\"\",\"\",VLOOKUP(AF481,Tabelas!$J$27:$K$30,2))","v":""}]
[null,{"$f":"+B474+1","v":59},null,null,null,null,{"$f":"+IF(F482=\"\",\"\",VLOOKUP(F482,Tabelas!$B$7:$C$96,2))","v":""},null,{"$f":"IF(H482=\"\",\"\",1-SUM(I483:I489))","v":""},null,null,null,null,null,null,{"$f":"+IF(O482=\"\",\"\",IF(N482=\"Transporte Marítimo\",VLOOKUP(O482,Tabelas!$F$7:$G$12,2),IF(N482=\"Transporte Aéreo\",VLOOKUP(O482,Tabelas!$F$16:$G$21,2),\"\")))","v":""},null,null,null,null,null,null,null,null,null,null,null,null,null,null,null,"",{"$f":"+IF(AF482=\"\",\"\",VLOOKUP(AF482,Tabelas!$J$27:$K$30,2))","v":""},null,null,null,null,null,null,null,null,null,null,null,null,null,null,null," "]
[null,null,null,null,null,null,{"$f":"+IF(F483=\"\",\"\",VLOOKUP(F483,Tabelas!$B$7:$C$96,2))","v":""},null,{"$f":"IF(H483=\"\",\"\",ROUND(H483/SUM(H482:H489),4))","v":""},null,null,null,null,null,null,{"$f":"+IF(O483=\"\",\"\",IF(N482=\"Transporte Marítimo\",VLOOKUP(O483,Tabelas!$F$7:$G$12,2),IF(N482=\"Transporte Aéreo\",VLOOKUP(O483,Tabelas!$F$16:$G$21,2),\"\")))","v":""},null,null,null,null,null,null,null,null,null,null,null,null,null,null,null,"",{"$f":"+IF(AF483=\"\",\"\",VLOOKUP(AF483,Tabelas!$J$27:$K$30,2))","v":""}]
[null,null,null,null,null,null,{"$f":"+IF(F484=\"\",\"\",VLOOKUP(F484,Tabelas!$B$7:$C$96,2))","v":""},null,{"$f":"IF(H484=\"\",\"\",ROUND(H484/SUM(H482:H489),4))","v":""},null,null,null,null,null,null,{"$f":"+IF(O484=\"\",\"\",IF(N482=\"Transporte Marítimo\",VLOOKUP(O484,Tabelas!$F$7:$G$12,2),IF(N482=\"Transporte Aéreo\",VLOOKUP(O484,Tabelas!$F$16:$G$21,2),\"\")))","v":""},null,null,null,null,null,null,null,null,null,null,null,null,null,null,null,"",{"$f":"+IF(AF484=\"\",\"\",VLOOKUP(AF484,Tabelas!$J$27:$K$30,2))","v":""}]
[null,null,null,null,null,null,{"$f":"+IF(F485=\"\",\"\",VLOOKUP(F485,Tabelas!$B$7:$C$96,2))","v":""},null,{"$f":"IF(H485=\"\",\"\",ROUND(H485/SUM(H482:H489),4))","v":""},null,null,null,null,null,null,{"$f":"+IF(O485=\"\",\"\",IF(N482=\"Transporte Marítimo\",VLOOKUP(O485,Tabelas!$F$7:$G$12,2),IF(N482=\"Transporte Aéreo\",VLOOKUP(O485,Tabelas!$F$16:$G$21,2),\"\")))","v":""},null,null,null,null,null,null,null,null,null,null,null,null,null,null,null,"",{"$f":"+IF(AF485=\"\",\"\",VLOOKUP(AF485,Tabelas!$J$27:$K$30,2))","v":""}]
[null,null,null,null,null,null,{"$f":"+IF(F486=\"\",\"\",VLOOKUP(F486,Tabelas!$B$7:$C$96,2))","v":""},null,{"$f":"IF(H486=\"\",\"\",ROUND(H486/SUM(H482:H489),4))","v":""},null,null,null,null,null,null,{"$f":"+IF(O486=\"\",\"\",IF(N482=\"Transporte Marítimo\",VLOOKUP(O486,Tabelas!$F$7:$G$12,2),IF(N482=\"Transporte Aéreo\",VLOOKUP(O486,Tabelas!$F$16:$G$21,2),\"\")))","v":""},null,null,null,null,null,null,null,null,null,null,null,null,null,null,null,"",{"$f":"+IF(AF486=\"\",\"\",VLOOKUP(AF486,Tabelas!$J$27:$K$30,2))","v":""}]
[null,null,null,null,null,null,{"$f":"+IF(F487=\"\",\"\",VLOOKUP(F487,Tabelas!$B$7:$C$96,2))","v":""},null,{"$f":"IF(H487=\"\",\"\",ROUND(H487/SUM(H482:H489),4))","v":""},null,null,null,null,null,null,{"$f":"+IF(O487=\"\",\"\",IF(N482=\"Transporte Marítimo\",VLOOKUP(O487,Tabelas!$F$7:$G$12,2),IF(N482=\"Transporte Aéreo\",VLOOKUP(O487,Tabelas!$F$16:$G$21,2),\"\")))","v":""},null,null,null,null,null,null,null,null,null,null,null,null,null,null,null,"",{"$f":"+IF(AF487=\"\",\"\",VLOOKUP(AF487,Tabelas!$J$27:$K$30,2))","v":""}]
[null,null,null,null,null,null,{"$f":"+IF(F488=\"\",\"\",VLOOKUP(F488,Tabelas!$B$7:$C$96,2))","v":""},null,{"$f":"IF(H488=\"\",\"\",ROUND(H488/SUM(H482:H489),4))","v":""},null,null,null,null,null,null,{"$f":"+IF(O488=\"\",\"\",IF(N482=\"Transporte Marítimo\",VLOOKUP(O488,Tabelas!$F$7:$G$12,2),IF(N482=\"Transporte Aéreo\",VLOOKUP(O488,Tabelas!$F$16:$G$21,2),\"\")))","v":""},null,null,null,null,null,null,null,null,null,null,null,null,null,null,null,"",{"$f":"+IF(AF488=\"\",\"\",VLOOKUP(AF488,Tabelas!$J$27:$K$30,2))","v":""}]
[null,null,null,null,null,null,{"$f":"+IF(F489=\"\",\"\",VLOOKUP(F489,Tabelas!$B$7:$C$96,2))","v":""},null,{"$f":"IF(H489=\"\",\"\",ROUND(H489/SUM(H482:H489),4))","v":""},null,null,null,null,null,null,{"$f":"+IF(O489=\"\",\"\",IF(N482=\"Transporte Marítimo\",VLOOKUP(O489,Tabelas!$F$7:$G$12,2),IF(N482=\"Transporte Aéreo\",VLOOKUP(O489,Tabelas!$F$16:$G$21,2),\"\")))","v":""},null,null,null,null,null,null,null,null,null,null,null,null,null,null,null,"",{"$f":"+IF(AF489=\"\",\"\",VLOOKUP(AF489,Tabelas!$J$27:$K$30,2))","v":""}]
[null,{"$f":"+B482+1","v":60},null,null,null,null,{"$f":"+IF(F490=\"\",\"\",VLOOKUP(F490,Tabelas!$B$7:$C$96,2))","v":""},null,{"$f":"IF(H490=\"\",\"\",1-SUM(I491:I497))","v":""},null,null,null,null,null,null,{"$f":"+IF(O490=\"\",\"\",IF(N490=\"Transporte Marítimo\",VLOOKUP(O490,Tabelas!$F$7:$G$12,2),IF(N490=\"Transporte Aéreo\",VLOOKUP(O490,Tabelas!$F$16:$G$21,2),\"\")))","v":""},null,null,null,null,null,null,null,null,null,null,null,null,null,null,null,"",{"$f":"+IF(AF490=\"\",\"\",VLOOKUP(AF490,Tabelas!$J$27:$K$30,2))","v":""},null,null,null,null,null,null,null,null,null,null,null,null,null,null,null," "]
[null,null,null,null,null,null,{"$f":"+IF(F491=\"\",\"\",VLOOKUP(F491,Tabelas!$B$7:$C$96,2))","v":""},null,{"$f":"IF(H491=\"\",\"\",ROUND(H491/SUM(H490:H497),4))","v":""},null,null,null,null,null,null,{"$f":"+IF(O491=\"\",\"\",IF(N490=\"Transporte Marítimo\",VLOOKUP(O491,Tabelas!$F$7:$G$12,2),IF(N490=\"Transporte Aéreo\",VLOOKUP(O491,Tabelas!$F$16:$G$21,2),\"\")))","v":""},null,null,null,null,null,null,null,null,null,null,null,null,null,null,null,"",{"$f":"+IF(AF491=\"\",\"\",VLOOKUP(AF491,Tabelas!$J$27:$K$30,2))","v":""}]
[null,null,null,null,null,null,{"$f":"+IF(F492=\"\",\"\",VLOOKUP(F492,Tabelas!$B$7:$C$96,2))","v":""},null,{"$f":"IF(H492=\"\",\"\",ROUND(H492/SUM(H490:H497),4))","v":""},null,null,null,null,null,null,{"$f":"+IF(O492=\"\",\"\",IF(N490=\"Transporte Marítimo\",VLOOKUP(O492,Tabelas!$F$7:$G$12,2),IF(N490=\"Transporte Aéreo\",VLOOKUP(O492,Tabelas!$F$16:$G$21,2),\"\")))","v":""},null,null,null,null,null,null,null,null,null,null,null,null,null,null,null,"",{"$f":"+IF(AF492=\"\",\"\",VLOOKUP(AF492,Tabelas!$J$27:$K$30,2))","v":""}]
[null,null,null,null,null,null,{"$f":"+IF(F493=\"\",\"\",VLOOKUP(F493,Tabelas!$B$7:$C$96,2))","v":""},null,{"$f":"IF(H493=\"\",\"\",ROUND(H493/SUM(H490:H497),4))","v":""},null,null,null,null,null,null,{"$f":"+IF(O493=\"\",\"\",IF(N490=\"Transporte Marítimo\",VLOOKUP(O493,Tabelas!$F$7:$G$12,2),IF(N490=\"Transporte Aéreo\",VLOOKUP(O493,Tabelas!$F$16:$G$21,2),\"\")))","v":""},null,null,null,null,null,null,null,null,null,null,null,null,null,null,null,"",{"$f":"+IF(AF493=\"\",\"\",VLOOKUP(AF493,Tabelas!$J$27:$K$30,2))","v":""}]
[null,null,null,null,null,null,{"$f":"+IF(F494=\"\",\"\",VLOOKUP(F494,Tabelas!$B$7:$C$96,2))","v":""},null,{"$f":"IF(H494=\"\",\"\",ROUND(H494/SUM(H490:H497),4))","v":""},null,null,null,null,null,null,{"$f":"+IF(O494=\"\",\"\",IF(N490=\"Transporte Marítimo\",VLOOKUP(O494,Tabelas!$F$7:$G$12,2),IF(N490=\"Transporte Aéreo\",VLOOKUP(O494,Tabelas!$F$16:$G$21,2),\"\")))","v":""},null,null,null,null,null,null,null,null,null,null,null,null,null,null,null,"",{"$f":"+IF(AF494=\"\",\"\",VLOOKUP(AF494,Tabelas!$J$27:$K$30,2))","v":""}]
[null,null,null,null,null,null,{"$f":"+IF(F495=\"\",\"\",VLOOKUP(F495,Tabelas!$B$7:$C$96,2))","v":""},null,{"$f":"IF(H495=\"\",\"\",ROUND(H495/SUM(H490:H497),4))","v":""},null,null,null,null,null,null,{"$f":"+IF(O495=\"\",\"\",IF(N490=\"Transporte Marítimo\",VLOOKUP(O495,Tabelas!$F$7:$G$12,2),IF(N490=\"Transporte Aéreo\",VLOOKUP(O495,Tabelas!$F$16:$G$21,2),\"\")))","v":""},null,null,null,null,null,null,null,null,null,null,null,null,null,null,null,"",{"$f":"+IF(AF495=\"\",\"\",VLOOKUP(AF495,Tabelas!$J$27:$K$30,2))","v":""}]
[null,null,null,null,null,null,{"$f":"+IF(F496=\"\",\"\",VLOOKUP(F496,Tabelas!$B$7:$C$96,2))","v":""},null,{"$f":"IF(H496=\"\",\"\",ROUND(H496/SUM(H490:H497),4))","v":""},null,null,null,null,null,null,{"$f":"+IF(O496=\"\",\"\",IF(N490=\"Transporte Marítimo\",VLOOKUP(O496,Tabelas!$F$7:$G$12,2),IF(N490=\"Transporte Aéreo\",VLOOKUP(O496,Tabelas!$F$16:$G$21,2),\"\")))","v":""},null,null,null,null,null,null,null,null,null,null,null,null,null,null,null,"",{"$f":"+IF(AF496=\"\",\"\",VLOOKUP(AF496,Tabelas!$J$27:$K$30,2))","v":""}]
[null,null,null,null,null,null,{"$f":"+IF(F497=\"\",\"\",VLOOKUP(F497,Tabelas!$B$7:$C$96,2))","v":""},null,{"$f":"IF(H497=\"\",\"\",ROUND(H497/SUM(H490:H497),4))","v":""},null,null,null,null,null,null,{"$f":"+IF(O497=\"\",\"\",IF(N490=\"Transporte Marítimo\",VLOOKUP(O497,Tabelas!$F$7:$G$12,2),IF(N490=\"Transporte Aéreo\",VLOOKUP(O497,Tabelas!$F$16:$G$21,2),\"\")))","v":""},null,null,null,null,null,null,null,null,null,null,null,null,null,null,null,"",{"$f":"+IF(AF497=\"\",\"\",VLOOKUP(AF497,Tabelas!$J$27:$K$30,2))","v":""}]
[null,{"$f":"+B490+1","v":61},null,null,null,null,{"$f":"+IF(F498=\"\",\"\",VLOOKUP(F498,Tabelas!$B$7:$C$96,2))","v":""},null,{"$f":"IF(H498=\"\",\"\",1-SUM(I499:I505))","v":""},null,null,null,null,null,null,{"$f":"+IF(O498=\"\",\"\",IF(N498=\"Transporte Marítimo\",VLOOKUP(O498,Tabelas!$F$7:$G$12,2),IF(N498=\"Transporte Aéreo\",VLOOKUP(O498,Tabelas!$F$16:$G$21,2),\"\")))","v":""},null,null,null,null,null,null,null,null,null,null,null,null,null,null,null,"",{"$f":"+IF(AF498=\"\",\"\",VLOOKUP(AF498,Tabelas!$J$27:$K$30,2))","v":""},null,null,null,null,null,null,null,null,null,null,null,null,null,null,null," "]
[null,null,null,null,null,null,{"$f":"+IF(F499=\"\",\"\",VLOOKUP(F499,Tabelas!$B$7:$C$96,2))","v":""},null,{"$f":"IF(H499=\"\",\"\",ROUND(H499/SUM(H498:H505),4))","v":""},null,null,null,null,null,null,{"$f":"+IF(O499=\"\",\"\",IF(N498=\"Transporte Marítimo\",VLOOKUP(O499,Tabelas!$F$7:$G$12,2),IF(N498=\"Transporte Aéreo\",VLOOKUP(O499,Tabelas!$F$16:$G$21,2),\"\")))","v":""},null,null,null,null,null,null,null,null,null,null,null,null,null,null,null,"",{"$f":"+IF(AF499=\"\",\"\",VLOOKUP(AF499,Tabelas!$J$27:$K$30,2))","v":""}]
[null,null,null,null,null,null,{"$f":"+IF(F500=\"\",\"\",VLOOKUP(F500,Tabelas!$B$7:$C$96,2))","v":""},null,{"$f":"IF(H500=\"\",\"\",ROUND(H500/SUM(H498:H505),4))","v":""},null,null,null,null,null,null,{"$f":"+IF(O500=\"\",\"\",IF(N498=\"Transporte Marítimo\",VLOOKUP(O500,Tabelas!$F$7:$G$12,2),IF(N498=\"Transporte Aéreo\",VLOOKUP(O500,Tabelas!$F$16:$G$21,2),\"\")))","v":""},null,null,null,null,null,null,null,null,null,null,null,null,null,null,null,"",{"$f":"+IF(AF500=\"\",\"\",VLOOKUP(AF500,Tabelas!$J$27:$K$30,2))","v":""}]
[null,null,null,null,null,null,{"$f":"+IF(F501=\"\",\"\",VLOOKUP(F501,Tabelas!$B$7:$C$96,2))","v":""},null,{"$f":"IF(H501=\"\",\"\",ROUND(H501/SUM(H498:H505),4))","v":""},null,null,null,null,null,null,{"$f":"+IF(O501=\"\",\"\",IF(N498=\"Transporte Marítimo\",VLOOKUP(O501,Tabelas!$F$7:$G$12,2),IF(N498=\"Transporte Aéreo\",VLOOKUP(O501,Tabelas!$F$16:$G$21,2),\"\")))","v":""},null,null,null,null,null,null,null,null,null,null,null,null,null,null,null,"",{"$f":"+IF(AF501=\"\",\"\",VLOOKUP(AF501,Tabelas!$J$27:$K$30,2))","v":""}]
[null,null,null,null,null,null,{"$f":"+IF(F502=\"\",\"\",VLOOKUP(F502,Tabelas!$B$7:$C$96,2))","v":""},null,{"$f":"IF(H502=\"\",\"\",ROUND(H502/SUM(H498:H505),4))","v":""},null,null,null,null,null,null,{"$f":"+IF(O502=\"\",\"\",IF(N498=\"Transporte Marítimo\",VLOOKUP(O502,Tabelas!$F$7:$G$12,2),IF(N498=\"Transporte Aéreo\",VLOOKUP(O502,Tabelas!$F$16:$G$21,2),\"\")))","v":""},null,null,null,null,null,null,null,null,null,null,null,null,null,null,null,"",{"$f":"+IF(AF502=\"\",\"\",VLOOKUP(AF502,Tabelas!$J$27:$K$30,2))","v":""}]
[null,null,null,null,null,null,{"$f":"+IF(F503=\"\",\"\",VLOOKUP(F503,Tabelas!$B$7:$C$96,2))","v":""},null,{"$f":"IF(H503=\"\",\"\",ROUND(H503/SUM(H498:H505),4))","v":""},null,null,null,null,null,null,{"$f":"+IF(O503=\"\",\"\",IF(N498=\"Transporte Marítimo\",VLOOKUP(O503,Tabelas!$F$7:$G$12,2),IF(N498=\"Transporte Aéreo\",VLOOKUP(O503,Tabelas!$F$16:$G$21,2),\"\")))","v":""},null,null,null,null,null,null,null,null,null,null,null,null,null,null,null,"",{"$f":"+IF(AF503=\"\",\"\",VLOOKUP(AF503,Tabelas!$J$27:$K$30,2))","v":""}]
[null,null,null,null,null,null,{"$f":"+IF(F504=\"\",\"\",VLOOKUP(F504,Tabelas!$B$7:$C$96,2))","v":""},null,{"$f":"IF(H504=\"\",\"\",ROUND(H504/SUM(H498:H505),4))","v":""},null,null,null,null,null,null,{"$f":"+IF(O504=\"\",\"\",IF(N498=\"Transporte Marítimo\",VLOOKUP(O504,Tabelas!$F$7:$G$12,2),IF(N498=\"Transporte Aéreo\",VLOOKUP(O504,Tabelas!$F$16:$G$21,2),\"\")))","v":""},null,null,null,null,null,null,null,null,null,null,null,null,null,null,null,"",{"$f":"+IF(AF504=\"\",\"\",VLOOKUP(AF504,Tabelas!$J$27:$K$30,2))","v":""}]
[null,null,null,null,null,null,{"$f":"+IF(F505=\"\",\"\",VLOOKUP(F505,Tabelas!$B$7:$C$96,2))","v":""},null,{"$f":"IF(H505=\"\",\"\",ROUND(H505/SUM(H498:H505),4))","v":""},null,null,null,null,null,null,{"$f":"+IF(O505=\"\",\"\",IF(N498=\"Transporte Marítimo\",VLOOKUP(O505,Tabelas!$F$7:$G$12,2),IF(N498=\"Transporte Aéreo\",VLOOKUP(O505,Tabelas!$F$16:$G$21,2),\"\")))","v":""},null,null,null,null,null,null,null,null,null,null,null,null,null,null,null,"",{"$f":"+IF(AF505=\"\",\"\",VLOOKUP(AF505,Tabelas!$J$27:$K$30,2))","v":""}]
[null,{"$f":"+B498+1","v":62},null,null,null,null,{"$f":"+IF(F506=\"\",\"\",VLOOKUP(F506,Tabelas!$B$7:$C$96,2))","v":""},null,{"$f":"IF(H506=\"\",\"\",1-SUM(I507:I513))","v":""},null,null,null,null,null,null,{"$f":"+IF(O506=\"\",\"\",IF(N506=\"Transporte Marítimo\",VLOOKUP(O506,Tabelas!$F$7:$G$12,2),IF(N506=\"Transporte Aéreo\",VLOOKUP(O506,Tabelas!$F$16:$G$21,2),\"\")))","v":""},null,null,null,null,null,null,null,null,null,null,null,null,null,null,null,"",{"$f":"+IF(AF506=\"\",\"\",VLOOKUP(AF506,Tabelas!$J$27:$K$30,2))","v":""},null,null,null,null,null,null,null,null,null,null,null,null,null,null,null," "]
[null,null,null,null,null,null,{"$f":"+IF(F507=\"\",\"\",VLOOKUP(F507,Tabelas!$B$7:$C$96,2))","v":""},null,{"$f":"IF(H507=\"\",\"\",ROUND(H507/SUM(H506:H513),4))","v":""},null,null,null,null,null,null,{"$f":"+IF(O507=\"\",\"\",IF(N506=\"Transporte Marítimo\",VLOOKUP(O507,Tabelas!$F$7:$G$12,2),IF(N506=\"Transporte Aéreo\",VLOOKUP(O507,Tabelas!$F$16:$G$21,2),\"\")))","v":""},null,null,null,null,null,null,null,null,null,null,null,null,null,null,null,"",{"$f":"+IF(AF507=\"\",\"\",VLOOKUP(AF507,Tabelas!$J$27:$K$30,2))","v":""}]
[null,null,null,null,null,null,{"$f":"+IF(F508=\"\",\"\",VLOOKUP(F508,Tabelas!$B$7:$C$96,2))","v":""},null,{"$f":"IF(H508=\"\",\"\",ROUND(H508/SUM(H506:H513),4))","v":""},null,null,null,null,null,null,{"$f":"+IF(O508=\"\",\"\",IF(N506=\"Transporte Marítimo\",VLOOKUP(O508,Tabelas!$F$7:$G$12,2),IF(N506=\"Transporte Aéreo\",VLOOKUP(O508,Tabelas!$F$16:$G$21,2),\"\")))","v":""},null,null,null,null,null,null,null,null,null,null,null,null,null,null,null,"",{"$f":"+IF(AF508=\"\",\"\",VLOOKUP(AF508,Tabelas!$J$27:$K$30,2))","v":""}]
[null,null,null,null,null,null,{"$f":"+IF(F509=\"\",\"\",VLOOKUP(F509,Tabelas!$B$7:$C$96,2))","v":""},null,{"$f":"IF(H509=\"\",\"\",ROUND(H509/SUM(H506:H513),4))","v":""},null,null,null,null,null,null,{"$f":"+IF(O509=\"\",\"\",IF(N506=\"Transporte Marítimo\",VLOOKUP(O509,Tabelas!$F$7:$G$12,2),IF(N506=\"Transporte Aéreo\",VLOOKUP(O509,Tabelas!$F$16:$G$21,2),\"\")))","v":""},null,null,null,null,null,null,null,null,null,null,null,null,null,null,null,"",{"$f":"+IF(AF509=\"\",\"\",VLOOKUP(AF509,Tabelas!$J$27:$K$30,2))","v":""}]
[null,null,null,null,null,null,{"$f":"+IF(F510=\"\",\"\",VLOOKUP(F510,Tabelas!$B$7:$C$96,2))","v":""},null,{"$f":"IF(H510=\"\",\"\",ROUND(H510/SUM(H506:H513),4))","v":""},null,null,null,null,null,null,{"$f":"+IF(O510=\"\",\"\",IF(N506=\"Transporte Marítimo\",VLOOKUP(O510,Tabelas!$F$7:$G$12,2),IF(N506=\"Transporte Aéreo\",VLOOKUP(O510,Tabelas!$F$16:$G$21,2),\"\")))","v":""},null,null,null,null,null,null,null,null,null,null,null,null,null,null,null,"",{"$f":"+IF(AF510=\"\",\"\",VLOOKUP(AF510,Tabelas!$J$27:$K$30,2))","v":""}]
[null,null,null,null,null,null,{"$f":"+IF(F511=\"\",\"\",VLOOKUP(F511,Tabelas!$B$7:$C$96,2))","v":""},null,{"$f":"IF(H511=\"\",\"\",ROUND(H511/SUM(H506:H513),4))","v":""},null,null,null,null,null,null,{"$f":"+IF(O511=\"\",\"\",IF(N506=\"Transporte Marítimo\",VLOOKUP(O511,Tabelas!$F$7:$G$12,2),IF(N506=\"Transporte Aéreo\",VLOOKUP(O511,Tabelas!$F$16:$G$21,2),\"\")))","v":""},null,null,null,null,null,null,null,null,null,null,null,null,null,null,null,"",{"$f":"+IF(AF511=\"\",\"\",VLOOKUP(AF511,Tabelas!$J$27:$K$30,2))","v":""}]
[null,null,null,null,null,null,{"$f":"+IF(F512=\"\",\"\",VLOOKUP(F512,Tabelas!$B$7:$C$96,2))","v":""},null,{"$f":"IF(H512=\"\",\"\",ROUND(H512/SUM(H506:H513),4))","v":""},null,null,null,null,null,null,{"$f":"+IF(O512=\"\",\"\",IF(N506=\"Transporte Marítimo\",VLOOKUP(O512,Tabelas!$F$7:$G$12,2),IF(N506=\"Transporte Aéreo\",VLOOKUP(O512,Tabelas!$F$16:$G$21,2),\"\")))","v":""},null,null,null,null,null,null,null,null,null,null,null,null,null,null,null,"",{"$f":"+IF(AF512=\"\",\"\",VLOOKUP(AF512,Tabelas!$J$27:$K$30,2))","v":""}]
[null,null,null,null,null,null,{"$f":"+IF(F513=\"\",\"\",VLOOKUP(F513,Tabelas!$B$7:$C$96,2))","v":""},null,{"$f":"IF(H513=\"\",\"\",ROUND(H513/SUM(H506:H513),4))","v":""},null,null,null,null,null,null,{"$f":"+IF(O513=\"\",\"\",IF(N506=\"Transporte Marítimo\",VLOOKUP(O513,Tabelas!$F$7:$G$12,2),IF(N506=\"Transporte Aéreo\",VLOOKUP(O513,Tabelas!$F$16:$G$21,2),\"\")))","v":""},null,null,null,null,null,null,null,null,null,null,null,null,null,null,null,"",{"$f":"+IF(AF513=\"\",\"\",VLOOKUP(AF513,Tabelas!$J$27:$K$30,2))","v":""}]
[null,{"$f":"+B506+1","v":63},null,null,null,null,{"$f":"+IF(F514=\"\",\"\",VLOOKUP(F514,Tabelas!$B$7:$C$96,2))","v":""},null,{"$f":"IF(H514=\"\",\"\",1-SUM(I515:I521))","v":""},null,null,null,null,null,null,{"$f":"+IF(O514=\"\",\"\",IF(N514=\"Transporte Marítimo\",VLOOKUP(O514,Tabelas!$F$7:$G$12,2),IF(N514=\"Transporte Aéreo\",VLOOKUP(O514,Tabelas!$F$16:$G$21,2),\"\")))","v":""},null,null,null,null,null,null,null,null,null,null,null,null,null,null,null,"",{"$f":"+IF(AF514=\"\",\"\",VLOOKUP(AF514,Tabelas!$J$27:$K$30,2))","v":""},null,null,null,null,null,null,null,null,null,null,null,null,null,null,null," "]
[null,null,null,null,null,null,{"$f":"+IF(F515=\"\",\"\",VLOOKUP(F515,Tabelas!$B$7:$C$96,2))","v":""},null,{"$f":"IF(H515=\"\",\"\",ROUND(H515/SUM(H514:H521),4))","v":""},null,null,null,null,null,null,{"$f":"+IF(O515=\"\",\"\",IF(N514=\"Transporte Marítimo\",VLOOKUP(O515,Tabelas!$F$7:$G$12,2),IF(N514=\"Transporte Aéreo\",VLOOKUP(O515,Tabelas!$F$16:$G$21,2),\"\")))","v":""},null,null,null,null,null,null,null,null,null,null,null,null,null,null,null,"",{"$f":"+IF(AF515=\"\",\"\",VLOOKUP(AF515,Tabelas!$J$27:$K$30,2))","v":""}]
[null,null,null,null,null,null,{"$f":"+IF(F516=\"\",\"\",VLOOKUP(F516,Tabelas!$B$7:$C$96,2))","v":""},null,{"$f":"IF(H516=\"\",\"\",ROUND(H516/SUM(H514:H521),4))","v":""},null,null,null,null,null,null,{"$f":"+IF(O516=\"\",\"\",IF(N514=\"Transporte Marítimo\",VLOOKUP(O516,Tabelas!$F$7:$G$12,2),IF(N514=\"Transporte Aéreo\",VLOOKUP(O516,Tabelas!$F$16:$G$21,2),\"\")))","v":""},null,null,null,null,null,null,null,null,null,null,null,null,null,null,null,"",{"$f":"+IF(AF516=\"\",\"\",VLOOKUP(AF516,Tabelas!$J$27:$K$30,2))","v":""}]
[null,null,null,null,null,null,{"$f":"+IF(F517=\"\",\"\",VLOOKUP(F517,Tabelas!$B$7:$C$96,2))","v":""},null,{"$f":"IF(H517=\"\",\"\",ROUND(H517/SUM(H514:H521),4))","v":""},null,null,null,null,null,null,{"$f":"+IF(O517=\"\",\"\",IF(N514=\"Transporte Marítimo\",VLOOKUP(O517,Tabelas!$F$7:$G$12,2),IF(N514=\"Transporte Aéreo\",VLOOKUP(O517,Tabelas!$F$16:$G$21,2),\"\")))","v":""},null,null,null,null,null,null,null,null,null,null,null,null,null,null,null,"",{"$f":"+IF(AF517=\"\",\"\",VLOOKUP(AF517,Tabelas!$J$27:$K$30,2))","v":""}]
[null,null,null,null,null,null,{"$f":"+IF(F518=\"\",\"\",VLOOKUP(F518,Tabelas!$B$7:$C$96,2))","v":""},null,{"$f":"IF(H518=\"\",\"\",ROUND(H518/SUM(H514:H521),4))","v":""},null,null,null,null,null,null,{"$f":"+IF(O518=\"\",\"\",IF(N514=\"Transporte Marítimo\",VLOOKUP(O518,Tabelas!$F$7:$G$12,2),IF(N514=\"Transporte Aéreo\",VLOOKUP(O518,Tabelas!$F$16:$G$21,2),\"\")))","v":""},null,null,null,null,null,null,null,null,null,null,null,null,null,null,null,"",{"$f":"+IF(AF518=\"\",\"\",VLOOKUP(AF518,Tabelas!$J$27:$K$30,2))","v":""}]
[null,null,null,null,null,null,{"$f":"+IF(F519=\"\",\"\",VLOOKUP(F519,Tabelas!$B$7:$C$96,2))","v":""},null,{"$f":"IF(H519=\"\",\"\",ROUND(H519/SUM(H514:H521),4))","v":""},null,null,null,null,null,null,{"$f":"+IF(O519=\"\",\"\",IF(N514=\"Transporte Marítimo\",VLOOKUP(O519,Tabelas!$F$7:$G$12,2),IF(N514=\"Transporte Aéreo\",VLOOKUP(O519,Tabelas!$F$16:$G$21,2),\"\")))","v":""},null,null,null,null,null,null,null,null,null,null,null,null,null,null,null,"",{"$f":"+IF(AF519=\"\",\"\",VLOOKUP(AF519,Tabelas!$J$27:$K$30,2))","v":""}]
[null,null,null,null,null,null,{"$f":"+IF(F520=\"\",\"\",VLOOKUP(F520,Tabelas!$B$7:$C$96,2))","v":""},null,{"$f":"IF(H520=\"\",\"\",ROUND(H520/SUM(H514:H521),4))","v":""},null,null,null,null,null,null,{"$f":"+IF(O520=\"\",\"\",IF(N514=\"Transporte Marítimo\",VLOOKUP(O520,Tabelas!$F$7:$G$12,2),IF(N514=\"Transporte Aéreo\",VLOOKUP(O520,Tabelas!$F$16:$G$21,2),\"\")))","v":""},null,null,null,null,null,null,null,null,null,null,null,null,null,null,null,"",{"$f":"+IF(AF520=\"\",\"\",VLOOKUP(AF520,Tabelas!$J$27:$K$30,2))","v":""}]
[null,null,null,null,null,null,{"$f":"+IF(F521=\"\",\"\",VLOOKUP(F521,Tabelas!$B$7:$C$96,2))","v":""},null,{"$f":"IF(H521=\"\",\"\",ROUND(H521/SUM(H514:H521),4))","v":""},null,null,null,null,null,null,{"$f":"+IF(O521=\"\",\"\",IF(N514=\"Transporte Marítimo\",VLOOKUP(O521,Tabelas!$F$7:$G$12,2),IF(N514=\"Transporte Aéreo\",VLOOKUP(O521,Tabelas!$F$16:$G$21,2),\"\")))","v":""},null,null,null,null,null,null,null,null,null,null,null,null,null,null,null,"",{"$f":"+IF(AF521=\"\",\"\",VLOOKUP(AF521,Tabelas!$J$27:$K$30,2))","v":""}]
[null,{"$f":"+B514+1","v":64},null,null,null,null,{"$f":"+IF(F522=\"\",\"\",VLOOKUP(F522,Tabelas!$B$7:$C$96,2))","v":""},null,{"$f":"IF(H522=\"\",\"\",1-SUM(I523:I529))","v":""},null,null,null,null,null,null,{"$f":"+IF(O522=\"\",\"\",IF(N522=\"Transporte Marítimo\",VLOOKUP(O522,Tabelas!$F$7:$G$12,2),IF(N522=\"Transporte Aéreo\",VLOOKUP(O522,Tabelas!$F$16:$G$21,2),\"\")))","v":""},null,null,null,null,null,null,null,null,null,null,null,null,null,null,null,"",{"$f":"+IF(AF522=\"\",\"\",VLOOKUP(AF522,Tabelas!$J$27:$K$30,2))","v":""},null,null,null,null,null,null,null,null,null,null,null,null,null,null,null," "]
[null,null,null,null,null,null,{"$f":"+IF(F523=\"\",\"\",VLOOKUP(F523,Tabelas!$B$7:$C$96,2))","v":""},null,{"$f":"IF(H523=\"\",\"\",ROUND(H523/SUM(H522:H529),4))","v":""},null,null,null,null,null,null,{"$f":"+IF(O523=\"\",\"\",IF(N522=\"Transporte Marítimo\",VLOOKUP(O523,Tabelas!$F$7:$G$12,2),IF(N522=\"Transporte Aéreo\",VLOOKUP(O523,Tabelas!$F$16:$G$21,2),\"\")))","v":""},null,null,null,null,null,null,null,null,null,null,null,null,null,null,null,"",{"$f":"+IF(AF523=\"\",\"\",VLOOKUP(AF523,Tabelas!$J$27:$K$30,2))","v":""}]
[null,null,null,null,null,null,{"$f":"+IF(F524=\"\",\"\",VLOOKUP(F524,Tabelas!$B$7:$C$96,2))","v":""},null,{"$f":"IF(H524=\"\",\"\",ROUND(H524/SUM(H522:H529),4))","v":""},null,null,null,null,null,null,{"$f":"+IF(O524=\"\",\"\",IF(N522=\"Transporte Marítimo\",VLOOKUP(O524,Tabelas!$F$7:$G$12,2),IF(N522=\"Transporte Aéreo\",VLOOKUP(O524,Tabelas!$F$16:$G$21,2),\"\")))","v":""},null,null,null,null,null,null,null,null,null,null,null,null,null,null,null,"",{"$f":"+IF(AF524=\"\",\"\",VLOOKUP(AF524,Tabelas!$J$27:$K$30,2))","v":""}]
[null,null,null,null,null,null,{"$f":"+IF(F525=\"\",\"\",VLOOKUP(F525,Tabelas!$B$7:$C$96,2))","v":""},null,{"$f":"IF(H525=\"\",\"\",ROUND(H525/SUM(H522:H529),4))","v":""},null,null,null,null,null,null,{"$f":"+IF(O525=\"\",\"\",IF(N522=\"Transporte Marítimo\",VLOOKUP(O525,Tabelas!$F$7:$G$12,2),IF(N522=\"Transporte Aéreo\",VLOOKUP(O525,Tabelas!$F$16:$G$21,2),\"\")))","v":""},null,null,null,null,null,null,null,null,null,null,null,null,null,null,null,"",{"$f":"+IF(AF525=\"\",\"\",VLOOKUP(AF525,Tabelas!$J$27:$K$30,2))","v":""}]
[null,null,null,null,null,null,{"$f":"+IF(F526=\"\",\"\",VLOOKUP(F526,Tabelas!$B$7:$C$96,2))","v":""},null,{"$f":"IF(H526=\"\",\"\",ROUND(H526/SUM(H522:H529),4))","v":""},null,null,null,null,null,null,{"$f":"+IF(O526=\"\",\"\",IF(N522=\"Transporte Marítimo\",VLOOKUP(O526,Tabelas!$F$7:$G$12,2),IF(N522=\"Transporte Aéreo\",VLOOKUP(O526,Tabelas!$F$16:$G$21,2),\"\")))","v":""},null,null,null,null,null,null,null,null,null,null,null,null,null,null,null,"",{"$f":"+IF(AF526=\"\",\"\",VLOOKUP(AF526,Tabelas!$J$27:$K$30,2))","v":""}]
[null,null,null,null,null,null,{"$f":"+IF(F527=\"\",\"\",VLOOKUP(F527,Tabelas!$B$7:$C$96,2))","v":""},null,{"$f":"IF(H527=\"\",\"\",ROUND(H527/SUM(H522:H529),4))","v":""},null,null,null,null,null,null,{"$f":"+IF(O527=\"\",\"\",IF(N522=\"Transporte Marítimo\",VLOOKUP(O527,Tabelas!$F$7:$G$12,2),IF(N522=\"Transporte Aéreo\",VLOOKUP(O527,Tabelas!$F$16:$G$21,2),\"\")))","v":""},null,null,null,null,null,null,null,null,null,null,null,null,null,null,null,"",{"$f":"+IF(AF527=\"\",\"\",VLOOKUP(AF527,Tabelas!$J$27:$K$30,2))","v":""}]
[null,null,null,null,null,null,{"$f":"+IF(F528=\"\",\"\",VLOOKUP(F528,Tabelas!$B$7:$C$96,2))","v":""},null,{"$f":"IF(H528=\"\",\"\",ROUND(H528/SUM(H522:H529),4))","v":""},null,null,null,null,null,null,{"$f":"+IF(O528=\"\",\"\",IF(N522=\"Transporte Marítimo\",VLOOKUP(O528,Tabelas!$F$7:$G$12,2),IF(N522=\"Transporte Aéreo\",VLOOKUP(O528,Tabelas!$F$16:$G$21,2),\"\")))","v":""},null,null,null,null,null,null,null,null,null,null,null,null,null,null,null,"",{"$f":"+IF(AF528=\"\",\"\",VLOOKUP(AF528,Tabelas!$J$27:$K$30,2))","v":""}]
[null,null,null,null,null,null,{"$f":"+IF(F529=\"\",\"\",VLOOKUP(F529,Tabelas!$B$7:$C$96,2))","v":""},null,{"$f":"IF(H529=\"\",\"\",ROUND(H529/SUM(H522:H529),4))","v":""},null,null,null,null,null,null,{"$f":"+IF(O529=\"\",\"\",IF(N522=\"Transporte Marítimo\",VLOOKUP(O529,Tabelas!$F$7:$G$12,2),IF(N522=\"Transporte Aéreo\",VLOOKUP(O529,Tabelas!$F$16:$G$21,2),\"\")))","v":""},null,null,null,null,null,null,null,null,null,null,null,null,null,null,null,"",{"$f":"+IF(AF529=\"\",\"\",VLOOKUP(AF529,Tabelas!$J$27:$K$30,2))","v":""}]
[null,{"$f":"+B522+1","v":65},null,null,null,null,{"$f":"+IF(F530=\"\",\"\",VLOOKUP(F530,Tabelas!$B$7:$C$96,2))","v":""},null,{"$f":"IF(H530=\"\",\"\",1-SUM(I531:I537))","v":""},null,null,null,null,null,null,{"$f":"+IF(O530=\"\",\"\",IF(N530=\"Transporte Marítimo\",VLOOKUP(O530,Tabelas!$F$7:$G$12,2),IF(N530=\"Transporte Aéreo\",VLOOKUP(O530,Tabelas!$F$16:$G$21,2),\"\")))","v":""},null,null,null,null,null,null,null,null,null,null,null,null,null,null,null,"",{"$f":"+IF(AF530=\"\",\"\",VLOOKUP(AF530,Tabelas!$J$27:$K$30,2))","v":""},null,null,null,null,null,null,null,null,null,null,null,null,null,null,null," "]
[null,null,null,null,null,null,{"$f":"+IF(F531=\"\",\"\",VLOOKUP(F531,Tabelas!$B$7:$C$96,2))","v":""},null,{"$f":"IF(H531=\"\",\"\",ROUND(H531/SUM(H530:H537),4))","v":""},null,null,null,null,null,null,{"$f":"+IF(O531=\"\",\"\",IF(N530=\"Transporte Marítimo\",VLOOKUP(O531,Tabelas!$F$7:$G$12,2),IF(N530=\"Transporte Aéreo\",VLOOKUP(O531,Tabelas!$F$16:$G$21,2),\"\")))","v":""},null,null,null,null,null,null,null,null,null,null,null,null,null,null,null,{"$f":"+IF(AE531=\"20NL\",1,IF(AE531=\"40NL\",2,IF(AE531=\"20RF\",3,IF(AE531=\"40RF\",4,\"\"))))","v":""},{"$f":"+IF(AF531=\"\",\"\",VLOOKUP(AF531,Tabelas!$J$27:$K$30,2))","v":""}]
[null,null,null,null,null,null,{"$f":"+IF(F532=\"\",\"\",VLOOKUP(F532,Tabelas!$B$7:$C$96,2))","v":""},null,{"$f":"IF(H532=\"\",\"\",ROUND(H532/SUM(H530:H537),4))","v":""},null,null,null,null,null,null,{"$f":"+IF(O532=\"\",\"\",IF(N530=\"Transporte Marítimo\",VLOOKUP(O532,Tabelas!$F$7:$G$12,2),IF(N530=\"Transporte Aéreo\",VLOOKUP(O532,Tabelas!$F$16:$G$21,2),\"\")))","v":""},null,null,null,null,null,null,null,null,null,null,null,null,null,null,null,"",{"$f":"+IF(AF532=\"\",\"\",VLOOKUP(AF532,Tabelas!$J$27:$K$30,2))","v":""}]
[null,null,null,null,null,null,{"$f":"+IF(F533=\"\",\"\",VLOOKUP(F533,Tabelas!$B$7:$C$96,2))","v":""},null,{"$f":"IF(H533=\"\",\"\",ROUND(H533/SUM(H530:H537),4))","v":""},null,null,null,null,null,null,{"$f":"+IF(O533=\"\",\"\",IF(N530=\"Transporte Marítimo\",VLOOKUP(O533,Tabelas!$F$7:$G$12,2),IF(N530=\"Transporte Aéreo\",VLOOKUP(O533,Tabelas!$F$16:$G$21,2),\"\")))","v":""},null,null,null,null,null,null,null,null,null,null,null,null,null,null,null,"",{"$f":"+IF(AF533=\"\",\"\",VLOOKUP(AF533,Tabelas!$J$27:$K$30,2))","v":""}]
[null,null,null,null,null,null,{"$f":"+IF(F534=\"\",\"\",VLOOKUP(F534,Tabelas!$B$7:$C$96,2))","v":""},null,{"$f":"IF(H534=\"\",\"\",ROUND(H534/SUM(H530:H537),4))","v":""},null,null,null,null,null,null,{"$f":"+IF(O534=\"\",\"\",IF(N530=\"Transporte Marítimo\",VLOOKUP(O534,Tabelas!$F$7:$G$12,2),IF(N530=\"Transporte Aéreo\",VLOOKUP(O534,Tabelas!$F$16:$G$21,2),\"\")))","v":""},null,null,null,null,null,null,null,null,null,null,null,null,null,null,null,"",{"$f":"+IF(AF534=\"\",\"\",VLOOKUP(AF534,Tabelas!$J$27:$K$30,2))","v":""}]
[null,null,null,null,null,null,{"$f":"+IF(F535=\"\",\"\",VLOOKUP(F535,Tabelas!$B$7:$C$96,2))","v":""},null,{"$f":"IF(H535=\"\",\"\",ROUND(H535/SUM(H530:H537),4))","v":""},null,null,null,null,null,null,{"$f":"+IF(O535=\"\",\"\",IF(N530=\"Transporte Marítimo\",VLOOKUP(O535,Tabelas!$F$7:$G$12,2),IF(N530=\"Transporte Aéreo\",VLOOKUP(O535,Tabelas!$F$16:$G$21,2),\"\")))","v":""},null,null,null,null,null,null,null,null,null,null,null,null,null,null,null,"",{"$f":"+IF(AF535=\"\",\"\",VLOOKUP(AF535,Tabelas!$J$27:$K$30,2))","v":""}]
[null,null,null,null,null,null,{"$f":"+IF(F536=\"\",\"\",VLOOKUP(F536,Tabelas!$B$7:$C$96,2))","v":""},null,{"$f":"IF(H536=\"\",\"\",ROUND(H536/SUM(H530:H537),4))","v":""},null,null,null,null,null,null,{"$f":"+IF(O536=\"\",\"\",IF(N530=\"Transporte Marítimo\",VLOOKUP(O536,Tabelas!$F$7:$G$12,2),IF(N530=\"Transporte Aéreo\",VLOOKUP(O536,Tabelas!$F$16:$G$21,2),\"\")))","v":""},null,null,null,null,null,null,null,null,null,null,null,null,null,null,null,"",{"$f":"+IF(AF536=\"\",\"\",VLOOKUP(AF536,Tabelas!$J$27:$K$30,2))","v":""}]
[null,null,null,null,null,null,{"$f":"+IF(F537=\"\",\"\",VLOOKUP(F537,Tabelas!$B$7:$C$96,2))","v":""},null,{"$f":"IF(H537=\"\",\"\",ROUND(H537/SUM(H530:H537),4))","v":""},null,null,null,null,null,null,{"$f":"+IF(O537=\"\",\"\",IF(N530=\"Transporte Marítimo\",VLOOKUP(O537,Tabelas!$F$7:$G$12,2),IF(N530=\"Transporte Aéreo\",VLOOKUP(O537,Tabelas!$F$16:$G$21,2),\"\")))","v":""},null,null,null,null,null,null,null,null,null,null,null,null,null,null,null,"",{"$f":"+IF(AF537=\"\",\"\",VLOOKUP(AF537,Tabelas!$J$27:$K$30,2))","v":""}]
[null,{"$f":"+B530+1","v":66},null,null,null,null,{"$f":"+IF(F538=\"\",\"\",VLOOKUP(F538,Tabelas!$B$7:$C$96,2))","v":""},null,{"$f":"IF(H538=\"\",\"\",1-SUM(I539:I545))","v":""},null,null,null,null,null,null,{"$f":"+IF(O538=\"\",\"\",IF(N538=\"Transporte Marítimo\",VLOOKUP(O538,Tabelas!$F$7:$G$12,2),IF(N538=\"Transporte Aéreo\",VLOOKUP(O538,Tabelas!$F$16:$G$21,2),\"\")))","v":""},null,null,null,null,null,null,null,null,null,null,null,null,null,null,null,"",{"$f":"+IF(AF538=\"\",\"\",VLOOKUP(AF538,Tabelas!$J$27:$K$30,2))","v":""},null,null,null,null,null,null,null,null,null,null,null,null,null,null,null," "]
[null,null,null,null,null,null,{"$f":"+IF(F539=\"\",\"\",VLOOKUP(F539,Tabelas!$B$7:$C$96,2))","v":""},null,{"$f":"IF(H539=\"\",\"\",ROUND(H539/SUM(H538:H545),4))","v":""},null,null,null,null,null,null,{"$f":"+IF(O539=\"\",\"\",IF(N538=\"Transporte Marítimo\",VLOOKUP(O539,Tabelas!$F$7:$G$12,2),IF(N538=\"Transporte Aéreo\",VLOOKUP(O539,Tabelas!$F$16:$G$21,2),\"\")))","v":""},null,null,null,null,null,null,null,null,null,null,null,null,null,null,null,"",{"$f":"+IF(AF539=\"\",\"\",VLOOKUP(AF539,Tabelas!$J$27:$K$30,2))","v":""}]
[null,null,null,null,null,null,{"$f":"+IF(F540=\"\",\"\",VLOOKUP(F540,Tabelas!$B$7:$C$96,2))","v":""},null,{"$f":"IF(H540=\"\",\"\",ROUND(H540/SUM(H538:H545),4))","v":""},null,null,null,null,null,null,{"$f":"+IF(O540=\"\",\"\",IF(N538=\"Transporte Marítimo\",VLOOKUP(O540,Tabelas!$F$7:$G$12,2),IF(N538=\"Transporte Aéreo\",VLOOKUP(O540,Tabelas!$F$16:$G$21,2),\"\")))","v":""},null,null,null,null,null,null,null,null,null,null,null,null,null,null,null,"",{"$f":"+IF(AF540=\"\",\"\",VLOOKUP(AF540,Tabelas!$J$27:$K$30,2))","v":""}]
[null,null,null,null,null,null,{"$f":"+IF(F541=\"\",\"\",VLOOKUP(F541,Tabelas!$B$7:$C$96,2))","v":""},null,{"$f":"IF(H541=\"\",\"\",ROUND(H541/SUM(H538:H545),4))","v":""},null,null,null,null,null,null,{"$f":"+IF(O541=\"\",\"\",IF(N538=\"Transporte Marítimo\",VLOOKUP(O541,Tabelas!$F$7:$G$12,2),IF(N538=\"Transporte Aéreo\",VLOOKUP(O541,Tabelas!$F$16:$G$21,2),\"\")))","v":""},null,null,null,null,null,null,null,null,null,null,null,null,null,null,null,"",{"$f":"+IF(AF541=\"\",\"\",VLOOKUP(AF541,Tabelas!$J$27:$K$30,2))","v":""}]
[null,null,null,null,null,null,{"$f":"+IF(F542=\"\",\"\",VLOOKUP(F542,Tabelas!$B$7:$C$96,2))","v":""},null,{"$f":"IF(H542=\"\",\"\",ROUND(H542/SUM(H538:H545),4))","v":""},null,null,null,null,null,null,{"$f":"+IF(O542=\"\",\"\",IF(N538=\"Transporte Marítimo\",VLOOKUP(O542,Tabelas!$F$7:$G$12,2),IF(N538=\"Transporte Aéreo\",VLOOKUP(O542,Tabelas!$F$16:$G$21,2),\"\")))","v":""},null,null,null,null,null,null,null,null,null,null,null,null,null,null,null,"",{"$f":"+IF(AF542=\"\",\"\",VLOOKUP(AF542,Tabelas!$J$27:$K$30,2))","v":""}]
[null,null,null,null,null,null,{"$f":"+IF(F543=\"\",\"\",VLOOKUP(F543,Tabelas!$B$7:$C$96,2))","v":""},null,{"$f":"IF(H543=\"\",\"\",ROUND(H543/SUM(H538:H545),4))","v":""},null,null,null,null,null,null,{"$f":"+IF(O543=\"\",\"\",IF(N538=\"Transporte Marítimo\",VLOOKUP(O543,Tabelas!$F$7:$G$12,2),IF(N538=\"Transporte Aéreo\",VLOOKUP(O543,Tabelas!$F$16:$G$21,2),\"\")))","v":""},null,null,null,null,null,null,null,null,null,null,null,null,null,null,null,"",{"$f":"+IF(AF543=\"\",\"\",VLOOKUP(AF543,Tabelas!$J$27:$K$30,2))","v":""}]
[null,null,null,null,null,null,{"$f":"+IF(F544=\"\",\"\",VLOOKUP(F544,Tabelas!$B$7:$C$96,2))","v":""},null,{"$f":"IF(H544=\"\",\"\",ROUND(H544/SUM(H538:H545),4))","v":""},null,null,null,null,null,null,{"$f":"+IF(O544=\"\",\"\",IF(N538=\"Transporte Marítimo\",VLOOKUP(O544,Tabelas!$F$7:$G$12,2),IF(N538=\"Transporte Aéreo\",VLOOKUP(O544,Tabelas!$F$16:$G$21,2),\"\")))","v":""},null,null,null,null,null,null,null,null,null,null,null,null,null,null,null,"",{"$f":"+IF(AF544=\"\",\"\",VLOOKUP(AF544,Tabelas!$J$27:$K$30,2))","v":""}]
[null,null,null,null,null,null,{"$f":"+IF(F545=\"\",\"\",VLOOKUP(F545,Tabelas!$B$7:$C$96,2))","v":""},null,{"$f":"IF(H545=\"\",\"\",ROUND(H545/SUM(H538:H545),4))","v":""},null,null,null,null,null,null,{"$f":"+IF(O545=\"\",\"\",IF(N538=\"Transporte Marítimo\",VLOOKUP(O545,Tabelas!$F$7:$G$12,2),IF(N538=\"Transporte Aéreo\",VLOOKUP(O545,Tabelas!$F$16:$G$21,2),\"\")))","v":""},null,null,null,null,null,null,null,null,null,null,null,null,null,null,null,"",{"$f":"+IF(AF545=\"\",\"\",VLOOKUP(AF545,Tabelas!$J$27:$K$30,2))","v":""}]
[null,{"$f":"+B538+1","v":67},null,null,null,null,{"$f":"+IF(F546=\"\",\"\",VLOOKUP(F546,Tabelas!$B$7:$C$96,2))","v":""},null,{"$f":"IF(H546=\"\",\"\",1-SUM(I547:I553))","v":""},null,null,null,null,null,null,{"$f":"+IF(O546=\"\",\"\",IF(N546=\"Transporte Marítimo\",VLOOKUP(O546,Tabelas!$F$7:$G$12,2),IF(N546=\"Transporte Aéreo\",VLOOKUP(O546,Tabelas!$F$16:$G$21,2),\"\")))","v":""},null,null,null,null,null,null,null,null,null,null,null,null,null,null,null,"",{"$f":"+IF(AF546=\"\",\"\",VLOOKUP(AF546,Tabelas!$J$27:$K$30,2))","v":""},null,null,null,null,null,null,null,null,null,null,null,null,null,null,null," "]
[null,null,null,null,null,null,{"$f":"+IF(F547=\"\",\"\",VLOOKUP(F547,Tabelas!$B$7:$C$96,2))","v":""},null,{"$f":"IF(H547=\"\",\"\",ROUND(H547/SUM(H546:H553),4))","v":""},null,null,null,null,null,null,{"$f":"+IF(O547=\"\",\"\",IF(N546=\"Transporte Marítimo\",VLOOKUP(O547,Tabelas!$F$7:$G$12,2),IF(N546=\"Transporte Aéreo\",VLOOKUP(O547,Tabelas!$F$16:$G$21,2),\"\")))","v":""},null,null,null,null,null,null,null,null,null,null,null,null,null,null,null,"",{"$f":"+IF(AF547=\"\",\"\",VLOOKUP(AF547,Tabelas!$J$27:$K$30,2))","v":""}]
[null,null,null,null,null,null,{"$f":"+IF(F548=\"\",\"\",VLOOKUP(F548,Tabelas!$B$7:$C$96,2))","v":""},null,{"$f":"IF(H548=\"\",\"\",ROUND(H548/SUM(H546:H553),4))","v":""},null,null,null,null,null,null,{"$f":"+IF(O548=\"\",\"\",IF(N546=\"Transporte Marítimo\",VLOOKUP(O548,Tabelas!$F$7:$G$12,2),IF(N546=\"Transporte Aéreo\",VLOOKUP(O548,Tabelas!$F$16:$G$21,2),\"\")))","v":""},null,null,null,null,null,null,null,null,null,null,null,null,null,null,null,"",{"$f":"+IF(AF548=\"\",\"\",VLOOKUP(AF548,Tabelas!$J$27:$K$30,2))","v":""}]
[null,null,null,null,null,null,{"$f":"+IF(F549=\"\",\"\",VLOOKUP(F549,Tabelas!$B$7:$C$96,2))","v":""},null,{"$f":"IF(H549=\"\",\"\",ROUND(H549/SUM(H546:H553),4))","v":""},null,null,null,null,null,null,{"$f":"+IF(O549=\"\",\"\",IF(N546=\"Transporte Marítimo\",VLOOKUP(O549,Tabelas!$F$7:$G$12,2),IF(N546=\"Transporte Aéreo\",VLOOKUP(O549,Tabelas!$F$16:$G$21,2),\"\")))","v":""},null,null,null,null,null,null,null,null,null,null,null,null,null,null,null,"",{"$f":"+IF(AF549=\"\",\"\",VLOOKUP(AF549,Tabelas!$J$27:$K$30,2))","v":""}]
[null,null,null,null,null,null,{"$f":"+IF(F550=\"\",\"\",VLOOKUP(F550,Tabelas!$B$7:$C$96,2))","v":""},null,{"$f":"IF(H550=\"\",\"\",ROUND(H550/SUM(H546:H553),4))","v":""},null,null,null,null,null,null,{"$f":"+IF(O550=\"\",\"\",IF(N546=\"Transporte Marítimo\",VLOOKUP(O550,Tabelas!$F$7:$G$12,2),IF(N546=\"Transporte Aéreo\",VLOOKUP(O550,Tabelas!$F$16:$G$21,2),\"\")))","v":""},null,null,null,null,null,null,null,null,null,null,null,null,null,null,null,"",{"$f":"+IF(AF550=\"\",\"\",VLOOKUP(AF550,Tabelas!$J$27:$K$30,2))","v":""}]
[null,null,null,null,null,null,{"$f":"+IF(F551=\"\",\"\",VLOOKUP(F551,Tabelas!$B$7:$C$96,2))","v":""},null,{"$f":"IF(H551=\"\",\"\",ROUND(H551/SUM(H546:H553),4))","v":""},null,null,null,null,null,null,{"$f":"+IF(O551=\"\",\"\",IF(N546=\"Transporte Marítimo\",VLOOKUP(O551,Tabelas!$F$7:$G$12,2),IF(N546=\"Transporte Aéreo\",VLOOKUP(O551,Tabelas!$F$16:$G$21,2),\"\")))","v":""},null,null,null,null,null,null,null,null,null,null,null,null,null,null,null,"",{"$f":"+IF(AF551=\"\",\"\",VLOOKUP(AF551,Tabelas!$J$27:$K$30,2))","v":""}]
[null,null,null,null,null,null,{"$f":"+IF(F552=\"\",\"\",VLOOKUP(F552,Tabelas!$B$7:$C$96,2))","v":""},null,{"$f":"IF(H552=\"\",\"\",ROUND(H552/SUM(H546:H553),4))","v":""},null,null,null,null,null,null,{"$f":"+IF(O552=\"\",\"\",IF(N546=\"Transporte Marítimo\",VLOOKUP(O552,Tabelas!$F$7:$G$12,2),IF(N546=\"Transporte Aéreo\",VLOOKUP(O552,Tabelas!$F$16:$G$21,2),\"\")))","v":""},null,null,null,null,null,null,null,null,null,null,null,null,null,null,null,"",{"$f":"+IF(AF552=\"\",\"\",VLOOKUP(AF552,Tabelas!$J$27:$K$30,2))","v":""}]
[null,null,null,null,null,null,{"$f":"+IF(F553=\"\",\"\",VLOOKUP(F553,Tabelas!$B$7:$C$96,2))","v":""},null,{"$f":"IF(H553=\"\",\"\",ROUND(H553/SUM(H546:H553),4))","v":""},null,null,null,null,null,null,{"$f":"+IF(O553=\"\",\"\",IF(N546=\"Transporte Marítimo\",VLOOKUP(O553,Tabelas!$F$7:$G$12,2),IF(N546=\"Transporte Aéreo\",VLOOKUP(O553,Tabelas!$F$16:$G$21,2),\"\")))","v":""},null,null,null,null,null,null,null,null,null,null,null,null,null,null,null,"",{"$f":"+IF(AF553=\"\",\"\",VLOOKUP(AF553,Tabelas!$J$27:$K$30,2))","v":""}]
[null,{"$f":"+B546+1","v":68},null,null,null,null,{"$f":"+IF(F554=\"\",\"\",VLOOKUP(F554,Tabelas!$B$7:$C$96,2))","v":""},null,{"$f":"IF(H554=\"\",\"\",1-SUM(I555:I561))","v":""},null,null,null,null,null,null,{"$f":"+IF(O554=\"\",\"\",IF(N554=\"Transporte Marítimo\",VLOOKUP(O554,Tabelas!$F$7:$G$12,2),IF(N554=\"Transporte Aéreo\",VLOOKUP(O554,Tabelas!$F$16:$G$21,2),\"\")))","v":""},null,null,null,null,null,null,null,null,null,null,null,null,null,null,null,"",{"$f":"+IF(AF554=\"\",\"\",VLOOKUP(AF554,Tabelas!$J$27:$K$30,2))","v":""},null,null,null,null,null,null,null,null,null,null,null,null,null,null,null," "]
[null,null,null,null,null,null,{"$f":"+IF(F555=\"\",\"\",VLOOKUP(F555,Tabelas!$B$7:$C$96,2))","v":""},null,{"$f":"IF(H555=\"\",\"\",ROUND(H555/SUM(H554:H561),4))","v":""},null,null,null,null,null,null,{"$f":"+IF(O555=\"\",\"\",IF(N554=\"Transporte Marítimo\",VLOOKUP(O555,Tabelas!$F$7:$G$12,2),IF(N554=\"Transporte Aéreo\",VLOOKUP(O555,Tabelas!$F$16:$G$21,2),\"\")))","v":""},null,null,null,null,null,null,null,null,null,null,null,null,null,null,null,"",{"$f":"+IF(AF555=\"\",\"\",VLOOKUP(AF555,Tabelas!$J$27:$K$30,2))","v":""}]
[null,null,null,null,null,null,{"$f":"+IF(F556=\"\",\"\",VLOOKUP(F556,Tabelas!$B$7:$C$96,2))","v":""},null,{"$f":"IF(H556=\"\",\"\",ROUND(H556/SUM(H554:H561),4))","v":""},null,null,null,null,null,null,{"$f":"+IF(O556=\"\",\"\",IF(N554=\"Transporte Marítimo\",VLOOKUP(O556,Tabelas!$F$7:$G$12,2),IF(N554=\"Transporte Aéreo\",VLOOKUP(O556,Tabelas!$F$16:$G$21,2),\"\")))","v":""},null,null,null,null,null,null,null,null,null,null,null,null,null,null,null,"",{"$f":"+IF(AF556=\"\",\"\",VLOOKUP(AF556,Tabelas!$J$27:$K$30,2))","v":""}]
[null,null,null,null,null,null,{"$f":"+IF(F557=\"\",\"\",VLOOKUP(F557,Tabelas!$B$7:$C$96,2))","v":""},null,{"$f":"IF(H557=\"\",\"\",ROUND(H557/SUM(H554:H561),4))","v":""},null,null,null,null,null,null,{"$f":"+IF(O557=\"\",\"\",IF(N554=\"Transporte Marítimo\",VLOOKUP(O557,Tabelas!$F$7:$G$12,2),IF(N554=\"Transporte Aéreo\",VLOOKUP(O557,Tabelas!$F$16:$G$21,2),\"\")))","v":""},null,null,null,null,null,null,null,null,null,null,null,null,null,null,null,"",{"$f":"+IF(AF557=\"\",\"\",VLOOKUP(AF557,Tabelas!$J$27:$K$30,2))","v":""}]
[null,null,null,null,null,null,{"$f":"+IF(F558=\"\",\"\",VLOOKUP(F558,Tabelas!$B$7:$C$96,2))","v":""},null,{"$f":"IF(H558=\"\",\"\",ROUND(H558/SUM(H554:H561),4))","v":""},null,null,null,null,null,null,{"$f":"+IF(O558=\"\",\"\",IF(N554=\"Transporte Marítimo\",VLOOKUP(O558,Tabelas!$F$7:$G$12,2),IF(N554=\"Transporte Aéreo\",VLOOKUP(O558,Tabelas!$F$16:$G$21,2),\"\")))","v":""},null,null,null,null,null,null,null,null,null,null,null,null,null,null,null,"",{"$f":"+IF(AF558=\"\",\"\",VLOOKUP(AF558,Tabelas!$J$27:$K$30,2))","v":""}]
[null,null,null,null,null,null,{"$f":"+IF(F559=\"\",\"\",VLOOKUP(F559,Tabelas!$B$7:$C$96,2))","v":""},null,{"$f":"IF(H559=\"\",\"\",ROUND(H559/SUM(H554:H561),4))","v":""},null,null,null,null,null,null,{"$f":"+IF(O559=\"\",\"\",IF(N554=\"Transporte Marítimo\",VLOOKUP(O559,Tabelas!$F$7:$G$12,2),IF(N554=\"Transporte Aéreo\",VLOOKUP(O559,Tabelas!$F$16:$G$21,2),\"\")))","v":""},null,null,null,null,null,null,null,null,null,null,null,null,null,null,null,"",{"$f":"+IF(AF559=\"\",\"\",VLOOKUP(AF559,Tabelas!$J$27:$K$30,2))","v":""}]
[null,null,null,null,null,null,{"$f":"+IF(F560=\"\",\"\",VLOOKUP(F560,Tabelas!$B$7:$C$96,2))","v":""},null,{"$f":"IF(H560=\"\",\"\",ROUND(H560/SUM(H554:H561),4))","v":""},null,null,null,null,null,null,{"$f":"+IF(O560=\"\",\"\",IF(N554=\"Transporte Marítimo\",VLOOKUP(O560,Tabelas!$F$7:$G$12,2),IF(N554=\"Transporte Aéreo\",VLOOKUP(O560,Tabelas!$F$16:$G$21,2),\"\")))","v":""},null,null,null,null,null,null,null,null,null,null,null,null,null,null,null,"",{"$f":"+IF(AF560=\"\",\"\",VLOOKUP(AF560,Tabelas!$J$27:$K$30,2))","v":""}]
[null,null,null,null,null,null,{"$f":"+IF(F561=\"\",\"\",VLOOKUP(F561,Tabelas!$B$7:$C$96,2))","v":""},null,{"$f":"IF(H561=\"\",\"\",ROUND(H561/SUM(H554:H561),4))","v":""},null,null,null,null,null,null,{"$f":"+IF(O561=\"\",\"\",IF(N554=\"Transporte Marítimo\",VLOOKUP(O561,Tabelas!$F$7:$G$12,2),IF(N554=\"Transporte Aéreo\",VLOOKUP(O561,Tabelas!$F$16:$G$21,2),\"\")))","v":""},null,null,null,null,null,null,null,null,null,null,null,null,null,null,null,"",{"$f":"+IF(AF561=\"\",\"\",VLOOKUP(AF561,Tabelas!$J$27:$K$30,2))","v":""}]
[null,{"$f":"+B554+1","v":69},null,null,null,null,{"$f":"+IF(F562=\"\",\"\",VLOOKUP(F562,Tabelas!$B$7:$C$96,2))","v":""},null,{"$f":"IF(H562=\"\",\"\",1-SUM(I563:I569))","v":""},null,null,null,null,null,null,{"$f":"+IF(O562=\"\",\"\",IF(N562=\"Transporte Marítimo\",VLOOKUP(O562,Tabelas!$F$7:$G$12,2),IF(N562=\"Transporte Aéreo\",VLOOKUP(O562,Tabelas!$F$16:$G$21,2),\"\")))","v":""},null,null,null,null,null,null,null,null,null,null,null,null,null,null,null,"",{"$f":"+IF(AF562=\"\",\"\",VLOOKUP(AF562,Tabelas!$J$27:$K$30,2))","v":""},null,null,null,null,null,null,null,null,null,null,null,null,null,null,null," "]
[null,null,null,null,null,null,{"$f":"+IF(F563=\"\",\"\",VLOOKUP(F563,Tabelas!$B$7:$C$96,2))","v":""},null,{"$f":"IF(H563=\"\",\"\",ROUND(H563/SUM(H562:H569),4))","v":""},null,null,null,null,null,null,{"$f":"+IF(O563=\"\",\"\",IF(N562=\"Transporte Marítimo\",VLOOKUP(O563,Tabelas!$F$7:$G$12,2),IF(N562=\"Transporte Aéreo\",VLOOKUP(O563,Tabelas!$F$16:$G$21,2),\"\")))","v":""},null,null,null,null,null,null,null,null,null,null,null,null,null,null,null,"",{"$f":"+IF(AF563=\"\",\"\",VLOOKUP(AF563,Tabelas!$J$27:$K$30,2))","v":""}]
[null,null,null,null,null,null,{"$f":"+IF(F564=\"\",\"\",VLOOKUP(F564,Tabelas!$B$7:$C$96,2))","v":""},null,{"$f":"IF(H564=\"\",\"\",ROUND(H564/SUM(H562:H569),4))","v":""},null,null,null,null,null,null,{"$f":"+IF(O564=\"\",\"\",IF(N562=\"Transporte Marítimo\",VLOOKUP(O564,Tabelas!$F$7:$G$12,2),IF(N562=\"Transporte Aéreo\",VLOOKUP(O564,Tabelas!$F$16:$G$21,2),\"\")))","v":""},null,null,null,null,null,null,null,null,null,null,null,null,null,null,null,"",{"$f":"+IF(AF564=\"\",\"\",VLOOKUP(AF564,Tabelas!$J$27:$K$30,2))","v":""}]
[null,null,null,null,null,null,{"$f":"+IF(F565=\"\",\"\",VLOOKUP(F565,Tabelas!$B$7:$C$96,2))","v":""},null,{"$f":"IF(H565=\"\",\"\",ROUND(H565/SUM(H562:H569),4))","v":""},null,null,null,null,null,null,{"$f":"+IF(O565=\"\",\"\",IF(N562=\"Transporte Marítimo\",VLOOKUP(O565,Tabelas!$F$7:$G$12,2),IF(N562=\"Transporte Aéreo\",VLOOKUP(O565,Tabelas!$F$16:$G$21,2),\"\")))","v":""},null,null,null,null,null,null,null,null,null,null,null,null,null,null,null,"",{"$f":"+IF(AF565=\"\",\"\",VLOOKUP(AF565,Tabelas!$J$27:$K$30,2))","v":""}]
[null,null,null,null,null,null,{"$f":"+IF(F566=\"\",\"\",VLOOKUP(F566,Tabelas!$B$7:$C$96,2))","v":""},null,{"$f":"IF(H566=\"\",\"\",ROUND(H566/SUM(H562:H569),4))","v":""},null,null,null,null,null,null,{"$f":"+IF(O566=\"\",\"\",IF(N562=\"Transporte Marítimo\",VLOOKUP(O566,Tabelas!$F$7:$G$12,2),IF(N562=\"Transporte Aéreo\",VLOOKUP(O566,Tabelas!$F$16:$G$21,2),\"\")))","v":""},null,null,null,null,null,null,null,null,null,null,null,null,null,null,null,"",{"$f":"+IF(AF566=\"\",\"\",VLOOKUP(AF566,Tabelas!$J$27:$K$30,2))","v":""}]
[null,null,null,null,null,null,{"$f":"+IF(F567=\"\",\"\",VLOOKUP(F567,Tabelas!$B$7:$C$96,2))","v":""},null,{"$f":"IF(H567=\"\",\"\",ROUND(H567/SUM(H562:H569),4))","v":""},null,null,null,null,null,null,{"$f":"+IF(O567=\"\",\"\",IF(N562=\"Transporte Marítimo\",VLOOKUP(O567,Tabelas!$F$7:$G$12,2),IF(N562=\"Transporte Aéreo\",VLOOKUP(O567,Tabelas!$F$16:$G$21,2),\"\")))","v":""},null,null,null,null,null,null,null,null,null,null,null,null,null,null,null,"",{"$f":"+IF(AF567=\"\",\"\",VLOOKUP(AF567,Tabelas!$J$27:$K$30,2))","v":""}]
[null,null,null,null,null,null,{"$f":"+IF(F568=\"\",\"\",VLOOKUP(F568,Tabelas!$B$7:$C$96,2))","v":""},null,{"$f":"IF(H568=\"\",\"\",ROUND(H568/SUM(H562:H569),4))","v":""},null,null,null,null,null,null,{"$f":"+IF(O568=\"\",\"\",IF(N562=\"Transporte Marítimo\",VLOOKUP(O568,Tabelas!$F$7:$G$12,2),IF(N562=\"Transporte Aéreo\",VLOOKUP(O568,Tabelas!$F$16:$G$21,2),\"\")))","v":""},null,null,null,null,null,null,null,null,null,null,null,null,null,null,null,"",{"$f":"+IF(AF568=\"\",\"\",VLOOKUP(AF568,Tabelas!$J$27:$K$30,2))","v":""}]
[null,null,null,null,null,null,{"$f":"+IF(F569=\"\",\"\",VLOOKUP(F569,Tabelas!$B$7:$C$96,2))","v":""},null,{"$f":"IF(H569=\"\",\"\",ROUND(H569/SUM(H562:H569),4))","v":""},null,null,null,null,null,null,{"$f":"+IF(O569=\"\",\"\",IF(N562=\"Transporte Marítimo\",VLOOKUP(O569,Tabelas!$F$7:$G$12,2),IF(N562=\"Transporte Aéreo\",VLOOKUP(O569,Tabelas!$F$16:$G$21,2),\"\")))","v":""},null,null,null,null,null,null,null,null,null,null,null,null,null,null,null,"",{"$f":"+IF(AF569=\"\",\"\",VLOOKUP(AF569,Tabelas!$J$27:$K$30,2))","v":""}]
[null,{"$f":"+B562+1","v":70},null,null,null,null,{"$f":"+IF(F570=\"\",\"\",VLOOKUP(F570,Tabelas!$B$7:$C$96,2))","v":""},null,{"$f":"IF(H570=\"\",\"\",1-SUM(I571:I577))","v":""},null,null,null,null,null,null,{"$f":"+IF(O570=\"\",\"\",IF(N570=\"Transporte Marítimo\",VLOOKUP(O570,Tabelas!$F$7:$G$12,2),IF(N570=\"Transporte Aéreo\",VLOOKUP(O570,Tabelas!$F$16:$G$21,2),\"\")))","v":""},null,null,null,null,null,null,null,null,null,null,null,null,null,null,null,"",{"$f":"+IF(AF570=\"\",\"\",VLOOKUP(AF570,Tabelas!$J$27:$K$30,2))","v":""},null,null,null,null,null,null,null,null,null,null,null,null,null,null,null," "]
[null,null,null,null,null,null,{"$f":"+IF(F571=\"\",\"\",VLOOKUP(F571,Tabelas!$B$7:$C$96,2))","v":""},null,{"$f":"IF(H571=\"\",\"\",ROUND(H571/SUM(H570:H577),4))","v":""},null,null,null,null,null,null,{"$f":"+IF(O571=\"\",\"\",IF(N570=\"Transporte Marítimo\",VLOOKUP(O571,Tabelas!$F$7:$G$12,2),IF(N570=\"Transporte Aéreo\",VLOOKUP(O571,Tabelas!$F$16:$G$21,2),\"\")))","v":""},null,null,null,null,null,null,null,null,null,null,null,null,null,null,null,"",{"$f":"+IF(AF571=\"\",\"\",VLOOKUP(AF571,Tabelas!$J$27:$K$30,2))","v":""}]
[null,null,null,null,null,null,{"$f":"+IF(F572=\"\",\"\",VLOOKUP(F572,Tabelas!$B$7:$C$96,2))","v":""},null,{"$f":"IF(H572=\"\",\"\",ROUND(H572/SUM(H570:H577),4))","v":""},null,null,null,null,null,null,{"$f":"+IF(O572=\"\",\"\",IF(N570=\"Transporte Marítimo\",VLOOKUP(O572,Tabelas!$F$7:$G$12,2),IF(N570=\"Transporte Aéreo\",VLOOKUP(O572,Tabelas!$F$16:$G$21,2),\"\")))","v":""},null,null,null,null,null,null,null,null,null,null,null,null,null,null,null,"",{"$f":"+IF(AF572=\"\",\"\",VLOOKUP(AF572,Tabelas!$J$27:$K$30,2))","v":""}]
[null,null,null,null,null,null,{"$f":"+IF(F573=\"\",\"\",VLOOKUP(F573,Tabelas!$B$7:$C$96,2))","v":""},null,{"$f":"IF(H573=\"\",\"\",ROUND(H573/SUM(H570:H577),4))","v":""},null,null,null,null,null,null,{"$f":"+IF(O573=\"\",\"\",IF(N570=\"Transporte Marítimo\",VLOOKUP(O573,Tabelas!$F$7:$G$12,2),IF(N570=\"Transporte Aéreo\",VLOOKUP(O573,Tabelas!$F$16:$G$21,2),\"\")))","v":""},null,null,null,null,null,null,null,null,null,null,null,null,null,null,null,"",{"$f":"+IF(AF573=\"\",\"\",VLOOKUP(AF573,Tabelas!$J$27:$K$30,2))","v":""}]
[null,null,null,null,null,null,{"$f":"+IF(F574=\"\",\"\",VLOOKUP(F574,Tabelas!$B$7:$C$96,2))","v":""},null,{"$f":"IF(H574=\"\",\"\",ROUND(H574/SUM(H570:H577),4))","v":""},null,null,null,null,null,null,{"$f":"+IF(O574=\"\",\"\",IF(N570=\"Transporte Marítimo\",VLOOKUP(O574,Tabelas!$F$7:$G$12,2),IF(N570=\"Transporte Aéreo\",VLOOKUP(O574,Tabelas!$F$16:$G$21,2),\"\")))","v":""},null,null,null,null,null,null,null,null,null,null,null,null,null,null,null,"",{"$f":"+IF(AF574=\"\",\"\",VLOOKUP(AF574,Tabelas!$J$27:$K$30,2))","v":""}]
[null,null,null,null,null,null,{"$f":"+IF(F575=\"\",\"\",VLOOKUP(F575,Tabelas!$B$7:$C$96,2))","v":""},null,{"$f":"IF(H575=\"\",\"\",ROUND(H575/SUM(H570:H577),4))","v":""},null,null,null,null,null,null,{"$f":"+IF(O575=\"\",\"\",IF(N570=\"Transporte Marítimo\",VLOOKUP(O575,Tabelas!$F$7:$G$12,2),IF(N570=\"Transporte Aéreo\",VLOOKUP(O575,Tabelas!$F$16:$G$21,2),\"\")))","v":""},null,null,null,null,null,null,null,null,null,null,null,null,null,null,null,"",{"$f":"+IF(AF575=\"\",\"\",VLOOKUP(AF575,Tabelas!$J$27:$K$30,2))","v":""}]
[null,null,null,null,null,null,{"$f":"+IF(F576=\"\",\"\",VLOOKUP(F576,Tabelas!$B$7:$C$96,2))","v":""},null,{"$f":"IF(H576=\"\",\"\",ROUND(H576/SUM(H570:H577),4))","v":""},null,null,null,null,null,null,{"$f":"+IF(O576=\"\",\"\",IF(N570=\"Transporte Marítimo\",VLOOKUP(O576,Tabelas!$F$7:$G$12,2),IF(N570=\"Transporte Aéreo\",VLOOKUP(O576,Tabelas!$F$16:$G$21,2),\"\")))","v":""},null,null,null,null,null,null,null,null,null,null,null,null,null,null,null,"",{"$f":"+IF(AF576=\"\",\"\",VLOOKUP(AF576,Tabelas!$J$27:$K$30,2))","v":""}]
[null,null,null,null,null,null,{"$f":"+IF(F577=\"\",\"\",VLOOKUP(F577,Tabelas!$B$7:$C$96,2))","v":""},null,{"$f":"IF(H577=\"\",\"\",ROUND(H577/SUM(H570:H577),4))","v":""},null,null,null,null,null,null,{"$f":"+IF(O577=\"\",\"\",IF(N570=\"Transporte Marítimo\",VLOOKUP(O577,Tabelas!$F$7:$G$12,2),IF(N570=\"Transporte Aéreo\",VLOOKUP(O577,Tabelas!$F$16:$G$21,2),\"\")))","v":""},null,null,null,null,null,null,null,null,null,null,null,null,null,null,null,"",{"$f":"+IF(AF577=\"\",\"\",VLOOKUP(AF577,Tabelas!$J$27:$K$30,2))","v":""}]
[null,{"$f":"+B570+1","v":71},null,null,null,null,{"$f":"+IF(F578=\"\",\"\",VLOOKUP(F578,Tabelas!$B$7:$C$96,2))","v":""},null,{"$f":"IF(H578=\"\",\"\",1-SUM(I579:I585))","v":""},null,null,null,null,null,null,{"$f":"+IF(O578=\"\",\"\",IF(N578=\"Transporte Marítimo\",VLOOKUP(O578,Tabelas!$F$7:$G$12,2),IF(N578=\"Transporte Aéreo\",VLOOKUP(O578,Tabelas!$F$16:$G$21,2),\"\")))","v":""},null,null,null,null,null,null,null,null,null,null,null,null,null,null,null,"",{"$f":"+IF(AF578=\"\",\"\",VLOOKUP(AF578,Tabelas!$J$27:$K$30,2))","v":""},null,null,null,null,null,null,null,null,null,null,null,null,null,null,null," "]
[null,null,null,null,null,null,{"$f":"+IF(F579=\"\",\"\",VLOOKUP(F579,Tabelas!$B$7:$C$96,2))","v":""},null,{"$f":"IF(H579=\"\",\"\",ROUND(H579/SUM(H578:H585),4))","v":""},null,null,null,null,null,null,{"$f":"+IF(O579=\"\",\"\",IF(N578=\"Transporte Marítimo\",VLOOKUP(O579,Tabelas!$F$7:$G$12,2),IF(N578=\"Transporte Aéreo\",VLOOKUP(O579,Tabelas!$F$16:$G$21,2),\"\")))","v":""},null,null,null,null,null,null,null,null,null,null,null,null,null,null,null,"",{"$f":"+IF(AF579=\"\",\"\",VLOOKUP(AF579,Tabelas!$J$27:$K$30,2))","v":""}]
[null,null,null,null,null,null,{"$f":"+IF(F580=\"\",\"\",VLOOKUP(F580,Tabelas!$B$7:$C$96,2))","v":""},null,{"$f":"IF(H580=\"\",\"\",ROUND(H580/SUM(H578:H585),4))","v":""},null,null,null,null,null,null,{"$f":"+IF(O580=\"\",\"\",IF(N578=\"Transporte Marítimo\",VLOOKUP(O580,Tabelas!$F$7:$G$12,2),IF(N578=\"Transporte Aéreo\",VLOOKUP(O580,Tabelas!$F$16:$G$21,2),\"\")))","v":""},null,null,null,null,null,null,null,null,null,null,null,null,null,null,null,"",{"$f":"+IF(AF580=\"\",\"\",VLOOKUP(AF580,Tabelas!$J$27:$K$30,2))","v":""}]
[null,null,null,null,null,null,{"$f":"+IF(F581=\"\",\"\",VLOOKUP(F581,Tabelas!$B$7:$C$96,2))","v":""},null,{"$f":"IF(H581=\"\",\"\",ROUND(H581/SUM(H578:H585),4))","v":""},null,null,null,null,null,null,{"$f":"+IF(O581=\"\",\"\",IF(N578=\"Transporte Marítimo\",VLOOKUP(O581,Tabelas!$F$7:$G$12,2),IF(N578=\"Transporte Aéreo\",VLOOKUP(O581,Tabelas!$F$16:$G$21,2),\"\")))","v":""},null,null,null,null,null,null,null,null,null,null,null,null,null,null,null,"",{"$f":"+IF(AF581=\"\",\"\",VLOOKUP(AF581,Tabelas!$J$27:$K$30,2))","v":""}]
[null,null,null,null,null,null,{"$f":"+IF(F582=\"\",\"\",VLOOKUP(F582,Tabelas!$B$7:$C$96,2))","v":""},null,{"$f":"IF(H582=\"\",\"\",ROUND(H582/SUM(H578:H585),4))","v":""},null,null,null,null,null,null,{"$f":"+IF(O582=\"\",\"\",IF(N578=\"Transporte Marítimo\",VLOOKUP(O582,Tabelas!$F$7:$G$12,2),IF(N578=\"Transporte Aéreo\",VLOOKUP(O582,Tabelas!$F$16:$G$21,2),\"\")))","v":""},null,null,null,null,null,null,null,null,null,null,null,null,null,null,null,"",{"$f":"+IF(AF582=\"\",\"\",VLOOKUP(AF582,Tabelas!$J$27:$K$30,2))","v":""}]
[null,null,null,null,null,null,{"$f":"+IF(F583=\"\",\"\",VLOOKUP(F583,Tabelas!$B$7:$C$96,2))","v":""},null,{"$f":"IF(H583=\"\",\"\",ROUND(H583/SUM(H578:H585),4))","v":""},null,null,null,null,null,null,{"$f":"+IF(O583=\"\",\"\",IF(N578=\"Transporte Marítimo\",VLOOKUP(O583,Tabelas!$F$7:$G$12,2),IF(N578=\"Transporte Aéreo\",VLOOKUP(O583,Tabelas!$F$16:$G$21,2),\"\")))","v":""},null,null,null,null,null,null,null,null,null,null,null,null,null,null,null,"",{"$f":"+IF(AF583=\"\",\"\",VLOOKUP(AF583,Tabelas!$J$27:$K$30,2))","v":""}]
[null,null,null,null,null,null,{"$f":"+IF(F584=\"\",\"\",VLOOKUP(F584,Tabelas!$B$7:$C$96,2))","v":""},null,{"$f":"IF(H584=\"\",\"\",ROUND(H584/SUM(H578:H585),4))","v":""},null,null,null,null,null,null,{"$f":"+IF(O584=\"\",\"\",IF(N578=\"Transporte Marítimo\",VLOOKUP(O584,Tabelas!$F$7:$G$12,2),IF(N578=\"Transporte Aéreo\",VLOOKUP(O584,Tabelas!$F$16:$G$21,2),\"\")))","v":""},null,null,null,null,null,null,null,null,null,null,null,null,null,null,null,"",{"$f":"+IF(AF584=\"\",\"\",VLOOKUP(AF584,Tabelas!$J$27:$K$30,2))","v":""}]
[null,null,null,null,null,null,{"$f":"+IF(F585=\"\",\"\",VLOOKUP(F585,Tabelas!$B$7:$C$96,2))","v":""},null,{"$f":"IF(H585=\"\",\"\",ROUND(H585/SUM(H578:H585),4))","v":""},null,null,null,null,null,null,{"$f":"+IF(O585=\"\",\"\",IF(N578=\"Transporte Marítimo\",VLOOKUP(O585,Tabelas!$F$7:$G$12,2),IF(N578=\"Transporte Aéreo\",VLOOKUP(O585,Tabelas!$F$16:$G$21,2),\"\")))","v":""},null,null,null,null,null,null,null,null,null,null,null,null,null,null,null,"",{"$f":"+IF(AF585=\"\",\"\",VLOOKUP(AF585,Tabelas!$J$27:$K$30,2))","v":""}]
[null,{"$f":"+B578+1","v":72},null,null,null,null,{"$f":"+IF(F586=\"\",\"\",VLOOKUP(F586,Tabelas!$B$7:$C$96,2))","v":""},null,{"$f":"IF(H586=\"\",\"\",1-SUM(I587:I593))","v":""},null,null,null,null,null,null,{"$f":"+IF(O586=\"\",\"\",IF(N586=\"Transporte Marítimo\",VLOOKUP(O586,Tabelas!$F$7:$G$12,2),IF(N586=\"Transporte Aéreo\",VLOOKUP(O586,Tabelas!$F$16:$G$21,2),\"\")))","v":""},null,null,null,null,null,null,null,null,null,null,null,null,null,null,null,"",{"$f":"+IF(AF586=\"\",\"\",VLOOKUP(AF586,Tabelas!$J$27:$K$30,2))","v":""},null,null,null,null,null,null,null,null,null,null,null,null,null,null,null," "]
[null,null,null,null,null,null,{"$f":"+IF(F587=\"\",\"\",VLOOKUP(F587,Tabelas!$B$7:$C$96,2))","v":""},null,{"$f":"IF(H587=\"\",\"\",ROUND(H587/SUM(H586:H593),4))","v":""},null,null,null,null,null,null,{"$f":"+IF(O587=\"\",\"\",IF(N586=\"Transporte Marítimo\",VLOOKUP(O587,Tabelas!$F$7:$G$12,2),IF(N586=\"Transporte Aéreo\",VLOOKUP(O587,Tabelas!$F$16:$G$21,2),\"\")))","v":""},null,null,null,null,null,null,null,null,null,null,null,null,null,null,null,"",{"$f":"+IF(AF587=\"\",\"\",VLOOKUP(AF587,Tabelas!$J$27:$K$30,2))","v":""}]
[null,null,null,null,null,null,{"$f":"+IF(F588=\"\",\"\",VLOOKUP(F588,Tabelas!$B$7:$C$96,2))","v":""},null,{"$f":"IF(H588=\"\",\"\",ROUND(H588/SUM(H586:H593),4))","v":""},null,null,null,null,null,null,{"$f":"+IF(O588=\"\",\"\",IF(N586=\"Transporte Marítimo\",VLOOKUP(O588,Tabelas!$F$7:$G$12,2),IF(N586=\"Transporte Aéreo\",VLOOKUP(O588,Tabelas!$F$16:$G$21,2),\"\")))","v":""},null,null,null,null,null,null,null,null,null,null,null,null,null,null,null,"",{"$f":"+IF(AF588=\"\",\"\",VLOOKUP(AF588,Tabelas!$J$27:$K$30,2))","v":""}]
[null,null,null,null,null,null,{"$f":"+IF(F589=\"\",\"\",VLOOKUP(F589,Tabelas!$B$7:$C$96,2))","v":""},null,{"$f":"IF(H589=\"\",\"\",ROUND(H589/SUM(H586:H593),4))","v":""},null,null,null,null,null,null,{"$f":"+IF(O589=\"\",\"\",IF(N586=\"Transporte Marítimo\",VLOOKUP(O589,Tabelas!$F$7:$G$12,2),IF(N586=\"Transporte Aéreo\",VLOOKUP(O589,Tabelas!$F$16:$G$21,2),\"\")))","v":""},null,null,null,null,null,null,null,null,null,null,null,null,null,null,null,"",{"$f":"+IF(AF589=\"\",\"\",VLOOKUP(AF589,Tabelas!$J$27:$K$30,2))","v":""}]
[null,null,null,null,null,null,{"$f":"+IF(F590=\"\",\"\",VLOOKUP(F590,Tabelas!$B$7:$C$96,2))","v":""},null,{"$f":"IF(H590=\"\",\"\",ROUND(H590/SUM(H586:H593),4))","v":""},null,null,null,null,null,null,{"$f":"+IF(O590=\"\",\"\",IF(N586=\"Transporte Marítimo\",VLOOKUP(O590,Tabelas!$F$7:$G$12,2),IF(N586=\"Transporte Aéreo\",VLOOKUP(O590,Tabelas!$F$16:$G$21,2),\"\")))","v":""},null,null,null,null,null,null,null,null,null,null,null,null,null,null,null,"",{"$f":"+IF(AF590=\"\",\"\",VLOOKUP(AF590,Tabelas!$J$27:$K$30,2))","v":""}]
[null,null,null,null,null,null,{"$f":"+IF(F591=\"\",\"\",VLOOKUP(F591,Tabelas!$B$7:$C$96,2))","v":""},null,{"$f":"IF(H591=\"\",\"\",ROUND(H591/SUM(H586:H593),4))","v":""},null,null,null,null,null,null,{"$f":"+IF(O591=\"\",\"\",IF(N586=\"Transporte Marítimo\",VLOOKUP(O591,Tabelas!$F$7:$G$12,2),IF(N586=\"Transporte Aéreo\",VLOOKUP(O591,Tabelas!$F$16:$G$21,2),\"\")))","v":""},null,null,null,null,null,null,null,null,null,null,null,null,null,null,null,"",{"$f":"+IF(AF591=\"\",\"\",VLOOKUP(AF591,Tabelas!$J$27:$K$30,2))","v":""}]
[null,null,null,null,null,null,{"$f":"+IF(F592=\"\",\"\",VLOOKUP(F592,Tabelas!$B$7:$C$96,2))","v":""},null,{"$f":"IF(H592=\"\",\"\",ROUND(H592/SUM(H586:H593),4))","v":""},null,null,null,null,null,null,{"$f":"+IF(O592=\"\",\"\",IF(N586=\"Transporte Marítimo\",VLOOKUP(O592,Tabelas!$F$7:$G$12,2),IF(N586=\"Transporte Aéreo\",VLOOKUP(O592,Tabelas!$F$16:$G$21,2),\"\")))","v":""},null,null,null,null,null,null,null,null,null,null,null,null,null,null,null,"",{"$f":"+IF(AF592=\"\",\"\",VLOOKUP(AF592,Tabelas!$J$27:$K$30,2))","v":""}]
[null,null,null,null,null,null,{"$f":"+IF(F593=\"\",\"\",VLOOKUP(F593,Tabelas!$B$7:$C$96,2))","v":""},null,{"$f":"IF(H593=\"\",\"\",ROUND(H593/SUM(H586:H593),4))","v":""},null,null,null,null,null,null,{"$f":"+IF(O593=\"\",\"\",IF(N586=\"Transporte Marítimo\",VLOOKUP(O593,Tabelas!$F$7:$G$12,2),IF(N586=\"Transporte Aéreo\",VLOOKUP(O593,Tabelas!$F$16:$G$21,2),\"\")))","v":""},null,null,null,null,null,null,null,null,null,null,null,null,null,null,null,"",{"$f":"+IF(AF593=\"\",\"\",VLOOKUP(AF593,Tabelas!$J$27:$K$30,2))","v":""}]
[null,{"$f":"+B586+1","v":73},null,null,null,null,{"$f":"+IF(F594=\"\",\"\",VLOOKUP(F594,Tabelas!$B$7:$C$96,2))","v":""},null,{"$f":"IF(H594=\"\",\"\",1-SUM(I595:I601))","v":""},null,null,null,null,null,null,{"$f":"+IF(O594=\"\",\"\",IF(N594=\"Transporte Marítimo\",VLOOKUP(O594,Tabelas!$F$7:$G$12,2),IF(N594=\"Transporte Aéreo\",VLOOKUP(O594,Tabelas!$F$16:$G$21,2),\"\")))","v":""},null,null,null,null,null,null,null,null,null,null,null,null,null,null,null,"",{"$f":"+IF(AF594=\"\",\"\",VLOOKUP(AF594,Tabelas!$J$27:$K$30,2))","v":""},null,null,null,null,null,null,null,null,null,null,null,null,null,null,null," "]
[null,null,null,null,null,null,{"$f":"+IF(F595=\"\",\"\",VLOOKUP(F595,Tabelas!$B$7:$C$96,2))","v":""},null,{"$f":"IF(H595=\"\",\"\",ROUND(H595/SUM(H594:H601),4))","v":""},null,null,null,null,null,null,{"$f":"+IF(O595=\"\",\"\",IF(N594=\"Transporte Marítimo\",VLOOKUP(O595,Tabelas!$F$7:$G$12,2),IF(N594=\"Transporte Aéreo\",VLOOKUP(O595,Tabelas!$F$16:$G$21,2),\"\")))","v":""},null,null,null,null,null,null,null,null,null,null,null,null,null,null,null,{"$f":"+IF(AE595=\"20NL\",1,IF(AE595=\"40NL\",2,IF(AE595=\"20RF\",3,IF(AE595=\"40RF\",4,\"\"))))","v":""},{"$f":"+IF(AF595=\"\",\"\",VLOOKUP(AF595,Tabelas!$J$27:$K$30,2))","v":""}]
[null,null,null,null,null,null,{"$f":"+IF(F596=\"\",\"\",VLOOKUP(F596,Tabelas!$B$7:$C$96,2))","v":""},null,{"$f":"IF(H596=\"\",\"\",ROUND(H596/SUM(H594:H601),4))","v":""},null,null,null,null,null,null,{"$f":"+IF(O596=\"\",\"\",IF(N594=\"Transporte Marítimo\",VLOOKUP(O596,Tabelas!$F$7:$G$12,2),IF(N594=\"Transporte Aéreo\",VLOOKUP(O596,Tabelas!$F$16:$G$21,2),\"\")))","v":""},null,null,null,null,null,null,null,null,null,null,null,null,null,null,null,"",{"$f":"+IF(AF596=\"\",\"\",VLOOKUP(AF596,Tabelas!$J$27:$K$30,2))","v":""}]
[null,null,null,null,null,null,{"$f":"+IF(F597=\"\",\"\",VLOOKUP(F597,Tabelas!$B$7:$C$96,2))","v":""},null,{"$f":"IF(H597=\"\",\"\",ROUND(H597/SUM(H594:H601),4))","v":""},null,null,null,null,null,null,{"$f":"+IF(O597=\"\",\"\",IF(N594=\"Transporte Marítimo\",VLOOKUP(O597,Tabelas!$F$7:$G$12,2),IF(N594=\"Transporte Aéreo\",VLOOKUP(O597,Tabelas!$F$16:$G$21,2),\"\")))","v":""},null,null,null,null,null,null,null,null,null,null,null,null,null,null,null,"",{"$f":"+IF(AF597=\"\",\"\",VLOOKUP(AF597,Tabelas!$J$27:$K$30,2))","v":""}]
[null,null,null,null,null,null,{"$f":"+IF(F598=\"\",\"\",VLOOKUP(F598,Tabelas!$B$7:$C$96,2))","v":""},null,{"$f":"IF(H598=\"\",\"\",ROUND(H598/SUM(H594:H601),4))","v":""},null,null,null,null,null,null,{"$f":"+IF(O598=\"\",\"\",IF(N594=\"Transporte Marítimo\",VLOOKUP(O598,Tabelas!$F$7:$G$12,2),IF(N594=\"Transporte Aéreo\",VLOOKUP(O598,Tabelas!$F$16:$G$21,2),\"\")))","v":""},null,null,null,null,null,null,null,null,null,null,null,null,null,null,null,"",{"$f":"+IF(AF598=\"\",\"\",VLOOKUP(AF598,Tabelas!$J$27:$K$30,2))","v":""}]
[null,null,null,null,null,null,{"$f":"+IF(F599=\"\",\"\",VLOOKUP(F599,Tabelas!$B$7:$C$96,2))","v":""},null,{"$f":"IF(H599=\"\",\"\",ROUND(H599/SUM(H594:H601),4))","v":""},null,null,null,null,null,null,{"$f":"+IF(O599=\"\",\"\",IF(N594=\"Transporte Marítimo\",VLOOKUP(O599,Tabelas!$F$7:$G$12,2),IF(N594=\"Transporte Aéreo\",VLOOKUP(O599,Tabelas!$F$16:$G$21,2),\"\")))","v":""},null,null,null,null,null,null,null,null,null,null,null,null,null,null,null,"",{"$f":"+IF(AF599=\"\",\"\",VLOOKUP(AF599,Tabelas!$J$27:$K$30,2))","v":""}]
[null,null,null,null,null,null,{"$f":"+IF(F600=\"\",\"\",VLOOKUP(F600,Tabelas!$B$7:$C$96,2))","v":""},null,{"$f":"IF(H600=\"\",\"\",ROUND(H600/SUM(H594:H601),4))","v":""},null,null,null,null,null,null,{"$f":"+IF(O600=\"\",\"\",IF(N594=\"Transporte Marítimo\",VLOOKUP(O600,Tabelas!$F$7:$G$12,2),IF(N594=\"Transporte Aéreo\",VLOOKUP(O600,Tabelas!$F$16:$G$21,2),\"\")))","v":""},null,null,null,null,null,null,null,null,null,null,null,null,null,null,null,"",{"$f":"+IF(AF600=\"\",\"\",VLOOKUP(AF600,Tabelas!$J$27:$K$30,2))","v":""}]
[null,null,null,null,null,null,{"$f":"+IF(F601=\"\",\"\",VLOOKUP(F601,Tabelas!$B$7:$C$96,2))","v":""},null,{"$f":"IF(H601=\"\",\"\",ROUND(H601/SUM(H594:H601),4))","v":""},null,null,null,null,null,null,{"$f":"+IF(O601=\"\",\"\",IF(N594=\"Transporte Marítimo\",VLOOKUP(O601,Tabelas!$F$7:$G$12,2),IF(N594=\"Transporte Aéreo\",VLOOKUP(O601,Tabelas!$F$16:$G$21,2),\"\")))","v":""},null,null,null,null,null,null,null,null,null,null,null,null,null,null,null,"",{"$f":"+IF(AF601=\"\",\"\",VLOOKUP(AF601,Tabelas!$J$27:$K$30,2))","v":""}]
[null,{"$f":"+B594+1","v":74},null,null,null,null,{"$f":"+IF(F602=\"\",\"\",VLOOKUP(F602,Tabelas!$B$7:$C$96,2))","v":""},null,{"$f":"IF(H602=\"\",\"\",1-SUM(I603:I609))","v":""},null,null,null,null,null,null,{"$f":"+IF(O602=\"\",\"\",IF(N602=\"Transporte Marítimo\",VLOOKUP(O602,Tabelas!$F$7:$G$12,2),IF(N602=\"Transporte Aéreo\",VLOOKUP(O602,Tabelas!$F$16:$G$21,2),\"\")))","v":""},null,null,null,null,null,null,null,null,null,null,null,null,null,null,null,"",{"$f":"+IF(AF602=\"\",\"\",VLOOKUP(AF602,Tabelas!$J$27:$K$30,2))","v":""},null,null,null,null,null,null,null,null,null,null,null,null,null,null,null," "]
[null,null,null,null,null,null,{"$f":"+IF(F603=\"\",\"\",VLOOKUP(F603,Tabelas!$B$7:$C$96,2))","v":""},null,{"$f":"IF(H603=\"\",\"\",ROUND(H603/SUM(H602:H609),4))","v":""},null,null,null,null,null,null,{"$f":"+IF(O603=\"\",\"\",IF(N602=\"Transporte Marítimo\",VLOOKUP(O603,Tabelas!$F$7:$G$12,2),IF(N602=\"Transporte Aéreo\",VLOOKUP(O603,Tabelas!$F$16:$G$21,2),\"\")))","v":""},null,null,null,null,null,null,null,null,null,null,null,null,null,null,null,"",{"$f":"+IF(AF603=\"\",\"\",VLOOKUP(AF603,Tabelas!$J$27:$K$30,2))","v":""}]
[null,null,null,null,null,null,{"$f":"+IF(F604=\"\",\"\",VLOOKUP(F604,Tabelas!$B$7:$C$96,2))","v":""},null,{"$f":"IF(H604=\"\",\"\",ROUND(H604/SUM(H602:H609),4))","v":""},null,null,null,null,null,null,{"$f":"+IF(O604=\"\",\"\",IF(N602=\"Transporte Marítimo\",VLOOKUP(O604,Tabelas!$F$7:$G$12,2),IF(N602=\"Transporte Aéreo\",VLOOKUP(O604,Tabelas!$F$16:$G$21,2),\"\")))","v":""},null,null,null,null,null,null,null,null,null,null,null,null,null,null,null,"",{"$f":"+IF(AF604=\"\",\"\",VLOOKUP(AF604,Tabelas!$J$27:$K$30,2))","v":""}]
[null,null,null,null,null,null,{"$f":"+IF(F605=\"\",\"\",VLOOKUP(F605,Tabelas!$B$7:$C$96,2))","v":""},null,{"$f":"IF(H605=\"\",\"\",ROUND(H605/SUM(H602:H609),4))","v":""},null,null,null,null,null,null,{"$f":"+IF(O605=\"\",\"\",IF(N602=\"Transporte Marítimo\",VLOOKUP(O605,Tabelas!$F$7:$G$12,2),IF(N602=\"Transporte Aéreo\",VLOOKUP(O605,Tabelas!$F$16:$G$21,2),\"\")))","v":""},null,null,null,null,null,null,null,null,null,null,null,null,null,null,null,"",{"$f":"+IF(AF605=\"\",\"\",VLOOKUP(AF605,Tabelas!$J$27:$K$30,2))","v":""}]
[null,null,null,null,null,null,{"$f":"+IF(F606=\"\",\"\",VLOOKUP(F606,Tabelas!$B$7:$C$96,2))","v":""},null,{"$f":"IF(H606=\"\",\"\",ROUND(H606/SUM(H602:H609),4))","v":""},null,null,null,null,null,null,{"$f":"+IF(O606=\"\",\"\",IF(N602=\"Transporte Marítimo\",VLOOKUP(O606,Tabelas!$F$7:$G$12,2),IF(N602=\"Transporte Aéreo\",VLOOKUP(O606,Tabelas!$F$16:$G$21,2),\"\")))","v":""},null,null,null,null,null,null,null,null,null,null,null,null,null,null,null,"",{"$f":"+IF(AF606=\"\",\"\",VLOOKUP(AF606,Tabelas!$J$27:$K$30,2))","v":""}]
[null,null,null,null,null,null,{"$f":"+IF(F607=\"\",\"\",VLOOKUP(F607,Tabelas!$B$7:$C$96,2))","v":""},null,{"$f":"IF(H607=\"\",\"\",ROUND(H607/SUM(H602:H609),4))","v":""},null,null,null,null,null,null,{"$f":"+IF(O607=\"\",\"\",IF(N602=\"Transporte Marítimo\",VLOOKUP(O607,Tabelas!$F$7:$G$12,2),IF(N602=\"Transporte Aéreo\",VLOOKUP(O607,Tabelas!$F$16:$G$21,2),\"\")))","v":""},null,null,null,null,null,null,null,null,null,null,null,null,null,null,null,"",{"$f":"+IF(AF607=\"\",\"\",VLOOKUP(AF607,Tabelas!$J$27:$K$30,2))","v":""}]
[null,null,null,null,null,null,{"$f":"+IF(F608=\"\",\"\",VLOOKUP(F608,Tabelas!$B$7:$C$96,2))","v":""},null,{"$f":"IF(H608=\"\",\"\",ROUND(H608/SUM(H602:H609),4))","v":""},null,null,null,null,null,null,{"$f":"+IF(O608=\"\",\"\",IF(N602=\"Transporte Marítimo\",VLOOKUP(O608,Tabelas!$F$7:$G$12,2),IF(N602=\"Transporte Aéreo\",VLOOKUP(O608,Tabelas!$F$16:$G$21,2),\"\")))","v":""},null,null,null,null,null,null,null,null,null,null,null,null,null,null,null,"",{"$f":"+IF(AF608=\"\",\"\",VLOOKUP(AF608,Tabelas!$J$27:$K$30,2))","v":""}]
[null,null,null,null,null,null,{"$f":"+IF(F609=\"\",\"\",VLOOKUP(F609,Tabelas!$B$7:$C$96,2))","v":""},null,{"$f":"IF(H609=\"\",\"\",ROUND(H609/SUM(H602:H609),4))","v":""},null,null,null,null,null,null,{"$f":"+IF(O609=\"\",\"\",IF(N602=\"Transporte Marítimo\",VLOOKUP(O609,Tabelas!$F$7:$G$12,2),IF(N602=\"Transporte Aéreo\",VLOOKUP(O609,Tabelas!$F$16:$G$21,2),\"\")))","v":""},null,null,null,null,null,null,null,null,null,null,null,null,null,null,null,"",{"$f":"+IF(AF609=\"\",\"\",VLOOKUP(AF609,Tabelas!$J$27:$K$30,2))","v":""}]
[null,{"$f":"+B602+1","v":75},null,null,null,null,{"$f":"+IF(F610=\"\",\"\",VLOOKUP(F610,Tabelas!$B$7:$C$96,2))","v":""},null,{"$f":"IF(H610=\"\",\"\",1-SUM(I611:I617))","v":""},null,null,null,null,null,null,{"$f":"+IF(O610=\"\",\"\",IF(N610=\"Transporte Marítimo\",VLOOKUP(O610,Tabelas!$F$7:$G$12,2),IF(N610=\"Transporte Aéreo\",VLOOKUP(O610,Tabelas!$F$16:$G$21,2),\"\")))","v":""},null,null,null,null,null,null,null,null,null,null,null,null,null,null,null,"",{"$f":"+IF(AF610=\"\",\"\",VLOOKUP(AF610,Tabelas!$J$27:$K$30,2))","v":""},null,null,null,null,null,null,null,null,null,null,null,null,null,null,null," "]
[null,null,null,null,null,null,{"$f":"+IF(F611=\"\",\"\",VLOOKUP(F611,Tabelas!$B$7:$C$96,2))","v":""},null,{"$f":"IF(H611=\"\",\"\",ROUND(H611/SUM(H610:H617),4))","v":""},null,null,null,null,null,null,{"$f":"+IF(O611=\"\",\"\",IF(N610=\"Transporte Marítimo\",VLOOKUP(O611,Tabelas!$F$7:$G$12,2),IF(N610=\"Transporte Aéreo\",VLOOKUP(O611,Tabelas!$F$16:$G$21,2),\"\")))","v":""},null,null,null,null,null,null,null,null,null,null,null,null,null,null,null,"",{"$f":"+IF(AF611=\"\",\"\",VLOOKUP(AF611,Tabelas!$J$27:$K$30,2))","v":""}]
[null,null,null,null,null,null,{"$f":"+IF(F612=\"\",\"\",VLOOKUP(F612,Tabelas!$B$7:$C$96,2))","v":""},null,{"$f":"IF(H612=\"\",\"\",ROUND(H612/SUM(H610:H617),4))","v":""},null,null,null,null,null,null,{"$f":"+IF(O612=\"\",\"\",IF(N610=\"Transporte Marítimo\",VLOOKUP(O612,Tabelas!$F$7:$G$12,2),IF(N610=\"Transporte Aéreo\",VLOOKUP(O612,Tabelas!$F$16:$G$21,2),\"\")))","v":""},null,null,null,null,null,null,null,null,null,null,null,null,null,null,null,"",{"$f":"+IF(AF612=\"\",\"\",VLOOKUP(AF612,Tabelas!$J$27:$K$30,2))","v":""}]
[null,null,null,null,null,null,{"$f":"+IF(F613=\"\",\"\",VLOOKUP(F613,Tabelas!$B$7:$C$96,2))","v":""},null,{"$f":"IF(H613=\"\",\"\",ROUND(H613/SUM(H610:H617),4))","v":""},null,null,null,null,null,null,{"$f":"+IF(O613=\"\",\"\",IF(N610=\"Transporte Marítimo\",VLOOKUP(O613,Tabelas!$F$7:$G$12,2),IF(N610=\"Transporte Aéreo\",VLOOKUP(O613,Tabelas!$F$16:$G$21,2),\"\")))","v":""},null,null,null,null,null,null,null,null,null,null,null,null,null,null,null,"",{"$f":"+IF(AF613=\"\",\"\",VLOOKUP(AF613,Tabelas!$J$27:$K$30,2))","v":""}]
[null,null,null,null,null,null,{"$f":"+IF(F614=\"\",\"\",VLOOKUP(F614,Tabelas!$B$7:$C$96,2))","v":""},null,{"$f":"IF(H614=\"\",\"\",ROUND(H614/SUM(H610:H617),4))","v":""},null,null,null,null,null,null,{"$f":"+IF(O614=\"\",\"\",IF(N610=\"Transporte Marítimo\",VLOOKUP(O614,Tabelas!$F$7:$G$12,2),IF(N610=\"Transporte Aéreo\",VLOOKUP(O614,Tabelas!$F$16:$G$21,2),\"\")))","v":""},null,null,null,null,null,null,null,null,null,null,null,null,null,null,null,"",{"$f":"+IF(AF614=\"\",\"\",VLOOKUP(AF614,Tabelas!$J$27:$K$30,2))","v":""}]
[null,null,null,null,null,null,{"$f":"+IF(F615=\"\",\"\",VLOOKUP(F615,Tabelas!$B$7:$C$96,2))","v":""},null,{"$f":"IF(H615=\"\",\"\",ROUND(H615/SUM(H610:H617),4))","v":""},null,null,null,null,null,null,{"$f":"+IF(O615=\"\",\"\",IF(N610=\"Transporte Marítimo\",VLOOKUP(O615,Tabelas!$F$7:$G$12,2),IF(N610=\"Transporte Aéreo\",VLOOKUP(O615,Tabelas!$F$16:$G$21,2),\"\")))","v":""},null,null,null,null,null,null,null,null,null,null,null,null,null,null,null,"",{"$f":"+IF(AF615=\"\",\"\",VLOOKUP(AF615,Tabelas!$J$27:$K$30,2))","v":""}]
[null,null,null,null,null,null,{"$f":"+IF(F616=\"\",\"\",VLOOKUP(F616,Tabelas!$B$7:$C$96,2))","v":""},null,{"$f":"IF(H616=\"\",\"\",ROUND(H616/SUM(H610:H617),4))","v":""},null,null,null,null,null,null,{"$f":"+IF(O616=\"\",\"\",IF(N610=\"Transporte Marítimo\",VLOOKUP(O616,Tabelas!$F$7:$G$12,2),IF(N610=\"Transporte Aéreo\",VLOOKUP(O616,Tabelas!$F$16:$G$21,2),\"\")))","v":""},null,null,null,null,null,null,null,null,null,null,null,null,null,null,null,"",{"$f":"+IF(AF616=\"\",\"\",VLOOKUP(AF616,Tabelas!$J$27:$K$30,2))","v":""}]
[null,null,null,null,null,null,{"$f":"+IF(F617=\"\",\"\",VLOOKUP(F617,Tabelas!$B$7:$C$96,2))","v":""},null,{"$f":"IF(H617=\"\",\"\",ROUND(H617/SUM(H610:H617),4))","v":""},null,null,null,null,null,null,{"$f":"+IF(O617=\"\",\"\",IF(N610=\"Transporte Marítimo\",VLOOKUP(O617,Tabelas!$F$7:$G$12,2),IF(N610=\"Transporte Aéreo\",VLOOKUP(O617,Tabelas!$F$16:$G$21,2),\"\")))","v":""},null,null,null,null,null,null,null,null,null,null,null,null,null,null,null,"",{"$f":"+IF(AF617=\"\",\"\",VLOOKUP(AF617,Tabelas!$J$27:$K$30,2))","v":""}]
[null,{"$f":"+B610+1","v":76},null,null,null,null,{"$f":"+IF(F618=\"\",\"\",VLOOKUP(F618,Tabelas!$B$7:$C$96,2))","v":""},null,{"$f":"IF(H618=\"\",\"\",1-SUM(I619:I625))","v":""},null,null,null,null,null,null,{"$f":"+IF(O618=\"\",\"\",IF(N618=\"Transporte Marítimo\",VLOOKUP(O618,Tabelas!$F$7:$G$12,2),IF(N618=\"Transporte Aéreo\",VLOOKUP(O618,Tabelas!$F$16:$G$21,2),\"\")))","v":""},null,null,null,null,null,null,null,null,null,null,null,null,null,null,null,"",{"$f":"+IF(AF618=\"\",\"\",VLOOKUP(AF618,Tabelas!$J$27:$K$30,2))","v":""},null,null,null,null,null,null,null,null,null,null,null,null,null,null,null," "]
[null,null,null,null,null,null,{"$f":"+IF(F619=\"\",\"\",VLOOKUP(F619,Tabelas!$B$7:$C$96,2))","v":""},null,{"$f":"IF(H619=\"\",\"\",ROUND(H619/SUM(H618:H625),4))","v":""},null,null,null,null,null,null,{"$f":"+IF(O619=\"\",\"\",IF(N618=\"Transporte Marítimo\",VLOOKUP(O619,Tabelas!$F$7:$G$12,2),IF(N618=\"Transporte Aéreo\",VLOOKUP(O619,Tabelas!$F$16:$G$21,2),\"\")))","v":""},null,null,null,null,null,null,null,null,null,null,null,null,null,null,null,"",{"$f":"+IF(AF619=\"\",\"\",VLOOKUP(AF619,Tabelas!$J$27:$K$30,2))","v":""}]
[null,null,null,null,null,null,{"$f":"+IF(F620=\"\",\"\",VLOOKUP(F620,Tabelas!$B$7:$C$96,2))","v":""},null,{"$f":"IF(H620=\"\",\"\",ROUND(H620/SUM(H618:H625),4))","v":""},null,null,null,null,null,null,{"$f":"+IF(O620=\"\",\"\",IF(N618=\"Transporte Marítimo\",VLOOKUP(O620,Tabelas!$F$7:$G$12,2),IF(N618=\"Transporte Aéreo\",VLOOKUP(O620,Tabelas!$F$16:$G$21,2),\"\")))","v":""},null,null,null,null,null,null,null,null,null,null,null,null,null,null,null,"",{"$f":"+IF(AF620=\"\",\"\",VLOOKUP(AF620,Tabelas!$J$27:$K$30,2))","v":""}]
[null,null,null,null,null,null,{"$f":"+IF(F621=\"\",\"\",VLOOKUP(F621,Tabelas!$B$7:$C$96,2))","v":""},null,{"$f":"IF(H621=\"\",\"\",ROUND(H621/SUM(H618:H625),4))","v":""},null,null,null,null,null,null,{"$f":"+IF(O621=\"\",\"\",IF(N618=\"Transporte Marítimo\",VLOOKUP(O621,Tabelas!$F$7:$G$12,2),IF(N618=\"Transporte Aéreo\",VLOOKUP(O621,Tabelas!$F$16:$G$21,2),\"\")))","v":""},null,null,null,null,null,null,null,null,null,null,null,null,null,null,null,"",{"$f":"+IF(AF621=\"\",\"\",VLOOKUP(AF621,Tabelas!$J$27:$K$30,2))","v":""}]
[null,null,null,null,null,null,{"$f":"+IF(F622=\"\",\"\",VLOOKUP(F622,Tabelas!$B$7:$C$96,2))","v":""},null,{"$f":"IF(H622=\"\",\"\",ROUND(H622/SUM(H618:H625),4))","v":""},null,null,null,null,null,null,{"$f":"+IF(O622=\"\",\"\",IF(N618=\"Transporte Marítimo\",VLOOKUP(O622,Tabelas!$F$7:$G$12,2),IF(N618=\"Transporte Aéreo\",VLOOKUP(O622,Tabelas!$F$16:$G$21,2),\"\")))","v":""},null,null,null,null,null,null,null,null,null,null,null,null,null,null,null,"",{"$f":"+IF(AF622=\"\",\"\",VLOOKUP(AF622,Tabelas!$J$27:$K$30,2))","v":""}]
[null,null,null,null,null,null,{"$f":"+IF(F623=\"\",\"\",VLOOKUP(F623,Tabelas!$B$7:$C$96,2))","v":""},null,{"$f":"IF(H623=\"\",\"\",ROUND(H623/SUM(H618:H625),4))","v":""},null,null,null,null,null,null,{"$f":"+IF(O623=\"\",\"\",IF(N618=\"Transporte Marítimo\",VLOOKUP(O623,Tabelas!$F$7:$G$12,2),IF(N618=\"Transporte Aéreo\",VLOOKUP(O623,Tabelas!$F$16:$G$21,2),\"\")))","v":""},null,null,null,null,null,null,null,null,null,null,null,null,null,null,null,"",{"$f":"+IF(AF623=\"\",\"\",VLOOKUP(AF623,Tabelas!$J$27:$K$30,2))","v":""}]
[null,null,null,null,null,null,{"$f":"+IF(F624=\"\",\"\",VLOOKUP(F624,Tabelas!$B$7:$C$96,2))","v":""},null,{"$f":"IF(H624=\"\",\"\",ROUND(H624/SUM(H618:H625),4))","v":""},null,null,null,null,null,null,{"$f":"+IF(O624=\"\",\"\",IF(N618=\"Transporte Marítimo\",VLOOKUP(O624,Tabelas!$F$7:$G$12,2),IF(N618=\"Transporte Aéreo\",VLOOKUP(O624,Tabelas!$F$16:$G$21,2),\"\")))","v":""},null,null,null,null,null,null,null,null,null,null,null,null,null,null,null,"",{"$f":"+IF(AF624=\"\",\"\",VLOOKUP(AF624,Tabelas!$J$27:$K$30,2))","v":""}]
[null,null,null,null,null,null,{"$f":"+IF(F625=\"\",\"\",VLOOKUP(F625,Tabelas!$B$7:$C$96,2))","v":""},null,{"$f":"IF(H625=\"\",\"\",ROUND(H625/SUM(H618:H625),4))","v":""},null,null,null,null,null,null,{"$f":"+IF(O625=\"\",\"\",IF(N618=\"Transporte Marítimo\",VLOOKUP(O625,Tabelas!$F$7:$G$12,2),IF(N618=\"Transporte Aéreo\",VLOOKUP(O625,Tabelas!$F$16:$G$21,2),\"\")))","v":""},null,null,null,null,null,null,null,null,null,null,null,null,null,null,null,"",{"$f":"+IF(AF625=\"\",\"\",VLOOKUP(AF625,Tabelas!$J$27:$K$30,2))","v":""}]
[null,{"$f":"+B618+1","v":77},null,null,null,null,{"$f":"+IF(F626=\"\",\"\",VLOOKUP(F626,Tabelas!$B$7:$C$96,2))","v":""},null,{"$f":"IF(H626=\"\",\"\",1-SUM(I627:I633))","v":""},null,null,null,null,null,null,{"$f":"+IF(O626=\"\",\"\",IF(N626=\"Transporte Marítimo\",VLOOKUP(O626,Tabelas!$F$7:$G$12,2),IF(N626=\"Transporte Aéreo\",VLOOKUP(O626,Tabelas!$F$16:$G$21,2),\"\")))","v":""},null,null,null,null,null,null,null,null,null,null,null,null,null,null,null,"",{"$f":"+IF(AF626=\"\",\"\",VLOOKUP(AF626,Tabelas!$J$27:$K$30,2))","v":""},null,null,null,null,null,null,null,null,null,null,null,null,null,null,null," "]
[null,null,null,null,null,null,{"$f":"+IF(F627=\"\",\"\",VLOOKUP(F627,Tabelas!$B$7:$C$96,2))","v":""},null,{"$f":"IF(H627=\"\",\"\",ROUND(H627/SUM(H626:H633),4))","v":""},null,null,null,null,null,null,{"$f":"+IF(O627=\"\",\"\",IF(N626=\"Transporte Marítimo\",VLOOKUP(O627,Tabelas!$F$7:$G$12,2),IF(N626=\"Transporte Aéreo\",VLOOKUP(O627,Tabelas!$F$16:$G$21,2),\"\")))","v":""},null,null,null,null,null,null,null,null,null,null,null,null,null,null,null,"",{"$f":"+IF(AF627=\"\",\"\",VLOOKUP(AF627,Tabelas!$J$27:$K$30,2))","v":""}]
[null,null,null,null,null,null,{"$f":"+IF(F628=\"\",\"\",VLOOKUP(F628,Tabelas!$B$7:$C$96,2))","v":""},null,{"$f":"IF(H628=\"\",\"\",ROUND(H628/SUM(H626:H633),4))","v":""},null,null,null,null,null,null,{"$f":"+IF(O628=\"\",\"\",IF(N626=\"Transporte Marítimo\",VLOOKUP(O628,Tabelas!$F$7:$G$12,2),IF(N626=\"Transporte Aéreo\",VLOOKUP(O628,Tabelas!$F$16:$G$21,2),\"\")))","v":""},null,null,null,null,null,null,null,null,null,null,null,null,null,null,null,"",{"$f":"+IF(AF628=\"\",\"\",VLOOKUP(AF628,Tabelas!$J$27:$K$30,2))","v":""}]
[null,null,null,null,null,null,{"$f":"+IF(F629=\"\",\"\",VLOOKUP(F629,Tabelas!$B$7:$C$96,2))","v":""},null,{"$f":"IF(H629=\"\",\"\",ROUND(H629/SUM(H626:H633),4))","v":""},null,null,null,null,null,null,{"$f":"+IF(O629=\"\",\"\",IF(N626=\"Transporte Marítimo\",VLOOKUP(O629,Tabelas!$F$7:$G$12,2),IF(N626=\"Transporte Aéreo\",VLOOKUP(O629,Tabelas!$F$16:$G$21,2),\"\")))","v":""},null,null,null,null,null,null,null,null,null,null,null,null,null,null,null,"",{"$f":"+IF(AF629=\"\",\"\",VLOOKUP(AF629,Tabelas!$J$27:$K$30,2))","v":""}]
[null,null,null,null,null,null,{"$f":"+IF(F630=\"\",\"\",VLOOKUP(F630,Tabelas!$B$7:$C$96,2))","v":""},null,{"$f":"IF(H630=\"\",\"\",ROUND(H630/SUM(H626:H633),4))","v":""},null,null,null,null,null,null,{"$f":"+IF(O630=\"\",\"\",IF(N626=\"Transporte Marítimo\",VLOOKUP(O630,Tabelas!$F$7:$G$12,2),IF(N626=\"Transporte Aéreo\",VLOOKUP(O630,Tabelas!$F$16:$G$21,2),\"\")))","v":""},null,null,null,null,null,null,null,null,null,null,null,null,null,null,null,"",{"$f":"+IF(AF630=\"\",\"\",VLOOKUP(AF630,Tabelas!$J$27:$K$30,2))","v":""}]
[null,null,null,null,null,null,{"$f":"+IF(F631=\"\",\"\",VLOOKUP(F631,Tabelas!$B$7:$C$96,2))","v":""},null,{"$f":"IF(H631=\"\",\"\",ROUND(H631/SUM(H626:H633),4))","v":""},null,null,null,null,null,null,{"$f":"+IF(O631=\"\",\"\",IF(N626=\"Transporte Marítimo\",VLOOKUP(O631,Tabelas!$F$7:$G$12,2),IF(N626=\"Transporte Aéreo\",VLOOKUP(O631,Tabelas!$F$16:$G$21,2),\"\")))","v":""},null,null,null,null,null,null,null,null,null,null,null,null,null,null,null,"",{"$f":"+IF(AF631=\"\",\"\",VLOOKUP(AF631,Tabelas!$J$27:$K$30,2))","v":""}]
[null,null,null,null,null,null,{"$f":"+IF(F632=\"\",\"\",VLOOKUP(F632,Tabelas!$B$7:$C$96,2))","v":""},null,{"$f":"IF(H632=\"\",\"\",ROUND(H632/SUM(H626:H633),4))","v":""},null,null,null,null,null,null,{"$f":"+IF(O632=\"\",\"\",IF(N626=\"Transporte Marítimo\",VLOOKUP(O632,Tabelas!$F$7:$G$12,2),IF(N626=\"Transporte Aéreo\",VLOOKUP(O632,Tabelas!$F$16:$G$21,2),\"\")))","v":""},null,null,null,null,null,null,null,null,null,null,null,null,null,null,null,"",{"$f":"+IF(AF632=\"\",\"\",VLOOKUP(AF632,Tabelas!$J$27:$K$30,2))","v":""}]
[null,null,null,null,null,null,{"$f":"+IF(F633=\"\",\"\",VLOOKUP(F633,Tabelas!$B$7:$C$96,2))","v":""},null,{"$f":"IF(H633=\"\",\"\",ROUND(H633/SUM(H626:H633),4))","v":""},null,null,null,null,null,null,{"$f":"+IF(O633=\"\",\"\",IF(N626=\"Transporte Marítimo\",VLOOKUP(O633,Tabelas!$F$7:$G$12,2),IF(N626=\"Transporte Aéreo\",VLOOKUP(O633,Tabelas!$F$16:$G$21,2),\"\")))","v":""},null,null,null,null,null,null,null,null,null,null,null,null,null,null,null,"",{"$f":"+IF(AF633=\"\",\"\",VLOOKUP(AF633,Tabelas!$J$27:$K$30,2))","v":""}]
[null,{"$f":"+B626+1","v":78},null,null,null,null,{"$f":"+IF(F634=\"\",\"\",VLOOKUP(F634,Tabelas!$B$7:$C$96,2))","v":""},null,{"$f":"IF(H634=\"\",\"\",1-SUM(I635:I641))","v":""},null,null,null,null,null,null,{"$f":"+IF(O634=\"\",\"\",IF(N634=\"Transporte Marítimo\",VLOOKUP(O634,Tabelas!$F$7:$G$12,2),IF(N634=\"Transporte Aéreo\",VLOOKUP(O634,Tabelas!$F$16:$G$21,2),\"\")))","v":""},null,null,null,null,null,null,null,null,null,null,null,null,null,null,null,"",{"$f":"+IF(AF634=\"\",\"\",VLOOKUP(AF634,Tabelas!$J$27:$K$30,2))","v":""},null,null,null,null,null,null,null,null,null,null,null,null,null,null,null," "]
[null,null,null,null,null,null,{"$f":"+IF(F635=\"\",\"\",VLOOKUP(F635,Tabelas!$B$7:$C$96,2))","v":""},null,{"$f":"IF(H635=\"\",\"\",ROUND(H635/SUM(H634:H641),4))","v":""},null,null,null,null,null,null,{"$f":"+IF(O635=\"\",\"\",IF(N634=\"Transporte Marítimo\",VLOOKUP(O635,Tabelas!$F$7:$G$12,2),IF(N634=\"Transporte Aéreo\",VLOOKUP(O635,Tabelas!$F$16:$G$21,2),\"\")))","v":""},null,null,null,null,null,null,null,null,null,null,null,null,null,null,null,"",{"$f":"+IF(AF635=\"\",\"\",VLOOKUP(AF635,Tabelas!$J$27:$K$30,2))","v":""}]
[null,null,null,null,null,null,{"$f":"+IF(F636=\"\",\"\",VLOOKUP(F636,Tabelas!$B$7:$C$96,2))","v":""},null,{"$f":"IF(H636=\"\",\"\",ROUND(H636/SUM(H634:H641),4))","v":""},null,null,null,null,null,null,{"$f":"+IF(O636=\"\",\"\",IF(N634=\"Transporte Marítimo\",VLOOKUP(O636,Tabelas!$F$7:$G$12,2),IF(N634=\"Transporte Aéreo\",VLOOKUP(O636,Tabelas!$F$16:$G$21,2),\"\")))","v":""},null,null,null,null,null,null,null,null,null,null,null,null,null,null,null,"",{"$f":"+IF(AF636=\"\",\"\",VLOOKUP(AF636,Tabelas!$J$27:$K$30,2))","v":""}]
[null,null,null,null,null,null,{"$f":"+IF(F637=\"\",\"\",VLOOKUP(F637,Tabelas!$B$7:$C$96,2))","v":""},null,{"$f":"IF(H637=\"\",\"\",ROUND(H637/SUM(H634:H641),4))","v":""},null,null,null,null,null,null,{"$f":"+IF(O637=\"\",\"\",IF(N634=\"Transporte Marítimo\",VLOOKUP(O637,Tabelas!$F$7:$G$12,2),IF(N634=\"Transporte Aéreo\",VLOOKUP(O637,Tabelas!$F$16:$G$21,2),\"\")))","v":""},null,null,null,null,null,null,null,null,null,null,null,null,null,null,null,"",{"$f":"+IF(AF637=\"\",\"\",VLOOKUP(AF637,Tabelas!$J$27:$K$30,2))","v":""}]
[null,null,null,null,null,null,{"$f":"+IF(F638=\"\",\"\",VLOOKUP(F638,Tabelas!$B$7:$C$96,2))","v":""},null,{"$f":"IF(H638=\"\",\"\",ROUND(H638/SUM(H634:H641),4))","v":""},null,null,null,null,null,null,{"$f":"+IF(O638=\"\",\"\",IF(N634=\"Transporte Marítimo\",VLOOKUP(O638,Tabelas!$F$7:$G$12,2),IF(N634=\"Transporte Aéreo\",VLOOKUP(O638,Tabelas!$F$16:$G$21,2),\"\")))","v":""},null,null,null,null,null,null,null,null,null,null,null,null,null,null,null,"",{"$f":"+IF(AF638=\"\",\"\",VLOOKUP(AF638,Tabelas!$J$27:$K$30,2))","v":""}]
[null,null,null,null,null,null,{"$f":"+IF(F639=\"\",\"\",VLOOKUP(F639,Tabelas!$B$7:$C$96,2))","v":""},null,{"$f":"IF(H639=\"\",\"\",ROUND(H639/SUM(H634:H641),4))","v":""},null,null,null,null,null,null,{"$f":"+IF(O639=\"\",\"\",IF(N634=\"Transporte Marítimo\",VLOOKUP(O639,Tabelas!$F$7:$G$12,2),IF(N634=\"Transporte Aéreo\",VLOOKUP(O639,Tabelas!$F$16:$G$21,2),\"\")))","v":""},null,null,null,null,null,null,null,null,null,null,null,null,null,null,null,"",{"$f":"+IF(AF639=\"\",\"\",VLOOKUP(AF639,Tabelas!$J$27:$K$30,2))","v":""}]
[null,null,null,null,null,null,{"$f":"+IF(F640=\"\",\"\",VLOOKUP(F640,Tabelas!$B$7:$C$96,2))","v":""},null,{"$f":"IF(H640=\"\",\"\",ROUND(H640/SUM(H634:H641),4))","v":""},null,null,null,null,null,null,{"$f":"+IF(O640=\"\",\"\",IF(N634=\"Transporte Marítimo\",VLOOKUP(O640,Tabelas!$F$7:$G$12,2),IF(N634=\"Transporte Aéreo\",VLOOKUP(O640,Tabelas!$F$16:$G$21,2),\"\")))","v":""},null,null,null,null,null,null,null,null,null,null,null,null,null,null,null,"",{"$f":"+IF(AF640=\"\",\"\",VLOOKUP(AF640,Tabelas!$J$27:$K$30,2))","v":""}]
[null,null,null,null,null,null,{"$f":"+IF(F641=\"\",\"\",VLOOKUP(F641,Tabelas!$B$7:$C$96,2))","v":""},null,{"$f":"IF(H641=\"\",\"\",ROUND(H641/SUM(H634:H641),4))","v":""},null,null,null,null,null,null,{"$f":"+IF(O641=\"\",\"\",IF(N634=\"Transporte Marítimo\",VLOOKUP(O641,Tabelas!$F$7:$G$12,2),IF(N634=\"Transporte Aéreo\",VLOOKUP(O641,Tabelas!$F$16:$G$21,2),\"\")))","v":""},null,null,null,null,null,null,null,null,null,null,null,null,null,null,null,"",{"$f":"+IF(AF641=\"\",\"\",VLOOKUP(AF641,Tabelas!$J$27:$K$30,2))","v":""}]
[null,{"$f":"+B634+1","v":79},null,null,null,null,{"$f":"+IF(F642=\"\",\"\",VLOOKUP(F642,Tabelas!$B$7:$C$96,2))","v":""},null,{"$f":"IF(H642=\"\",\"\",1-SUM(I643:I649))","v":""},null,null,null,null,null,null,{"$f":"+IF(O642=\"\",\"\",IF(N642=\"Transporte Marítimo\",VLOOKUP(O642,Tabelas!$F$7:$G$12,2),IF(N642=\"Transporte Aéreo\",VLOOKUP(O642,Tabelas!$F$16:$G$21,2),\"\")))","v":""},null,null,null,null,null,null,null,null,null,null,null,null,null,null,null,"",{"$f":"+IF(AF642=\"\",\"\",VLOOKUP(AF642,Tabelas!$J$27:$K$30,2))","v":""},null,null,null,null,null,null,null,null,null,null,null,null,null,null,null," "]
[null,null,null,null,null,null,{"$f":"+IF(F643=\"\",\"\",VLOOKUP(F643,Tabelas!$B$7:$C$96,2))","v":""},null,{"$f":"IF(H643=\"\",\"\",ROUND(H643/SUM(H642:H649),4))","v":""},null,null,null,null,null,null,{"$f":"+IF(O643=\"\",\"\",IF(N642=\"Transporte Marítimo\",VLOOKUP(O643,Tabelas!$F$7:$G$12,2),IF(N642=\"Transporte Aéreo\",VLOOKUP(O643,Tabelas!$F$16:$G$21,2),\"\")))","v":""},null,null,null,null,null,null,null,null,null,null,null,null,null,null,null,"",{"$f":"+IF(AF643=\"\",\"\",VLOOKUP(AF643,Tabelas!$J$27:$K$30,2))","v":""}]
[null,null,null,null,null,null,{"$f":"+IF(F644=\"\",\"\",VLOOKUP(F644,Tabelas!$B$7:$C$96,2))","v":""},null,{"$f":"IF(H644=\"\",\"\",ROUND(H644/SUM(H642:H649),4))","v":""},null,null,null,null,null,null,{"$f":"+IF(O644=\"\",\"\",IF(N642=\"Transporte Marítimo\",VLOOKUP(O644,Tabelas!$F$7:$G$12,2),IF(N642=\"Transporte Aéreo\",VLOOKUP(O644,Tabelas!$F$16:$G$21,2),\"\")))","v":""},null,null,null,null,null,null,null,null,null,null,null,null,null,null,null,"",{"$f":"+IF(AF644=\"\",\"\",VLOOKUP(AF644,Tabelas!$J$27:$K$30,2))","v":""}]
[null,null,null,null,null,null,{"$f":"+IF(F645=\"\",\"\",VLOOKUP(F645,Tabelas!$B$7:$C$96,2))","v":""},null,{"$f":"IF(H645=\"\",\"\",ROUND(H645/SUM(H642:H649),4))","v":""},null,null,null,null,null,null,{"$f":"+IF(O645=\"\",\"\",IF(N642=\"Transporte Marítimo\",VLOOKUP(O645,Tabelas!$F$7:$G$12,2),IF(N642=\"Transporte Aéreo\",VLOOKUP(O645,Tabelas!$F$16:$G$21,2),\"\")))","v":""},null,null,null,null,null,null,null,null,null,null,null,null,null,null,null,"",{"$f":"+IF(AF645=\"\",\"\",VLOOKUP(AF645,Tabelas!$J$27:$K$30,2))","v":""}]
[null,null,null,null,null,null,{"$f":"+IF(F646=\"\",\"\",VLOOKUP(F646,Tabelas!$B$7:$C$96,2))","v":""},null,{"$f":"IF(H646=\"\",\"\",ROUND(H646/SUM(H642:H649),4))","v":""},null,null,null,null,null,null,{"$f":"+IF(O646=\"\",\"\",IF(N642=\"Transporte Marítimo\",VLOOKUP(O646,Tabelas!$F$7:$G$12,2),IF(N642=\"Transporte Aéreo\",VLOOKUP(O646,Tabelas!$F$16:$G$21,2),\"\")))","v":""},null,null,null,null,null,null,null,null,null,null,null,null,null,null,null,"",{"$f":"+IF(AF646=\"\",\"\",VLOOKUP(AF646,Tabelas!$J$27:$K$30,2))","v":""}]
[null,null,null,null,null,null,{"$f":"+IF(F647=\"\",\"\",VLOOKUP(F647,Tabelas!$B$7:$C$96,2))","v":""},null,{"$f":"IF(H647=\"\",\"\",ROUND(H647/SUM(H642:H649),4))","v":""},null,null,null,null,null,null,{"$f":"+IF(O647=\"\",\"\",IF(N642=\"Transporte Marítimo\",VLOOKUP(O647,Tabelas!$F$7:$G$12,2),IF(N642=\"Transporte Aéreo\",VLOOKUP(O647,Tabelas!$F$16:$G$21,2),\"\")))","v":""},null,null,null,null,null,null,null,null,null,null,null,null,null,null,null,"",{"$f":"+IF(AF647=\"\",\"\",VLOOKUP(AF647,Tabelas!$J$27:$K$30,2))","v":""}]
[null,null,null,null,null,null,{"$f":"+IF(F648=\"\",\"\",VLOOKUP(F648,Tabelas!$B$7:$C$96,2))","v":""},null,{"$f":"IF(H648=\"\",\"\",ROUND(H648/SUM(H642:H649),4))","v":""},null,null,null,null,null,null,{"$f":"+IF(O648=\"\",\"\",IF(N642=\"Transporte Marítimo\",VLOOKUP(O648,Tabelas!$F$7:$G$12,2),IF(N642=\"Transporte Aéreo\",VLOOKUP(O648,Tabelas!$F$16:$G$21,2),\"\")))","v":""},null,null,null,null,null,null,null,null,null,null,null,null,null,null,null,"",{"$f":"+IF(AF648=\"\",\"\",VLOOKUP(AF648,Tabelas!$J$27:$K$30,2))","v":""}]
[null,null,null,null,null,null,{"$f":"+IF(F649=\"\",\"\",VLOOKUP(F649,Tabelas!$B$7:$C$96,2))","v":""},null,{"$f":"IF(H649=\"\",\"\",ROUND(H649/SUM(H642:H649),4))","v":""},null,null,null,null,null,null,{"$f":"+IF(O649=\"\",\"\",IF(N642=\"Transporte Marítimo\",VLOOKUP(O649,Tabelas!$F$7:$G$12,2),IF(N642=\"Transporte Aéreo\",VLOOKUP(O649,Tabelas!$F$16:$G$21,2),\"\")))","v":""},null,null,null,null,null,null,null,null,null,null,null,null,null,null,null,"",{"$f":"+IF(AF649=\"\",\"\",VLOOKUP(AF649,Tabelas!$J$27:$K$30,2))","v":""}]
[null,{"$f":"+B642+1","v":80},null,null,null,null,{"$f":"+IF(F650=\"\",\"\",VLOOKUP(F650,Tabelas!$B$7:$C$96,2))","v":""},null,{"$f":"IF(H650=\"\",\"\",1-SUM(I651:I657))","v":""},null,null,null,null,null,null,{"$f":"+IF(O650=\"\",\"\",IF(N650=\"Transporte Marítimo\",VLOOKUP(O650,Tabelas!$F$7:$G$12,2),IF(N650=\"Transporte Aéreo\",VLOOKUP(O650,Tabelas!$F$16:$G$21,2),\"\")))","v":""},null,null,null,null,null,null,null,null,null,null,null,null,null,null,null,"",{"$f":"+IF(AF650=\"\",\"\",VLOOKUP(AF650,Tabelas!$J$27:$K$30,2))","v":""},null,null,null,null,null,null,null,null,null,null,null,null,null,null,null," "]
[null,null,null,null,null,null,{"$f":"+IF(F651=\"\",\"\",VLOOKUP(F651,Tabelas!$B$7:$C$96,2))","v":""},null,{"$f":"IF(H651=\"\",\"\",ROUND(H651/SUM(H650:H657),4))","v":""},null,null,null,null,null,null,{"$f":"+IF(O651=\"\",\"\",IF(N650=\"Transporte Marítimo\",VLOOKUP(O651,Tabelas!$F$7:$G$12,2),IF(N650=\"Transporte Aéreo\",VLOOKUP(O651,Tabelas!$F$16:$G$21,2),\"\")))","v":""},null,null,null,null,null,null,null,null,null,null,null,null,null,null,null,"",{"$f":"+IF(AF651=\"\",\"\",VLOOKUP(AF651,Tabelas!$J$27:$K$30,2))","v":""}]
[null,null,null,null,null,null,{"$f":"+IF(F652=\"\",\"\",VLOOKUP(F652,Tabelas!$B$7:$C$96,2))","v":""},null,{"$f":"IF(H652=\"\",\"\",ROUND(H652/SUM(H650:H657),4))","v":""},null,null,null,null,null,null,{"$f":"+IF(O652=\"\",\"\",IF(N650=\"Transporte Marítimo\",VLOOKUP(O652,Tabelas!$F$7:$G$12,2),IF(N650=\"Transporte Aéreo\",VLOOKUP(O652,Tabelas!$F$16:$G$21,2),\"\")))","v":""},null,null,null,null,null,null,null,null,null,null,null,null,null,null,null,"",{"$f":"+IF(AF652=\"\",\"\",VLOOKUP(AF652,Tabelas!$J$27:$K$30,2))","v":""}]
[null,null,null,null,null,null,{"$f":"+IF(F653=\"\",\"\",VLOOKUP(F653,Tabelas!$B$7:$C$96,2))","v":""},null,{"$f":"IF(H653=\"\",\"\",ROUND(H653/SUM(H650:H657),4))","v":""},null,null,null,null,null,null,{"$f":"+IF(O653=\"\",\"\",IF(N650=\"Transporte Marítimo\",VLOOKUP(O653,Tabelas!$F$7:$G$12,2),IF(N650=\"Transporte Aéreo\",VLOOKUP(O653,Tabelas!$F$16:$G$21,2),\"\")))","v":""},null,null,null,null,null,null,null,null,null,null,null,null,null,null,null,"",{"$f":"+IF(AF653=\"\",\"\",VLOOKUP(AF653,Tabelas!$J$27:$K$30,2))","v":""}]
[null,null,null,null,null,null,{"$f":"+IF(F654=\"\",\"\",VLOOKUP(F654,Tabelas!$B$7:$C$96,2))","v":""},null,{"$f":"IF(H654=\"\",\"\",ROUND(H654/SUM(H650:H657),4))","v":""},null,null,null,null,null,null,{"$f":"+IF(O654=\"\",\"\",IF(N650=\"Transporte Marítimo\",VLOOKUP(O654,Tabelas!$F$7:$G$12,2),IF(N650=\"Transporte Aéreo\",VLOOKUP(O654,Tabelas!$F$16:$G$21,2),\"\")))","v":""},null,null,null,null,null,null,null,null,null,null,null,null,null,null,null,"",{"$f":"+IF(AF654=\"\",\"\",VLOOKUP(AF654,Tabelas!$J$27:$K$30,2))","v":""}]
[null,null,null,null,null,null,{"$f":"+IF(F655=\"\",\"\",VLOOKUP(F655,Tabelas!$B$7:$C$96,2))","v":""},null,{"$f":"IF(H655=\"\",\"\",ROUND(H655/SUM(H650:H657),4))","v":""},null,null,null,null,null,null,{"$f":"+IF(O655=\"\",\"\",IF(N650=\"Transporte Marítimo\",VLOOKUP(O655,Tabelas!$F$7:$G$12,2),IF(N650=\"Transporte Aéreo\",VLOOKUP(O655,Tabelas!$F$16:$G$21,2),\"\")))","v":""},null,null,null,null,null,null,null,null,null,null,null,null,null,null,null,"",{"$f":"+IF(AF655=\"\",\"\",VLOOKUP(AF655,Tabelas!$J$27:$K$30,2))","v":""}]
[null,null,null,null,null,null,{"$f":"+IF(F656=\"\",\"\",VLOOKUP(F656,Tabelas!$B$7:$C$96,2))","v":""},null,{"$f":"IF(H656=\"\",\"\",ROUND(H656/SUM(H650:H657),4))","v":""},null,null,null,null,null,null,{"$f":"+IF(O656=\"\",\"\",IF(N650=\"Transporte Marítimo\",VLOOKUP(O656,Tabelas!$F$7:$G$12,2),IF(N650=\"Transporte Aéreo\",VLOOKUP(O656,Tabelas!$F$16:$G$21,2),\"\")))","v":""},null,null,null,null,null,null,null,null,null,null,null,null,null,null,null,"",{"$f":"+IF(AF656=\"\",\"\",VLOOKUP(AF656,Tabelas!$J$27:$K$30,2))","v":""}]
[null,null,null,null,null,null,{"$f":"+IF(F657=\"\",\"\",VLOOKUP(F657,Tabelas!$B$7:$C$96,2))","v":""},null,{"$f":"IF(H657=\"\",\"\",ROUND(H657/SUM(H650:H657),4))","v":""},null,null,null,null,null,null,{"$f":"+IF(O657=\"\",\"\",IF(N650=\"Transporte Marítimo\",VLOOKUP(O657,Tabelas!$F$7:$G$12,2),IF(N650=\"Transporte Aéreo\",VLOOKUP(O657,Tabelas!$F$16:$G$21,2),\"\")))","v":""},null,null,null,null,null,null,null,null,null,null,null,null,null,null,null,"",{"$f":"+IF(AF657=\"\",\"\",VLOOKUP(AF657,Tabelas!$J$27:$K$30,2))","v":""}]
[null,{"$f":"+B650+1","v":81},null,null,null,null,{"$f":"+IF(F658=\"\",\"\",VLOOKUP(F658,Tabelas!$B$7:$C$96,2))","v":""},null,{"$f":"IF(H658=\"\",\"\",1-SUM(I659:I665))","v":""},null,null,null,null,null,null,{"$f":"+IF(O658=\"\",\"\",IF(N658=\"Transporte Marítimo\",VLOOKUP(O658,Tabelas!$F$7:$G$12,2),IF(N658=\"Transporte Aéreo\",VLOOKUP(O658,Tabelas!$F$16:$G$21,2),\"\")))","v":""},null,null,null,null,null,null,null,null,null,null,null,null,null,null,null,"",{"$f":"+IF(AF658=\"\",\"\",VLOOKUP(AF658,Tabelas!$J$27:$K$30,2))","v":""},null,null,null,null,null,null,null,null,null,null,null,null,null,null,null," "]
[null,null,null,null,null,null,{"$f":"+IF(F659=\"\",\"\",VLOOKUP(F659,Tabelas!$B$7:$C$96,2))","v":""},null,{"$f":"IF(H659=\"\",\"\",ROUND(H659/SUM(H658:H665),4))","v":""},null,null,null,null,null,null,{"$f":"+IF(O659=\"\",\"\",IF(N658=\"Transporte Marítimo\",VLOOKUP(O659,Tabelas!$F$7:$G$12,2),IF(N658=\"Transporte Aéreo\",VLOOKUP(O659,Tabelas!$F$16:$G$21,2),\"\")))","v":""},null,null,null,null,null,null,null,null,null,null,null,null,null,null,null,{"$f":"+IF(AE659=\"20NL\",1,IF(AE659=\"40NL\",2,IF(AE659=\"20RF\",3,IF(AE659=\"40RF\",4,\"\"))))","v":""},{"$f":"+IF(AF659=\"\",\"\",VLOOKUP(AF659,Tabelas!$J$27:$K$30,2))","v":""}]
[null,null,null,null,null,null,{"$f":"+IF(F660=\"\",\"\",VLOOKUP(F660,Tabelas!$B$7:$C$96,2))","v":""},null,{"$f":"IF(H660=\"\",\"\",ROUND(H660/SUM(H658:H665),4))","v":""},null,null,null,null,null,null,{"$f":"+IF(O660=\"\",\"\",IF(N658=\"Transporte Marítimo\",VLOOKUP(O660,Tabelas!$F$7:$G$12,2),IF(N658=\"Transporte Aéreo\",VLOOKUP(O660,Tabelas!$F$16:$G$21,2),\"\")))","v":""},null,null,null,null,null,null,null,null,null,null,null,null,null,null,null,"",{"$f":"+IF(AF660=\"\",\"\",VLOOKUP(AF660,Tabelas!$J$27:$K$30,2))","v":""}]
[null,null,null,null,null,null,{"$f":"+IF(F661=\"\",\"\",VLOOKUP(F661,Tabelas!$B$7:$C$96,2))","v":""},null,{"$f":"IF(H661=\"\",\"\",ROUND(H661/SUM(H658:H665),4))","v":""},null,null,null,null,null,null,{"$f":"+IF(O661=\"\",\"\",IF(N658=\"Transporte Marítimo\",VLOOKUP(O661,Tabelas!$F$7:$G$12,2),IF(N658=\"Transporte Aéreo\",VLOOKUP(O661,Tabelas!$F$16:$G$21,2),\"\")))","v":""},null,null,null,null,null,null,null,null,null,null,null,null,null,null,null,"",{"$f":"+IF(AF661=\"\",\"\",VLOOKUP(AF661,Tabelas!$J$27:$K$30,2))","v":""}]
[null,null,null,null,null,null,{"$f":"+IF(F662=\"\",\"\",VLOOKUP(F662,Tabelas!$B$7:$C$96,2))","v":""},null,{"$f":"IF(H662=\"\",\"\",ROUND(H662/SUM(H658:H665),4))","v":""},null,null,null,null,null,null,{"$f":"+IF(O662=\"\",\"\",IF(N658=\"Transporte Marítimo\",VLOOKUP(O662,Tabelas!$F$7:$G$12,2),IF(N658=\"Transporte Aéreo\",VLOOKUP(O662,Tabelas!$F$16:$G$21,2),\"\")))","v":""},null,null,null,null,null,null,null,null,null,null,null,null,null,null,null,"",{"$f":"+IF(AF662=\"\",\"\",VLOOKUP(AF662,Tabelas!$J$27:$K$30,2))","v":""}]
[null,null,null,null,null,null,{"$f":"+IF(F663=\"\",\"\",VLOOKUP(F663,Tabelas!$B$7:$C$96,2))","v":""},null,{"$f":"IF(H663=\"\",\"\",ROUND(H663/SUM(H658:H665),4))","v":""},null,null,null,null,null,null,{"$f":"+IF(O663=\"\",\"\",IF(N658=\"Transporte Marítimo\",VLOOKUP(O663,Tabelas!$F$7:$G$12,2),IF(N658=\"Transporte Aéreo\",VLOOKUP(O663,Tabelas!$F$16:$G$21,2),\"\")))","v":""},null,null,null,null,null,null,null,null,null,null,null,null,null,null,null,"",{"$f":"+IF(AF663=\"\",\"\",VLOOKUP(AF663,Tabelas!$J$27:$K$30,2))","v":""}]
[null,null,null,null,null,null,{"$f":"+IF(F664=\"\",\"\",VLOOKUP(F664,Tabelas!$B$7:$C$96,2))","v":""},null,{"$f":"IF(H664=\"\",\"\",ROUND(H664/SUM(H658:H665),4))","v":""},null,null,null,null,null,null,{"$f":"+IF(O664=\"\",\"\",IF(N658=\"Transporte Marítimo\",VLOOKUP(O664,Tabelas!$F$7:$G$12,2),IF(N658=\"Transporte Aéreo\",VLOOKUP(O664,Tabelas!$F$16:$G$21,2),\"\")))","v":""},null,null,null,null,null,null,null,null,null,null,null,null,null,null,null,"",{"$f":"+IF(AF664=\"\",\"\",VLOOKUP(AF664,Tabelas!$J$27:$K$30,2))","v":""}]
[null,null,null,null,null,null,{"$f":"+IF(F665=\"\",\"\",VLOOKUP(F665,Tabelas!$B$7:$C$96,2))","v":""},null,{"$f":"IF(H665=\"\",\"\",ROUND(H665/SUM(H658:H665),4))","v":""},null,null,null,null,null,null,{"$f":"+IF(O665=\"\",\"\",IF(N658=\"Transporte Marítimo\",VLOOKUP(O665,Tabelas!$F$7:$G$12,2),IF(N658=\"Transporte Aéreo\",VLOOKUP(O665,Tabelas!$F$16:$G$21,2),\"\")))","v":""},null,null,null,null,null,null,null,null,null,null,null,null,null,null,null,"",{"$f":"+IF(AF665=\"\",\"\",VLOOKUP(AF665,Tabelas!$J$27:$K$30,2))","v":""}]
[null,{"$f":"+B658+1","v":82},null,null,null,null,{"$f":"+IF(F666=\"\",\"\",VLOOKUP(F666,Tabelas!$B$7:$C$96,2))","v":""},null,{"$f":"IF(H666=\"\",\"\",1-SUM(I667:I673))","v":""},null,null,null,null,null,null,{"$f":"+IF(O666=\"\",\"\",IF(N666=\"Transporte Marítimo\",VLOOKUP(O666,Tabelas!$F$7:$G$12,2),IF(N666=\"Transporte Aéreo\",VLOOKUP(O666,Tabelas!$F$16:$G$21,2),\"\")))","v":""},null,null,null,null,null,null,null,null,null,null,null,null,null,null,null,"",{"$f":"+IF(AF666=\"\",\"\",VLOOKUP(AF666,Tabelas!$J$27:$K$30,2))","v":""},null,null,null,null,null,null,null,null,null,null,null,null,null,null,null," "]
[null,null,null,null,null,null,{"$f":"+IF(F667=\"\",\"\",VLOOKUP(F667,Tabelas!$B$7:$C$96,2))","v":""},null,{"$f":"IF(H667=\"\",\"\",ROUND(H667/SUM(H666:H673),4))","v":""},null,null,null,null,null,null,{"$f":"+IF(O667=\"\",\"\",IF(N666=\"Transporte Marítimo\",VLOOKUP(O667,Tabelas!$F$7:$G$12,2),IF(N666=\"Transporte Aéreo\",VLOOKUP(O667,Tabelas!$F$16:$G$21,2),\"\")))","v":""},null,null,null,null,null,null,null,null,null,null,null,null,null,null,null,"",{"$f":"+IF(AF667=\"\",\"\",VLOOKUP(AF667,Tabelas!$J$27:$K$30,2))","v":""}]
[null,null,null,null,null,null,{"$f":"+IF(F668=\"\",\"\",VLOOKUP(F668,Tabelas!$B$7:$C$96,2))","v":""},null,{"$f":"IF(H668=\"\",\"\",ROUND(H668/SUM(H666:H673),4))","v":""},null,null,null,null,null,null,{"$f":"+IF(O668=\"\",\"\",IF(N666=\"Transporte Marítimo\",VLOOKUP(O668,Tabelas!$F$7:$G$12,2),IF(N666=\"Transporte Aéreo\",VLOOKUP(O668,Tabelas!$F$16:$G$21,2),\"\")))","v":""},null,null,null,null,null,null,null,null,null,null,null,null,null,null,null,"",{"$f":"+IF(AF668=\"\",\"\",VLOOKUP(AF668,Tabelas!$J$27:$K$30,2))","v":""}]
[null,null,null,null,null,null,{"$f":"+IF(F669=\"\",\"\",VLOOKUP(F669,Tabelas!$B$7:$C$96,2))","v":""},null,{"$f":"IF(H669=\"\",\"\",ROUND(H669/SUM(H666:H673),4))","v":""},null,null,null,null,null,null,{"$f":"+IF(O669=\"\",\"\",IF(N666=\"Transporte Marítimo\",VLOOKUP(O669,Tabelas!$F$7:$G$12,2),IF(N666=\"Transporte Aéreo\",VLOOKUP(O669,Tabelas!$F$16:$G$21,2),\"\")))","v":""},null,null,null,null,null,null,null,null,null,null,null,null,null,null,null,"",{"$f":"+IF(AF669=\"\",\"\",VLOOKUP(AF669,Tabelas!$J$27:$K$30,2))","v":""}]
[null,null,null,null,null,null,{"$f":"+IF(F670=\"\",\"\",VLOOKUP(F670,Tabelas!$B$7:$C$96,2))","v":""},null,{"$f":"IF(H670=\"\",\"\",ROUND(H670/SUM(H666:H673),4))","v":""},null,null,null,null,null,null,{"$f":"+IF(O670=\"\",\"\",IF(N666=\"Transporte Marítimo\",VLOOKUP(O670,Tabelas!$F$7:$G$12,2),IF(N666=\"Transporte Aéreo\",VLOOKUP(O670,Tabelas!$F$16:$G$21,2),\"\")))","v":""},null,null,null,null,null,null,null,null,null,null,null,null,null,null,null,"",{"$f":"+IF(AF670=\"\",\"\",VLOOKUP(AF670,Tabelas!$J$27:$K$30,2))","v":""}]
[null,null,null,null,null,null,{"$f":"+IF(F671=\"\",\"\",VLOOKUP(F671,Tabelas!$B$7:$C$96,2))","v":""},null,{"$f":"IF(H671=\"\",\"\",ROUND(H671/SUM(H666:H673),4))","v":""},null,null,null,null,null,null,{"$f":"+IF(O671=\"\",\"\",IF(N666=\"Transporte Marítimo\",VLOOKUP(O671,Tabelas!$F$7:$G$12,2),IF(N666=\"Transporte Aéreo\",VLOOKUP(O671,Tabelas!$F$16:$G$21,2),\"\")))","v":""},null,null,null,null,null,null,null,null,null,null,null,null,null,null,null,"",{"$f":"+IF(AF671=\"\",\"\",VLOOKUP(AF671,Tabelas!$J$27:$K$30,2))","v":""}]
[null,null,null,null,null,null,{"$f":"+IF(F672=\"\",\"\",VLOOKUP(F672,Tabelas!$B$7:$C$96,2))","v":""},null,{"$f":"IF(H672=\"\",\"\",ROUND(H672/SUM(H666:H673),4))","v":""},null,null,null,null,null,null,{"$f":"+IF(O672=\"\",\"\",IF(N666=\"Transporte Marítimo\",VLOOKUP(O672,Tabelas!$F$7:$G$12,2),IF(N666=\"Transporte Aéreo\",VLOOKUP(O672,Tabelas!$F$16:$G$21,2),\"\")))","v":""},null,null,null,null,null,null,null,null,null,null,null,null,null,null,null,"",{"$f":"+IF(AF672=\"\",\"\",VLOOKUP(AF672,Tabelas!$J$27:$K$30,2))","v":""}]
[null,null,null,null,null,null,{"$f":"+IF(F673=\"\",\"\",VLOOKUP(F673,Tabelas!$B$7:$C$96,2))","v":""},null,{"$f":"IF(H673=\"\",\"\",ROUND(H673/SUM(H666:H673),4))","v":""},null,null,null,null,null,null,{"$f":"+IF(O673=\"\",\"\",IF(N666=\"Transporte Marítimo\",VLOOKUP(O673,Tabelas!$F$7:$G$12,2),IF(N666=\"Transporte Aéreo\",VLOOKUP(O673,Tabelas!$F$16:$G$21,2),\"\")))","v":""},null,null,null,null,null,null,null,null,null,null,null,null,null,null,null,"",{"$f":"+IF(AF673=\"\",\"\",VLOOKUP(AF673,Tabelas!$J$27:$K$30,2))","v":""}]
[null,{"$f":"+B666+1","v":83},null,null,null,null,{"$f":"+IF(F674=\"\",\"\",VLOOKUP(F674,Tabelas!$B$7:$C$96,2))","v":""},null,{"$f":"IF(H674=\"\",\"\",1-SUM(I675:I681))","v":""},null,null,null,null,null,null,{"$f":"+IF(O674=\"\",\"\",IF(N674=\"Transporte Marítimo\",VLOOKUP(O674,Tabelas!$F$7:$G$12,2),IF(N674=\"Transporte Aéreo\",VLOOKUP(O674,Tabelas!$F$16:$G$21,2),\"\")))","v":""},null,null,null,null,null,null,null,null,null,null,null,null,null,null,null,"",{"$f":"+IF(AF674=\"\",\"\",VLOOKUP(AF674,Tabelas!$J$27:$K$30,2))","v":""},null,null,null,null,null,null,null,null,null,null,null,null,null,null,null," "]
[null,null,null,null,null,null,{"$f":"+IF(F675=\"\",\"\",VLOOKUP(F675,Tabelas!$B$7:$C$96,2))","v":""},null,{"$f":"IF(H675=\"\",\"\",ROUND(H675/SUM(H674:H681),4))","v":""},null,null,null,null,null,null,{"$f":"+IF(O675=\"\",\"\",IF(N674=\"Transporte Marítimo\",VLOOKUP(O675,Tabelas!$F$7:$G$12,2),IF(N674=\"Transporte Aéreo\",VLOOKUP(O675,Tabelas!$F$16:$G$21,2),\"\")))","v":""},null,null,null,null,null,null,null,null,null,null,null,null,null,null,null,"",{"$f":"+IF(AF675=\"\",\"\",VLOOKUP(AF675,Tabelas!$J$27:$K$30,2))","v":""}]
[null,null,null,null,null,null,{"$f":"+IF(F676=\"\",\"\",VLOOKUP(F676,Tabelas!$B$7:$C$96,2))","v":""},null,{"$f":"IF(H676=\"\",\"\",ROUND(H676/SUM(H674:H681),4))","v":""},null,null,null,null,null,null,{"$f":"+IF(O676=\"\",\"\",IF(N674=\"Transporte Marítimo\",VLOOKUP(O676,Tabelas!$F$7:$G$12,2),IF(N674=\"Transporte Aéreo\",VLOOKUP(O676,Tabelas!$F$16:$G$21,2),\"\")))","v":""},null,null,null,null,null,null,null,null,null,null,null,null,null,null,null,"",{"$f":"+IF(AF676=\"\",\"\",VLOOKUP(AF676,Tabelas!$J$27:$K$30,2))","v":""}]
[null,null,null,null,null,null,{"$f":"+IF(F677=\"\",\"\",VLOOKUP(F677,Tabelas!$B$7:$C$96,2))","v":""},null,{"$f":"IF(H677=\"\",\"\",ROUND(H677/SUM(H674:H681),4))","v":""},null,null,null,null,null,null,{"$f":"+IF(O677=\"\",\"\",IF(N674=\"Transporte Marítimo\",VLOOKUP(O677,Tabelas!$F$7:$G$12,2),IF(N674=\"Transporte Aéreo\",VLOOKUP(O677,Tabelas!$F$16:$G$21,2),\"\")))","v":""},null,null,null,null,null,null,null,null,null,null,null,null,null,null,null,"",{"$f":"+IF(AF677=\"\",\"\",VLOOKUP(AF677,Tabelas!$J$27:$K$30,2))","v":""}]
[null,null,null,null,null,null,{"$f":"+IF(F678=\"\",\"\",VLOOKUP(F678,Tabelas!$B$7:$C$96,2))","v":""},null,{"$f":"IF(H678=\"\",\"\",ROUND(H678/SUM(H674:H681),4))","v":""},null,null,null,null,null,null,{"$f":"+IF(O678=\"\",\"\",IF(N674=\"Transporte Marítimo\",VLOOKUP(O678,Tabelas!$F$7:$G$12,2),IF(N674=\"Transporte Aéreo\",VLOOKUP(O678,Tabelas!$F$16:$G$21,2),\"\")))","v":""},null,null,null,null,null,null,null,null,null,null,null,null,null,null,null,"",{"$f":"+IF(AF678=\"\",\"\",VLOOKUP(AF678,Tabelas!$J$27:$K$30,2))","v":""}]
[null,null,null,null,null,null,{"$f":"+IF(F679=\"\",\"\",VLOOKUP(F679,Tabelas!$B$7:$C$96,2))","v":""},null,{"$f":"IF(H679=\"\",\"\",ROUND(H679/SUM(H674:H681),4))","v":""},null,null,null,null,null,null,{"$f":"+IF(O679=\"\",\"\",IF(N674=\"Transporte Marítimo\",VLOOKUP(O679,Tabelas!$F$7:$G$12,2),IF(N674=\"Transporte Aéreo\",VLOOKUP(O679,Tabelas!$F$16:$G$21,2),\"\")))","v":""},null,null,null,null,null,null,null,null,null,null,null,null,null,null,null,"",{"$f":"+IF(AF679=\"\",\"\",VLOOKUP(AF679,Tabelas!$J$27:$K$30,2))","v":""}]
[null,null,null,null,null,null,{"$f":"+IF(F680=\"\",\"\",VLOOKUP(F680,Tabelas!$B$7:$C$96,2))","v":""},null,{"$f":"IF(H680=\"\",\"\",ROUND(H680/SUM(H674:H681),4))","v":""},null,null,null,null,null,null,{"$f":"+IF(O680=\"\",\"\",IF(N674=\"Transporte Marítimo\",VLOOKUP(O680,Tabelas!$F$7:$G$12,2),IF(N674=\"Transporte Aéreo\",VLOOKUP(O680,Tabelas!$F$16:$G$21,2),\"\")))","v":""},null,null,null,null,null,null,null,null,null,null,null,null,null,null,null,"",{"$f":"+IF(AF680=\"\",\"\",VLOOKUP(AF680,Tabelas!$J$27:$K$30,2))","v":""}]
[null,null,null,null,null,null,{"$f":"+IF(F681=\"\",\"\",VLOOKUP(F681,Tabelas!$B$7:$C$96,2))","v":""},null,{"$f":"IF(H681=\"\",\"\",ROUND(H681/SUM(H674:H681),4))","v":""},null,null,null,null,null,null,{"$f":"+IF(O681=\"\",\"\",IF(N674=\"Transporte Marítimo\",VLOOKUP(O681,Tabelas!$F$7:$G$12,2),IF(N674=\"Transporte Aéreo\",VLOOKUP(O681,Tabelas!$F$16:$G$21,2),\"\")))","v":""},null,null,null,null,null,null,null,null,null,null,null,null,null,null,null,"",{"$f":"+IF(AF681=\"\",\"\",VLOOKUP(AF681,Tabelas!$J$27:$K$30,2))","v":""}]
[null,{"$f":"+B674+1","v":84},null,null,null,null,{"$f":"+IF(F682=\"\",\"\",VLOOKUP(F682,Tabelas!$B$7:$C$96,2))","v":""},null,{"$f":"IF(H682=\"\",\"\",1-SUM(I683:I689))","v":""},null,null,null,null,null,null,{"$f":"+IF(O682=\"\",\"\",IF(N682=\"Transporte Marítimo\",VLOOKUP(O682,Tabelas!$F$7:$G$12,2),IF(N682=\"Transporte Aéreo\",VLOOKUP(O682,Tabelas!$F$16:$G$21,2),\"\")))","v":""},null,null,null,null,null,null,null,null,null,null,null,null,null,null,null,"",{"$f":"+IF(AF682=\"\",\"\",VLOOKUP(AF682,Tabelas!$J$27:$K$30,2))","v":""},null,null,null,null,null,null,null,null,null,null,null,null,null,null,null," "]
[null,null,null,null,null,null,{"$f":"+IF(F683=\"\",\"\",VLOOKUP(F683,Tabelas!$B$7:$C$96,2))","v":""},null,{"$f":"IF(H683=\"\",\"\",ROUND(H683/SUM(H682:H689),4))","v":""},null,null,null,null,null,null,{"$f":"+IF(O683=\"\",\"\",IF(N682=\"Transporte Marítimo\",VLOOKUP(O683,Tabelas!$F$7:$G$12,2),IF(N682=\"Transporte Aéreo\",VLOOKUP(O683,Tabelas!$F$16:$G$21,2),\"\")))","v":""},null,null,null,null,null,null,null,null,null,null,null,null,null,null,null,"",{"$f":"+IF(AF683=\"\",\"\",VLOOKUP(AF683,Tabelas!$J$27:$K$30,2))","v":""}]
[null,null,null,null,null,null,{"$f":"+IF(F684=\"\",\"\",VLOOKUP(F684,Tabelas!$B$7:$C$96,2))","v":""},null,{"$f":"IF(H684=\"\",\"\",ROUND(H684/SUM(H682:H689),4))","v":""},null,null,null,null,null,null,{"$f":"+IF(O684=\"\",\"\",IF(N682=\"Transporte Marítimo\",VLOOKUP(O684,Tabelas!$F$7:$G$12,2),IF(N682=\"Transporte Aéreo\",VLOOKUP(O684,Tabelas!$F$16:$G$21,2),\"\")))","v":""},null,null,null,null,null,null,null,null,null,null,null,null,null,null,null,"",{"$f":"+IF(AF684=\"\",\"\",VLOOKUP(AF684,Tabelas!$J$27:$K$30,2))","v":""}]
[null,null,null,null,null,null,{"$f":"+IF(F685=\"\",\"\",VLOOKUP(F685,Tabelas!$B$7:$C$96,2))","v":""},null,{"$f":"IF(H685=\"\",\"\",ROUND(H685/SUM(H682:H689),4))","v":""},null,null,null,null,null,null,{"$f":"+IF(O685=\"\",\"\",IF(N682=\"Transporte Marítimo\",VLOOKUP(O685,Tabelas!$F$7:$G$12,2),IF(N682=\"Transporte Aéreo\",VLOOKUP(O685,Tabelas!$F$16:$G$21,2),\"\")))","v":""},null,null,null,null,null,null,null,null,null,null,null,null,null,null,null,"",{"$f":"+IF(AF685=\"\",\"\",VLOOKUP(AF685,Tabelas!$J$27:$K$30,2))","v":""}]
[null,null,null,null,null,null,{"$f":"+IF(F686=\"\",\"\",VLOOKUP(F686,Tabelas!$B$7:$C$96,2))","v":""},null,{"$f":"IF(H686=\"\",\"\",ROUND(H686/SUM(H682:H689),4))","v":""},null,null,null,null,null,null,{"$f":"+IF(O686=\"\",\"\",IF(N682=\"Transporte Marítimo\",VLOOKUP(O686,Tabelas!$F$7:$G$12,2),IF(N682=\"Transporte Aéreo\",VLOOKUP(O686,Tabelas!$F$16:$G$21,2),\"\")))","v":""},null,null,null,null,null,null,null,null,null,null,null,null,null,null,null,"",{"$f":"+IF(AF686=\"\",\"\",VLOOKUP(AF686,Tabelas!$J$27:$K$30,2))","v":""}]
[null,null,null,null,null,null,{"$f":"+IF(F687=\"\",\"\",VLOOKUP(F687,Tabelas!$B$7:$C$96,2))","v":""},null,{"$f":"IF(H687=\"\",\"\",ROUND(H687/SUM(H682:H689),4))","v":""},null,null,null,null,null,null,{"$f":"+IF(O687=\"\",\"\",IF(N682=\"Transporte Marítimo\",VLOOKUP(O687,Tabelas!$F$7:$G$12,2),IF(N682=\"Transporte Aéreo\",VLOOKUP(O687,Tabelas!$F$16:$G$21,2),\"\")))","v":""},null,null,null,null,null,null,null,null,null,null,null,null,null,null,null,"",{"$f":"+IF(AF687=\"\",\"\",VLOOKUP(AF687,Tabelas!$J$27:$K$30,2))","v":""}]
[null,null,null,null,null,null,{"$f":"+IF(F688=\"\",\"\",VLOOKUP(F688,Tabelas!$B$7:$C$96,2))","v":""},null,{"$f":"IF(H688=\"\",\"\",ROUND(H688/SUM(H682:H689),4))","v":""},null,null,null,null,null,null,{"$f":"+IF(O688=\"\",\"\",IF(N682=\"Transporte Marítimo\",VLOOKUP(O688,Tabelas!$F$7:$G$12,2),IF(N682=\"Transporte Aéreo\",VLOOKUP(O688,Tabelas!$F$16:$G$21,2),\"\")))","v":""},null,null,null,null,null,null,null,null,null,null,null,null,null,null,null,"",{"$f":"+IF(AF688=\"\",\"\",VLOOKUP(AF688,Tabelas!$J$27:$K$30,2))","v":""}]
[null,null,null,null,null,null,{"$f":"+IF(F689=\"\",\"\",VLOOKUP(F689,Tabelas!$B$7:$C$96,2))","v":""},null,{"$f":"IF(H689=\"\",\"\",ROUND(H689/SUM(H682:H689),4))","v":""},null,null,null,null,null,null,{"$f":"+IF(O689=\"\",\"\",IF(N682=\"Transporte Marítimo\",VLOOKUP(O689,Tabelas!$F$7:$G$12,2),IF(N682=\"Transporte Aéreo\",VLOOKUP(O689,Tabelas!$F$16:$G$21,2),\"\")))","v":""},null,null,null,null,null,null,null,null,null,null,null,null,null,null,null,"",{"$f":"+IF(AF689=\"\",\"\",VLOOKUP(AF689,Tabelas!$J$27:$K$30,2))","v":""}]
[null,{"$f":"+B682+1","v":85},null,null,null,null,{"$f":"+IF(F690=\"\",\"\",VLOOKUP(F690,Tabelas!$B$7:$C$96,2))","v":""},null,{"$f":"IF(H690=\"\",\"\",1-SUM(I691:I697))","v":""},null,null,null,null,null,null,{"$f":"+IF(O690=\"\",\"\",IF(N690=\"Transporte Marítimo\",VLOOKUP(O690,Tabelas!$F$7:$G$12,2),IF(N690=\"Transporte Aéreo\",VLOOKUP(O690,Tabelas!$F$16:$G$21,2),\"\")))","v":""},null,null,null,null,null,null,null,null,null,null,null,null,null,null,null,"",{"$f":"+IF(AF690=\"\",\"\",VLOOKUP(AF690,Tabelas!$J$27:$K$30,2))","v":""},null,null,null,null,null,null,null,null,null,null,null,null,null,null,null," "]
[null,null,null,null,null,null,{"$f":"+IF(F691=\"\",\"\",VLOOKUP(F691,Tabelas!$B$7:$C$96,2))","v":""},null,{"$f":"IF(H691=\"\",\"\",ROUND(H691/SUM(H690:H697),4))","v":""},null,null,null,null,null,null,{"$f":"+IF(O691=\"\",\"\",IF(N690=\"Transporte Marítimo\",VLOOKUP(O691,Tabelas!$F$7:$G$12,2),IF(N690=\"Transporte Aéreo\",VLOOKUP(O691,Tabelas!$F$16:$G$21,2),\"\")))","v":""},null,null,null,null,null,null,null,null,null,null,null,null,null,null,null,"",{"$f":"+IF(AF691=\"\",\"\",VLOOKUP(AF691,Tabelas!$J$27:$K$30,2))","v":""}]
[null,null,null,null,null,null,{"$f":"+IF(F692=\"\",\"\",VLOOKUP(F692,Tabelas!$B$7:$C$96,2))","v":""},null,{"$f":"IF(H692=\"\",\"\",ROUND(H692/SUM(H690:H697),4))","v":""},null,null,null,null,null,null,{"$f":"+IF(O692=\"\",\"\",IF(N690=\"Transporte Marítimo\",VLOOKUP(O692,Tabelas!$F$7:$G$12,2),IF(N690=\"Transporte Aéreo\",VLOOKUP(O692,Tabelas!$F$16:$G$21,2),\"\")))","v":""},null,null,null,null,null,null,null,null,null,null,null,null,null,null,null,"",{"$f":"+IF(AF692=\"\",\"\",VLOOKUP(AF692,Tabelas!$J$27:$K$30,2))","v":""}]
[null,null,null,null,null,null,{"$f":"+IF(F693=\"\",\"\",VLOOKUP(F693,Tabelas!$B$7:$C$96,2))","v":""},null,{"$f":"IF(H693=\"\",\"\",ROUND(H693/SUM(H690:H697),4))","v":""},null,null,null,null,null,null,{"$f":"+IF(O693=\"\",\"\",IF(N690=\"Transporte Marítimo\",VLOOKUP(O693,Tabelas!$F$7:$G$12,2),IF(N690=\"Transporte Aéreo\",VLOOKUP(O693,Tabelas!$F$16:$G$21,2),\"\")))","v":""},null,null,null,null,null,null,null,null,null,null,null,null,null,null,null,"",{"$f":"+IF(AF693=\"\",\"\",VLOOKUP(AF693,Tabelas!$J$27:$K$30,2))","v":""}]
[null,null,null,null,null,null,{"$f":"+IF(F694=\"\",\"\",VLOOKUP(F694,Tabelas!$B$7:$C$96,2))","v":""},null,{"$f":"IF(H694=\"\",\"\",ROUND(H694/SUM(H690:H697),4))","v":""},null,null,null,null,null,null,{"$f":"+IF(O694=\"\",\"\",IF(N690=\"Transporte Marítimo\",VLOOKUP(O694,Tabelas!$F$7:$G$12,2),IF(N690=\"Transporte Aéreo\",VLOOKUP(O694,Tabelas!$F$16:$G$21,2),\"\")))","v":""},null,null,null,null,null,null,null,null,null,null,null,null,null,null,null,"",{"$f":"+IF(AF694=\"\",\"\",VLOOKUP(AF694,Tabelas!$J$27:$K$30,2))","v":""}]
[null,null,null,null,null,null,{"$f":"+IF(F695=\"\",\"\",VLOOKUP(F695,Tabelas!$B$7:$C$96,2))","v":""},null,{"$f":"IF(H695=\"\",\"\",ROUND(H695/SUM(H690:H697),4))","v":""},null,null,null,null,null,null,{"$f":"+IF(O695=\"\",\"\",IF(N690=\"Transporte Marítimo\",VLOOKUP(O695,Tabelas!$F$7:$G$12,2),IF(N690=\"Transporte Aéreo\",VLOOKUP(O695,Tabelas!$F$16:$G$21,2),\"\")))","v":""},null,null,null,null,null,null,null,null,null,null,null,null,null,null,null,"",{"$f":"+IF(AF695=\"\",\"\",VLOOKUP(AF695,Tabelas!$J$27:$K$30,2))","v":""}]
[null,null,null,null,null,null,{"$f":"+IF(F696=\"\",\"\",VLOOKUP(F696,Tabelas!$B$7:$C$96,2))","v":""},null,{"$f":"IF(H696=\"\",\"\",ROUND(H696/SUM(H690:H697),4))","v":""},null,null,null,null,null,null,{"$f":"+IF(O696=\"\",\"\",IF(N690=\"Transporte Marítimo\",VLOOKUP(O696,Tabelas!$F$7:$G$12,2),IF(N690=\"Transporte Aéreo\",VLOOKUP(O696,Tabelas!$F$16:$G$21,2),\"\")))","v":""},null,null,null,null,null,null,null,null,null,null,null,null,null,null,null,"",{"$f":"+IF(AF696=\"\",\"\",VLOOKUP(AF696,Tabelas!$J$27:$K$30,2))","v":""}]
[null,null,null,null,null,null,{"$f":"+IF(F697=\"\",\"\",VLOOKUP(F697,Tabelas!$B$7:$C$96,2))","v":""},null,{"$f":"IF(H697=\"\",\"\",ROUND(H697/SUM(H690:H697),4))","v":""},null,null,null,null,null,null,{"$f":"+IF(O697=\"\",\"\",IF(N690=\"Transporte Marítimo\",VLOOKUP(O697,Tabelas!$F$7:$G$12,2),IF(N690=\"Transporte Aéreo\",VLOOKUP(O697,Tabelas!$F$16:$G$21,2),\"\")))","v":""},null,null,null,null,null,null,null,null,null,null,null,null,null,null,null,"",{"$f":"+IF(AF697=\"\",\"\",VLOOKUP(AF697,Tabelas!$J$27:$K$30,2))","v":""}]
[null,{"$f":"+B690+1","v":86},null,null,null,null,{"$f":"+IF(F698=\"\",\"\",VLOOKUP(F698,Tabelas!$B$7:$C$96,2))","v":""},null,{"$f":"IF(H698=\"\",\"\",1-SUM(I699:I705))","v":""},null,null,null,null,null,null,{"$f":"+IF(O698=\"\",\"\",IF(N698=\"Transporte Marítimo\",VLOOKUP(O698,Tabelas!$F$7:$G$12,2),IF(N698=\"Transporte Aéreo\",VLOOKUP(O698,Tabelas!$F$16:$G$21,2),\"\")))","v":""},null,null,null,null,null,null,null,null,null,null,null,null,null,null,null,"",{"$f":"+IF(AF698=\"\",\"\",VLOOKUP(AF698,Tabelas!$J$27:$K$30,2))","v":""},null,null,null,null,null,null,null,null,null,null,null,null,null,null,null," "]
[null,null,null,null,null,null,{"$f":"+IF(F699=\"\",\"\",VLOOKUP(F699,Tabelas!$B$7:$C$96,2))","v":""},null,{"$f":"IF(H699=\"\",\"\",ROUND(H699/SUM(H698:H705),4))","v":""},null,null,null,null,null,null,{"$f":"+IF(O699=\"\",\"\",IF(N698=\"Transporte Marítimo\",VLOOKUP(O699,Tabelas!$F$7:$G$12,2),IF(N698=\"Transporte Aéreo\",VLOOKUP(O699,Tabelas!$F$16:$G$21,2),\"\")))","v":""},null,null,null,null,null,null,null,null,null,null,null,null,null,null,null,"",{"$f":"+IF(AF699=\"\",\"\",VLOOKUP(AF699,Tabelas!$J$27:$K$30,2))","v":""}]
[null,null,null,null,null,null,{"$f":"+IF(F700=\"\",\"\",VLOOKUP(F700,Tabelas!$B$7:$C$96,2))","v":""},null,{"$f":"IF(H700=\"\",\"\",ROUND(H700/SUM(H698:H705),4))","v":""},null,null,null,null,null,null,{"$f":"+IF(O700=\"\",\"\",IF(N698=\"Transporte Marítimo\",VLOOKUP(O700,Tabelas!$F$7:$G$12,2),IF(N698=\"Transporte Aéreo\",VLOOKUP(O700,Tabelas!$F$16:$G$21,2),\"\")))","v":""},null,null,null,null,null,null,null,null,null,null,null,null,null,null,null,"",{"$f":"+IF(AF700=\"\",\"\",VLOOKUP(AF700,Tabelas!$J$27:$K$30,2))","v":""}]
[null,null,null,null,null,null,{"$f":"+IF(F701=\"\",\"\",VLOOKUP(F701,Tabelas!$B$7:$C$96,2))","v":""},null,{"$f":"IF(H701=\"\",\"\",ROUND(H701/SUM(H698:H705),4))","v":""},null,null,null,null,null,null,{"$f":"+IF(O701=\"\",\"\",IF(N698=\"Transporte Marítimo\",VLOOKUP(O701,Tabelas!$F$7:$G$12,2),IF(N698=\"Transporte Aéreo\",VLOOKUP(O701,Tabelas!$F$16:$G$21,2),\"\")))","v":""},null,null,null,null,null,null,null,null,null,null,null,null,null,null,null,"",{"$f":"+IF(AF701=\"\",\"\",VLOOKUP(AF701,Tabelas!$J$27:$K$30,2))","v":""}]
[null,null,null,null,null,null,{"$f":"+IF(F702=\"\",\"\",VLOOKUP(F702,Tabelas!$B$7:$C$96,2))","v":""},null,{"$f":"IF(H702=\"\",\"\",ROUND(H702/SUM(H698:H705),4))","v":""},null,null,null,null,null,null,{"$f":"+IF(O702=\"\",\"\",IF(N698=\"Transporte Marítimo\",VLOOKUP(O702,Tabelas!$F$7:$G$12,2),IF(N698=\"Transporte Aéreo\",VLOOKUP(O702,Tabelas!$F$16:$G$21,2),\"\")))","v":""},null,null,null,null,null,null,null,null,null,null,null,null,null,null,null,"",{"$f":"+IF(AF702=\"\",\"\",VLOOKUP(AF702,Tabelas!$J$27:$K$30,2))","v":""}]
[null,null,null,null,null,null,{"$f":"+IF(F703=\"\",\"\",VLOOKUP(F703,Tabelas!$B$7:$C$96,2))","v":""},null,{"$f":"IF(H703=\"\",\"\",ROUND(H703/SUM(H698:H705),4))","v":""},null,null,null,null,null,null,{"$f":"+IF(O703=\"\",\"\",IF(N698=\"Transporte Marítimo\",VLOOKUP(O703,Tabelas!$F$7:$G$12,2),IF(N698=\"Transporte Aéreo\",VLOOKUP(O703,Tabelas!$F$16:$G$21,2),\"\")))","v":""},null,null,null,null,null,null,null,null,null,null,null,null,null,null,null,"",{"$f":"+IF(AF703=\"\",\"\",VLOOKUP(AF703,Tabelas!$J$27:$K$30,2))","v":""}]
[null,null,null,null,null,null,{"$f":"+IF(F704=\"\",\"\",VLOOKUP(F704,Tabelas!$B$7:$C$96,2))","v":""},null,{"$f":"IF(H704=\"\",\"\",ROUND(H704/SUM(H698:H705),4))","v":""},null,null,null,null,null,null,{"$f":"+IF(O704=\"\",\"\",IF(N698=\"Transporte Marítimo\",VLOOKUP(O704,Tabelas!$F$7:$G$12,2),IF(N698=\"Transporte Aéreo\",VLOOKUP(O704,Tabelas!$F$16:$G$21,2),\"\")))","v":""},null,null,null,null,null,null,null,null,null,null,null,null,null,null,null,"",{"$f":"+IF(AF704=\"\",\"\",VLOOKUP(AF704,Tabelas!$J$27:$K$30,2))","v":""}]
[null,null,null,null,null,null,{"$f":"+IF(F705=\"\",\"\",VLOOKUP(F705,Tabelas!$B$7:$C$96,2))","v":""},null,{"$f":"IF(H705=\"\",\"\",ROUND(H705/SUM(H698:H705),4))","v":""},null,null,null,null,null,null,{"$f":"+IF(O705=\"\",\"\",IF(N698=\"Transporte Marítimo\",VLOOKUP(O705,Tabelas!$F$7:$G$12,2),IF(N698=\"Transporte Aéreo\",VLOOKUP(O705,Tabelas!$F$16:$G$21,2),\"\")))","v":""},null,null,null,null,null,null,null,null,null,null,null,null,null,null,null,"",{"$f":"+IF(AF705=\"\",\"\",VLOOKUP(AF705,Tabelas!$J$27:$K$30,2))","v":""}]
[null,{"$f":"+B698+1","v":87},null,null,null,null,{"$f":"+IF(F706=\"\",\"\",VLOOKUP(F706,Tabelas!$B$7:$C$96,2))","v":""},null,{"$f":"IF(H706=\"\",\"\",1-SUM(I707:I713))","v":""},null,null,null,null,null,null,{"$f":"+IF(O706=\"\",\"\",IF(N706=\"Transporte Marítimo\",VLOOKUP(O706,Tabelas!$F$7:$G$12,2),IF(N706=\"Transporte Aéreo\",VLOOKUP(O706,Tabelas!$F$16:$G$21,2),\"\")))","v":""},null,null,null,null,null,null,null,null,null,null,null,null,null,null,null,"",{"$f":"+IF(AF706=\"\",\"\",VLOOKUP(AF706,Tabelas!$J$27:$K$30,2))","v":""},null,null,null,null,null,null,null,null,null,null,null,null,null,null,null," "]
[null,null,null,null,null,null,{"$f":"+IF(F707=\"\",\"\",VLOOKUP(F707,Tabelas!$B$7:$C$96,2))","v":""},null,{"$f":"IF(H707=\"\",\"\",ROUND(H707/SUM(H706:H713),4))","v":""},null,null,null,null,null,null,{"$f":"+IF(O707=\"\",\"\",IF(N706=\"Transporte Marítimo\",VLOOKUP(O707,Tabelas!$F$7:$G$12,2),IF(N706=\"Transporte Aéreo\",VLOOKUP(O707,Tabelas!$F$16:$G$21,2),\"\")))","v":""},null,null,null,null,null,null,null,null,null,null,null,null,null,null,null,"",{"$f":"+IF(AF707=\"\",\"\",VLOOKUP(AF707,Tabelas!$J$27:$K$30,2))","v":""}]
[null,null,null,null,null,null,{"$f":"+IF(F708=\"\",\"\",VLOOKUP(F708,Tabelas!$B$7:$C$96,2))","v":""},null,{"$f":"IF(H708=\"\",\"\",ROUND(H708/SUM(H706:H713),4))","v":""},null,null,null,null,null,null,{"$f":"+IF(O708=\"\",\"\",IF(N706=\"Transporte Marítimo\",VLOOKUP(O708,Tabelas!$F$7:$G$12,2),IF(N706=\"Transporte Aéreo\",VLOOKUP(O708,Tabelas!$F$16:$G$21,2),\"\")))","v":""},null,null,null,null,null,null,null,null,null,null,null,null,null,null,null,"",{"$f":"+IF(AF708=\"\",\"\",VLOOKUP(AF708,Tabelas!$J$27:$K$30,2))","v":""}]
[null,null,null,null,null,null,{"$f":"+IF(F709=\"\",\"\",VLOOKUP(F709,Tabelas!$B$7:$C$96,2))","v":""},null,{"$f":"IF(H709=\"\",\"\",ROUND(H709/SUM(H706:H713),4))","v":""},null,null,null,null,null,null,{"$f":"+IF(O709=\"\",\"\",IF(N706=\"Transporte Marítimo\",VLOOKUP(O709,Tabelas!$F$7:$G$12,2),IF(N706=\"Transporte Aéreo\",VLOOKUP(O709,Tabelas!$F$16:$G$21,2),\"\")))","v":""},null,null,null,null,null,null,null,null,null,null,null,null,null,null,null,"",{"$f":"+IF(AF709=\"\",\"\",VLOOKUP(AF709,Tabelas!$J$27:$K$30,2))","v":""}]
[null,null,null,null,null,null,{"$f":"+IF(F710=\"\",\"\",VLOOKUP(F710,Tabelas!$B$7:$C$96,2))","v":""},null,{"$f":"IF(H710=\"\",\"\",ROUND(H710/SUM(H706:H713),4))","v":""},null,null,null,null,null,null,{"$f":"+IF(O710=\"\",\"\",IF(N706=\"Transporte Marítimo\",VLOOKUP(O710,Tabelas!$F$7:$G$12,2),IF(N706=\"Transporte Aéreo\",VLOOKUP(O710,Tabelas!$F$16:$G$21,2),\"\")))","v":""},null,null,null,null,null,null,null,null,null,null,null,null,null,null,null,"",{"$f":"+IF(AF710=\"\",\"\",VLOOKUP(AF710,Tabelas!$J$27:$K$30,2))","v":""}]
[null,null,null,null,null,null,{"$f":"+IF(F711=\"\",\"\",VLOOKUP(F711,Tabelas!$B$7:$C$96,2))","v":""},null,{"$f":"IF(H711=\"\",\"\",ROUND(H711/SUM(H706:H713),4))","v":""},null,null,null,null,null,null,{"$f":"+IF(O711=\"\",\"\",IF(N706=\"Transporte Marítimo\",VLOOKUP(O711,Tabelas!$F$7:$G$12,2),IF(N706=\"Transporte Aéreo\",VLOOKUP(O711,Tabelas!$F$16:$G$21,2),\"\")))","v":""},null,null,null,null,null,null,null,null,null,null,null,null,null,null,null,"",{"$f":"+IF(AF711=\"\",\"\",VLOOKUP(AF711,Tabelas!$J$27:$K$30,2))","v":""}]
[null,null,null,null,null,null,{"$f":"+IF(F712=\"\",\"\",VLOOKUP(F712,Tabelas!$B$7:$C$96,2))","v":""},null,{"$f":"IF(H712=\"\",\"\",ROUND(H712/SUM(H706:H713),4))","v":""},null,null,null,null,null,null,{"$f":"+IF(O712=\"\",\"\",IF(N706=\"Transporte Marítimo\",VLOOKUP(O712,Tabelas!$F$7:$G$12,2),IF(N706=\"Transporte Aéreo\",VLOOKUP(O712,Tabelas!$F$16:$G$21,2),\"\")))","v":""},null,null,null,null,null,null,null,null,null,null,null,null,null,null,null,"",{"$f":"+IF(AF712=\"\",\"\",VLOOKUP(AF712,Tabelas!$J$27:$K$30,2))","v":""}]
[null,null,null,null,null,null,{"$f":"+IF(F713=\"\",\"\",VLOOKUP(F713,Tabelas!$B$7:$C$96,2))","v":""},null,{"$f":"IF(H713=\"\",\"\",ROUND(H713/SUM(H706:H713),4))","v":""},null,null,null,null,null,null,{"$f":"+IF(O713=\"\",\"\",IF(N706=\"Transporte Marítimo\",VLOOKUP(O713,Tabelas!$F$7:$G$12,2),IF(N706=\"Transporte Aéreo\",VLOOKUP(O713,Tabelas!$F$16:$G$21,2),\"\")))","v":""},null,null,null,null,null,null,null,null,null,null,null,null,null,null,null,"",{"$f":"+IF(AF713=\"\",\"\",VLOOKUP(AF713,Tabelas!$J$27:$K$30,2))","v":""}]
[null,{"$f":"+B706+1","v":88},null,null,null,null,{"$f":"+IF(F714=\"\",\"\",VLOOKUP(F714,Tabelas!$B$7:$C$96,2))","v":""},null,{"$f":"IF(H714=\"\",\"\",1-SUM(I715:I721))","v":""},null,null,null,null,null,null,{"$f":"+IF(O714=\"\",\"\",IF(N714=\"Transporte Marítimo\",VLOOKUP(O714,Tabelas!$F$7:$G$12,2),IF(N714=\"Transporte Aéreo\",VLOOKUP(O714,Tabelas!$F$16:$G$21,2),\"\")))","v":""},null,null,null,null,null,null,null,null,null,null,null,null,null,null,null,"",{"$f":"+IF(AF714=\"\",\"\",VLOOKUP(AF714,Tabelas!$J$27:$K$30,2))","v":""},null,null,null,null,null,null,null,null,null,null,null,null,null,null,null," "]
[null,null,null,null,null,null,{"$f":"+IF(F715=\"\",\"\",VLOOKUP(F715,Tabelas!$B$7:$C$96,2))","v":""},null,{"$f":"IF(H715=\"\",\"\",ROUND(H715/SUM(H714:H721),4))","v":""},null,null,null,null,null,null,{"$f":"+IF(O715=\"\",\"\",IF(N714=\"Transporte Marítimo\",VLOOKUP(O715,Tabelas!$F$7:$G$12,2),IF(N714=\"Transporte Aéreo\",VLOOKUP(O715,Tabelas!$F$16:$G$21,2),\"\")))","v":""},null,null,null,null,null,null,null,null,null,null,null,null,null,null,null,"",{"$f":"+IF(AF715=\"\",\"\",VLOOKUP(AF715,Tabelas!$J$27:$K$30,2))","v":""}]
[null,null,null,null,null,null,{"$f":"+IF(F716=\"\",\"\",VLOOKUP(F716,Tabelas!$B$7:$C$96,2))","v":""},null,{"$f":"IF(H716=\"\",\"\",ROUND(H716/SUM(H714:H721),4))","v":""},null,null,null,null,null,null,{"$f":"+IF(O716=\"\",\"\",IF(N714=\"Transporte Marítimo\",VLOOKUP(O716,Tabelas!$F$7:$G$12,2),IF(N714=\"Transporte Aéreo\",VLOOKUP(O716,Tabelas!$F$16:$G$21,2),\"\")))","v":""},null,null,null,null,null,null,null,null,null,null,null,null,null,null,null,"",{"$f":"+IF(AF716=\"\",\"\",VLOOKUP(AF716,Tabelas!$J$27:$K$30,2))","v":""}]
[null,null,null,null,null,null,{"$f":"+IF(F717=\"\",\"\",VLOOKUP(F717,Tabelas!$B$7:$C$96,2))","v":""},null,{"$f":"IF(H717=\"\",\"\",ROUND(H717/SUM(H714:H721),4))","v":""},null,null,null,null,null,null,{"$f":"+IF(O717=\"\",\"\",IF(N714=\"Transporte Marítimo\",VLOOKUP(O717,Tabelas!$F$7:$G$12,2),IF(N714=\"Transporte Aéreo\",VLOOKUP(O717,Tabelas!$F$16:$G$21,2),\"\")))","v":""},null,null,null,null,null,null,null,null,null,null,null,null,null,null,null,"",{"$f":"+IF(AF717=\"\",\"\",VLOOKUP(AF717,Tabelas!$J$27:$K$30,2))","v":""}]
[null,null,null,null,null,null,{"$f":"+IF(F718=\"\",\"\",VLOOKUP(F718,Tabelas!$B$7:$C$96,2))","v":""},null,{"$f":"IF(H718=\"\",\"\",ROUND(H718/SUM(H714:H721),4))","v":""},null,null,null,null,null,null,{"$f":"+IF(O718=\"\",\"\",IF(N714=\"Transporte Marítimo\",VLOOKUP(O718,Tabelas!$F$7:$G$12,2),IF(N714=\"Transporte Aéreo\",VLOOKUP(O718,Tabelas!$F$16:$G$21,2),\"\")))","v":""},null,null,null,null,null,null,null,null,null,null,null,null,null,null,null,"",{"$f":"+IF(AF718=\"\",\"\",VLOOKUP(AF718,Tabelas!$J$27:$K$30,2))","v":""}]
[null,null,null,null,null,null,{"$f":"+IF(F719=\"\",\"\",VLOOKUP(F719,Tabelas!$B$7:$C$96,2))","v":""},null,{"$f":"IF(H719=\"\",\"\",ROUND(H719/SUM(H714:H721),4))","v":""},null,null,null,null,null,null,{"$f":"+IF(O719=\"\",\"\",IF(N714=\"Transporte Marítimo\",VLOOKUP(O719,Tabelas!$F$7:$G$12,2),IF(N714=\"Transporte Aéreo\",VLOOKUP(O719,Tabelas!$F$16:$G$21,2),\"\")))","v":""},null,null,null,null,null,null,null,null,null,null,null,null,null,null,null,"",{"$f":"+IF(AF719=\"\",\"\",VLOOKUP(AF719,Tabelas!$J$27:$K$30,2))","v":""}]
[null,null,null,null,null,null,{"$f":"+IF(F720=\"\",\"\",VLOOKUP(F720,Tabelas!$B$7:$C$96,2))","v":""},null,{"$f":"IF(H720=\"\",\"\",ROUND(H720/SUM(H714:H721),4))","v":""},null,null,null,null,null,null,{"$f":"+IF(O720=\"\",\"\",IF(N714=\"Transporte Marítimo\",VLOOKUP(O720,Tabelas!$F$7:$G$12,2),IF(N714=\"Transporte Aéreo\",VLOOKUP(O720,Tabelas!$F$16:$G$21,2),\"\")))","v":""},null,null,null,null,null,null,null,null,null,null,null,null,null,null,null,"",{"$f":"+IF(AF720=\"\",\"\",VLOOKUP(AF720,Tabelas!$J$27:$K$30,2))","v":""}]
[null,null,null,null,null,null,{"$f":"+IF(F721=\"\",\"\",VLOOKUP(F721,Tabelas!$B$7:$C$96,2))","v":""},null,{"$f":"IF(H721=\"\",\"\",ROUND(H721/SUM(H714:H721),4))","v":""},null,null,null,null,null,null,{"$f":"+IF(O721=\"\",\"\",IF(N714=\"Transporte Marítimo\",VLOOKUP(O721,Tabelas!$F$7:$G$12,2),IF(N714=\"Transporte Aéreo\",VLOOKUP(O721,Tabelas!$F$16:$G$21,2),\"\")))","v":""},null,null,null,null,null,null,null,null,null,null,null,null,null,null,null,"",{"$f":"+IF(AF721=\"\",\"\",VLOOKUP(AF721,Tabelas!$J$27:$K$30,2))","v":""}]
[null,{"$f":"+B714+1","v":89},null,null,null,null,{"$f":"+IF(F722=\"\",\"\",VLOOKUP(F722,Tabelas!$B$7:$C$96,2))","v":""},null,{"$f":"IF(H722=\"\",\"\",1-SUM(I723:I729))","v":""},null,null,null,null,null,null,{"$f":"+IF(O722=\"\",\"\",IF(N722=\"Transporte Marítimo\",VLOOKUP(O722,Tabelas!$F$7:$G$12,2),IF(N722=\"Transporte Aéreo\",VLOOKUP(O722,Tabelas!$F$16:$G$21,2),\"\")))","v":""},null,null,null,null,null,null,null,null,null,null,null,null,null,null,null,"",{"$f":"+IF(AF722=\"\",\"\",VLOOKUP(AF722,Tabelas!$J$27:$K$30,2))","v":""},null,null,null,null,null,null,null,null,null,null,null,null,null,null,null," "]
[null,null,null,null,null,null,{"$f":"+IF(F723=\"\",\"\",VLOOKUP(F723,Tabelas!$B$7:$C$96,2))","v":""},null,{"$f":"IF(H723=\"\",\"\",ROUND(H723/SUM(H722:H729),4))","v":""},null,null,null,null,null,null,{"$f":"+IF(O723=\"\",\"\",IF(N722=\"Transporte Marítimo\",VLOOKUP(O723,Tabelas!$F$7:$G$12,2),IF(N722=\"Transporte Aéreo\",VLOOKUP(O723,Tabelas!$F$16:$G$21,2),\"\")))","v":""},null,null,null,null,null,null,null,null,null,null,null,null,null,null,null,{"$f":"+IF(AE723=\"20NL\",1,IF(AE723=\"40NL\",2,IF(AE723=\"20RF\",3,IF(AE723=\"40RF\",4,\"\"))))","v":""},{"$f":"+IF(AF723=\"\",\"\",VLOOKUP(AF723,Tabelas!$J$27:$K$30,2))","v":""}]
[null,null,null,null,null,null,{"$f":"+IF(F724=\"\",\"\",VLOOKUP(F724,Tabelas!$B$7:$C$96,2))","v":""},null,{"$f":"IF(H724=\"\",\"\",ROUND(H724/SUM(H722:H729),4))","v":""},null,null,null,null,null,null,{"$f":"+IF(O724=\"\",\"\",IF(N722=\"Transporte Marítimo\",VLOOKUP(O724,Tabelas!$F$7:$G$12,2),IF(N722=\"Transporte Aéreo\",VLOOKUP(O724,Tabelas!$F$16:$G$21,2),\"\")))","v":""},null,null,null,null,null,null,null,null,null,null,null,null,null,null,null,"",{"$f":"+IF(AF724=\"\",\"\",VLOOKUP(AF724,Tabelas!$J$27:$K$30,2))","v":""}]
[null,null,null,null,null,null,{"$f":"+IF(F725=\"\",\"\",VLOOKUP(F725,Tabelas!$B$7:$C$96,2))","v":""},null,{"$f":"IF(H725=\"\",\"\",ROUND(H725/SUM(H722:H729),4))","v":""},null,null,null,null,null,null,{"$f":"+IF(O725=\"\",\"\",IF(N722=\"Transporte Marítimo\",VLOOKUP(O725,Tabelas!$F$7:$G$12,2),IF(N722=\"Transporte Aéreo\",VLOOKUP(O725,Tabelas!$F$16:$G$21,2),\"\")))","v":""},null,null,null,null,null,null,null,null,null,null,null,null,null,null,null,"",{"$f":"+IF(AF725=\"\",\"\",VLOOKUP(AF725,Tabelas!$J$27:$K$30,2))","v":""}]
[null,null,null,null,null,null,{"$f":"+IF(F726=\"\",\"\",VLOOKUP(F726,Tabelas!$B$7:$C$96,2))","v":""},null,{"$f":"IF(H726=\"\",\"\",ROUND(H726/SUM(H722:H729),4))","v":""},null,null,null,null,null,null,{"$f":"+IF(O726=\"\",\"\",IF(N722=\"Transporte Marítimo\",VLOOKUP(O726,Tabelas!$F$7:$G$12,2),IF(N722=\"Transporte Aéreo\",VLOOKUP(O726,Tabelas!$F$16:$G$21,2),\"\")))","v":""},null,null,null,null,null,null,null,null,null,null,null,null,null,null,null,"",{"$f":"+IF(AF726=\"\",\"\",VLOOKUP(AF726,Tabelas!$J$27:$K$30,2))","v":""}]
[null,null,null,null,null,null,{"$f":"+IF(F727=\"\",\"\",VLOOKUP(F727,Tabelas!$B$7:$C$96,2))","v":""},null,{"$f":"IF(H727=\"\",\"\",ROUND(H727/SUM(H722:H729),4))","v":""},null,null,null,null,null,null,{"$f":"+IF(O727=\"\",\"\",IF(N722=\"Transporte Marítimo\",VLOOKUP(O727,Tabelas!$F$7:$G$12,2),IF(N722=\"Transporte Aéreo\",VLOOKUP(O727,Tabelas!$F$16:$G$21,2),\"\")))","v":""},null,null,null,null,null,null,null,null,null,null,null,null,null,null,null,"",{"$f":"+IF(AF727=\"\",\"\",VLOOKUP(AF727,Tabelas!$J$27:$K$30,2))","v":""}]
[null,null,null,null,null,null,{"$f":"+IF(F728=\"\",\"\",VLOOKUP(F728,Tabelas!$B$7:$C$96,2))","v":""},null,{"$f":"IF(H728=\"\",\"\",ROUND(H728/SUM(H722:H729),4))","v":""},null,null,null,null,null,null,{"$f":"+IF(O728=\"\",\"\",IF(N722=\"Transporte Marítimo\",VLOOKUP(O728,Tabelas!$F$7:$G$12,2),IF(N722=\"Transporte Aéreo\",VLOOKUP(O728,Tabelas!$F$16:$G$21,2),\"\")))","v":""},null,null,null,null,null,null,null,null,null,null,null,null,null,null,null,"",{"$f":"+IF(AF728=\"\",\"\",VLOOKUP(AF728,Tabelas!$J$27:$K$30,2))","v":""}]
[null,null,null,null,null,null,{"$f":"+IF(F729=\"\",\"\",VLOOKUP(F729,Tabelas!$B$7:$C$96,2))","v":""},null,{"$f":"IF(H729=\"\",\"\",ROUND(H729/SUM(H722:H729),4))","v":""},null,null,null,null,null,null,{"$f":"+IF(O729=\"\",\"\",IF(N722=\"Transporte Marítimo\",VLOOKUP(O729,Tabelas!$F$7:$G$12,2),IF(N722=\"Transporte Aéreo\",VLOOKUP(O729,Tabelas!$F$16:$G$21,2),\"\")))","v":""},null,null,null,null,null,null,null,null,null,null,null,null,null,null,null,"",{"$f":"+IF(AF729=\"\",\"\",VLOOKUP(AF729,Tabelas!$J$27:$K$30,2))","v":""}]
[null,{"$f":"+B722+1","v":90},null,null,null,null,{"$f":"+IF(F730=\"\",\"\",VLOOKUP(F730,Tabelas!$B$7:$C$96,2))","v":""},null,{"$f":"IF(H730=\"\",\"\",1-SUM(I731:I737))","v":""},null,null,null,null,null,null,{"$f":"+IF(O730=\"\",\"\",IF(N730=\"Transporte Marítimo\",VLOOKUP(O730,Tabelas!$F$7:$G$12,2),IF(N730=\"Transporte Aéreo\",VLOOKUP(O730,Tabelas!$F$16:$G$21,2),\"\")))","v":""},null,null,null,null,null,null,null,null,null,null,null,null,null,null,null,"",{"$f":"+IF(AF730=\"\",\"\",VLOOKUP(AF730,Tabelas!$J$27:$K$30,2))","v":""},null,null,null,null,null,null,null,null,null,null,null,null,null,null,null," "]
[null,null,null,null,null,null,{"$f":"+IF(F731=\"\",\"\",VLOOKUP(F731,Tabelas!$B$7:$C$96,2))","v":""},null,{"$f":"IF(H731=\"\",\"\",ROUND(H731/SUM(H730:H737),4))","v":""},null,null,null,null,null,null,{"$f":"+IF(O731=\"\",\"\",IF(N730=\"Transporte Marítimo\",VLOOKUP(O731,Tabelas!$F$7:$G$12,2),IF(N730=\"Transporte Aéreo\",VLOOKUP(O731,Tabelas!$F$16:$G$21,2),\"\")))","v":""},null,null,null,null,null,null,null,null,null,null,null,null,null,null,null,"",{"$f":"+IF(AF731=\"\",\"\",VLOOKUP(AF731,Tabelas!$J$27:$K$30,2))","v":""}]
[null,null,null,null,null,null,{"$f":"+IF(F732=\"\",\"\",VLOOKUP(F732,Tabelas!$B$7:$C$96,2))","v":""},null,{"$f":"IF(H732=\"\",\"\",ROUND(H732/SUM(H730:H737),4))","v":""},null,null,null,null,null,null,{"$f":"+IF(O732=\"\",\"\",IF(N730=\"Transporte Marítimo\",VLOOKUP(O732,Tabelas!$F$7:$G$12,2),IF(N730=\"Transporte Aéreo\",VLOOKUP(O732,Tabelas!$F$16:$G$21,2),\"\")))","v":""},null,null,null,null,null,null,null,null,null,null,null,null,null,null,null,"",{"$f":"+IF(AF732=\"\",\"\",VLOOKUP(AF732,Tabelas!$J$27:$K$30,2))","v":""}]
[null,null,null,null,null,null,{"$f":"+IF(F733=\"\",\"\",VLOOKUP(F733,Tabelas!$B$7:$C$96,2))","v":""},null,{"$f":"IF(H733=\"\",\"\",ROUND(H733/SUM(H730:H737),4))","v":""},null,null,null,null,null,null,{"$f":"+IF(O733=\"\",\"\",IF(N730=\"Transporte Marítimo\",VLOOKUP(O733,Tabelas!$F$7:$G$12,2),IF(N730=\"Transporte Aéreo\",VLOOKUP(O733,Tabelas!$F$16:$G$21,2),\"\")))","v":""},null,null,null,null,null,null,null,null,null,null,null,null,null,null,null,"",{"$f":"+IF(AF733=\"\",\"\",VLOOKUP(AF733,Tabelas!$J$27:$K$30,2))","v":""}]
[null,null,null,null,null,null,{"$f":"+IF(F734=\"\",\"\",VLOOKUP(F734,Tabelas!$B$7:$C$96,2))","v":""},null,{"$f":"IF(H734=\"\",\"\",ROUND(H734/SUM(H730:H737),4))","v":""},null,null,null,null,null,null,{"$f":"+IF(O734=\"\",\"\",IF(N730=\"Transporte Marítimo\",VLOOKUP(O734,Tabelas!$F$7:$G$12,2),IF(N730=\"Transporte Aéreo\",VLOOKUP(O734,Tabelas!$F$16:$G$21,2),\"\")))","v":""},null,null,null,null,null,null,null,null,null,null,null,null,null,null,null,"",{"$f":"+IF(AF734=\"\",\"\",VLOOKUP(AF734,Tabelas!$J$27:$K$30,2))","v":""}]
[null,null,null,null,null,null,{"$f":"+IF(F735=\"\",\"\",VLOOKUP(F735,Tabelas!$B$7:$C$96,2))","v":""},null,{"$f":"IF(H735=\"\",\"\",ROUND(H735/SUM(H730:H737),4))","v":""},null,null,null,null,null,null,{"$f":"+IF(O735=\"\",\"\",IF(N730=\"Transporte Marítimo\",VLOOKUP(O735,Tabelas!$F$7:$G$12,2),IF(N730=\"Transporte Aéreo\",VLOOKUP(O735,Tabelas!$F$16:$G$21,2),\"\")))","v":""},null,null,null,null,null,null,null,null,null,null,null,null,null,null,null,"",{"$f":"+IF(AF735=\"\",\"\",VLOOKUP(AF735,Tabelas!$J$27:$K$30,2))","v":""}]
[null,null,null,null,null,null,{"$f":"+IF(F736=\"\",\"\",VLOOKUP(F736,Tabelas!$B$7:$C$96,2))","v":""},null,{"$f":"IF(H736=\"\",\"\",ROUND(H736/SUM(H730:H737),4))","v":""},null,null,null,null,null,null,{"$f":"+IF(O736=\"\",\"\",IF(N730=\"Transporte Marítimo\",VLOOKUP(O736,Tabelas!$F$7:$G$12,2),IF(N730=\"Transporte Aéreo\",VLOOKUP(O736,Tabelas!$F$16:$G$21,2),\"\")))","v":""},null,null,null,null,null,null,null,null,null,null,null,null,null,null,null,"",{"$f":"+IF(AF736=\"\",\"\",VLOOKUP(AF736,Tabelas!$J$27:$K$30,2))","v":""}]
[null,null,null,null,null,null,{"$f":"+IF(F737=\"\",\"\",VLOOKUP(F737,Tabelas!$B$7:$C$96,2))","v":""},null,{"$f":"IF(H737=\"\",\"\",ROUND(H737/SUM(H730:H737),4))","v":""},null,null,null,null,null,null,{"$f":"+IF(O737=\"\",\"\",IF(N730=\"Transporte Marítimo\",VLOOKUP(O737,Tabelas!$F$7:$G$12,2),IF(N730=\"Transporte Aéreo\",VLOOKUP(O737,Tabelas!$F$16:$G$21,2),\"\")))","v":""},null,null,null,null,null,null,null,null,null,null,null,null,null,null,null,"",{"$f":"+IF(AF737=\"\",\"\",VLOOKUP(AF737,Tabelas!$J$27:$K$30,2))","v":""}]
[null,{"$f":"+B730+1","v":91},null,null,null,null,{"$f":"+IF(F738=\"\",\"\",VLOOKUP(F738,Tabelas!$B$7:$C$96,2))","v":""},null,{"$f":"IF(H738=\"\",\"\",1-SUM(I739:I745))","v":""},null,null,null,null,null,null,{"$f":"+IF(O738=\"\",\"\",IF(N738=\"Transporte Marítimo\",VLOOKUP(O738,Tabelas!$F$7:$G$12,2),IF(N738=\"Transporte Aéreo\",VLOOKUP(O738,Tabelas!$F$16:$G$21,2),\"\")))","v":""},null,null,null,null,null,null,null,null,null,null,null,null,null,null,null,"",{"$f":"+IF(AF738=\"\",\"\",VLOOKUP(AF738,Tabelas!$J$27:$K$30,2))","v":""},null,null,null,null,null,null,null,null,null,null,null,null,null,null,null," "]
[null,null,null,null,null,null,{"$f":"+IF(F739=\"\",\"\",VLOOKUP(F739,Tabelas!$B$7:$C$96,2))","v":""},null,{"$f":"IF(H739=\"\",\"\",ROUND(H739/SUM(H738:H745),4))","v":""},null,null,null,null,null,null,{"$f":"+IF(O739=\"\",\"\",IF(N738=\"Transporte Marítimo\",VLOOKUP(O739,Tabelas!$F$7:$G$12,2),IF(N738=\"Transporte Aéreo\",VLOOKUP(O739,Tabelas!$F$16:$G$21,2),\"\")))","v":""},null,null,null,null,null,null,null,null,null,null,null,null,null,null,null,"",{"$f":"+IF(AF739=\"\",\"\",VLOOKUP(AF739,Tabelas!$J$27:$K$30,2))","v":""}]
[null,null,null,null,null,null,{"$f":"+IF(F740=\"\",\"\",VLOOKUP(F740,Tabelas!$B$7:$C$96,2))","v":""},null,{"$f":"IF(H740=\"\",\"\",ROUND(H740/SUM(H738:H745),4))","v":""},null,null,null,null,null,null,{"$f":"+IF(O740=\"\",\"\",IF(N738=\"Transporte Marítimo\",VLOOKUP(O740,Tabelas!$F$7:$G$12,2),IF(N738=\"Transporte Aéreo\",VLOOKUP(O740,Tabelas!$F$16:$G$21,2),\"\")))","v":""},null,null,null,null,null,null,null,null,null,null,null,null,null,null,null,"",{"$f":"+IF(AF740=\"\",\"\",VLOOKUP(AF740,Tabelas!$J$27:$K$30,2))","v":""}]
[null,null,null,null,null,null,{"$f":"+IF(F741=\"\",\"\",VLOOKUP(F741,Tabelas!$B$7:$C$96,2))","v":""},null,{"$f":"IF(H741=\"\",\"\",ROUND(H741/SUM(H738:H745),4))","v":""},null,null,null,null,null,null,{"$f":"+IF(O741=\"\",\"\",IF(N738=\"Transporte Marítimo\",VLOOKUP(O741,Tabelas!$F$7:$G$12,2),IF(N738=\"Transporte Aéreo\",VLOOKUP(O741,Tabelas!$F$16:$G$21,2),\"\")))","v":""},null,null,null,null,null,null,null,null,null,null,null,null,null,null,null,"",{"$f":"+IF(AF741=\"\",\"\",VLOOKUP(AF741,Tabelas!$J$27:$K$30,2))","v":""}]
[null,null,null,null,null,null,{"$f":"+IF(F742=\"\",\"\",VLOOKUP(F742,Tabelas!$B$7:$C$96,2))","v":""},null,{"$f":"IF(H742=\"\",\"\",ROUND(H742/SUM(H738:H745),4))","v":""},null,null,null,null,null,null,{"$f":"+IF(O742=\"\",\"\",IF(N738=\"Transporte Marítimo\",VLOOKUP(O742,Tabelas!$F$7:$G$12,2),IF(N738=\"Transporte Aéreo\",VLOOKUP(O742,Tabelas!$F$16:$G$21,2),\"\")))","v":""},null,null,null,null,null,null,null,null,null,null,null,null,null,null,null,"",{"$f":"+IF(AF742=\"\",\"\",VLOOKUP(AF742,Tabelas!$J$27:$K$30,2))","v":""}]
[null,null,null,null,null,null,{"$f":"+IF(F743=\"\",\"\",VLOOKUP(F743,Tabelas!$B$7:$C$96,2))","v":""},null,{"$f":"IF(H743=\"\",\"\",ROUND(H743/SUM(H738:H745),4))","v":""},null,null,null,null,null,null,{"$f":"+IF(O743=\"\",\"\",IF(N738=\"Transporte Marítimo\",VLOOKUP(O743,Tabelas!$F$7:$G$12,2),IF(N738=\"Transporte Aéreo\",VLOOKUP(O743,Tabelas!$F$16:$G$21,2),\"\")))","v":""},null,null,null,null,null,null,null,null,null,null,null,null,null,null,null,"",{"$f":"+IF(AF743=\"\",\"\",VLOOKUP(AF743,Tabelas!$J$27:$K$30,2))","v":""}]
[null,null,null,null,null,null,{"$f":"+IF(F744=\"\",\"\",VLOOKUP(F744,Tabelas!$B$7:$C$96,2))","v":""},null,{"$f":"IF(H744=\"\",\"\",ROUND(H744/SUM(H738:H745),4))","v":""},null,null,null,null,null,null,{"$f":"+IF(O744=\"\",\"\",IF(N738=\"Transporte Marítimo\",VLOOKUP(O744,Tabelas!$F$7:$G$12,2),IF(N738=\"Transporte Aéreo\",VLOOKUP(O744,Tabelas!$F$16:$G$21,2),\"\")))","v":""},null,null,null,null,null,null,null,null,null,null,null,null,null,null,null,"",{"$f":"+IF(AF744=\"\",\"\",VLOOKUP(AF744,Tabelas!$J$27:$K$30,2))","v":""}]
[null,null,null,null,null,null,{"$f":"+IF(F745=\"\",\"\",VLOOKUP(F745,Tabelas!$B$7:$C$96,2))","v":""},null,{"$f":"IF(H745=\"\",\"\",ROUND(H745/SUM(H738:H745),4))","v":""},null,null,null,null,null,null,{"$f":"+IF(O745=\"\",\"\",IF(N738=\"Transporte Marítimo\",VLOOKUP(O745,Tabelas!$F$7:$G$12,2),IF(N738=\"Transporte Aéreo\",VLOOKUP(O745,Tabelas!$F$16:$G$21,2),\"\")))","v":""},null,null,null,null,null,null,null,null,null,null,null,null,null,null,null,"",{"$f":"+IF(AF745=\"\",\"\",VLOOKUP(AF745,Tabelas!$J$27:$K$30,2))","v":""}]
[null,{"$f":"+B738+1","v":92},null,null,null,null,{"$f":"+IF(F746=\"\",\"\",VLOOKUP(F746,Tabelas!$B$7:$C$96,2))","v":""},null,{"$f":"IF(H746=\"\",\"\",1-SUM(I747:I753))","v":""},null,null,null,null,null,null,{"$f":"+IF(O746=\"\",\"\",IF(N746=\"Transporte Marítimo\",VLOOKUP(O746,Tabelas!$F$7:$G$12,2),IF(N746=\"Transporte Aéreo\",VLOOKUP(O746,Tabelas!$F$16:$G$21,2),\"\")))","v":""},null,null,null,null,null,null,null,null,null,null,null,null,null,null,null,"",{"$f":"+IF(AF746=\"\",\"\",VLOOKUP(AF746,Tabelas!$J$27:$K$30,2))","v":""},null,null,null,null,null,null,null,null,null,null,null,null,null,null,null," "]
[null,null,null,null,null,null,{"$f":"+IF(F747=\"\",\"\",VLOOKUP(F747,Tabelas!$B$7:$C$96,2))","v":""},null,{"$f":"IF(H747=\"\",\"\",ROUND(H747/SUM(H746:H753),4))","v":""},null,null,null,null,null,null,{"$f":"+IF(O747=\"\",\"\",IF(N746=\"Transporte Marítimo\",VLOOKUP(O747,Tabelas!$F$7:$G$12,2),IF(N746=\"Transporte Aéreo\",VLOOKUP(O747,Tabelas!$F$16:$G$21,2),\"\")))","v":""},null,null,null,null,null,null,null,null,null,null,null,null,null,null,null,"",{"$f":"+IF(AF747=\"\",\"\",VLOOKUP(AF747,Tabelas!$J$27:$K$30,2))","v":""}]
[null,null,null,null,null,null,{"$f":"+IF(F748=\"\",\"\",VLOOKUP(F748,Tabelas!$B$7:$C$96,2))","v":""},null,{"$f":"IF(H748=\"\",\"\",ROUND(H748/SUM(H746:H753),4))","v":""},null,null,null,null,null,null,{"$f":"+IF(O748=\"\",\"\",IF(N746=\"Transporte Marítimo\",VLOOKUP(O748,Tabelas!$F$7:$G$12,2),IF(N746=\"Transporte Aéreo\",VLOOKUP(O748,Tabelas!$F$16:$G$21,2),\"\")))","v":""},null,null,null,null,null,null,null,null,null,null,null,null,null,null,null,"",{"$f":"+IF(AF748=\"\",\"\",VLOOKUP(AF748,Tabelas!$J$27:$K$30,2))","v":""}]
[null,null,null,null,null,null,{"$f":"+IF(F749=\"\",\"\",VLOOKUP(F749,Tabelas!$B$7:$C$96,2))","v":""},null,{"$f":"IF(H749=\"\",\"\",ROUND(H749/SUM(H746:H753),4))","v":""},null,null,null,null,null,null,{"$f":"+IF(O749=\"\",\"\",IF(N746=\"Transporte Marítimo\",VLOOKUP(O749,Tabelas!$F$7:$G$12,2),IF(N746=\"Transporte Aéreo\",VLOOKUP(O749,Tabelas!$F$16:$G$21,2),\"\")))","v":""},null,null,null,null,null,null,null,null,null,null,null,null,null,null,null,"",{"$f":"+IF(AF749=\"\",\"\",VLOOKUP(AF749,Tabelas!$J$27:$K$30,2))","v":""}]
[null,null,null,null,null,null,{"$f":"+IF(F750=\"\",\"\",VLOOKUP(F750,Tabelas!$B$7:$C$96,2))","v":""},null,{"$f":"IF(H750=\"\",\"\",ROUND(H750/SUM(H746:H753),4))","v":""},null,null,null,null,null,null,{"$f":"+IF(O750=\"\",\"\",IF(N746=\"Transporte Marítimo\",VLOOKUP(O750,Tabelas!$F$7:$G$12,2),IF(N746=\"Transporte Aéreo\",VLOOKUP(O750,Tabelas!$F$16:$G$21,2),\"\")))","v":""},null,null,null,null,null,null,null,null,null,null,null,null,null,null,null,"",{"$f":"+IF(AF750=\"\",\"\",VLOOKUP(AF750,Tabelas!$J$27:$K$30,2))","v":""}]
[null,null,null,null,null,null,{"$f":"+IF(F751=\"\",\"\",VLOOKUP(F751,Tabelas!$B$7:$C$96,2))","v":""},null,{"$f":"IF(H751=\"\",\"\",ROUND(H751/SUM(H746:H753),4))","v":""},null,null,null,null,null,null,{"$f":"+IF(O751=\"\",\"\",IF(N746=\"Transporte Marítimo\",VLOOKUP(O751,Tabelas!$F$7:$G$12,2),IF(N746=\"Transporte Aéreo\",VLOOKUP(O751,Tabelas!$F$16:$G$21,2),\"\")))","v":""},null,null,null,null,null,null,null,null,null,null,null,null,null,null,null,"",{"$f":"+IF(AF751=\"\",\"\",VLOOKUP(AF751,Tabelas!$J$27:$K$30,2))","v":""}]
[null,null,null,null,null,null,{"$f":"+IF(F752=\"\",\"\",VLOOKUP(F752,Tabelas!$B$7:$C$96,2))","v":""},null,{"$f":"IF(H752=\"\",\"\",ROUND(H752/SUM(H746:H753),4))","v":""},null,null,null,null,null,null,{"$f":"+IF(O752=\"\",\"\",IF(N746=\"Transporte Marítimo\",VLOOKUP(O752,Tabelas!$F$7:$G$12,2),IF(N746=\"Transporte Aéreo\",VLOOKUP(O752,Tabelas!$F$16:$G$21,2),\"\")))","v":""},null,null,null,null,null,null,null,null,null,null,null,null,null,null,null,"",{"$f":"+IF(AF752=\"\",\"\",VLOOKUP(AF752,Tabelas!$J$27:$K$30,2))","v":""}]
[null,null,null,null,null,null,{"$f":"+IF(F753=\"\",\"\",VLOOKUP(F753,Tabelas!$B$7:$C$96,2))","v":""},null,{"$f":"IF(H753=\"\",\"\",ROUND(H753/SUM(H746:H753),4))","v":""},null,null,null,null,null,null,{"$f":"+IF(O753=\"\",\"\",IF(N746=\"Transporte Marítimo\",VLOOKUP(O753,Tabelas!$F$7:$G$12,2),IF(N746=\"Transporte Aéreo\",VLOOKUP(O753,Tabelas!$F$16:$G$21,2),\"\")))","v":""},null,null,null,null,null,null,null,null,null,null,null,null,null,null,null,"",{"$f":"+IF(AF753=\"\",\"\",VLOOKUP(AF753,Tabelas!$J$27:$K$30,2))","v":""}]
[null,{"$f":"+B746+1","v":93},null,null,null,null,{"$f":"+IF(F754=\"\",\"\",VLOOKUP(F754,Tabelas!$B$7:$C$96,2))","v":""},null,{"$f":"IF(H754=\"\",\"\",1-SUM(I755:I761))","v":""},null,null,null,null,null,null,{"$f":"+IF(O754=\"\",\"\",IF(N754=\"Transporte Marítimo\",VLOOKUP(O754,Tabelas!$F$7:$G$12,2),IF(N754=\"Transporte Aéreo\",VLOOKUP(O754,Tabelas!$F$16:$G$21,2),\"\")))","v":""},null,null,null,null,null,null,null,null,null,null,null,null,null,null,null,"",{"$f":"+IF(AF754=\"\",\"\",VLOOKUP(AF754,Tabelas!$J$27:$K$30,2))","v":""},null,null,null,null,null,null,null,null,null,null,null,null,null,null,null," "]
[null,null,null,null,null,null,{"$f":"+IF(F755=\"\",\"\",VLOOKUP(F755,Tabelas!$B$7:$C$96,2))","v":""},null,{"$f":"IF(H755=\"\",\"\",ROUND(H755/SUM(H754:H761),4))","v":""},null,null,null,null,null,null,{"$f":"+IF(O755=\"\",\"\",IF(N754=\"Transporte Marítimo\",VLOOKUP(O755,Tabelas!$F$7:$G$12,2),IF(N754=\"Transporte Aéreo\",VLOOKUP(O755,Tabelas!$F$16:$G$21,2),\"\")))","v":""},null,null,null,null,null,null,null,null,null,null,null,null,null,null,null,"",{"$f":"+IF(AF755=\"\",\"\",VLOOKUP(AF755,Tabelas!$J$27:$K$30,2))","v":""}]
[null,null,null,null,null,null,{"$f":"+IF(F756=\"\",\"\",VLOOKUP(F756,Tabelas!$B$7:$C$96,2))","v":""},null,{"$f":"IF(H756=\"\",\"\",ROUND(H756/SUM(H754:H761),4))","v":""},null,null,null,null,null,null,{"$f":"+IF(O756=\"\",\"\",IF(N754=\"Transporte Marítimo\",VLOOKUP(O756,Tabelas!$F$7:$G$12,2),IF(N754=\"Transporte Aéreo\",VLOOKUP(O756,Tabelas!$F$16:$G$21,2),\"\")))","v":""},null,null,null,null,null,null,null,null,null,null,null,null,null,null,null,"",{"$f":"+IF(AF756=\"\",\"\",VLOOKUP(AF756,Tabelas!$J$27:$K$30,2))","v":""}]
[null,null,null,null,null,null,{"$f":"+IF(F757=\"\",\"\",VLOOKUP(F757,Tabelas!$B$7:$C$96,2))","v":""},null,{"$f":"IF(H757=\"\",\"\",ROUND(H757/SUM(H754:H761),4))","v":""},null,null,null,null,null,null,{"$f":"+IF(O757=\"\",\"\",IF(N754=\"Transporte Marítimo\",VLOOKUP(O757,Tabelas!$F$7:$G$12,2),IF(N754=\"Transporte Aéreo\",VLOOKUP(O757,Tabelas!$F$16:$G$21,2),\"\")))","v":""},null,null,null,null,null,null,null,null,null,null,null,null,null,null,null,"",{"$f":"+IF(AF757=\"\",\"\",VLOOKUP(AF757,Tabelas!$J$27:$K$30,2))","v":""}]
[null,null,null,null,null,null,{"$f":"+IF(F758=\"\",\"\",VLOOKUP(F758,Tabelas!$B$7:$C$96,2))","v":""},null,{"$f":"IF(H758=\"\",\"\",ROUND(H758/SUM(H754:H761),4))","v":""},null,null,null,null,null,null,{"$f":"+IF(O758=\"\",\"\",IF(N754=\"Transporte Marítimo\",VLOOKUP(O758,Tabelas!$F$7:$G$12,2),IF(N754=\"Transporte Aéreo\",VLOOKUP(O758,Tabelas!$F$16:$G$21,2),\"\")))","v":""},null,null,null,null,null,null,null,null,null,null,null,null,null,null,null,"",{"$f":"+IF(AF758=\"\",\"\",VLOOKUP(AF758,Tabelas!$J$27:$K$30,2))","v":""}]
[null,null,null,null,null,null,{"$f":"+IF(F759=\"\",\"\",VLOOKUP(F759,Tabelas!$B$7:$C$96,2))","v":""},null,{"$f":"IF(H759=\"\",\"\",ROUND(H759/SUM(H754:H761),4))","v":""},null,null,null,null,null,null,{"$f":"+IF(O759=\"\",\"\",IF(N754=\"Transporte Marítimo\",VLOOKUP(O759,Tabelas!$F$7:$G$12,2),IF(N754=\"Transporte Aéreo\",VLOOKUP(O759,Tabelas!$F$16:$G$21,2),\"\")))","v":""},null,null,null,null,null,null,null,null,null,null,null,null,null,null,null,"",{"$f":"+IF(AF759=\"\",\"\",VLOOKUP(AF759,Tabelas!$J$27:$K$30,2))","v":""}]
[null,null,null,null,null,null,{"$f":"+IF(F760=\"\",\"\",VLOOKUP(F760,Tabelas!$B$7:$C$96,2))","v":""},null,{"$f":"IF(H760=\"\",\"\",ROUND(H760/SUM(H754:H761),4))","v":""},null,null,null,null,null,null,{"$f":"+IF(O760=\"\",\"\",IF(N754=\"Transporte Marítimo\",VLOOKUP(O760,Tabelas!$F$7:$G$12,2),IF(N754=\"Transporte Aéreo\",VLOOKUP(O760,Tabelas!$F$16:$G$21,2),\"\")))","v":""},null,null,null,null,null,null,null,null,null,null,null,null,null,null,null,"",{"$f":"+IF(AF760=\"\",\"\",VLOOKUP(AF760,Tabelas!$J$27:$K$30,2))","v":""}]
[null,null,null,null,null,null,{"$f":"+IF(F761=\"\",\"\",VLOOKUP(F761,Tabelas!$B$7:$C$96,2))","v":""},null,{"$f":"IF(H761=\"\",\"\",ROUND(H761/SUM(H754:H761),4))","v":""},null,null,null,null,null,null,{"$f":"+IF(O761=\"\",\"\",IF(N754=\"Transporte Marítimo\",VLOOKUP(O761,Tabelas!$F$7:$G$12,2),IF(N754=\"Transporte Aéreo\",VLOOKUP(O761,Tabelas!$F$16:$G$21,2),\"\")))","v":""},null,null,null,null,null,null,null,null,null,null,null,null,null,null,null,"",{"$f":"+IF(AF761=\"\",\"\",VLOOKUP(AF761,Tabelas!$J$27:$K$30,2))","v":""}]
[null,{"$f":"+B754+1","v":94},null,null,null,null,{"$f":"+IF(F762=\"\",\"\",VLOOKUP(F762,Tabelas!$B$7:$C$96,2))","v":""},null,{"$f":"IF(H762=\"\",\"\",1-SUM(I763:I769))","v":""},null,null,null,null,null,null,{"$f":"+IF(O762=\"\",\"\",IF(N762=\"Transporte Marítimo\",VLOOKUP(O762,Tabelas!$F$7:$G$12,2),IF(N762=\"Transporte Aéreo\",VLOOKUP(O762,Tabelas!$F$16:$G$21,2),\"\")))","v":""},null,null,null,null,null,null,null,null,null,null,null,null,null,null,null,"",{"$f":"+IF(AF762=\"\",\"\",VLOOKUP(AF762,Tabelas!$J$27:$K$30,2))","v":""},null,null,null,null,null,null,null,null,null,null,null,null,null,null,null," "]
[null,null,null,null,null,null,{"$f":"+IF(F763=\"\",\"\",VLOOKUP(F763,Tabelas!$B$7:$C$96,2))","v":""},null,{"$f":"IF(H763=\"\",\"\",ROUND(H763/SUM(H762:H769),4))","v":""},null,null,null,null,null,null,{"$f":"+IF(O763=\"\",\"\",IF(N762=\"Transporte Marítimo\",VLOOKUP(O763,Tabelas!$F$7:$G$12,2),IF(N762=\"Transporte Aéreo\",VLOOKUP(O763,Tabelas!$F$16:$G$21,2),\"\")))","v":""},null,null,null,null,null,null,null,null,null,null,null,null,null,null,null,"",{"$f":"+IF(AF763=\"\",\"\",VLOOKUP(AF763,Tabelas!$J$27:$K$30,2))","v":""}]
[null,null,null,null,null,null,{"$f":"+IF(F764=\"\",\"\",VLOOKUP(F764,Tabelas!$B$7:$C$96,2))","v":""},null,{"$f":"IF(H764=\"\",\"\",ROUND(H764/SUM(H762:H769),4))","v":""},null,null,null,null,null,null,{"$f":"+IF(O764=\"\",\"\",IF(N762=\"Transporte Marítimo\",VLOOKUP(O764,Tabelas!$F$7:$G$12,2),IF(N762=\"Transporte Aéreo\",VLOOKUP(O764,Tabelas!$F$16:$G$21,2),\"\")))","v":""},null,null,null,null,null,null,null,null,null,null,null,null,null,null,null,"",{"$f":"+IF(AF764=\"\",\"\",VLOOKUP(AF764,Tabelas!$J$27:$K$30,2))","v":""}]
[null,null,null,null,null,null,{"$f":"+IF(F765=\"\",\"\",VLOOKUP(F765,Tabelas!$B$7:$C$96,2))","v":""},null,{"$f":"IF(H765=\"\",\"\",ROUND(H765/SUM(H762:H769),4))","v":""},null,null,null,null,null,null,{"$f":"+IF(O765=\"\",\"\",IF(N762=\"Transporte Marítimo\",VLOOKUP(O765,Tabelas!$F$7:$G$12,2),IF(N762=\"Transporte Aéreo\",VLOOKUP(O765,Tabelas!$F$16:$G$21,2),\"\")))","v":""},null,null,null,null,null,null,null,null,null,null,null,null,null,null,null,"",{"$f":"+IF(AF765=\"\",\"\",VLOOKUP(AF765,Tabelas!$J$27:$K$30,2))","v":""}]
[null,null,null,null,null,null,{"$f":"+IF(F766=\"\",\"\",VLOOKUP(F766,Tabelas!$B$7:$C$96,2))","v":""},null,{"$f":"IF(H766=\"\",\"\",ROUND(H766/SUM(H762:H769),4))","v":""},null,null,null,null,null,null,{"$f":"+IF(O766=\"\",\"\",IF(N762=\"Transporte Marítimo\",VLOOKUP(O766,Tabelas!$F$7:$G$12,2),IF(N762=\"Transporte Aéreo\",VLOOKUP(O766,Tabelas!$F$16:$G$21,2),\"\")))","v":""},null,null,null,null,null,null,null,null,null,null,null,null,null,null,null,"",{"$f":"+IF(AF766=\"\",\"\",VLOOKUP(AF766,Tabelas!$J$27:$K$30,2))","v":""}]
[null,null,null,null,null,null,{"$f":"+IF(F767=\"\",\"\",VLOOKUP(F767,Tabelas!$B$7:$C$96,2))","v":""},null,{"$f":"IF(H767=\"\",\"\",ROUND(H767/SUM(H762:H769),4))","v":""},null,null,null,null,null,null,{"$f":"+IF(O767=\"\",\"\",IF(N762=\"Transporte Marítimo\",VLOOKUP(O767,Tabelas!$F$7:$G$12,2),IF(N762=\"Transporte Aéreo\",VLOOKUP(O767,Tabelas!$F$16:$G$21,2),\"\")))","v":""},null,null,null,null,null,null,null,null,null,null,null,null,null,null,null,"",{"$f":"+IF(AF767=\"\",\"\",VLOOKUP(AF767,Tabelas!$J$27:$K$30,2))","v":""}]
[null,null,null,null,null,null,{"$f":"+IF(F768=\"\",\"\",VLOOKUP(F768,Tabelas!$B$7:$C$96,2))","v":""},null,{"$f":"IF(H768=\"\",\"\",ROUND(H768/SUM(H762:H769),4))","v":""},null,null,null,null,null,null,{"$f":"+IF(O768=\"\",\"\",IF(N762=\"Transporte Marítimo\",VLOOKUP(O768,Tabelas!$F$7:$G$12,2),IF(N762=\"Transporte Aéreo\",VLOOKUP(O768,Tabelas!$F$16:$G$21,2),\"\")))","v":""},null,null,null,null,null,null,null,null,null,null,null,null,null,null,null,"",{"$f":"+IF(AF768=\"\",\"\",VLOOKUP(AF768,Tabelas!$J$27:$K$30,2))","v":""}]
[null,null,null,null,null,null,{"$f":"+IF(F769=\"\",\"\",VLOOKUP(F769,Tabelas!$B$7:$C$96,2))","v":""},null,{"$f":"IF(H769=\"\",\"\",ROUND(H769/SUM(H762:H769),4))","v":""},null,null,null,null,null,null,{"$f":"+IF(O769=\"\",\"\",IF(N762=\"Transporte Marítimo\",VLOOKUP(O769,Tabelas!$F$7:$G$12,2),IF(N762=\"Transporte Aéreo\",VLOOKUP(O769,Tabelas!$F$16:$G$21,2),\"\")))","v":""},null,null,null,null,null,null,null,null,null,null,null,null,null,null,null,"",{"$f":"+IF(AF769=\"\",\"\",VLOOKUP(AF769,Tabelas!$J$27:$K$30,2))","v":""}]
[null,{"$f":"+B762+1","v":95},null,null,null,null,{"$f":"+IF(F770=\"\",\"\",VLOOKUP(F770,Tabelas!$B$7:$C$96,2))","v":""},null,{"$f":"IF(H770=\"\",\"\",1-SUM(I771:I777))","v":""},null,null,null,null,null,null,{"$f":"+IF(O770=\"\",\"\",IF(N770=\"Transporte Marítimo\",VLOOKUP(O770,Tabelas!$F$7:$G$12,2),IF(N770=\"Transporte Aéreo\",VLOOKUP(O770,Tabelas!$F$16:$G$21,2),\"\")))","v":""},null,null,null,null,null,null,null,null,null,null,null,null,null,null,null,"",{"$f":"+IF(AF770=\"\",\"\",VLOOKUP(AF770,Tabelas!$J$27:$K$30,2))","v":""},null,null,null,null,null,null,null,null,null,null,null,null,null,null,null," "]
[null,null,null,null,null,null,{"$f":"+IF(F771=\"\",\"\",VLOOKUP(F771,Tabelas!$B$7:$C$96,2))","v":""},null,{"$f":"IF(H771=\"\",\"\",ROUND(H771/SUM(H770:H777),4))","v":""},null,null,null,null,null,null,{"$f":"+IF(O771=\"\",\"\",IF(N770=\"Transporte Marítimo\",VLOOKUP(O771,Tabelas!$F$7:$G$12,2),IF(N770=\"Transporte Aéreo\",VLOOKUP(O771,Tabelas!$F$16:$G$21,2),\"\")))","v":""},null,null,null,null,null,null,null,null,null,null,null,null,null,null,null,"",{"$f":"+IF(AF771=\"\",\"\",VLOOKUP(AF771,Tabelas!$J$27:$K$30,2))","v":""}]
[null,null,null,null,null,null,{"$f":"+IF(F772=\"\",\"\",VLOOKUP(F772,Tabelas!$B$7:$C$96,2))","v":""},null,{"$f":"IF(H772=\"\",\"\",ROUND(H772/SUM(H770:H777),4))","v":""},null,null,null,null,null,null,{"$f":"+IF(O772=\"\",\"\",IF(N770=\"Transporte Marítimo\",VLOOKUP(O772,Tabelas!$F$7:$G$12,2),IF(N770=\"Transporte Aéreo\",VLOOKUP(O772,Tabelas!$F$16:$G$21,2),\"\")))","v":""},null,null,null,null,null,null,null,null,null,null,null,null,null,null,null,"",{"$f":"+IF(AF772=\"\",\"\",VLOOKUP(AF772,Tabelas!$J$27:$K$30,2))","v":""}]
[null,null,null,null,null,null,{"$f":"+IF(F773=\"\",\"\",VLOOKUP(F773,Tabelas!$B$7:$C$96,2))","v":""},null,{"$f":"IF(H773=\"\",\"\",ROUND(H773/SUM(H770:H777),4))","v":""},null,null,null,null,null,null,{"$f":"+IF(O773=\"\",\"\",IF(N770=\"Transporte Marítimo\",VLOOKUP(O773,Tabelas!$F$7:$G$12,2),IF(N770=\"Transporte Aéreo\",VLOOKUP(O773,Tabelas!$F$16:$G$21,2),\"\")))","v":""},null,null,null,null,null,null,null,null,null,null,null,null,null,null,null,"",{"$f":"+IF(AF773=\"\",\"\",VLOOKUP(AF773,Tabelas!$J$27:$K$30,2))","v":""}]
[null,null,null,null,null,null,{"$f":"+IF(F774=\"\",\"\",VLOOKUP(F774,Tabelas!$B$7:$C$96,2))","v":""},null,{"$f":"IF(H774=\"\",\"\",ROUND(H774/SUM(H770:H777),4))","v":""},null,null,null,null,null,null,{"$f":"+IF(O774=\"\",\"\",IF(N770=\"Transporte Marítimo\",VLOOKUP(O774,Tabelas!$F$7:$G$12,2),IF(N770=\"Transporte Aéreo\",VLOOKUP(O774,Tabelas!$F$16:$G$21,2),\"\")))","v":""},null,null,null,null,null,null,null,null,null,null,null,null,null,null,null,"",{"$f":"+IF(AF774=\"\",\"\",VLOOKUP(AF774,Tabelas!$J$27:$K$30,2))","v":""}]
[null,null,null,null,null,null,{"$f":"+IF(F775=\"\",\"\",VLOOKUP(F775,Tabelas!$B$7:$C$96,2))","v":""},null,{"$f":"IF(H775=\"\",\"\",ROUND(H775/SUM(H770:H777),4))","v":""},null,null,null,null,null,null,{"$f":"+IF(O775=\"\",\"\",IF(N770=\"Transporte Marítimo\",VLOOKUP(O775,Tabelas!$F$7:$G$12,2),IF(N770=\"Transporte Aéreo\",VLOOKUP(O775,Tabelas!$F$16:$G$21,2),\"\")))","v":""},null,null,null,null,null,null,null,null,null,null,null,null,null,null,null,"",{"$f":"+IF(AF775=\"\",\"\",VLOOKUP(AF775,Tabelas!$J$27:$K$30,2))","v":""}]
[null,null,null,null,null,null,{"$f":"+IF(F776=\"\",\"\",VLOOKUP(F776,Tabelas!$B$7:$C$96,2))","v":""},null,{"$f":"IF(H776=\"\",\"\",ROUND(H776/SUM(H770:H777),4))","v":""},null,null,null,null,null,null,{"$f":"+IF(O776=\"\",\"\",IF(N770=\"Transporte Marítimo\",VLOOKUP(O776,Tabelas!$F$7:$G$12,2),IF(N770=\"Transporte Aéreo\",VLOOKUP(O776,Tabelas!$F$16:$G$21,2),\"\")))","v":""},null,null,null,null,null,null,null,null,null,null,null,null,null,null,null,"",{"$f":"+IF(AF776=\"\",\"\",VLOOKUP(AF776,Tabelas!$J$27:$K$30,2))","v":""}]
[null,null,null,null,null,null,{"$f":"+IF(F777=\"\",\"\",VLOOKUP(F777,Tabelas!$B$7:$C$96,2))","v":""},null,{"$f":"IF(H777=\"\",\"\",ROUND(H777/SUM(H770:H777),4))","v":""},null,null,null,null,null,null,{"$f":"+IF(O777=\"\",\"\",IF(N770=\"Transporte Marítimo\",VLOOKUP(O777,Tabelas!$F$7:$G$12,2),IF(N770=\"Transporte Aéreo\",VLOOKUP(O777,Tabelas!$F$16:$G$21,2),\"\")))","v":""},null,null,null,null,null,null,null,null,null,null,null,null,null,null,null,"",{"$f":"+IF(AF777=\"\",\"\",VLOOKUP(AF777,Tabelas!$J$27:$K$30,2))","v":""}]
[null,{"$f":"+B770+1","v":96},null,null,null,null,{"$f":"+IF(F778=\"\",\"\",VLOOKUP(F778,Tabelas!$B$7:$C$96,2))","v":""},null,{"$f":"IF(H778=\"\",\"\",1-SUM(I779:I785))","v":""},null,null,null,null,null,null,{"$f":"+IF(O778=\"\",\"\",IF(N778=\"Transporte Marítimo\",VLOOKUP(O778,Tabelas!$F$7:$G$12,2),IF(N778=\"Transporte Aéreo\",VLOOKUP(O778,Tabelas!$F$16:$G$21,2),\"\")))","v":""},null,null,null,null,null,null,null,null,null,null,null,null,null,null,null,"",{"$f":"+IF(AF778=\"\",\"\",VLOOKUP(AF778,Tabelas!$J$27:$K$30,2))","v":""},null,null,null,null,null,null,null,null,null,null,null,null,null,null,null," "]
[null,null,null,null,null,null,{"$f":"+IF(F779=\"\",\"\",VLOOKUP(F779,Tabelas!$B$7:$C$96,2))","v":""},null,{"$f":"IF(H779=\"\",\"\",ROUND(H779/SUM(H778:H785),4))","v":""},null,null,null,null,null,null,{"$f":"+IF(O779=\"\",\"\",IF(N778=\"Transporte Marítimo\",VLOOKUP(O779,Tabelas!$F$7:$G$12,2),IF(N778=\"Transporte Aéreo\",VLOOKUP(O779,Tabelas!$F$16:$G$21,2),\"\")))","v":""},null,null,null,null,null,null,null,null,null,null,null,null,null,null,null,"",{"$f":"+IF(AF779=\"\",\"\",VLOOKUP(AF779,Tabelas!$J$27:$K$30,2))","v":""}]
[null,null,null,null,null,null,{"$f":"+IF(F780=\"\",\"\",VLOOKUP(F780,Tabelas!$B$7:$C$96,2))","v":""},null,{"$f":"IF(H780=\"\",\"\",ROUND(H780/SUM(H778:H785),4))","v":""},null,null,null,null,null,null,{"$f":"+IF(O780=\"\",\"\",IF(N778=\"Transporte Marítimo\",VLOOKUP(O780,Tabelas!$F$7:$G$12,2),IF(N778=\"Transporte Aéreo\",VLOOKUP(O780,Tabelas!$F$16:$G$21,2),\"\")))","v":""},null,null,null,null,null,null,null,null,null,null,null,null,null,null,null,"",{"$f":"+IF(AF780=\"\",\"\",VLOOKUP(AF780,Tabelas!$J$27:$K$30,2))","v":""}]
[null,null,null,null,null,null,{"$f":"+IF(F781=\"\",\"\",VLOOKUP(F781,Tabelas!$B$7:$C$96,2))","v":""},null,{"$f":"IF(H781=\"\",\"\",ROUND(H781/SUM(H778:H785),4))","v":""},null,null,null,null,null,null,{"$f":"+IF(O781=\"\",\"\",IF(N778=\"Transporte Marítimo\",VLOOKUP(O781,Tabelas!$F$7:$G$12,2),IF(N778=\"Transporte Aéreo\",VLOOKUP(O781,Tabelas!$F$16:$G$21,2),\"\")))","v":""},null,null,null,null,null,null,null,null,null,null,null,null,null,null,null,"",{"$f":"+IF(AF781=\"\",\"\",VLOOKUP(AF781,Tabelas!$J$27:$K$30,2))","v":""}]
[null,null,null,null,null,null,{"$f":"+IF(F782=\"\",\"\",VLOOKUP(F782,Tabelas!$B$7:$C$96,2))","v":""},null,{"$f":"IF(H782=\"\",\"\",ROUND(H782/SUM(H778:H785),4))","v":""},null,null,null,null,null,null,{"$f":"+IF(O782=\"\",\"\",IF(N778=\"Transporte Marítimo\",VLOOKUP(O782,Tabelas!$F$7:$G$12,2),IF(N778=\"Transporte Aéreo\",VLOOKUP(O782,Tabelas!$F$16:$G$21,2),\"\")))","v":""},null,null,null,null,null,null,null,null,null,null,null,null,null,null,null,"",{"$f":"+IF(AF782=\"\",\"\",VLOOKUP(AF782,Tabelas!$J$27:$K$30,2))","v":""}]
[null,null,null,null,null,null,{"$f":"+IF(F783=\"\",\"\",VLOOKUP(F783,Tabelas!$B$7:$C$96,2))","v":""},null,{"$f":"IF(H783=\"\",\"\",ROUND(H783/SUM(H778:H785),4))","v":""},null,null,null,null,null,null,{"$f":"+IF(O783=\"\",\"\",IF(N778=\"Transporte Marítimo\",VLOOKUP(O783,Tabelas!$F$7:$G$12,2),IF(N778=\"Transporte Aéreo\",VLOOKUP(O783,Tabelas!$F$16:$G$21,2),\"\")))","v":""},null,null,null,null,null,null,null,null,null,null,null,null,null,null,null,"",{"$f":"+IF(AF783=\"\",\"\",VLOOKUP(AF783,Tabelas!$J$27:$K$30,2))","v":""}]
[null,null,null,null,null,null,{"$f":"+IF(F784=\"\",\"\",VLOOKUP(F784,Tabelas!$B$7:$C$96,2))","v":""},null,{"$f":"IF(H784=\"\",\"\",ROUND(H784/SUM(H778:H785),4))","v":""},null,null,null,null,null,null,{"$f":"+IF(O784=\"\",\"\",IF(N778=\"Transporte Marítimo\",VLOOKUP(O784,Tabelas!$F$7:$G$12,2),IF(N778=\"Transporte Aéreo\",VLOOKUP(O784,Tabelas!$F$16:$G$21,2),\"\")))","v":""},null,null,null,null,null,null,null,null,null,null,null,null,null,null,null,"",{"$f":"+IF(AF784=\"\",\"\",VLOOKUP(AF784,Tabelas!$J$27:$K$30,2))","v":""}]
[null,null,null,null,null,null,{"$f":"+IF(F785=\"\",\"\",VLOOKUP(F785,Tabelas!$B$7:$C$96,2))","v":""},null,{"$f":"IF(H785=\"\",\"\",ROUND(H785/SUM(H778:H785),4))","v":""},null,null,null,null,null,null,{"$f":"+IF(O785=\"\",\"\",IF(N778=\"Transporte Marítimo\",VLOOKUP(O785,Tabelas!$F$7:$G$12,2),IF(N778=\"Transporte Aéreo\",VLOOKUP(O785,Tabelas!$F$16:$G$21,2),\"\")))","v":""},null,null,null,null,null,null,null,null,null,null,null,null,null,null,null,"",{"$f":"+IF(AF785=\"\",\"\",VLOOKUP(AF785,Tabelas!$J$27:$K$30,2))","v":""}]
[null,{"$f":"+B778+1","v":97},null,null,null,null,{"$f":"+IF(F786=\"\",\"\",VLOOKUP(F786,Tabelas!$B$7:$C$96,2))","v":""},null,{"$f":"IF(H786=\"\",\"\",1-SUM(I787:I793))","v":""},null,null,null,null,null,null,{"$f":"+IF(O786=\"\",\"\",IF(N786=\"Transporte Marítimo\",VLOOKUP(O786,Tabelas!$F$7:$G$12,2),IF(N786=\"Transporte Aéreo\",VLOOKUP(O786,Tabelas!$F$16:$G$21,2),\"\")))","v":""},null,null,null,null,null,null,null,null,null,null,null,null,null,null,null,"",{"$f":"+IF(AF786=\"\",\"\",VLOOKUP(AF786,Tabelas!$J$27:$K$30,2))","v":""},null,null,null,null,null,null,null,null,null,null,null,null,null,null,null," "]
[null,null,null,null,null,null,{"$f":"+IF(F787=\"\",\"\",VLOOKUP(F787,Tabelas!$B$7:$C$96,2))","v":""},null,{"$f":"IF(H787=\"\",\"\",ROUND(H787/SUM(H786:H793),4))","v":""},null,null,null,null,null,null,{"$f":"+IF(O787=\"\",\"\",IF(N786=\"Transporte Marítimo\",VLOOKUP(O787,Tabelas!$F$7:$G$12,2),IF(N786=\"Transporte Aéreo\",VLOOKUP(O787,Tabelas!$F$16:$G$21,2),\"\")))","v":""},null,null,null,null,null,null,null,null,null,null,null,null,null,null,null,{"$f":"+IF(AE787=\"20NL\",1,IF(AE787=\"40NL\",2,IF(AE787=\"20RF\",3,IF(AE787=\"40RF\",4,\"\"))))","v":""},{"$f":"+IF(AF787=\"\",\"\",VLOOKUP(AF787,Tabelas!$J$27:$K$30,2))","v":""}]
[null,null,null,null,null,null,{"$f":"+IF(F788=\"\",\"\",VLOOKUP(F788,Tabelas!$B$7:$C$96,2))","v":""},null,{"$f":"IF(H788=\"\",\"\",ROUND(H788/SUM(H786:H793),4))","v":""},null,null,null,null,null,null,{"$f":"+IF(O788=\"\",\"\",IF(N786=\"Transporte Marítimo\",VLOOKUP(O788,Tabelas!$F$7:$G$12,2),IF(N786=\"Transporte Aéreo\",VLOOKUP(O788,Tabelas!$F$16:$G$21,2),\"\")))","v":""},null,null,null,null,null,null,null,null,null,null,null,null,null,null,null,"",{"$f":"+IF(AF788=\"\",\"\",VLOOKUP(AF788,Tabelas!$J$27:$K$30,2))","v":""}]
[null,null,null,null,null,null,{"$f":"+IF(F789=\"\",\"\",VLOOKUP(F789,Tabelas!$B$7:$C$96,2))","v":""},null,{"$f":"IF(H789=\"\",\"\",ROUND(H789/SUM(H786:H793),4))","v":""},null,null,null,null,null,null,{"$f":"+IF(O789=\"\",\"\",IF(N786=\"Transporte Marítimo\",VLOOKUP(O789,Tabelas!$F$7:$G$12,2),IF(N786=\"Transporte Aéreo\",VLOOKUP(O789,Tabelas!$F$16:$G$21,2),\"\")))","v":""},null,null,null,null,null,null,null,null,null,null,null,null,null,null,null,"",{"$f":"+IF(AF789=\"\",\"\",VLOOKUP(AF789,Tabelas!$J$27:$K$30,2))","v":""}]
[null,null,null,null,null,null,{"$f":"+IF(F790=\"\",\"\",VLOOKUP(F790,Tabelas!$B$7:$C$96,2))","v":""},null,{"$f":"IF(H790=\"\",\"\",ROUND(H790/SUM(H786:H793),4))","v":""},null,null,null,null,null,null,{"$f":"+IF(O790=\"\",\"\",IF(N786=\"Transporte Marítimo\",VLOOKUP(O790,Tabelas!$F$7:$G$12,2),IF(N786=\"Transporte Aéreo\",VLOOKUP(O790,Tabelas!$F$16:$G$21,2),\"\")))","v":""},null,null,null,null,null,null,null,null,null,null,null,null,null,null,null,"",{"$f":"+IF(AF790=\"\",\"\",VLOOKUP(AF790,Tabelas!$J$27:$K$30,2))","v":""}]
[null,null,null,null,null,null,{"$f":"+IF(F791=\"\",\"\",VLOOKUP(F791,Tabelas!$B$7:$C$96,2))","v":""},null,{"$f":"IF(H791=\"\",\"\",ROUND(H791/SUM(H786:H793),4))","v":""},null,null,null,null,null,null,{"$f":"+IF(O791=\"\",\"\",IF(N786=\"Transporte Marítimo\",VLOOKUP(O791,Tabelas!$F$7:$G$12,2),IF(N786=\"Transporte Aéreo\",VLOOKUP(O791,Tabelas!$F$16:$G$21,2),\"\")))","v":""},null,null,null,null,null,null,null,null,null,null,null,null,null,null,null,"",{"$f":"+IF(AF791=\"\",\"\",VLOOKUP(AF791,Tabelas!$J$27:$K$30,2))","v":""}]
[null,null,null,null,null,null,{"$f":"+IF(F792=\"\",\"\",VLOOKUP(F792,Tabelas!$B$7:$C$96,2))","v":""},null,{"$f":"IF(H792=\"\",\"\",ROUND(H792/SUM(H786:H793),4))","v":""},null,null,null,null,null,null,{"$f":"+IF(O792=\"\",\"\",IF(N786=\"Transporte Marítimo\",VLOOKUP(O792,Tabelas!$F$7:$G$12,2),IF(N786=\"Transporte Aéreo\",VLOOKUP(O792,Tabelas!$F$16:$G$21,2),\"\")))","v":""},null,null,null,null,null,null,null,null,null,null,null,null,null,null,null,"",{"$f":"+IF(AF792=\"\",\"\",VLOOKUP(AF792,Tabelas!$J$27:$K$30,2))","v":""}]
[null,null,null,null,null,null,{"$f":"+IF(F793=\"\",\"\",VLOOKUP(F793,Tabelas!$B$7:$C$96,2))","v":""},null,{"$f":"IF(H793=\"\",\"\",ROUND(H793/SUM(H786:H793),4))","v":""},null,null,null,null,null,null,{"$f":"+IF(O793=\"\",\"\",IF(N786=\"Transporte Marítimo\",VLOOKUP(O793,Tabelas!$F$7:$G$12,2),IF(N786=\"Transporte Aéreo\",VLOOKUP(O793,Tabelas!$F$16:$G$21,2),\"\")))","v":""},null,null,null,null,null,null,null,null,null,null,null,null,null,null,null,"",{"$f":"+IF(AF793=\"\",\"\",VLOOKUP(AF793,Tabelas!$J$27:$K$30,2))","v":""}]
[null,{"$f":"+B786+1","v":98},null,null,null,null,{"$f":"+IF(F794=\"\",\"\",VLOOKUP(F794,Tabelas!$B$7:$C$96,2))","v":""},null,{"$f":"IF(H794=\"\",\"\",1-SUM(I795:I801))","v":""},null,null,null,null,null,null,{"$f":"+IF(O794=\"\",\"\",IF(N794=\"Transporte Marítimo\",VLOOKUP(O794,Tabelas!$F$7:$G$12,2),IF(N794=\"Transporte Aéreo\",VLOOKUP(O794,Tabelas!$F$16:$G$21,2),\"\")))","v":""},null,null,null,null,null,null,null,null,null,null,null,null,null,null,null,"",{"$f":"+IF(AF794=\"\",\"\",VLOOKUP(AF794,Tabelas!$J$27:$K$30,2))","v":""},null,null,null,null,null,null,null,null,null,null,null,null,null,null,null," "]
[null,null,null,null,null,null,{"$f":"+IF(F795=\"\",\"\",VLOOKUP(F795,Tabelas!$B$7:$C$96,2))","v":""},null,{"$f":"IF(H795=\"\",\"\",ROUND(H795/SUM(H794:H801),4))","v":""},null,null,null,null,null,null,{"$f":"+IF(O795=\"\",\"\",IF(N794=\"Transporte Marítimo\",VLOOKUP(O795,Tabelas!$F$7:$G$12,2),IF(N794=\"Transporte Aéreo\",VLOOKUP(O795,Tabelas!$F$16:$G$21,2),\"\")))","v":""},null,null,null,null,null,null,null,null,null,null,null,null,null,null,null,"",{"$f":"+IF(AF795=\"\",\"\",VLOOKUP(AF795,Tabelas!$J$27:$K$30,2))","v":""}]
[null,null,null,null,null,null,{"$f":"+IF(F796=\"\",\"\",VLOOKUP(F796,Tabelas!$B$7:$C$96,2))","v":""},null,{"$f":"IF(H796=\"\",\"\",ROUND(H796/SUM(H794:H801),4))","v":""},null,null,null,null,null,null,{"$f":"+IF(O796=\"\",\"\",IF(N794=\"Transporte Marítimo\",VLOOKUP(O796,Tabelas!$F$7:$G$12,2),IF(N794=\"Transporte Aéreo\",VLOOKUP(O796,Tabelas!$F$16:$G$21,2),\"\")))","v":""},null,null,null,null,null,null,null,null,null,null,null,null,null,null,null,"",{"$f":"+IF(AF796=\"\",\"\",VLOOKUP(AF796,Tabelas!$J$27:$K$30,2))","v":""}]
[null,null,null,null,null,null,{"$f":"+IF(F797=\"\",\"\",VLOOKUP(F797,Tabelas!$B$7:$C$96,2))","v":""},null,{"$f":"IF(H797=\"\",\"\",ROUND(H797/SUM(H794:H801),4))","v":""},null,null,null,null,null,null,{"$f":"+IF(O797=\"\",\"\",IF(N794=\"Transporte Marítimo\",VLOOKUP(O797,Tabelas!$F$7:$G$12,2),IF(N794=\"Transporte Aéreo\",VLOOKUP(O797,Tabelas!$F$16:$G$21,2),\"\")))","v":""},null,null,null,null,null,null,null,null,null,null,null,null,null,null,null,"",{"$f":"+IF(AF797=\"\",\"\",VLOOKUP(AF797,Tabelas!$J$27:$K$30,2))","v":""}]
[null,null,null,null,null,null,{"$f":"+IF(F798=\"\",\"\",VLOOKUP(F798,Tabelas!$B$7:$C$96,2))","v":""},null,{"$f":"IF(H798=\"\",\"\",ROUND(H798/SUM(H794:H801),4))","v":""},null,null,null,null,null,null,{"$f":"+IF(O798=\"\",\"\",IF(N794=\"Transporte Marítimo\",VLOOKUP(O798,Tabelas!$F$7:$G$12,2),IF(N794=\"Transporte Aéreo\",VLOOKUP(O798,Tabelas!$F$16:$G$21,2),\"\")))","v":""},null,null,null,null,null,null,null,null,null,null,null,null,null,null,null,"",{"$f":"+IF(AF798=\"\",\"\",VLOOKUP(AF798,Tabelas!$J$27:$K$30,2))","v":""}]
[null,null,null,null,null,null,{"$f":"+IF(F799=\"\",\"\",VLOOKUP(F799,Tabelas!$B$7:$C$96,2))","v":""},null,{"$f":"IF(H799=\"\",\"\",ROUND(H799/SUM(H794:H801),4))","v":""},null,null,null,null,null,null,{"$f":"+IF(O799=\"\",\"\",IF(N794=\"Transporte Marítimo\",VLOOKUP(O799,Tabelas!$F$7:$G$12,2),IF(N794=\"Transporte Aéreo\",VLOOKUP(O799,Tabelas!$F$16:$G$21,2),\"\")))","v":""},null,null,null,null,null,null,null,null,null,null,null,null,null,null,null,"",{"$f":"+IF(AF799=\"\",\"\",VLOOKUP(AF799,Tabelas!$J$27:$K$30,2))","v":""}]
[null,null,null,null,null,null,{"$f":"+IF(F800=\"\",\"\",VLOOKUP(F800,Tabelas!$B$7:$C$96,2))","v":""},null,{"$f":"IF(H800=\"\",\"\",ROUND(H800/SUM(H794:H801),4))","v":""},null,null,null,null,null,null,{"$f":"+IF(O800=\"\",\"\",IF(N794=\"Transporte Marítimo\",VLOOKUP(O800,Tabelas!$F$7:$G$12,2),IF(N794=\"Transporte Aéreo\",VLOOKUP(O800,Tabelas!$F$16:$G$21,2),\"\")))","v":""},null,null,null,null,null,null,null,null,null,null,null,null,null,null,null,"",{"$f":"+IF(AF800=\"\",\"\",VLOOKUP(AF800,Tabelas!$J$27:$K$30,2))","v":""}]
[null,null,null,null,null,null,{"$f":"+IF(F801=\"\",\"\",VLOOKUP(F801,Tabelas!$B$7:$C$96,2))","v":""},null,{"$f":"IF(H801=\"\",\"\",ROUND(H801/SUM(H794:H801),4))","v":""},null,null,null,null,null,null,{"$f":"+IF(O801=\"\",\"\",IF(N794=\"Transporte Marítimo\",VLOOKUP(O801,Tabelas!$F$7:$G$12,2),IF(N794=\"Transporte Aéreo\",VLOOKUP(O801,Tabelas!$F$16:$G$21,2),\"\")))","v":""},null,null,null,null,null,null,null,null,null,null,null,null,null,null,null,"",{"$f":"+IF(AF801=\"\",\"\",VLOOKUP(AF801,Tabelas!$J$27:$K$30,2))","v":""}]
[null,{"$f":"+B794+1","v":99},null,null,null,null,{"$f":"+IF(F802=\"\",\"\",VLOOKUP(F802,Tabelas!$B$7:$C$96,2))","v":""},null,{"$f":"IF(H802=\"\",\"\",1-SUM(I803:I809))","v":""},null,null,null,null,null,null,{"$f":"+IF(O802=\"\",\"\",IF(N802=\"Transporte Marítimo\",VLOOKUP(O802,Tabelas!$F$7:$G$12,2),IF(N802=\"Transporte Aéreo\",VLOOKUP(O802,Tabelas!$F$16:$G$21,2),\"\")))","v":""},null,null,null,null,null,null,null,null,null,null,null,null,null,null,null,"",{"$f":"+IF(AF802=\"\",\"\",VLOOKUP(AF802,Tabelas!$J$27:$K$30,2))","v":""},null,null,null,null,null,null,null,null,null,null,null,null,null,null,null," "]
[null,null,null,null,null,null,{"$f":"+IF(F803=\"\",\"\",VLOOKUP(F803,Tabelas!$B$7:$C$96,2))","v":""},null,{"$f":"IF(H803=\"\",\"\",ROUND(H803/SUM(H802:H809),4))","v":""},null,null,null,null,null,null,{"$f":"+IF(O803=\"\",\"\",IF(N802=\"Transporte Marítimo\",VLOOKUP(O803,Tabelas!$F$7:$G$12,2),IF(N802=\"Transporte Aéreo\",VLOOKUP(O803,Tabelas!$F$16:$G$21,2),\"\")))","v":""},null,null,null,null,null,null,null,null,null,null,null,null,null,null,null,"",{"$f":"+IF(AF803=\"\",\"\",VLOOKUP(AF803,Tabelas!$J$27:$K$30,2))","v":""}]
[null,null,null,null,null,null,{"$f":"+IF(F804=\"\",\"\",VLOOKUP(F804,Tabelas!$B$7:$C$96,2))","v":""},null,{"$f":"IF(H804=\"\",\"\",ROUND(H804/SUM(H802:H809),4))","v":""},null,null,null,null,null,null,{"$f":"+IF(O804=\"\",\"\",IF(N802=\"Transporte Marítimo\",VLOOKUP(O804,Tabelas!$F$7:$G$12,2),IF(N802=\"Transporte Aéreo\",VLOOKUP(O804,Tabelas!$F$16:$G$21,2),\"\")))","v":""},null,null,null,null,null,null,null,null,null,null,null,null,null,null,null,"",{"$f":"+IF(AF804=\"\",\"\",VLOOKUP(AF804,Tabelas!$J$27:$K$30,2))","v":""}]
[null,null,null,null,null,null,{"$f":"+IF(F805=\"\",\"\",VLOOKUP(F805,Tabelas!$B$7:$C$96,2))","v":""},null,{"$f":"IF(H805=\"\",\"\",ROUND(H805/SUM(H802:H809),4))","v":""},null,null,null,null,null,null,{"$f":"+IF(O805=\"\",\"\",IF(N802=\"Transporte Marítimo\",VLOOKUP(O805,Tabelas!$F$7:$G$12,2),IF(N802=\"Transporte Aéreo\",VLOOKUP(O805,Tabelas!$F$16:$G$21,2),\"\")))","v":""},null,null,null,null,null,null,null,null,null,null,null,null,null,null,null,"",{"$f":"+IF(AF805=\"\",\"\",VLOOKUP(AF805,Tabelas!$J$27:$K$30,2))","v":""}]
[null,null,null,null,null,null,{"$f":"+IF(F806=\"\",\"\",VLOOKUP(F806,Tabelas!$B$7:$C$96,2))","v":""},null,{"$f":"IF(H806=\"\",\"\",ROUND(H806/SUM(H802:H809),4))","v":""},null,null,null,null,null,null,{"$f":"+IF(O806=\"\",\"\",IF(N802=\"Transporte Marítimo\",VLOOKUP(O806,Tabelas!$F$7:$G$12,2),IF(N802=\"Transporte Aéreo\",VLOOKUP(O806,Tabelas!$F$16:$G$21,2),\"\")))","v":""},null,null,null,null,null,null,null,null,null,null,null,null,null,null,null,"",{"$f":"+IF(AF806=\"\",\"\",VLOOKUP(AF806,Tabelas!$J$27:$K$30,2))","v":""}]
[null,null,null,null,null,null,{"$f":"+IF(F807=\"\",\"\",VLOOKUP(F807,Tabelas!$B$7:$C$96,2))","v":""},null,{"$f":"IF(H807=\"\",\"\",ROUND(H807/SUM(H802:H809),4))","v":""},null,null,null,null,null,null,{"$f":"+IF(O807=\"\",\"\",IF(N802=\"Transporte Marítimo\",VLOOKUP(O807,Tabelas!$F$7:$G$12,2),IF(N802=\"Transporte Aéreo\",VLOOKUP(O807,Tabelas!$F$16:$G$21,2),\"\")))","v":""},null,null,null,null,null,null,null,null,null,null,null,null,null,null,null,"",{"$f":"+IF(AF807=\"\",\"\",VLOOKUP(AF807,Tabelas!$J$27:$K$30,2))","v":""}]
[null,null,null,null,null,null,{"$f":"+IF(F808=\"\",\"\",VLOOKUP(F808,Tabelas!$B$7:$C$96,2))","v":""},null,{"$f":"IF(H808=\"\",\"\",ROUND(H808/SUM(H802:H809),4))","v":""},null,null,null,null,null,null,{"$f":"+IF(O808=\"\",\"\",IF(N802=\"Transporte Marítimo\",VLOOKUP(O808,Tabelas!$F$7:$G$12,2),IF(N802=\"Transporte Aéreo\",VLOOKUP(O808,Tabelas!$F$16:$G$21,2),\"\")))","v":""},null,null,null,null,null,null,null,null,null,null,null,null,null,null,null,"",{"$f":"+IF(AF808=\"\",\"\",VLOOKUP(AF808,Tabelas!$J$27:$K$30,2))","v":""}]
[null,null,null,null,null,null,{"$f":"+IF(F809=\"\",\"\",VLOOKUP(F809,Tabelas!$B$7:$C$96,2))","v":""},null,{"$f":"IF(H809=\"\",\"\",ROUND(H809/SUM(H802:H809),4))","v":""},null,null,null,null,null,null,{"$f":"+IF(O809=\"\",\"\",IF(N802=\"Transporte Marítimo\",VLOOKUP(O809,Tabelas!$F$7:$G$12,2),IF(N802=\"Transporte Aéreo\",VLOOKUP(O809,Tabelas!$F$16:$G$21,2),\"\")))","v":""},null,null,null,null,null,null,null,null,null,null,null,null,null,null,null,"",{"$f":"+IF(AF809=\"\",\"\",VLOOKUP(AF809,Tabelas!$J$27:$K$30,2))","v":""}]
[null,{"$f":"+B802+1","v":100},null,null,null,null,{"$f":"+IF(F810=\"\",\"\",VLOOKUP(F810,Tabelas!$B$7:$C$96,2))","v":""},null,{"$f":"IF(H810=\"\",\"\",1-SUM(I811:I817))","v":""},null,null,null,null,null,null,{"$f":"+IF(O810=\"\",\"\",IF(N810=\"Transporte Marítimo\",VLOOKUP(O810,Tabelas!$F$7:$G$12,2),IF(N810=\"Transporte Aéreo\",VLOOKUP(O810,Tabelas!$F$16:$G$21,2),\"\")))","v":""},null,null,null,null,null,null,null,null,null,null,null,null,null,null,null,"",{"$f":"+IF(AF810=\"\",\"\",VLOOKUP(AF810,Tabelas!$J$27:$K$30,2))","v":""},null,null,null,null,null,null,null,null,null,null,null,null,null,null,null," "]
[null,null,null,null,null,null,{"$f":"+IF(F811=\"\",\"\",VLOOKUP(F811,Tabelas!$B$7:$C$96,2))","v":""},null,{"$f":"IF(H811=\"\",\"\",ROUND(H811/SUM(H810:H817),4))","v":""},null,null,null,null,null,null,{"$f":"+IF(O811=\"\",\"\",IF(N810=\"Transporte Marítimo\",VLOOKUP(O811,Tabelas!$F$7:$G$12,2),IF(N810=\"Transporte Aéreo\",VLOOKUP(O811,Tabelas!$F$16:$G$21,2),\"\")))","v":""},null,null,null,null,null,null,null,null,null,null,null,null,null,null,null,"",{"$f":"+IF(AF811=\"\",\"\",VLOOKUP(AF811,Tabelas!$J$27:$K$30,2))","v":""}]
[null,null,null,null,null,null,{"$f":"+IF(F812=\"\",\"\",VLOOKUP(F812,Tabelas!$B$7:$C$96,2))","v":""},null,{"$f":"IF(H812=\"\",\"\",ROUND(H812/SUM(H810:H817),4))","v":""},null,null,null,null,null,null,{"$f":"+IF(O812=\"\",\"\",IF(N810=\"Transporte Marítimo\",VLOOKUP(O812,Tabelas!$F$7:$G$12,2),IF(N810=\"Transporte Aéreo\",VLOOKUP(O812,Tabelas!$F$16:$G$21,2),\"\")))","v":""},null,null,null,null,null,null,null,null,null,null,null,null,null,null,null,"",{"$f":"+IF(AF812=\"\",\"\",VLOOKUP(AF812,Tabelas!$J$27:$K$30,2))","v":""}]
[null,null,null,null,null,null,{"$f":"+IF(F813=\"\",\"\",VLOOKUP(F813,Tabelas!$B$7:$C$96,2))","v":""},null,{"$f":"IF(H813=\"\",\"\",ROUND(H813/SUM(H810:H817),4))","v":""},null,null,null,null,null,null,{"$f":"+IF(O813=\"\",\"\",IF(N810=\"Transporte Marítimo\",VLOOKUP(O813,Tabelas!$F$7:$G$12,2),IF(N810=\"Transporte Aéreo\",VLOOKUP(O813,Tabelas!$F$16:$G$21,2),\"\")))","v":""},null,null,null,null,null,null,null,null,null,null,null,null,null,null,null,"",{"$f":"+IF(AF813=\"\",\"\",VLOOKUP(AF813,Tabelas!$J$27:$K$30,2))","v":""}]
[null,null,null,null,null,null,{"$f":"+IF(F814=\"\",\"\",VLOOKUP(F814,Tabelas!$B$7:$C$96,2))","v":""},null,{"$f":"IF(H814=\"\",\"\",ROUND(H814/SUM(H810:H817),4))","v":""},null,null,null,null,null,null,{"$f":"+IF(O814=\"\",\"\",IF(N810=\"Transporte Marítimo\",VLOOKUP(O814,Tabelas!$F$7:$G$12,2),IF(N810=\"Transporte Aéreo\",VLOOKUP(O814,Tabelas!$F$16:$G$21,2),\"\")))","v":""},null,null,null,null,null,null,null,null,null,null,null,null,null,null,null,"",{"$f":"+IF(AF814=\"\",\"\",VLOOKUP(AF814,Tabelas!$J$27:$K$30,2))","v":""}]
[null,null,null,null,null,null,{"$f":"+IF(F815=\"\",\"\",VLOOKUP(F815,Tabelas!$B$7:$C$96,2))","v":""},null,{"$f":"IF(H815=\"\",\"\",ROUND(H815/SUM(H810:H817),4))","v":""},null,null,null,null,null,null,{"$f":"+IF(O815=\"\",\"\",IF(N810=\"Transporte Marítimo\",VLOOKUP(O815,Tabelas!$F$7:$G$12,2),IF(N810=\"Transporte Aéreo\",VLOOKUP(O815,Tabelas!$F$16:$G$21,2),\"\")))","v":""},null,null,null,null,null,null,null,null,null,null,null,null,null,null,null,"",{"$f":"+IF(AF815=\"\",\"\",VLOOKUP(AF815,Tabelas!$J$27:$K$30,2))","v":""}]
[null,null,null,null,null,null,{"$f":"+IF(F816=\"\",\"\",VLOOKUP(F816,Tabelas!$B$7:$C$96,2))","v":""},null,{"$f":"IF(H816=\"\",\"\",ROUND(H816/SUM(H810:H817),4))","v":""},null,null,null,null,null,null,{"$f":"+IF(O816=\"\",\"\",IF(N810=\"Transporte Marítimo\",VLOOKUP(O816,Tabelas!$F$7:$G$12,2),IF(N810=\"Transporte Aéreo\",VLOOKUP(O816,Tabelas!$F$16:$G$21,2),\"\")))","v":""},null,null,null,null,null,null,null,null,null,null,null,null,null,null,null,"",{"$f":"+IF(AF816=\"\",\"\",VLOOKUP(AF816,Tabelas!$J$27:$K$30,2))","v":""}]
[null,null,null,null,null,null,{"$f":"+IF(F817=\"\",\"\",VLOOKUP(F817,Tabelas!$B$7:$C$96,2))","v":""},null,{"$f":"IF(H817=\"\",\"\",ROUND(H817/SUM(H810:H817),4))","v":""},null,null,null,null,null,null,{"$f":"+IF(O817=\"\",\"\",IF(N810=\"Transporte Marítimo\",VLOOKUP(O817,Tabelas!$F$7:$G$12,2),IF(N810=\"Transporte Aéreo\",VLOOKUP(O817,Tabelas!$F$16:$G$21,2),\"\")))","v":""},null,null,null,null,null,null,null,null,null,null,null,null,null,null,null,"",{"$f":"+IF(AF817=\"\",\"\",VLOOKUP(AF817,Tabelas!$J$27:$K$30,2))","v":""}]
[null,{"$f":"+B810+1","v":101},null,null,null,null,{"$f":"+IF(F818=\"\",\"\",VLOOKUP(F818,Tabelas!$B$7:$C$96,2))","v":""},null,{"$f":"IF(H818=\"\",\"\",1-SUM(I819:I825))","v":""},null,null,null,null,null,null,{"$f":"+IF(O818=\"\",\"\",IF(N818=\"Transporte Marítimo\",VLOOKUP(O818,Tabelas!$F$7:$G$12,2),IF(N818=\"Transporte Aéreo\",VLOOKUP(O818,Tabelas!$F$16:$G$21,2),\"\")))","v":""},null,null,null,null,null,null,null,null,null,null,null,null,null,null,null,"",{"$f":"+IF(AF818=\"\",\"\",VLOOKUP(AF818,Tabelas!$J$27:$K$30,2))","v":""},null,null,null,null,null,null,null,null,null,null,null,null,null,null,null," "]
[null,null,null,null,null,null,{"$f":"+IF(F819=\"\",\"\",VLOOKUP(F819,Tabelas!$B$7:$C$96,2))","v":""},null,{"$f":"IF(H819=\"\",\"\",ROUND(H819/SUM(H818:H825),4))","v":""},null,null,null,null,null,null,{"$f":"+IF(O819=\"\",\"\",IF(N818=\"Transporte Marítimo\",VLOOKUP(O819,Tabelas!$F$7:$G$12,2),IF(N818=\"Transporte Aéreo\",VLOOKUP(O819,Tabelas!$F$16:$G$21,2),\"\")))","v":""},null,null,null,null,null,null,null,null,null,null,null,null,null,null,null,"",{"$f":"+IF(AF819=\"\",\"\",VLOOKUP(AF819,Tabelas!$J$27:$K$30,2))","v":""}]
[null,null,null,null,null,null,{"$f":"+IF(F820=\"\",\"\",VLOOKUP(F820,Tabelas!$B$7:$C$96,2))","v":""},null,{"$f":"IF(H820=\"\",\"\",ROUND(H820/SUM(H818:H825),4))","v":""},null,null,null,null,null,null,{"$f":"+IF(O820=\"\",\"\",IF(N818=\"Transporte Marítimo\",VLOOKUP(O820,Tabelas!$F$7:$G$12,2),IF(N818=\"Transporte Aéreo\",VLOOKUP(O820,Tabelas!$F$16:$G$21,2),\"\")))","v":""},null,null,null,null,null,null,null,null,null,null,null,null,null,null,null,"",{"$f":"+IF(AF820=\"\",\"\",VLOOKUP(AF820,Tabelas!$J$27:$K$30,2))","v":""}]
[null,null,null,null,null,null,{"$f":"+IF(F821=\"\",\"\",VLOOKUP(F821,Tabelas!$B$7:$C$96,2))","v":""},null,{"$f":"IF(H821=\"\",\"\",ROUND(H821/SUM(H818:H825),4))","v":""},null,null,null,null,null,null,{"$f":"+IF(O821=\"\",\"\",IF(N818=\"Transporte Marítimo\",VLOOKUP(O821,Tabelas!$F$7:$G$12,2),IF(N818=\"Transporte Aéreo\",VLOOKUP(O821,Tabelas!$F$16:$G$21,2),\"\")))","v":""},null,null,null,null,null,null,null,null,null,null,null,null,null,null,null,"",{"$f":"+IF(AF821=\"\",\"\",VLOOKUP(AF821,Tabelas!$J$27:$K$30,2))","v":""}]
[null,null,null,null,null,null,{"$f":"+IF(F822=\"\",\"\",VLOOKUP(F822,Tabelas!$B$7:$C$96,2))","v":""},null,{"$f":"IF(H822=\"\",\"\",ROUND(H822/SUM(H818:H825),4))","v":""},null,null,null,null,null,null,{"$f":"+IF(O822=\"\",\"\",IF(N818=\"Transporte Marítimo\",VLOOKUP(O822,Tabelas!$F$7:$G$12,2),IF(N818=\"Transporte Aéreo\",VLOOKUP(O822,Tabelas!$F$16:$G$21,2),\"\")))","v":""},null,null,null,null,null,null,null,null,null,null,null,null,null,null,null,"",{"$f":"+IF(AF822=\"\",\"\",VLOOKUP(AF822,Tabelas!$J$27:$K$30,2))","v":""}]
[null,null,null,null,null,null,{"$f":"+IF(F823=\"\",\"\",VLOOKUP(F823,Tabelas!$B$7:$C$96,2))","v":""},null,{"$f":"IF(H823=\"\",\"\",ROUND(H823/SUM(H818:H825),4))","v":""},null,null,null,null,null,null,{"$f":"+IF(O823=\"\",\"\",IF(N818=\"Transporte Marítimo\",VLOOKUP(O823,Tabelas!$F$7:$G$12,2),IF(N818=\"Transporte Aéreo\",VLOOKUP(O823,Tabelas!$F$16:$G$21,2),\"\")))","v":""},null,null,null,null,null,null,null,null,null,null,null,null,null,null,null,"",{"$f":"+IF(AF823=\"\",\"\",VLOOKUP(AF823,Tabelas!$J$27:$K$30,2))","v":""}]
[null,null,null,null,null,null,{"$f":"+IF(F824=\"\",\"\",VLOOKUP(F824,Tabelas!$B$7:$C$96,2))","v":""},null,{"$f":"IF(H824=\"\",\"\",ROUND(H824/SUM(H818:H825),4))","v":""},null,null,null,null,null,null,{"$f":"+IF(O824=\"\",\"\",IF(N818=\"Transporte Marítimo\",VLOOKUP(O824,Tabelas!$F$7:$G$12,2),IF(N818=\"Transporte Aéreo\",VLOOKUP(O824,Tabelas!$F$16:$G$21,2),\"\")))","v":""},null,null,null,null,null,null,null,null,null,null,null,null,null,null,null,"",{"$f":"+IF(AF824=\"\",\"\",VLOOKUP(AF824,Tabelas!$J$27:$K$30,2))","v":""}]
[null,null,null,null,null,null,{"$f":"+IF(F825=\"\",\"\",VLOOKUP(F825,Tabelas!$B$7:$C$96,2))","v":""},null,{"$f":"IF(H825=\"\",\"\",ROUND(H825/SUM(H818:H825),4))","v":""},null,null,null,null,null,null,{"$f":"+IF(O825=\"\",\"\",IF(N818=\"Transporte Marítimo\",VLOOKUP(O825,Tabelas!$F$7:$G$12,2),IF(N818=\"Transporte Aéreo\",VLOOKUP(O825,Tabelas!$F$16:$G$21,2),\"\")))","v":""},null,null,null,null,null,null,null,null,null,null,null,null,null,null,null,"",{"$f":"+IF(AF825=\"\",\"\",VLOOKUP(AF825,Tabelas!$J$27:$K$30,2))","v":""}]
[null,{"$f":"+B818+1","v":102},null,null,null,null,{"$f":"+IF(F826=\"\",\"\",VLOOKUP(F826,Tabelas!$B$7:$C$96,2))","v":""},null,{"$f":"IF(H826=\"\",\"\",1-SUM(I827:I833))","v":""},null,null,null,null,null,null,{"$f":"+IF(O826=\"\",\"\",IF(N826=\"Transporte Marítimo\",VLOOKUP(O826,Tabelas!$F$7:$G$12,2),IF(N826=\"Transporte Aéreo\",VLOOKUP(O826,Tabelas!$F$16:$G$21,2),\"\")))","v":""},null,null,null,null,null,null,null,null,null,null,null,null,null,null,null,"",{"$f":"+IF(AF826=\"\",\"\",VLOOKUP(AF826,Tabelas!$J$27:$K$30,2))","v":""},null,null,null,null,null,null,null,null,null,null,null,null,null,null,null," "]
[null,null,null,null,null,null,{"$f":"+IF(F827=\"\",\"\",VLOOKUP(F827,Tabelas!$B$7:$C$96,2))","v":""},null,{"$f":"IF(H827=\"\",\"\",ROUND(H827/SUM(H826:H833),4))","v":""},null,null,null,null,null,null,{"$f":"+IF(O827=\"\",\"\",IF(N826=\"Transporte Marítimo\",VLOOKUP(O827,Tabelas!$F$7:$G$12,2),IF(N826=\"Transporte Aéreo\",VLOOKUP(O827,Tabelas!$F$16:$G$21,2),\"\")))","v":""},null,null,null,null,null,null,null,null,null,null,null,null,null,null,null,"",{"$f":"+IF(AF827=\"\",\"\",VLOOKUP(AF827,Tabelas!$J$27:$K$30,2))","v":""}]
[null,null,null,null,null,null,{"$f":"+IF(F828=\"\",\"\",VLOOKUP(F828,Tabelas!$B$7:$C$96,2))","v":""},null,{"$f":"IF(H828=\"\",\"\",ROUND(H828/SUM(H826:H833),4))","v":""},null,null,null,null,null,null,{"$f":"+IF(O828=\"\",\"\",IF(N826=\"Transporte Marítimo\",VLOOKUP(O828,Tabelas!$F$7:$G$12,2),IF(N826=\"Transporte Aéreo\",VLOOKUP(O828,Tabelas!$F$16:$G$21,2),\"\")))","v":""},null,null,null,null,null,null,null,null,null,null,null,null,null,null,null,"",{"$f":"+IF(AF828=\"\",\"\",VLOOKUP(AF828,Tabelas!$J$27:$K$30,2))","v":""}]
[null,null,null,null,null,null,{"$f":"+IF(F829=\"\",\"\",VLOOKUP(F829,Tabelas!$B$7:$C$96,2))","v":""},null,{"$f":"IF(H829=\"\",\"\",ROUND(H829/SUM(H826:H833),4))","v":""},null,null,null,null,null,null,{"$f":"+IF(O829=\"\",\"\",IF(N826=\"Transporte Marítimo\",VLOOKUP(O829,Tabelas!$F$7:$G$12,2),IF(N826=\"Transporte Aéreo\",VLOOKUP(O829,Tabelas!$F$16:$G$21,2),\"\")))","v":""},null,null,null,null,null,null,null,null,null,null,null,null,null,null,null,"",{"$f":"+IF(AF829=\"\",\"\",VLOOKUP(AF829,Tabelas!$J$27:$K$30,2))","v":""}]
[null,null,null,null,null,null,{"$f":"+IF(F830=\"\",\"\",VLOOKUP(F830,Tabelas!$B$7:$C$96,2))","v":""},null,{"$f":"IF(H830=\"\",\"\",ROUND(H830/SUM(H826:H833),4))","v":""},null,null,null,null,null,null,{"$f":"+IF(O830=\"\",\"\",IF(N826=\"Transporte Marítimo\",VLOOKUP(O830,Tabelas!$F$7:$G$12,2),IF(N826=\"Transporte Aéreo\",VLOOKUP(O830,Tabelas!$F$16:$G$21,2),\"\")))","v":""},null,null,null,null,null,null,null,null,null,null,null,null,null,null,null,"",{"$f":"+IF(AF830=\"\",\"\",VLOOKUP(AF830,Tabelas!$J$27:$K$30,2))","v":""}]
[null,null,null,null,null,null,{"$f":"+IF(F831=\"\",\"\",VLOOKUP(F831,Tabelas!$B$7:$C$96,2))","v":""},null,{"$f":"IF(H831=\"\",\"\",ROUND(H831/SUM(H826:H833),4))","v":""},null,null,null,null,null,null,{"$f":"+IF(O831=\"\",\"\",IF(N826=\"Transporte Marítimo\",VLOOKUP(O831,Tabelas!$F$7:$G$12,2),IF(N826=\"Transporte Aéreo\",VLOOKUP(O831,Tabelas!$F$16:$G$21,2),\"\")))","v":""},null,null,null,null,null,null,null,null,null,null,null,null,null,null,null,"",{"$f":"+IF(AF831=\"\",\"\",VLOOKUP(AF831,Tabelas!$J$27:$K$30,2))","v":""}]
[null,null,null,null,null,null,{"$f":"+IF(F832=\"\",\"\",VLOOKUP(F832,Tabelas!$B$7:$C$96,2))","v":""},null,{"$f":"IF(H832=\"\",\"\",ROUND(H832/SUM(H826:H833),4))","v":""},null,null,null,null,null,null,{"$f":"+IF(O832=\"\",\"\",IF(N826=\"Transporte Marítimo\",VLOOKUP(O832,Tabelas!$F$7:$G$12,2),IF(N826=\"Transporte Aéreo\",VLOOKUP(O832,Tabelas!$F$16:$G$21,2),\"\")))","v":""},null,null,null,null,null,null,null,null,null,null,null,null,null,null,null,"",{"$f":"+IF(AF832=\"\",\"\",VLOOKUP(AF832,Tabelas!$J$27:$K$30,2))","v":""}]
[null,null,null,null,null,null,{"$f":"+IF(F833=\"\",\"\",VLOOKUP(F833,Tabelas!$B$7:$C$96,2))","v":""},null,{"$f":"IF(H833=\"\",\"\",ROUND(H833/SUM(H826:H833),4))","v":""},null,null,null,null,null,null,{"$f":"+IF(O833=\"\",\"\",IF(N826=\"Transporte Marítimo\",VLOOKUP(O833,Tabelas!$F$7:$G$12,2),IF(N826=\"Transporte Aéreo\",VLOOKUP(O833,Tabelas!$F$16:$G$21,2),\"\")))","v":""},null,null,null,null,null,null,null,null,null,null,null,null,null,null,null,"",{"$f":"+IF(AF833=\"\",\"\",VLOOKUP(AF833,Tabelas!$J$27:$K$30,2))","v":""}]
[null,{"$f":"+B826+1","v":103},null,null,null,null,{"$f":"+IF(F834=\"\",\"\",VLOOKUP(F834,Tabelas!$B$7:$C$96,2))","v":""},null,{"$f":"IF(H834=\"\",\"\",1-SUM(I835:I841))","v":""},null,null,null,null,null,null,{"$f":"+IF(O834=\"\",\"\",IF(N834=\"Transporte Marítimo\",VLOOKUP(O834,Tabelas!$F$7:$G$12,2),IF(N834=\"Transporte Aéreo\",VLOOKUP(O834,Tabelas!$F$16:$G$21,2),\"\")))","v":""},null,null,null,null,null,null,null,null,null,null,null,null,null,null,null,"",{"$f":"+IF(AF834=\"\",\"\",VLOOKUP(AF834,Tabelas!$J$27:$K$30,2))","v":""},null,null,null,null,null,null,null,null,null,null,null,null,null,null,null," "]
[null,null,null,null,null,null,{"$f":"+IF(F835=\"\",\"\",VLOOKUP(F835,Tabelas!$B$7:$C$96,2))","v":""},null,{"$f":"IF(H835=\"\",\"\",ROUND(H835/SUM(H834:H841),4))","v":""},null,null,null,null,null,null,{"$f":"+IF(O835=\"\",\"\",IF(N834=\"Transporte Marítimo\",VLOOKUP(O835,Tabelas!$F$7:$G$12,2),IF(N834=\"Transporte Aéreo\",VLOOKUP(O835,Tabelas!$F$16:$G$21,2),\"\")))","v":""},null,null,null,null,null,null,null,null,null,null,null,null,null,null,null,"",{"$f":"+IF(AF835=\"\",\"\",VLOOKUP(AF835,Tabelas!$J$27:$K$30,2))","v":""}]
[null,null,null,null,null,null,{"$f":"+IF(F836=\"\",\"\",VLOOKUP(F836,Tabelas!$B$7:$C$96,2))","v":""},null,{"$f":"IF(H836=\"\",\"\",ROUND(H836/SUM(H834:H841),4))","v":""},null,null,null,null,null,null,{"$f":"+IF(O836=\"\",\"\",IF(N834=\"Transporte Marítimo\",VLOOKUP(O836,Tabelas!$F$7:$G$12,2),IF(N834=\"Transporte Aéreo\",VLOOKUP(O836,Tabelas!$F$16:$G$21,2),\"\")))","v":""},null,null,null,null,null,null,null,null,null,null,null,null,null,null,null,"",{"$f":"+IF(AF836=\"\",\"\",VLOOKUP(AF836,Tabelas!$J$27:$K$30,2))","v":""}]
[null,null,null,null,null,null,{"$f":"+IF(F837=\"\",\"\",VLOOKUP(F837,Tabelas!$B$7:$C$96,2))","v":""},null,{"$f":"IF(H837=\"\",\"\",ROUND(H837/SUM(H834:H841),4))","v":""},null,null,null,null,null,null,{"$f":"+IF(O837=\"\",\"\",IF(N834=\"Transporte Marítimo\",VLOOKUP(O837,Tabelas!$F$7:$G$12,2),IF(N834=\"Transporte Aéreo\",VLOOKUP(O837,Tabelas!$F$16:$G$21,2),\"\")))","v":""},null,null,null,null,null,null,null,null,null,null,null,null,null,null,null,"",{"$f":"+IF(AF837=\"\",\"\",VLOOKUP(AF837,Tabelas!$J$27:$K$30,2))","v":""}]
[null,null,null,null,null,null,{"$f":"+IF(F838=\"\",\"\",VLOOKUP(F838,Tabelas!$B$7:$C$96,2))","v":""},null,{"$f":"IF(H838=\"\",\"\",ROUND(H838/SUM(H834:H841),4))","v":""},null,null,null,null,null,null,{"$f":"+IF(O838=\"\",\"\",IF(N834=\"Transporte Marítimo\",VLOOKUP(O838,Tabelas!$F$7:$G$12,2),IF(N834=\"Transporte Aéreo\",VLOOKUP(O838,Tabelas!$F$16:$G$21,2),\"\")))","v":""},null,null,null,null,null,null,null,null,null,null,null,null,null,null,null,"",{"$f":"+IF(AF838=\"\",\"\",VLOOKUP(AF838,Tabelas!$J$27:$K$30,2))","v":""}]
[null,null,null,null,null,null,{"$f":"+IF(F839=\"\",\"\",VLOOKUP(F839,Tabelas!$B$7:$C$96,2))","v":""},null,{"$f":"IF(H839=\"\",\"\",ROUND(H839/SUM(H834:H841),4))","v":""},null,null,null,null,null,null,{"$f":"+IF(O839=\"\",\"\",IF(N834=\"Transporte Marítimo\",VLOOKUP(O839,Tabelas!$F$7:$G$12,2),IF(N834=\"Transporte Aéreo\",VLOOKUP(O839,Tabelas!$F$16:$G$21,2),\"\")))","v":""},null,null,null,null,null,null,null,null,null,null,null,null,null,null,null,"",{"$f":"+IF(AF839=\"\",\"\",VLOOKUP(AF839,Tabelas!$J$27:$K$30,2))","v":""}]
[null,null,null,null,null,null,{"$f":"+IF(F840=\"\",\"\",VLOOKUP(F840,Tabelas!$B$7:$C$96,2))","v":""},null,{"$f":"IF(H840=\"\",\"\",ROUND(H840/SUM(H834:H841),4))","v":""},null,null,null,null,null,null,{"$f":"+IF(O840=\"\",\"\",IF(N834=\"Transporte Marítimo\",VLOOKUP(O840,Tabelas!$F$7:$G$12,2),IF(N834=\"Transporte Aéreo\",VLOOKUP(O840,Tabelas!$F$16:$G$21,2),\"\")))","v":""},null,null,null,null,null,null,null,null,null,null,null,null,null,null,null,"",{"$f":"+IF(AF840=\"\",\"\",VLOOKUP(AF840,Tabelas!$J$27:$K$30,2))","v":""}]
[null,null,null,null,null,null,{"$f":"+IF(F841=\"\",\"\",VLOOKUP(F841,Tabelas!$B$7:$C$96,2))","v":""},null,{"$f":"IF(H841=\"\",\"\",ROUND(H841/SUM(H834:H841),4))","v":""},null,null,null,null,null,null,{"$f":"+IF(O841=\"\",\"\",IF(N834=\"Transporte Marítimo\",VLOOKUP(O841,Tabelas!$F$7:$G$12,2),IF(N834=\"Transporte Aéreo\",VLOOKUP(O841,Tabelas!$F$16:$G$21,2),\"\")))","v":""},null,null,null,null,null,null,null,null,null,null,null,null,null,null,null,"",{"$f":"+IF(AF841=\"\",\"\",VLOOKUP(AF841,Tabelas!$J$27:$K$30,2))","v":""}]
[null,{"$f":"+B834+1","v":104},null,null,null,null,{"$f":"+IF(F842=\"\",\"\",VLOOKUP(F842,Tabelas!$B$7:$C$96,2))","v":""},null,{"$f":"IF(H842=\"\",\"\",1-SUM(I843:I849))","v":""},null,null,null,null,null,null,{"$f":"+IF(O842=\"\",\"\",IF(N842=\"Transporte Marítimo\",VLOOKUP(O842,Tabelas!$F$7:$G$12,2),IF(N842=\"Transporte Aéreo\",VLOOKUP(O842,Tabelas!$F$16:$G$21,2),\"\")))","v":""},null,null,null,null,null,null,null,null,null,null,null,null,null,null,null,"",{"$f":"+IF(AF842=\"\",\"\",VLOOKUP(AF842,Tabelas!$J$27:$K$30,2))","v":""},null,null,null,null,null,null,null,null,null,null,null,null,null,null,null," "]
[null,null,null,null,null,null,{"$f":"+IF(F843=\"\",\"\",VLOOKUP(F843,Tabelas!$B$7:$C$96,2))","v":""},null,{"$f":"IF(H843=\"\",\"\",ROUND(H843/SUM(H842:H849),4))","v":""},null,null,null,null,null,null,{"$f":"+IF(O843=\"\",\"\",IF(N842=\"Transporte Marítimo\",VLOOKUP(O843,Tabelas!$F$7:$G$12,2),IF(N842=\"Transporte Aéreo\",VLOOKUP(O843,Tabelas!$F$16:$G$21,2),\"\")))","v":""},null,null,null,null,null,null,null,null,null,null,null,null,null,null,null,"",{"$f":"+IF(AF843=\"\",\"\",VLOOKUP(AF843,Tabelas!$J$27:$K$30,2))","v":""}]
[null,null,null,null,null,null,{"$f":"+IF(F844=\"\",\"\",VLOOKUP(F844,Tabelas!$B$7:$C$96,2))","v":""},null,{"$f":"IF(H844=\"\",\"\",ROUND(H844/SUM(H842:H849),4))","v":""},null,null,null,null,null,null,{"$f":"+IF(O844=\"\",\"\",IF(N842=\"Transporte Marítimo\",VLOOKUP(O844,Tabelas!$F$7:$G$12,2),IF(N842=\"Transporte Aéreo\",VLOOKUP(O844,Tabelas!$F$16:$G$21,2),\"\")))","v":""},null,null,null,null,null,null,null,null,null,null,null,null,null,null,null,"",{"$f":"+IF(AF844=\"\",\"\",VLOOKUP(AF844,Tabelas!$J$27:$K$30,2))","v":""}]
[null,null,null,null,null,null,{"$f":"+IF(F845=\"\",\"\",VLOOKUP(F845,Tabelas!$B$7:$C$96,2))","v":""},null,{"$f":"IF(H845=\"\",\"\",ROUND(H845/SUM(H842:H849),4))","v":""},null,null,null,null,null,null,{"$f":"+IF(O845=\"\",\"\",IF(N842=\"Transporte Marítimo\",VLOOKUP(O845,Tabelas!$F$7:$G$12,2),IF(N842=\"Transporte Aéreo\",VLOOKUP(O845,Tabelas!$F$16:$G$21,2),\"\")))","v":""},null,null,null,null,null,null,null,null,null,null,null,null,null,null,null,"",{"$f":"+IF(AF845=\"\",\"\",VLOOKUP(AF845,Tabelas!$J$27:$K$30,2))","v":""}]
[null,null,null,null,null,null,{"$f":"+IF(F846=\"\",\"\",VLOOKUP(F846,Tabelas!$B$7:$C$96,2))","v":""},null,{"$f":"IF(H846=\"\",\"\",ROUND(H846/SUM(H842:H849),4))","v":""},null,null,null,null,null,null,{"$f":"+IF(O846=\"\",\"\",IF(N842=\"Transporte Marítimo\",VLOOKUP(O846,Tabelas!$F$7:$G$12,2),IF(N842=\"Transporte Aéreo\",VLOOKUP(O846,Tabelas!$F$16:$G$21,2),\"\")))","v":""},null,null,null,null,null,null,null,null,null,null,null,null,null,null,null,"",{"$f":"+IF(AF846=\"\",\"\",VLOOKUP(AF846,Tabelas!$J$27:$K$30,2))","v":""}]
[null,null,null,null,null,null,{"$f":"+IF(F847=\"\",\"\",VLOOKUP(F847,Tabelas!$B$7:$C$96,2))","v":""},null,{"$f":"IF(H847=\"\",\"\",ROUND(H847/SUM(H842:H849),4))","v":""},null,null,null,null,null,null,{"$f":"+IF(O847=\"\",\"\",IF(N842=\"Transporte Marítimo\",VLOOKUP(O847,Tabelas!$F$7:$G$12,2),IF(N842=\"Transporte Aéreo\",VLOOKUP(O847,Tabelas!$F$16:$G$21,2),\"\")))","v":""},null,null,null,null,null,null,null,null,null,null,null,null,null,null,null,"",{"$f":"+IF(AF847=\"\",\"\",VLOOKUP(AF847,Tabelas!$J$27:$K$30,2))","v":""}]
[null,null,null,null,null,null,{"$f":"+IF(F848=\"\",\"\",VLOOKUP(F848,Tabelas!$B$7:$C$96,2))","v":""},null,{"$f":"IF(H848=\"\",\"\",ROUND(H848/SUM(H842:H849),4))","v":""},null,null,null,null,null,null,{"$f":"+IF(O848=\"\",\"\",IF(N842=\"Transporte Marítimo\",VLOOKUP(O848,Tabelas!$F$7:$G$12,2),IF(N842=\"Transporte Aéreo\",VLOOKUP(O848,Tabelas!$F$16:$G$21,2),\"\")))","v":""},null,null,null,null,null,null,null,null,null,null,null,null,null,null,null,"",{"$f":"+IF(AF848=\"\",\"\",VLOOKUP(AF848,Tabelas!$J$27:$K$30,2))","v":""}]
[null,null,null,null,null,null,{"$f":"+IF(F849=\"\",\"\",VLOOKUP(F849,Tabelas!$B$7:$C$96,2))","v":""},null,{"$f":"IF(H849=\"\",\"\",ROUND(H849/SUM(H842:H849),4))","v":""},null,null,null,null,null,null,{"$f":"+IF(O849=\"\",\"\",IF(N842=\"Transporte Marítimo\",VLOOKUP(O849,Tabelas!$F$7:$G$12,2),IF(N842=\"Transporte Aéreo\",VLOOKUP(O849,Tabelas!$F$16:$G$21,2),\"\")))","v":""},null,null,null,null,null,null,null,null,null,null,null,null,null,null,null,"",{"$f":"+IF(AF849=\"\",\"\",VLOOKUP(AF849,Tabelas!$J$27:$K$30,2))","v":""}]
[null,{"$f":"+B842+1","v":105},null,null,null,null,{"$f":"+IF(F850=\"\",\"\",VLOOKUP(F850,Tabelas!$B$7:$C$96,2))","v":""},null,{"$f":"IF(H850=\"\",\"\",1-SUM(I851:I857))","v":""},null,null,null,null,null,null,{"$f":"+IF(O850=\"\",\"\",IF(N850=\"Transporte Marítimo\",VLOOKUP(O850,Tabelas!$F$7:$G$12,2),IF(N850=\"Transporte Aéreo\",VLOOKUP(O850,Tabelas!$F$16:$G$21,2),\"\")))","v":""},null,null,null,null,null,null,null,null,null,null,null,null,null,null,null,"",{"$f":"+IF(AF850=\"\",\"\",VLOOKUP(AF850,Tabelas!$J$27:$K$30,2))","v":""},null,null,null,null,null,null,null,null,null,null,null,null,null,null,null," "]
[null,null,null,null,null,null,{"$f":"+IF(F851=\"\",\"\",VLOOKUP(F851,Tabelas!$B$7:$C$96,2))","v":""},null,{"$f":"IF(H851=\"\",\"\",ROUND(H851/SUM(H850:H857),4))","v":""},null,null,null,null,null,null,{"$f":"+IF(O851=\"\",\"\",IF(N850=\"Transporte Marítimo\",VLOOKUP(O851,Tabelas!$F$7:$G$12,2),IF(N850=\"Transporte Aéreo\",VLOOKUP(O851,Tabelas!$F$16:$G$21,2),\"\")))","v":""},null,null,null,null,null,null,null,null,null,null,null,null,null,null,null,{"$f":"+IF(AE851=\"20NL\",1,IF(AE851=\"40NL\",2,IF(AE851=\"20RF\",3,IF(AE851=\"40RF\",4,\"\"))))","v":""},{"$f":"+IF(AF851=\"\",\"\",VLOOKUP(AF851,Tabelas!$J$27:$K$30,2))","v":""}]
[null,null,null,null,null,null,{"$f":"+IF(F852=\"\",\"\",VLOOKUP(F852,Tabelas!$B$7:$C$96,2))","v":""},null,{"$f":"IF(H852=\"\",\"\",ROUND(H852/SUM(H850:H857),4))","v":""},null,null,null,null,null,null,{"$f":"+IF(O852=\"\",\"\",IF(N850=\"Transporte Marítimo\",VLOOKUP(O852,Tabelas!$F$7:$G$12,2),IF(N850=\"Transporte Aéreo\",VLOOKUP(O852,Tabelas!$F$16:$G$21,2),\"\")))","v":""},null,null,null,null,null,null,null,null,null,null,null,null,null,null,null,"",{"$f":"+IF(AF852=\"\",\"\",VLOOKUP(AF852,Tabelas!$J$27:$K$30,2))","v":""}]
[null,null,null,null,null,null,{"$f":"+IF(F853=\"\",\"\",VLOOKUP(F853,Tabelas!$B$7:$C$96,2))","v":""},null,{"$f":"IF(H853=\"\",\"\",ROUND(H853/SUM(H850:H857),4))","v":""},null,null,null,null,null,null,{"$f":"+IF(O853=\"\",\"\",IF(N850=\"Transporte Marítimo\",VLOOKUP(O853,Tabelas!$F$7:$G$12,2),IF(N850=\"Transporte Aéreo\",VLOOKUP(O853,Tabelas!$F$16:$G$21,2),\"\")))","v":""},null,null,null,null,null,null,null,null,null,null,null,null,null,null,null,"",{"$f":"+IF(AF853=\"\",\"\",VLOOKUP(AF853,Tabelas!$J$27:$K$30,2))","v":""}]
[null,null,null,null,null,null,{"$f":"+IF(F854=\"\",\"\",VLOOKUP(F854,Tabelas!$B$7:$C$96,2))","v":""},null,{"$f":"IF(H854=\"\",\"\",ROUND(H854/SUM(H850:H857),4))","v":""},null,null,null,null,null,null,{"$f":"+IF(O854=\"\",\"\",IF(N850=\"Transporte Marítimo\",VLOOKUP(O854,Tabelas!$F$7:$G$12,2),IF(N850=\"Transporte Aéreo\",VLOOKUP(O854,Tabelas!$F$16:$G$21,2),\"\")))","v":""},null,null,null,null,null,null,null,null,null,null,null,null,null,null,null,"",{"$f":"+IF(AF854=\"\",\"\",VLOOKUP(AF854,Tabelas!$J$27:$K$30,2))","v":""}]
[null,null,null,null,null,null,{"$f":"+IF(F855=\"\",\"\",VLOOKUP(F855,Tabelas!$B$7:$C$96,2))","v":""},null,{"$f":"IF(H855=\"\",\"\",ROUND(H855/SUM(H850:H857),4))","v":""},null,null,null,null,null,null,{"$f":"+IF(O855=\"\",\"\",IF(N850=\"Transporte Marítimo\",VLOOKUP(O855,Tabelas!$F$7:$G$12,2),IF(N850=\"Transporte Aéreo\",VLOOKUP(O855,Tabelas!$F$16:$G$21,2),\"\")))","v":""},null,null,null,null,null,null,null,null,null,null,null,null,null,null,null,"",{"$f":"+IF(AF855=\"\",\"\",VLOOKUP(AF855,Tabelas!$J$27:$K$30,2))","v":""}]
[null,null,null,null,null,null,{"$f":"+IF(F856=\"\",\"\",VLOOKUP(F856,Tabelas!$B$7:$C$96,2))","v":""},null,{"$f":"IF(H856=\"\",\"\",ROUND(H856/SUM(H850:H857),4))","v":""},null,null,null,null,null,null,{"$f":"+IF(O856=\"\",\"\",IF(N850=\"Transporte Marítimo\",VLOOKUP(O856,Tabelas!$F$7:$G$12,2),IF(N850=\"Transporte Aéreo\",VLOOKUP(O856,Tabelas!$F$16:$G$21,2),\"\")))","v":""},null,null,null,null,null,null,null,null,null,null,null,null,null,null,null,"",{"$f":"+IF(AF856=\"\",\"\",VLOOKUP(AF856,Tabelas!$J$27:$K$30,2))","v":""}]
[null,null,null,null,null,null,{"$f":"+IF(F857=\"\",\"\",VLOOKUP(F857,Tabelas!$B$7:$C$96,2))","v":""},null,{"$f":"IF(H857=\"\",\"\",ROUND(H857/SUM(H850:H857),4))","v":""},null,null,null,null,null,null,{"$f":"+IF(O857=\"\",\"\",IF(N850=\"Transporte Marítimo\",VLOOKUP(O857,Tabelas!$F$7:$G$12,2),IF(N850=\"Transporte Aéreo\",VLOOKUP(O857,Tabelas!$F$16:$G$21,2),\"\")))","v":""},null,null,null,null,null,null,null,null,null,null,null,null,null,null,null,"",{"$f":"+IF(AF857=\"\",\"\",VLOOKUP(AF857,Tabelas!$J$27:$K$30,2))","v":""}]
[null,{"$f":"+B850+1","v":106},null,null,null,null,{"$f":"+IF(F858=\"\",\"\",VLOOKUP(F858,Tabelas!$B$7:$C$96,2))","v":""},null,{"$f":"IF(H858=\"\",\"\",1-SUM(I859:I865))","v":""},null,null,null,null,null,null,{"$f":"+IF(O858=\"\",\"\",IF(N858=\"Transporte Marítimo\",VLOOKUP(O858,Tabelas!$F$7:$G$12,2),IF(N858=\"Transporte Aéreo\",VLOOKUP(O858,Tabelas!$F$16:$G$21,2),\"\")))","v":""},null,null,null,null,null,null,null,null,null,null,null,null,null,null,null,"",{"$f":"+IF(AF858=\"\",\"\",VLOOKUP(AF858,Tabelas!$J$27:$K$30,2))","v":""},null,null,null,null,null,null,null,null,null,null,null,null,null,null,null," "]
[null,null,null,null,null,null,{"$f":"+IF(F859=\"\",\"\",VLOOKUP(F859,Tabelas!$B$7:$C$96,2))","v":""},null,{"$f":"IF(H859=\"\",\"\",ROUND(H859/SUM(H858:H865),4))","v":""},null,null,null,null,null,null,{"$f":"+IF(O859=\"\",\"\",IF(N858=\"Transporte Marítimo\",VLOOKUP(O859,Tabelas!$F$7:$G$12,2),IF(N858=\"Transporte Aéreo\",VLOOKUP(O859,Tabelas!$F$16:$G$21,2),\"\")))","v":""},null,null,null,null,null,null,null,null,null,null,null,null,null,null,null,"",{"$f":"+IF(AF859=\"\",\"\",VLOOKUP(AF859,Tabelas!$J$27:$K$30,2))","v":""}]
[null,null,null,null,null,null,{"$f":"+IF(F860=\"\",\"\",VLOOKUP(F860,Tabelas!$B$7:$C$96,2))","v":""},null,{"$f":"IF(H860=\"\",\"\",ROUND(H860/SUM(H858:H865),4))","v":""},null,null,null,null,null,null,{"$f":"+IF(O860=\"\",\"\",IF(N858=\"Transporte Marítimo\",VLOOKUP(O860,Tabelas!$F$7:$G$12,2),IF(N858=\"Transporte Aéreo\",VLOOKUP(O860,Tabelas!$F$16:$G$21,2),\"\")))","v":""},null,null,null,null,null,null,null,null,null,null,null,null,null,null,null,"",{"$f":"+IF(AF860=\"\",\"\",VLOOKUP(AF860,Tabelas!$J$27:$K$30,2))","v":""}]
[null,null,null,null,null,null,{"$f":"+IF(F861=\"\",\"\",VLOOKUP(F861,Tabelas!$B$7:$C$96,2))","v":""},null,{"$f":"IF(H861=\"\",\"\",ROUND(H861/SUM(H858:H865),4))","v":""},null,null,null,null,null,null,{"$f":"+IF(O861=\"\",\"\",IF(N858=\"Transporte Marítimo\",VLOOKUP(O861,Tabelas!$F$7:$G$12,2),IF(N858=\"Transporte Aéreo\",VLOOKUP(O861,Tabelas!$F$16:$G$21,2),\"\")))","v":""},null,null,null,null,null,null,null,null,null,null,null,null,null,null,null,"",{"$f":"+IF(AF861=\"\",\"\",VLOOKUP(AF861,Tabelas!$J$27:$K$30,2))","v":""}]
[null,null,null,null,null,null,{"$f":"+IF(F862=\"\",\"\",VLOOKUP(F862,Tabelas!$B$7:$C$96,2))","v":""},null,{"$f":"IF(H862=\"\",\"\",ROUND(H862/SUM(H858:H865),4))","v":""},null,null,null,null,null,null,{"$f":"+IF(O862=\"\",\"\",IF(N858=\"Transporte Marítimo\",VLOOKUP(O862,Tabelas!$F$7:$G$12,2),IF(N858=\"Transporte Aéreo\",VLOOKUP(O862,Tabelas!$F$16:$G$21,2),\"\")))","v":""},null,null,null,null,null,null,null,null,null,null,null,null,null,null,null,"",{"$f":"+IF(AF862=\"\",\"\",VLOOKUP(AF862,Tabelas!$J$27:$K$30,2))","v":""}]
[null,null,null,null,null,null,{"$f":"+IF(F863=\"\",\"\",VLOOKUP(F863,Tabelas!$B$7:$C$96,2))","v":""},null,{"$f":"IF(H863=\"\",\"\",ROUND(H863/SUM(H858:H865),4))","v":""},null,null,null,null,null,null,{"$f":"+IF(O863=\"\",\"\",IF(N858=\"Transporte Marítimo\",VLOOKUP(O863,Tabelas!$F$7:$G$12,2),IF(N858=\"Transporte Aéreo\",VLOOKUP(O863,Tabelas!$F$16:$G$21,2),\"\")))","v":""},null,null,null,null,null,null,null,null,null,null,null,null,null,null,null,"",{"$f":"+IF(AF863=\"\",\"\",VLOOKUP(AF863,Tabelas!$J$27:$K$30,2))","v":""}]
[null,null,null,null,null,null,{"$f":"+IF(F864=\"\",\"\",VLOOKUP(F864,Tabelas!$B$7:$C$96,2))","v":""},null,{"$f":"IF(H864=\"\",\"\",ROUND(H864/SUM(H858:H865),4))","v":""},null,null,null,null,null,null,{"$f":"+IF(O864=\"\",\"\",IF(N858=\"Transporte Marítimo\",VLOOKUP(O864,Tabelas!$F$7:$G$12,2),IF(N858=\"Transporte Aéreo\",VLOOKUP(O864,Tabelas!$F$16:$G$21,2),\"\")))","v":""},null,null,null,null,null,null,null,null,null,null,null,null,null,null,null,"",{"$f":"+IF(AF864=\"\",\"\",VLOOKUP(AF864,Tabelas!$J$27:$K$30,2))","v":""}]
[null,null,null,null,null,null,{"$f":"+IF(F865=\"\",\"\",VLOOKUP(F865,Tabelas!$B$7:$C$96,2))","v":""},null,{"$f":"IF(H865=\"\",\"\",ROUND(H865/SUM(H858:H865),4))","v":""},null,null,null,null,null,null,{"$f":"+IF(O865=\"\",\"\",IF(N858=\"Transporte Marítimo\",VLOOKUP(O865,Tabelas!$F$7:$G$12,2),IF(N858=\"Transporte Aéreo\",VLOOKUP(O865,Tabelas!$F$16:$G$21,2),\"\")))","v":""},null,null,null,null,null,null,null,null,null,null,null,null,null,null,null,"",{"$f":"+IF(AF865=\"\",\"\",VLOOKUP(AF865,Tabelas!$J$27:$K$30,2))","v":""}]
[null,{"$f":"+B858+1","v":107},null,null,null,null,{"$f":"+IF(F866=\"\",\"\",VLOOKUP(F866,Tabelas!$B$7:$C$96,2))","v":""},null,{"$f":"IF(H866=\"\",\"\",1-SUM(I867:I873))","v":""},null,null,null,null,null,null,{"$f":"+IF(O866=\"\",\"\",IF(N866=\"Transporte Marítimo\",VLOOKUP(O866,Tabelas!$F$7:$G$12,2),IF(N866=\"Transporte Aéreo\",VLOOKUP(O866,Tabelas!$F$16:$G$21,2),\"\")))","v":""},null,null,null,null,null,null,null,null,null,null,null,null,null,null,null,"",{"$f":"+IF(AF866=\"\",\"\",VLOOKUP(AF866,Tabelas!$J$27:$K$30,2))","v":""},null,null,null,null,null,null,null,null,null,null,null,null,null,null,null," "]
[null,null,null,null,null,null,{"$f":"+IF(F867=\"\",\"\",VLOOKUP(F867,Tabelas!$B$7:$C$96,2))","v":""},null,{"$f":"IF(H867=\"\",\"\",ROUND(H867/SUM(H866:H873),4))","v":""},null,null,null,null,null,null,{"$f":"+IF(O867=\"\",\"\",IF(N866=\"Transporte Marítimo\",VLOOKUP(O867,Tabelas!$F$7:$G$12,2),IF(N866=\"Transporte Aéreo\",VLOOKUP(O867,Tabelas!$F$16:$G$21,2),\"\")))","v":""},null,null,null,null,null,null,null,null,null,null,null,null,null,null,null,"",{"$f":"+IF(AF867=\"\",\"\",VLOOKUP(AF867,Tabelas!$J$27:$K$30,2))","v":""}]
[null,null,null,null,null,null,{"$f":"+IF(F868=\"\",\"\",VLOOKUP(F868,Tabelas!$B$7:$C$96,2))","v":""},null,{"$f":"IF(H868=\"\",\"\",ROUND(H868/SUM(H866:H873),4))","v":""},null,null,null,null,null,null,{"$f":"+IF(O868=\"\",\"\",IF(N866=\"Transporte Marítimo\",VLOOKUP(O868,Tabelas!$F$7:$G$12,2),IF(N866=\"Transporte Aéreo\",VLOOKUP(O868,Tabelas!$F$16:$G$21,2),\"\")))","v":""},null,null,null,null,null,null,null,null,null,null,null,null,null,null,null,"",{"$f":"+IF(AF868=\"\",\"\",VLOOKUP(AF868,Tabelas!$J$27:$K$30,2))","v":""}]
[null,null,null,null,null,null,{"$f":"+IF(F869=\"\",\"\",VLOOKUP(F869,Tabelas!$B$7:$C$96,2))","v":""},null,{"$f":"IF(H869=\"\",\"\",ROUND(H869/SUM(H866:H873),4))","v":""},null,null,null,null,null,null,{"$f":"+IF(O869=\"\",\"\",IF(N866=\"Transporte Marítimo\",VLOOKUP(O869,Tabelas!$F$7:$G$12,2),IF(N866=\"Transporte Aéreo\",VLOOKUP(O869,Tabelas!$F$16:$G$21,2),\"\")))","v":""},null,null,null,null,null,null,null,null,null,null,null,null,null,null,null,"",{"$f":"+IF(AF869=\"\",\"\",VLOOKUP(AF869,Tabelas!$J$27:$K$30,2))","v":""}]
[null,null,null,null,null,null,{"$f":"+IF(F870=\"\",\"\",VLOOKUP(F870,Tabelas!$B$7:$C$96,2))","v":""},null,{"$f":"IF(H870=\"\",\"\",ROUND(H870/SUM(H866:H873),4))","v":""},null,null,null,null,null,null,{"$f":"+IF(O870=\"\",\"\",IF(N866=\"Transporte Marítimo\",VLOOKUP(O870,Tabelas!$F$7:$G$12,2),IF(N866=\"Transporte Aéreo\",VLOOKUP(O870,Tabelas!$F$16:$G$21,2),\"\")))","v":""},null,null,null,null,null,null,null,null,null,null,null,null,null,null,null,"",{"$f":"+IF(AF870=\"\",\"\",VLOOKUP(AF870,Tabelas!$J$27:$K$30,2))","v":""}]
[null,null,null,null,null,null,{"$f":"+IF(F871=\"\",\"\",VLOOKUP(F871,Tabelas!$B$7:$C$96,2))","v":""},null,{"$f":"IF(H871=\"\",\"\",ROUND(H871/SUM(H866:H873),4))","v":""},null,null,null,null,null,null,{"$f":"+IF(O871=\"\",\"\",IF(N866=\"Transporte Marítimo\",VLOOKUP(O871,Tabelas!$F$7:$G$12,2),IF(N866=\"Transporte Aéreo\",VLOOKUP(O871,Tabelas!$F$16:$G$21,2),\"\")))","v":""},null,null,null,null,null,null,null,null,null,null,null,null,null,null,null,"",{"$f":"+IF(AF871=\"\",\"\",VLOOKUP(AF871,Tabelas!$J$27:$K$30,2))","v":""}]
[null,null,null,null,null,null,{"$f":"+IF(F872=\"\",\"\",VLOOKUP(F872,Tabelas!$B$7:$C$96,2))","v":""},null,{"$f":"IF(H872=\"\",\"\",ROUND(H872/SUM(H866:H873),4))","v":""},null,null,null,null,null,null,{"$f":"+IF(O872=\"\",\"\",IF(N866=\"Transporte Marítimo\",VLOOKUP(O872,Tabelas!$F$7:$G$12,2),IF(N866=\"Transporte Aéreo\",VLOOKUP(O872,Tabelas!$F$16:$G$21,2),\"\")))","v":""},null,null,null,null,null,null,null,null,null,null,null,null,null,null,null,"",{"$f":"+IF(AF872=\"\",\"\",VLOOKUP(AF872,Tabelas!$J$27:$K$30,2))","v":""}]
[null,null,null,null,null,null,{"$f":"+IF(F873=\"\",\"\",VLOOKUP(F873,Tabelas!$B$7:$C$96,2))","v":""},null,{"$f":"IF(H873=\"\",\"\",ROUND(H873/SUM(H866:H873),4))","v":""},null,null,null,null,null,null,{"$f":"+IF(O873=\"\",\"\",IF(N866=\"Transporte Marítimo\",VLOOKUP(O873,Tabelas!$F$7:$G$12,2),IF(N866=\"Transporte Aéreo\",VLOOKUP(O873,Tabelas!$F$16:$G$21,2),\"\")))","v":""},null,null,null,null,null,null,null,null,null,null,null,null,null,null,null,"",{"$f":"+IF(AF873=\"\",\"\",VLOOKUP(AF873,Tabelas!$J$27:$K$30,2))","v":""}]
[null,{"$f":"+B866+1","v":108},null,null,null,null,{"$f":"+IF(F874=\"\",\"\",VLOOKUP(F874,Tabelas!$B$7:$C$96,2))","v":""},null,{"$f":"IF(H874=\"\",\"\",1-SUM(I875:I881))","v":""},null,null,null,null,null,null,{"$f":"+IF(O874=\"\",\"\",IF(N874=\"Transporte Marítimo\",VLOOKUP(O874,Tabelas!$F$7:$G$12,2),IF(N874=\"Transporte Aéreo\",VLOOKUP(O874,Tabelas!$F$16:$G$21,2),\"\")))","v":""},null,null,null,null,null,null,null,null,null,null,null,null,null,null,null,"",{"$f":"+IF(AF874=\"\",\"\",VLOOKUP(AF874,Tabelas!$J$27:$K$30,2))","v":""},null,null,null,null,null,null,null,null,null,null,null,null,null,null,null," "]
[null,null,null,null,null,null,{"$f":"+IF(F875=\"\",\"\",VLOOKUP(F875,Tabelas!$B$7:$C$96,2))","v":""},null,{"$f":"IF(H875=\"\",\"\",ROUND(H875/SUM(H874:H881),4))","v":""},null,null,null,null,null,null,{"$f":"+IF(O875=\"\",\"\",IF(N874=\"Transporte Marítimo\",VLOOKUP(O875,Tabelas!$F$7:$G$12,2),IF(N874=\"Transporte Aéreo\",VLOOKUP(O875,Tabelas!$F$16:$G$21,2),\"\")))","v":""},null,null,null,null,null,null,null,null,null,null,null,null,null,null,null,"",{"$f":"+IF(AF875=\"\",\"\",VLOOKUP(AF875,Tabelas!$J$27:$K$30,2))","v":""}]
[null,null,null,null,null,null,{"$f":"+IF(F876=\"\",\"\",VLOOKUP(F876,Tabelas!$B$7:$C$96,2))","v":""},null,{"$f":"IF(H876=\"\",\"\",ROUND(H876/SUM(H874:H881),4))","v":""},null,null,null,null,null,null,{"$f":"+IF(O876=\"\",\"\",IF(N874=\"Transporte Marítimo\",VLOOKUP(O876,Tabelas!$F$7:$G$12,2),IF(N874=\"Transporte Aéreo\",VLOOKUP(O876,Tabelas!$F$16:$G$21,2),\"\")))","v":""},null,null,null,null,null,null,null,null,null,null,null,null,null,null,null,"",{"$f":"+IF(AF876=\"\",\"\",VLOOKUP(AF876,Tabelas!$J$27:$K$30,2))","v":""}]
[null,null,null,null,null,null,{"$f":"+IF(F877=\"\",\"\",VLOOKUP(F877,Tabelas!$B$7:$C$96,2))","v":""},null,{"$f":"IF(H877=\"\",\"\",ROUND(H877/SUM(H874:H881),4))","v":""},null,null,null,null,null,null,{"$f":"+IF(O877=\"\",\"\",IF(N874=\"Transporte Marítimo\",VLOOKUP(O877,Tabelas!$F$7:$G$12,2),IF(N874=\"Transporte Aéreo\",VLOOKUP(O877,Tabelas!$F$16:$G$21,2),\"\")))","v":""},null,null,null,null,null,null,null,null,null,null,null,null,null,null,null,"",{"$f":"+IF(AF877=\"\",\"\",VLOOKUP(AF877,Tabelas!$J$27:$K$30,2))","v":""}]
[null,null,null,null,null,null,{"$f":"+IF(F878=\"\",\"\",VLOOKUP(F878,Tabelas!$B$7:$C$96,2))","v":""},null,{"$f":"IF(H878=\"\",\"\",ROUND(H878/SUM(H874:H881),4))","v":""},null,null,null,null,null,null,{"$f":"+IF(O878=\"\",\"\",IF(N874=\"Transporte Marítimo\",VLOOKUP(O878,Tabelas!$F$7:$G$12,2),IF(N874=\"Transporte Aéreo\",VLOOKUP(O878,Tabelas!$F$16:$G$21,2),\"\")))","v":""},null,null,null,null,null,null,null,null,null,null,null,null,null,null,null,"",{"$f":"+IF(AF878=\"\",\"\",VLOOKUP(AF878,Tabelas!$J$27:$K$30,2))","v":""}]
[null,null,null,null,null,null,{"$f":"+IF(F879=\"\",\"\",VLOOKUP(F879,Tabelas!$B$7:$C$96,2))","v":""},null,{"$f":"IF(H879=\"\",\"\",ROUND(H879/SUM(H874:H881),4))","v":""},null,null,null,null,null,null,{"$f":"+IF(O879=\"\",\"\",IF(N874=\"Transporte Marítimo\",VLOOKUP(O879,Tabelas!$F$7:$G$12,2),IF(N874=\"Transporte Aéreo\",VLOOKUP(O879,Tabelas!$F$16:$G$21,2),\"\")))","v":""},null,null,null,null,null,null,null,null,null,null,null,null,null,null,null,"",{"$f":"+IF(AF879=\"\",\"\",VLOOKUP(AF879,Tabelas!$J$27:$K$30,2))","v":""}]
[null,null,null,null,null,null,{"$f":"+IF(F880=\"\",\"\",VLOOKUP(F880,Tabelas!$B$7:$C$96,2))","v":""},null,{"$f":"IF(H880=\"\",\"\",ROUND(H880/SUM(H874:H881),4))","v":""},null,null,null,null,null,null,{"$f":"+IF(O880=\"\",\"\",IF(N874=\"Transporte Marítimo\",VLOOKUP(O880,Tabelas!$F$7:$G$12,2),IF(N874=\"Transporte Aéreo\",VLOOKUP(O880,Tabelas!$F$16:$G$21,2),\"\")))","v":""},null,null,null,null,null,null,null,null,null,null,null,null,null,null,null,"",{"$f":"+IF(AF880=\"\",\"\",VLOOKUP(AF880,Tabelas!$J$27:$K$30,2))","v":""}]
[null,null,null,null,null,null,{"$f":"+IF(F881=\"\",\"\",VLOOKUP(F881,Tabelas!$B$7:$C$96,2))","v":""},null,{"$f":"IF(H881=\"\",\"\",ROUND(H881/SUM(H874:H881),4))","v":""},null,null,null,null,null,null,{"$f":"+IF(O881=\"\",\"\",IF(N874=\"Transporte Marítimo\",VLOOKUP(O881,Tabelas!$F$7:$G$12,2),IF(N874=\"Transporte Aéreo\",VLOOKUP(O881,Tabelas!$F$16:$G$21,2),\"\")))","v":""},null,null,null,null,null,null,null,null,null,null,null,null,null,null,null,"",{"$f":"+IF(AF881=\"\",\"\",VLOOKUP(AF881,Tabelas!$J$27:$K$30,2))","v":""}]
[null,{"$f":"+B874+1","v":109},null,null,null,null,{"$f":"+IF(F882=\"\",\"\",VLOOKUP(F882,Tabelas!$B$7:$C$96,2))","v":""},null,{"$f":"IF(H882=\"\",\"\",1-SUM(I883:I889))","v":""},null,null,null,null,null,null,{"$f":"+IF(O882=\"\",\"\",IF(N882=\"Transporte Marítimo\",VLOOKUP(O882,Tabelas!$F$7:$G$12,2),IF(N882=\"Transporte Aéreo\",VLOOKUP(O882,Tabelas!$F$16:$G$21,2),\"\")))","v":""},null,null,null,null,null,null,null,null,null,null,null,null,null,null,null,"",{"$f":"+IF(AF882=\"\",\"\",VLOOKUP(AF882,Tabelas!$J$27:$K$30,2))","v":""},null,null,null,null,null,null,null,null,null,null,null,null,null,null,null," "]
[null,null,null,null,null,null,{"$f":"+IF(F883=\"\",\"\",VLOOKUP(F883,Tabelas!$B$7:$C$96,2))","v":""},null,{"$f":"IF(H883=\"\",\"\",ROUND(H883/SUM(H882:H889),4))","v":""},null,null,null,null,null,null,{"$f":"+IF(O883=\"\",\"\",IF(N882=\"Transporte Marítimo\",VLOOKUP(O883,Tabelas!$F$7:$G$12,2),IF(N882=\"Transporte Aéreo\",VLOOKUP(O883,Tabelas!$F$16:$G$21,2),\"\")))","v":""},null,null,null,null,null,null,null,null,null,null,null,null,null,null,null,"",{"$f":"+IF(AF883=\"\",\"\",VLOOKUP(AF883,Tabelas!$J$27:$K$30,2))","v":""}]
[null,null,null,null,null,null,{"$f":"+IF(F884=\"\",\"\",VLOOKUP(F884,Tabelas!$B$7:$C$96,2))","v":""},null,{"$f":"IF(H884=\"\",\"\",ROUND(H884/SUM(H882:H889),4))","v":""},null,null,null,null,null,null,{"$f":"+IF(O884=\"\",\"\",IF(N882=\"Transporte Marítimo\",VLOOKUP(O884,Tabelas!$F$7:$G$12,2),IF(N882=\"Transporte Aéreo\",VLOOKUP(O884,Tabelas!$F$16:$G$21,2),\"\")))","v":""},null,null,null,null,null,null,null,null,null,null,null,null,null,null,null,"",{"$f":"+IF(AF884=\"\",\"\",VLOOKUP(AF884,Tabelas!$J$27:$K$30,2))","v":""}]
[null,null,null,null,null,null,{"$f":"+IF(F885=\"\",\"\",VLOOKUP(F885,Tabelas!$B$7:$C$96,2))","v":""},null,{"$f":"IF(H885=\"\",\"\",ROUND(H885/SUM(H882:H889),4))","v":""},null,null,null,null,null,null,{"$f":"+IF(O885=\"\",\"\",IF(N882=\"Transporte Marítimo\",VLOOKUP(O885,Tabelas!$F$7:$G$12,2),IF(N882=\"Transporte Aéreo\",VLOOKUP(O885,Tabelas!$F$16:$G$21,2),\"\")))","v":""},null,null,null,null,null,null,null,null,null,null,null,null,null,null,null,"",{"$f":"+IF(AF885=\"\",\"\",VLOOKUP(AF885,Tabelas!$J$27:$K$30,2))","v":""}]
[null,null,null,null,null,null,{"$f":"+IF(F886=\"\",\"\",VLOOKUP(F886,Tabelas!$B$7:$C$96,2))","v":""},null,{"$f":"IF(H886=\"\",\"\",ROUND(H886/SUM(H882:H889),4))","v":""},null,null,null,null,null,null,{"$f":"+IF(O886=\"\",\"\",IF(N882=\"Transporte Marítimo\",VLOOKUP(O886,Tabelas!$F$7:$G$12,2),IF(N882=\"Transporte Aéreo\",VLOOKUP(O886,Tabelas!$F$16:$G$21,2),\"\")))","v":""},null,null,null,null,null,null,null,null,null,null,null,null,null,null,null,"",{"$f":"+IF(AF886=\"\",\"\",VLOOKUP(AF886,Tabelas!$J$27:$K$30,2))","v":""}]
[null,null,null,null,null,null,{"$f":"+IF(F887=\"\",\"\",VLOOKUP(F887,Tabelas!$B$7:$C$96,2))","v":""},null,{"$f":"IF(H887=\"\",\"\",ROUND(H887/SUM(H882:H889),4))","v":""},null,null,null,null,null,null,{"$f":"+IF(O887=\"\",\"\",IF(N882=\"Transporte Marítimo\",VLOOKUP(O887,Tabelas!$F$7:$G$12,2),IF(N882=\"Transporte Aéreo\",VLOOKUP(O887,Tabelas!$F$16:$G$21,2),\"\")))","v":""},null,null,null,null,null,null,null,null,null,null,null,null,null,null,null,"",{"$f":"+IF(AF887=\"\",\"\",VLOOKUP(AF887,Tabelas!$J$27:$K$30,2))","v":""}]
[null,null,null,null,null,null,{"$f":"+IF(F888=\"\",\"\",VLOOKUP(F888,Tabelas!$B$7:$C$96,2))","v":""},null,{"$f":"IF(H888=\"\",\"\",ROUND(H888/SUM(H882:H889),4))","v":""},null,null,null,null,null,null,{"$f":"+IF(O888=\"\",\"\",IF(N882=\"Transporte Marítimo\",VLOOKUP(O888,Tabelas!$F$7:$G$12,2),IF(N882=\"Transporte Aéreo\",VLOOKUP(O888,Tabelas!$F$16:$G$21,2),\"\")))","v":""},null,null,null,null,null,null,null,null,null,null,null,null,null,null,null,"",{"$f":"+IF(AF888=\"\",\"\",VLOOKUP(AF888,Tabelas!$J$27:$K$30,2))","v":""}]
[null,null,null,null,null,null,{"$f":"+IF(F889=\"\",\"\",VLOOKUP(F889,Tabelas!$B$7:$C$96,2))","v":""},null,{"$f":"IF(H889=\"\",\"\",ROUND(H889/SUM(H882:H889),4))","v":""},null,null,null,null,null,null,{"$f":"+IF(O889=\"\",\"\",IF(N882=\"Transporte Marítimo\",VLOOKUP(O889,Tabelas!$F$7:$G$12,2),IF(N882=\"Transporte Aéreo\",VLOOKUP(O889,Tabelas!$F$16:$G$21,2),\"\")))","v":""},null,null,null,null,null,null,null,null,null,null,null,null,null,null,null,"",{"$f":"+IF(AF889=\"\",\"\",VLOOKUP(AF889,Tabelas!$J$27:$K$30,2))","v":""}]
[null,{"$f":"+B882+1","v":110},null,null,null,null,{"$f":"+IF(F890=\"\",\"\",VLOOKUP(F890,Tabelas!$B$7:$C$96,2))","v":""},null,{"$f":"IF(H890=\"\",\"\",1-SUM(I891:I897))","v":""},null,null,null,null,null,null,{"$f":"+IF(O890=\"\",\"\",IF(N890=\"Transporte Marítimo\",VLOOKUP(O890,Tabelas!$F$7:$G$12,2),IF(N890=\"Transporte Aéreo\",VLOOKUP(O890,Tabelas!$F$16:$G$21,2),\"\")))","v":""},null,null,null,null,null,null,null,null,null,null,null,null,null,null,null,"",{"$f":"+IF(AF890=\"\",\"\",VLOOKUP(AF890,Tabelas!$J$27:$K$30,2))","v":""},null,null,null,null,null,null,null,null,null,null,null,null,null,null,null," "]
[null,null,null,null,null,null,{"$f":"+IF(F891=\"\",\"\",VLOOKUP(F891,Tabelas!$B$7:$C$96,2))","v":""},null,{"$f":"IF(H891=\"\",\"\",ROUND(H891/SUM(H890:H897),4))","v":""},null,null,null,null,null,null,{"$f":"+IF(O891=\"\",\"\",IF(N890=\"Transporte Marítimo\",VLOOKUP(O891,Tabelas!$F$7:$G$12,2),IF(N890=\"Transporte Aéreo\",VLOOKUP(O891,Tabelas!$F$16:$G$21,2),\"\")))","v":""},null,null,null,null,null,null,null,null,null,null,null,null,null,null,null,"",{"$f":"+IF(AF891=\"\",\"\",VLOOKUP(AF891,Tabelas!$J$27:$K$30,2))","v":""}]
[null,null,null,null,null,null,{"$f":"+IF(F892=\"\",\"\",VLOOKUP(F892,Tabelas!$B$7:$C$96,2))","v":""},null,{"$f":"IF(H892=\"\",\"\",ROUND(H892/SUM(H890:H897),4))","v":""},null,null,null,null,null,null,{"$f":"+IF(O892=\"\",\"\",IF(N890=\"Transporte Marítimo\",VLOOKUP(O892,Tabelas!$F$7:$G$12,2),IF(N890=\"Transporte Aéreo\",VLOOKUP(O892,Tabelas!$F$16:$G$21,2),\"\")))","v":""},null,null,null,null,null,null,null,null,null,null,null,null,null,null,null,"",{"$f":"+IF(AF892=\"\",\"\",VLOOKUP(AF892,Tabelas!$J$27:$K$30,2))","v":""}]
[null,null,null,null,null,null,{"$f":"+IF(F893=\"\",\"\",VLOOKUP(F893,Tabelas!$B$7:$C$96,2))","v":""},null,{"$f":"IF(H893=\"\",\"\",ROUND(H893/SUM(H890:H897),4))","v":""},null,null,null,null,null,null,{"$f":"+IF(O893=\"\",\"\",IF(N890=\"Transporte Marítimo\",VLOOKUP(O893,Tabelas!$F$7:$G$12,2),IF(N890=\"Transporte Aéreo\",VLOOKUP(O893,Tabelas!$F$16:$G$21,2),\"\")))","v":""},null,null,null,null,null,null,null,null,null,null,null,null,null,null,null,"",{"$f":"+IF(AF893=\"\",\"\",VLOOKUP(AF893,Tabelas!$J$27:$K$30,2))","v":""}]
[null,null,null,null,null,null,{"$f":"+IF(F894=\"\",\"\",VLOOKUP(F894,Tabelas!$B$7:$C$96,2))","v":""},null,{"$f":"IF(H894=\"\",\"\",ROUND(H894/SUM(H890:H897),4))","v":""},null,null,null,null,null,null,{"$f":"+IF(O894=\"\",\"\",IF(N890=\"Transporte Marítimo\",VLOOKUP(O894,Tabelas!$F$7:$G$12,2),IF(N890=\"Transporte Aéreo\",VLOOKUP(O894,Tabelas!$F$16:$G$21,2),\"\")))","v":""},null,null,null,null,null,null,null,null,null,null,null,null,null,null,null,"",{"$f":"+IF(AF894=\"\",\"\",VLOOKUP(AF894,Tabelas!$J$27:$K$30,2))","v":""}]
[null,null,null,null,null,null,{"$f":"+IF(F895=\"\",\"\",VLOOKUP(F895,Tabelas!$B$7:$C$96,2))","v":""},null,{"$f":"IF(H895=\"\",\"\",ROUND(H895/SUM(H890:H897),4))","v":""},null,null,null,null,null,null,{"$f":"+IF(O895=\"\",\"\",IF(N890=\"Transporte Marítimo\",VLOOKUP(O895,Tabelas!$F$7:$G$12,2),IF(N890=\"Transporte Aéreo\",VLOOKUP(O895,Tabelas!$F$16:$G$21,2),\"\")))","v":""},null,null,null,null,null,null,null,null,null,null,null,null,null,null,null,"",{"$f":"+IF(AF895=\"\",\"\",VLOOKUP(AF895,Tabelas!$J$27:$K$30,2))","v":""}]
[null,null,null,null,null,null,{"$f":"+IF(F896=\"\",\"\",VLOOKUP(F896,Tabelas!$B$7:$C$96,2))","v":""},null,{"$f":"IF(H896=\"\",\"\",ROUND(H896/SUM(H890:H897),4))","v":""},null,null,null,null,null,null,{"$f":"+IF(O896=\"\",\"\",IF(N890=\"Transporte Marítimo\",VLOOKUP(O896,Tabelas!$F$7:$G$12,2),IF(N890=\"Transporte Aéreo\",VLOOKUP(O896,Tabelas!$F$16:$G$21,2),\"\")))","v":""},null,null,null,null,null,null,null,null,null,null,null,null,null,null,null,"",{"$f":"+IF(AF896=\"\",\"\",VLOOKUP(AF896,Tabelas!$J$27:$K$30,2))","v":""}]
[null,null,null,null,null,null,{"$f":"+IF(F897=\"\",\"\",VLOOKUP(F897,Tabelas!$B$7:$C$96,2))","v":""},null,{"$f":"IF(H897=\"\",\"\",ROUND(H897/SUM(H890:H897),4))","v":""},null,null,null,null,null,null,{"$f":"+IF(O897=\"\",\"\",IF(N890=\"Transporte Marítimo\",VLOOKUP(O897,Tabelas!$F$7:$G$12,2),IF(N890=\"Transporte Aéreo\",VLOOKUP(O897,Tabelas!$F$16:$G$21,2),\"\")))","v":""},null,null,null,null,null,null,null,null,null,null,null,null,null,null,null,"",{"$f":"+IF(AF897=\"\",\"\",VLOOKUP(AF897,Tabelas!$J$27:$K$30,2))","v":""}]
[null,{"$f":"+B890+1","v":111},null,null,null,null,{"$f":"+IF(F898=\"\",\"\",VLOOKUP(F898,Tabelas!$B$7:$C$96,2))","v":""},null,{"$f":"IF(H898=\"\",\"\",1-SUM(I899:I905))","v":""},null,null,null,null,null,null,{"$f":"+IF(O898=\"\",\"\",IF(N898=\"Transporte Marítimo\",VLOOKUP(O898,Tabelas!$F$7:$G$12,2),IF(N898=\"Transporte Aéreo\",VLOOKUP(O898,Tabelas!$F$16:$G$21,2),\"\")))","v":""},null,null,null,null,null,null,null,null,null,null,null,null,null,null,null,"",{"$f":"+IF(AF898=\"\",\"\",VLOOKUP(AF898,Tabelas!$J$27:$K$30,2))","v":""},null,null,null,null,null,null,null,null,null,null,null,null,null,null,null," "]
[null,null,null,null,null,null,{"$f":"+IF(F899=\"\",\"\",VLOOKUP(F899,Tabelas!$B$7:$C$96,2))","v":""},null,{"$f":"IF(H899=\"\",\"\",ROUND(H899/SUM(H898:H905),4))","v":""},null,null,null,null,null,null,{"$f":"+IF(O899=\"\",\"\",IF(N898=\"Transporte Marítimo\",VLOOKUP(O899,Tabelas!$F$7:$G$12,2),IF(N898=\"Transporte Aéreo\",VLOOKUP(O899,Tabelas!$F$16:$G$21,2),\"\")))","v":""},null,null,null,null,null,null,null,null,null,null,null,null,null,null,null,"",{"$f":"+IF(AF899=\"\",\"\",VLOOKUP(AF899,Tabelas!$J$27:$K$30,2))","v":""}]
[null,null,null,null,null,null,{"$f":"+IF(F900=\"\",\"\",VLOOKUP(F900,Tabelas!$B$7:$C$96,2))","v":""},null,{"$f":"IF(H900=\"\",\"\",ROUND(H900/SUM(H898:H905),4))","v":""},null,null,null,null,null,null,{"$f":"+IF(O900=\"\",\"\",IF(N898=\"Transporte Marítimo\",VLOOKUP(O900,Tabelas!$F$7:$G$12,2),IF(N898=\"Transporte Aéreo\",VLOOKUP(O900,Tabelas!$F$16:$G$21,2),\"\")))","v":""},null,null,null,null,null,null,null,null,null,null,null,null,null,null,null,"",{"$f":"+IF(AF900=\"\",\"\",VLOOKUP(AF900,Tabelas!$J$27:$K$30,2))","v":""}]
[null,null,null,null,null,null,{"$f":"+IF(F901=\"\",\"\",VLOOKUP(F901,Tabelas!$B$7:$C$96,2))","v":""},null,{"$f":"IF(H901=\"\",\"\",ROUND(H901/SUM(H898:H905),4))","v":""},null,null,null,null,null,null,{"$f":"+IF(O901=\"\",\"\",IF(N898=\"Transporte Marítimo\",VLOOKUP(O901,Tabelas!$F$7:$G$12,2),IF(N898=\"Transporte Aéreo\",VLOOKUP(O901,Tabelas!$F$16:$G$21,2),\"\")))","v":""},null,null,null,null,null,null,null,null,null,null,null,null,null,null,null,"",{"$f":"+IF(AF901=\"\",\"\",VLOOKUP(AF901,Tabelas!$J$27:$K$30,2))","v":""}]
[null,null,null,null,null,null,{"$f":"+IF(F902=\"\",\"\",VLOOKUP(F902,Tabelas!$B$7:$C$96,2))","v":""},null,{"$f":"IF(H902=\"\",\"\",ROUND(H902/SUM(H898:H905),4))","v":""},null,null,null,null,null,null,{"$f":"+IF(O902=\"\",\"\",IF(N898=\"Transporte Marítimo\",VLOOKUP(O902,Tabelas!$F$7:$G$12,2),IF(N898=\"Transporte Aéreo\",VLOOKUP(O902,Tabelas!$F$16:$G$21,2),\"\")))","v":""},null,null,null,null,null,null,null,null,null,null,null,null,null,null,null,"",{"$f":"+IF(AF902=\"\",\"\",VLOOKUP(AF902,Tabelas!$J$27:$K$30,2))","v":""}]
[null,null,null,null,null,null,{"$f":"+IF(F903=\"\",\"\",VLOOKUP(F903,Tabelas!$B$7:$C$96,2))","v":""},null,{"$f":"IF(H903=\"\",\"\",ROUND(H903/SUM(H898:H905),4))","v":""},null,null,null,null,null,null,{"$f":"+IF(O903=\"\",\"\",IF(N898=\"Transporte Marítimo\",VLOOKUP(O903,Tabelas!$F$7:$G$12,2),IF(N898=\"Transporte Aéreo\",VLOOKUP(O903,Tabelas!$F$16:$G$21,2),\"\")))","v":""},null,null,null,null,null,null,null,null,null,null,null,null,null,null,null,"",{"$f":"+IF(AF903=\"\",\"\",VLOOKUP(AF903,Tabelas!$J$27:$K$30,2))","v":""}]
[null,null,null,null,null,null,{"$f":"+IF(F904=\"\",\"\",VLOOKUP(F904,Tabelas!$B$7:$C$96,2))","v":""},null,{"$f":"IF(H904=\"\",\"\",ROUND(H904/SUM(H898:H905),4))","v":""},null,null,null,null,null,null,{"$f":"+IF(O904=\"\",\"\",IF(N898=\"Transporte Marítimo\",VLOOKUP(O904,Tabelas!$F$7:$G$12,2),IF(N898=\"Transporte Aéreo\",VLOOKUP(O904,Tabelas!$F$16:$G$21,2),\"\")))","v":""},null,null,null,null,null,null,null,null,null,null,null,null,null,null,null,"",{"$f":"+IF(AF904=\"\",\"\",VLOOKUP(AF904,Tabelas!$J$27:$K$30,2))","v":""}]
[null,null,null,null,null,null,{"$f":"+IF(F905=\"\",\"\",VLOOKUP(F905,Tabelas!$B$7:$C$96,2))","v":""},null,{"$f":"IF(H905=\"\",\"\",ROUND(H905/SUM(H898:H905),4))","v":""},null,null,null,null,null,null,{"$f":"+IF(O905=\"\",\"\",IF(N898=\"Transporte Marítimo\",VLOOKUP(O905,Tabelas!$F$7:$G$12,2),IF(N898=\"Transporte Aéreo\",VLOOKUP(O905,Tabelas!$F$16:$G$21,2),\"\")))","v":""},null,null,null,null,null,null,null,null,null,null,null,null,null,null,null,"",{"$f":"+IF(AF905=\"\",\"\",VLOOKUP(AF905,Tabelas!$J$27:$K$30,2))","v":""}]
[null,{"$f":"+B898+1","v":112},null,null,null,null,{"$f":"+IF(F906=\"\",\"\",VLOOKUP(F906,Tabelas!$B$7:$C$96,2))","v":""},null,{"$f":"IF(H906=\"\",\"\",1-SUM(I907:I913))","v":""},null,null,null,null,null,null,{"$f":"+IF(O906=\"\",\"\",IF(N906=\"Transporte Marítimo\",VLOOKUP(O906,Tabelas!$F$7:$G$12,2),IF(N906=\"Transporte Aéreo\",VLOOKUP(O906,Tabelas!$F$16:$G$21,2),\"\")))","v":""},null,null,null,null,null,null,null,null,null,null,null,null,null,null,null,"",{"$f":"+IF(AF906=\"\",\"\",VLOOKUP(AF906,Tabelas!$J$27:$K$30,2))","v":""},null,null,null,null,null,null,null,null,null,null,null,null,null,null,null," "]
[null,null,null,null,null,null,{"$f":"+IF(F907=\"\",\"\",VLOOKUP(F907,Tabelas!$B$7:$C$96,2))","v":""},null,{"$f":"IF(H907=\"\",\"\",ROUND(H907/SUM(H906:H913),4))","v":""},null,null,null,null,null,null,{"$f":"+IF(O907=\"\",\"\",IF(N906=\"Transporte Marítimo\",VLOOKUP(O907,Tabelas!$F$7:$G$12,2),IF(N906=\"Transporte Aéreo\",VLOOKUP(O907,Tabelas!$F$16:$G$21,2),\"\")))","v":""},null,null,null,null,null,null,null,null,null,null,null,null,null,null,null,"",{"$f":"+IF(AF907=\"\",\"\",VLOOKUP(AF907,Tabelas!$J$27:$K$30,2))","v":""}]
[null,null,null,null,null,null,{"$f":"+IF(F908=\"\",\"\",VLOOKUP(F908,Tabelas!$B$7:$C$96,2))","v":""},null,{"$f":"IF(H908=\"\",\"\",ROUND(H908/SUM(H906:H913),4))","v":""},null,null,null,null,null,null,{"$f":"+IF(O908=\"\",\"\",IF(N906=\"Transporte Marítimo\",VLOOKUP(O908,Tabelas!$F$7:$G$12,2),IF(N906=\"Transporte Aéreo\",VLOOKUP(O908,Tabelas!$F$16:$G$21,2),\"\")))","v":""},null,null,null,null,null,null,null,null,null,null,null,null,null,null,null,"",{"$f":"+IF(AF908=\"\",\"\",VLOOKUP(AF908,Tabelas!$J$27:$K$30,2))","v":""}]
[null,null,null,null,null,null,{"$f":"+IF(F909=\"\",\"\",VLOOKUP(F909,Tabelas!$B$7:$C$96,2))","v":""},null,{"$f":"IF(H909=\"\",\"\",ROUND(H909/SUM(H906:H913),4))","v":""},null,null,null,null,null,null,{"$f":"+IF(O909=\"\",\"\",IF(N906=\"Transporte Marítimo\",VLOOKUP(O909,Tabelas!$F$7:$G$12,2),IF(N906=\"Transporte Aéreo\",VLOOKUP(O909,Tabelas!$F$16:$G$21,2),\"\")))","v":""},null,null,null,null,null,null,null,null,null,null,null,null,null,null,null,"",{"$f":"+IF(AF909=\"\",\"\",VLOOKUP(AF909,Tabelas!$J$27:$K$30,2))","v":""}]
[null,null,null,null,null,null,{"$f":"+IF(F910=\"\",\"\",VLOOKUP(F910,Tabelas!$B$7:$C$96,2))","v":""},null,{"$f":"IF(H910=\"\",\"\",ROUND(H910/SUM(H906:H913),4))","v":""},null,null,null,null,null,null,{"$f":"+IF(O910=\"\",\"\",IF(N906=\"Transporte Marítimo\",VLOOKUP(O910,Tabelas!$F$7:$G$12,2),IF(N906=\"Transporte Aéreo\",VLOOKUP(O910,Tabelas!$F$16:$G$21,2),\"\")))","v":""},null,null,null,null,null,null,null,null,null,null,null,null,null,null,null,"",{"$f":"+IF(AF910=\"\",\"\",VLOOKUP(AF910,Tabelas!$J$27:$K$30,2))","v":""}]
[null,null,null,null,null,null,{"$f":"+IF(F911=\"\",\"\",VLOOKUP(F911,Tabelas!$B$7:$C$96,2))","v":""},null,{"$f":"IF(H911=\"\",\"\",ROUND(H911/SUM(H906:H913),4))","v":""},null,null,null,null,null,null,{"$f":"+IF(O911=\"\",\"\",IF(N906=\"Transporte Marítimo\",VLOOKUP(O911,Tabelas!$F$7:$G$12,2),IF(N906=\"Transporte Aéreo\",VLOOKUP(O911,Tabelas!$F$16:$G$21,2),\"\")))","v":""},null,null,null,null,null,null,null,null,null,null,null,null,null,null,null,"",{"$f":"+IF(AF911=\"\",\"\",VLOOKUP(AF911,Tabelas!$J$27:$K$30,2))","v":""}]
[null,null,null,null,null,null,{"$f":"+IF(F912=\"\",\"\",VLOOKUP(F912,Tabelas!$B$7:$C$96,2))","v":""},null,{"$f":"IF(H912=\"\",\"\",ROUND(H912/SUM(H906:H913),4))","v":""},null,null,null,null,null,null,{"$f":"+IF(O912=\"\",\"\",IF(N906=\"Transporte Marítimo\",VLOOKUP(O912,Tabelas!$F$7:$G$12,2),IF(N906=\"Transporte Aéreo\",VLOOKUP(O912,Tabelas!$F$16:$G$21,2),\"\")))","v":""},null,null,null,null,null,null,null,null,null,null,null,null,null,null,null,"",{"$f":"+IF(AF912=\"\",\"\",VLOOKUP(AF912,Tabelas!$J$27:$K$30,2))","v":""}]
[null,null,null,null,null,null,{"$f":"+IF(F913=\"\",\"\",VLOOKUP(F913,Tabelas!$B$7:$C$96,2))","v":""},null,{"$f":"IF(H913=\"\",\"\",ROUND(H913/SUM(H906:H913),4))","v":""},null,null,null,null,null,null,{"$f":"+IF(O913=\"\",\"\",IF(N906=\"Transporte Marítimo\",VLOOKUP(O913,Tabelas!$F$7:$G$12,2),IF(N906=\"Transporte Aéreo\",VLOOKUP(O913,Tabelas!$F$16:$G$21,2),\"\")))","v":""},null,null,null,null,null,null,null,null,null,null,null,null,null,null,null,"",{"$f":"+IF(AF913=\"\",\"\",VLOOKUP(AF913,Tabelas!$J$27:$K$30,2))","v":""}]
[null,{"$f":"+B906+1","v":113},null,null,null,null,{"$f":"+IF(F914=\"\",\"\",VLOOKUP(F914,Tabelas!$B$7:$C$96,2))","v":""},null,{"$f":"IF(H914=\"\",\"\",1-SUM(I915:I921))","v":""},null,null,null,null,null,null,{"$f":"+IF(O914=\"\",\"\",IF(N914=\"Transporte Marítimo\",VLOOKUP(O914,Tabelas!$F$7:$G$12,2),IF(N914=\"Transporte Aéreo\",VLOOKUP(O914,Tabelas!$F$16:$G$21,2),\"\")))","v":""},null,null,null,null,null,null,null,null,null,null,null,null,null,null,null,"",{"$f":"+IF(AF914=\"\",\"\",VLOOKUP(AF914,Tabelas!$J$27:$K$30,2))","v":""},null,null,null,null,null,null,null,null,null,null,null,null,null,null,null," "]
[null,null,null,null,null,null,{"$f":"+IF(F915=\"\",\"\",VLOOKUP(F915,Tabelas!$B$7:$C$96,2))","v":""},null,{"$f":"IF(H915=\"\",\"\",ROUND(H915/SUM(H914:H921),4))","v":""},null,null,null,null,null,null,{"$f":"+IF(O915=\"\",\"\",IF(N914=\"Transporte Marítimo\",VLOOKUP(O915,Tabelas!$F$7:$G$12,2),IF(N914=\"Transporte Aéreo\",VLOOKUP(O915,Tabelas!$F$16:$G$21,2),\"\")))","v":""},null,null,null,null,null,null,null,null,null,null,null,null,null,null,null,{"$f":"+IF(AE915=\"20NL\",1,IF(AE915=\"40NL\",2,IF(AE915=\"20RF\",3,IF(AE915=\"40RF\",4,\"\"))))","v":""},{"$f":"+IF(AF915=\"\",\"\",VLOOKUP(AF915,Tabelas!$J$27:$K$30,2))","v":""}]
[null,null,null,null,null,null,{"$f":"+IF(F916=\"\",\"\",VLOOKUP(F916,Tabelas!$B$7:$C$96,2))","v":""},null,{"$f":"IF(H916=\"\",\"\",ROUND(H916/SUM(H914:H921),4))","v":""},null,null,null,null,null,null,{"$f":"+IF(O916=\"\",\"\",IF(N914=\"Transporte Marítimo\",VLOOKUP(O916,Tabelas!$F$7:$G$12,2),IF(N914=\"Transporte Aéreo\",VLOOKUP(O916,Tabelas!$F$16:$G$21,2),\"\")))","v":""},null,null,null,null,null,null,null,null,null,null,null,null,null,null,null,"",{"$f":"+IF(AF916=\"\",\"\",VLOOKUP(AF916,Tabelas!$J$27:$K$30,2))","v":""}]
[null,null,null,null,null,null,{"$f":"+IF(F917=\"\",\"\",VLOOKUP(F917,Tabelas!$B$7:$C$96,2))","v":""},null,{"$f":"IF(H917=\"\",\"\",ROUND(H917/SUM(H914:H921),4))","v":""},null,null,null,null,null,null,{"$f":"+IF(O917=\"\",\"\",IF(N914=\"Transporte Marítimo\",VLOOKUP(O917,Tabelas!$F$7:$G$12,2),IF(N914=\"Transporte Aéreo\",VLOOKUP(O917,Tabelas!$F$16:$G$21,2),\"\")))","v":""},null,null,null,null,null,null,null,null,null,null,null,null,null,null,null,"",{"$f":"+IF(AF917=\"\",\"\",VLOOKUP(AF917,Tabelas!$J$27:$K$30,2))","v":""}]
[null,null,null,null,null,null,{"$f":"+IF(F918=\"\",\"\",VLOOKUP(F918,Tabelas!$B$7:$C$96,2))","v":""},null,{"$f":"IF(H918=\"\",\"\",ROUND(H918/SUM(H914:H921),4))","v":""},null,null,null,null,null,null,{"$f":"+IF(O918=\"\",\"\",IF(N914=\"Transporte Marítimo\",VLOOKUP(O918,Tabelas!$F$7:$G$12,2),IF(N914=\"Transporte Aéreo\",VLOOKUP(O918,Tabelas!$F$16:$G$21,2),\"\")))","v":""},null,null,null,null,null,null,null,null,null,null,null,null,null,null,null,"",{"$f":"+IF(AF918=\"\",\"\",VLOOKUP(AF918,Tabelas!$J$27:$K$30,2))","v":""}]
[null,null,null,null,null,null,{"$f":"+IF(F919=\"\",\"\",VLOOKUP(F919,Tabelas!$B$7:$C$96,2))","v":""},null,{"$f":"IF(H919=\"\",\"\",ROUND(H919/SUM(H914:H921),4))","v":""},null,null,null,null,null,null,{"$f":"+IF(O919=\"\",\"\",IF(N914=\"Transporte Marítimo\",VLOOKUP(O919,Tabelas!$F$7:$G$12,2),IF(N914=\"Transporte Aéreo\",VLOOKUP(O919,Tabelas!$F$16:$G$21,2),\"\")))","v":""},null,null,null,null,null,null,null,null,null,null,null,null,null,null,null,"",{"$f":"+IF(AF919=\"\",\"\",VLOOKUP(AF919,Tabelas!$J$27:$K$30,2))","v":""}]
[null,null,null,null,null,null,{"$f":"+IF(F920=\"\",\"\",VLOOKUP(F920,Tabelas!$B$7:$C$96,2))","v":""},null,{"$f":"IF(H920=\"\",\"\",ROUND(H920/SUM(H914:H921),4))","v":""},null,null,null,null,null,null,{"$f":"+IF(O920=\"\",\"\",IF(N914=\"Transporte Marítimo\",VLOOKUP(O920,Tabelas!$F$7:$G$12,2),IF(N914=\"Transporte Aéreo\",VLOOKUP(O920,Tabelas!$F$16:$G$21,2),\"\")))","v":""},null,null,null,null,null,null,null,null,null,null,null,null,null,null,null,"",{"$f":"+IF(AF920=\"\",\"\",VLOOKUP(AF920,Tabelas!$J$27:$K$30,2))","v":""}]
[null,null,null,null,null,null,{"$f":"+IF(F921=\"\",\"\",VLOOKUP(F921,Tabelas!$B$7:$C$96,2))","v":""},null,{"$f":"IF(H921=\"\",\"\",ROUND(H921/SUM(H914:H921),4))","v":""},null,null,null,null,null,null,{"$f":"+IF(O921=\"\",\"\",IF(N914=\"Transporte Marítimo\",VLOOKUP(O921,Tabelas!$F$7:$G$12,2),IF(N914=\"Transporte Aéreo\",VLOOKUP(O921,Tabelas!$F$16:$G$21,2),\"\")))","v":""},null,null,null,null,null,null,null,null,null,null,null,null,null,null,null,"",{"$f":"+IF(AF921=\"\",\"\",VLOOKUP(AF921,Tabelas!$J$27:$K$30,2))","v":""}]
[null,{"$f":"+B914+1","v":114},null,null,null,null,{"$f":"+IF(F922=\"\",\"\",VLOOKUP(F922,Tabelas!$B$7:$C$96,2))","v":""},null,{"$f":"IF(H922=\"\",\"\",1-SUM(I923:I929))","v":""},null,null,null,null,null,null,{"$f":"+IF(O922=\"\",\"\",IF(N922=\"Transporte Marítimo\",VLOOKUP(O922,Tabelas!$F$7:$G$12,2),IF(N922=\"Transporte Aéreo\",VLOOKUP(O922,Tabelas!$F$16:$G$21,2),\"\")))","v":""},null,null,null,null,null,null,null,null,null,null,null,null,null,null,null,"",{"$f":"+IF(AF922=\"\",\"\",VLOOKUP(AF922,Tabelas!$J$27:$K$30,2))","v":""},null,null,null,null,null,null,null,null,null,null,null,null,null,null,null," "]
[null,null,null,null,null,null,{"$f":"+IF(F923=\"\",\"\",VLOOKUP(F923,Tabelas!$B$7:$C$96,2))","v":""},null,{"$f":"IF(H923=\"\",\"\",ROUND(H923/SUM(H922:H929),4))","v":""},null,null,null,null,null,null,{"$f":"+IF(O923=\"\",\"\",IF(N922=\"Transporte Marítimo\",VLOOKUP(O923,Tabelas!$F$7:$G$12,2),IF(N922=\"Transporte Aéreo\",VLOOKUP(O923,Tabelas!$F$16:$G$21,2),\"\")))","v":""},null,null,null,null,null,null,null,null,null,null,null,null,null,null,null,"",{"$f":"+IF(AF923=\"\",\"\",VLOOKUP(AF923,Tabelas!$J$27:$K$30,2))","v":""}]
[null,null,null,null,null,null,{"$f":"+IF(F924=\"\",\"\",VLOOKUP(F924,Tabelas!$B$7:$C$96,2))","v":""},null,{"$f":"IF(H924=\"\",\"\",ROUND(H924/SUM(H922:H929),4))","v":""},null,null,null,null,null,null,{"$f":"+IF(O924=\"\",\"\",IF(N922=\"Transporte Marítimo\",VLOOKUP(O924,Tabelas!$F$7:$G$12,2),IF(N922=\"Transporte Aéreo\",VLOOKUP(O924,Tabelas!$F$16:$G$21,2),\"\")))","v":""},null,null,null,null,null,null,null,null,null,null,null,null,null,null,null,"",{"$f":"+IF(AF924=\"\",\"\",VLOOKUP(AF924,Tabelas!$J$27:$K$30,2))","v":""}]
[null,null,null,null,null,null,{"$f":"+IF(F925=\"\",\"\",VLOOKUP(F925,Tabelas!$B$7:$C$96,2))","v":""},null,{"$f":"IF(H925=\"\",\"\",ROUND(H925/SUM(H922:H929),4))","v":""},null,null,null,null,null,null,{"$f":"+IF(O925=\"\",\"\",IF(N922=\"Transporte Marítimo\",VLOOKUP(O925,Tabelas!$F$7:$G$12,2),IF(N922=\"Transporte Aéreo\",VLOOKUP(O925,Tabelas!$F$16:$G$21,2),\"\")))","v":""},null,null,null,null,null,null,null,null,null,null,null,null,null,null,null,"",{"$f":"+IF(AF925=\"\",\"\",VLOOKUP(AF925,Tabelas!$J$27:$K$30,2))","v":""}]
[null,null,null,null,null,null,{"$f":"+IF(F926=\"\",\"\",VLOOKUP(F926,Tabelas!$B$7:$C$96,2))","v":""},null,{"$f":"IF(H926=\"\",\"\",ROUND(H926/SUM(H922:H929),4))","v":""},null,null,null,null,null,null,{"$f":"+IF(O926=\"\",\"\",IF(N922=\"Transporte Marítimo\",VLOOKUP(O926,Tabelas!$F$7:$G$12,2),IF(N922=\"Transporte Aéreo\",VLOOKUP(O926,Tabelas!$F$16:$G$21,2),\"\")))","v":""},null,null,null,null,null,null,null,null,null,null,null,null,null,null,null,"",{"$f":"+IF(AF926=\"\",\"\",VLOOKUP(AF926,Tabelas!$J$27:$K$30,2))","v":""}]
[null,null,null,null,null,null,{"$f":"+IF(F927=\"\",\"\",VLOOKUP(F927,Tabelas!$B$7:$C$96,2))","v":""},null,{"$f":"IF(H927=\"\",\"\",ROUND(H927/SUM(H922:H929),4))","v":""},null,null,null,null,null,null,{"$f":"+IF(O927=\"\",\"\",IF(N922=\"Transporte Marítimo\",VLOOKUP(O927,Tabelas!$F$7:$G$12,2),IF(N922=\"Transporte Aéreo\",VLOOKUP(O927,Tabelas!$F$16:$G$21,2),\"\")))","v":""},null,null,null,null,null,null,null,null,null,null,null,null,null,null,null,"",{"$f":"+IF(AF927=\"\",\"\",VLOOKUP(AF927,Tabelas!$J$27:$K$30,2))","v":""}]
[null,null,null,null,null,null,{"$f":"+IF(F928=\"\",\"\",VLOOKUP(F928,Tabelas!$B$7:$C$96,2))","v":""},null,{"$f":"IF(H928=\"\",\"\",ROUND(H928/SUM(H922:H929),4))","v":""},null,null,null,null,null,null,{"$f":"+IF(O928=\"\",\"\",IF(N922=\"Transporte Marítimo\",VLOOKUP(O928,Tabelas!$F$7:$G$12,2),IF(N922=\"Transporte Aéreo\",VLOOKUP(O928,Tabelas!$F$16:$G$21,2),\"\")))","v":""},null,null,null,null,null,null,null,null,null,null,null,null,null,null,null,"",{"$f":"+IF(AF928=\"\",\"\",VLOOKUP(AF928,Tabelas!$J$27:$K$30,2))","v":""}]
[null,null,null,null,null,null,{"$f":"+IF(F929=\"\",\"\",VLOOKUP(F929,Tabelas!$B$7:$C$96,2))","v":""},null,{"$f":"IF(H929=\"\",\"\",ROUND(H929/SUM(H922:H929),4))","v":""},null,null,null,null,null,null,{"$f":"+IF(O929=\"\",\"\",IF(N922=\"Transporte Marítimo\",VLOOKUP(O929,Tabelas!$F$7:$G$12,2),IF(N922=\"Transporte Aéreo\",VLOOKUP(O929,Tabelas!$F$16:$G$21,2),\"\")))","v":""},null,null,null,null,null,null,null,null,null,null,null,null,null,null,null,"",{"$f":"+IF(AF929=\"\",\"\",VLOOKUP(AF929,Tabelas!$J$27:$K$30,2))","v":""}]
[null,{"$f":"+B922+1","v":115},null,null,null,null,{"$f":"+IF(F930=\"\",\"\",VLOOKUP(F930,Tabelas!$B$7:$C$96,2))","v":""},null,{"$f":"IF(H930=\"\",\"\",1-SUM(I931:I937))","v":""},null,null,null,null,null,null,{"$f":"+IF(O930=\"\",\"\",IF(N930=\"Transporte Marítimo\",VLOOKUP(O930,Tabelas!$F$7:$G$12,2),IF(N930=\"Transporte Aéreo\",VLOOKUP(O930,Tabelas!$F$16:$G$21,2),\"\")))","v":""},null,null,null,null,null,null,null,null,null,null,null,null,null,null,null,"",{"$f":"+IF(AF930=\"\",\"\",VLOOKUP(AF930,Tabelas!$J$27:$K$30,2))","v":""},null,null,null,null,null,null,null,null,null,null,null,null,null,null,null," "]
[null,null,null,null,null,null,{"$f":"+IF(F931=\"\",\"\",VLOOKUP(F931,Tabelas!$B$7:$C$96,2))","v":""},null,{"$f":"IF(H931=\"\",\"\",ROUND(H931/SUM(H930:H937),4))","v":""},null,null,null,null,null,null,{"$f":"+IF(O931=\"\",\"\",IF(N930=\"Transporte Marítimo\",VLOOKUP(O931,Tabelas!$F$7:$G$12,2),IF(N930=\"Transporte Aéreo\",VLOOKUP(O931,Tabelas!$F$16:$G$21,2),\"\")))","v":""},null,null,null,null,null,null,null,null,null,null,null,null,null,null,null,"",{"$f":"+IF(AF931=\"\",\"\",VLOOKUP(AF931,Tabelas!$J$27:$K$30,2))","v":""}]
[null,null,null,null,null,null,{"$f":"+IF(F932=\"\",\"\",VLOOKUP(F932,Tabelas!$B$7:$C$96,2))","v":""},null,{"$f":"IF(H932=\"\",\"\",ROUND(H932/SUM(H930:H937),4))","v":""},null,null,null,null,null,null,{"$f":"+IF(O932=\"\",\"\",IF(N930=\"Transporte Marítimo\",VLOOKUP(O932,Tabelas!$F$7:$G$12,2),IF(N930=\"Transporte Aéreo\",VLOOKUP(O932,Tabelas!$F$16:$G$21,2),\"\")))","v":""},null,null,null,null,null,null,null,null,null,null,null,null,null,null,null,"",{"$f":"+IF(AF932=\"\",\"\",VLOOKUP(AF932,Tabelas!$J$27:$K$30,2))","v":""}]
[null,null,null,null,null,null,{"$f":"+IF(F933=\"\",\"\",VLOOKUP(F933,Tabelas!$B$7:$C$96,2))","v":""},null,{"$f":"IF(H933=\"\",\"\",ROUND(H933/SUM(H930:H937),4))","v":""},null,null,null,null,null,null,{"$f":"+IF(O933=\"\",\"\",IF(N930=\"Transporte Marítimo\",VLOOKUP(O933,Tabelas!$F$7:$G$12,2),IF(N930=\"Transporte Aéreo\",VLOOKUP(O933,Tabelas!$F$16:$G$21,2),\"\")))","v":""},null,null,null,null,null,null,null,null,null,null,null,null,null,null,null,"",{"$f":"+IF(AF933=\"\",\"\",VLOOKUP(AF933,Tabelas!$J$27:$K$30,2))","v":""}]
[null,null,null,null,null,null,{"$f":"+IF(F934=\"\",\"\",VLOOKUP(F934,Tabelas!$B$7:$C$96,2))","v":""},null,{"$f":"IF(H934=\"\",\"\",ROUND(H934/SUM(H930:H937),4))","v":""},null,null,null,null,null,null,{"$f":"+IF(O934=\"\",\"\",IF(N930=\"Transporte Marítimo\",VLOOKUP(O934,Tabelas!$F$7:$G$12,2),IF(N930=\"Transporte Aéreo\",VLOOKUP(O934,Tabelas!$F$16:$G$21,2),\"\")))","v":""},null,null,null,null,null,null,null,null,null,null,null,null,null,null,null,"",{"$f":"+IF(AF934=\"\",\"\",VLOOKUP(AF934,Tabelas!$J$27:$K$30,2))","v":""}]
[null,null,null,null,null,null,{"$f":"+IF(F935=\"\",\"\",VLOOKUP(F935,Tabelas!$B$7:$C$96,2))","v":""},null,{"$f":"IF(H935=\"\",\"\",ROUND(H935/SUM(H930:H937),4))","v":""},null,null,null,null,null,null,{"$f":"+IF(O935=\"\",\"\",IF(N930=\"Transporte Marítimo\",VLOOKUP(O935,Tabelas!$F$7:$G$12,2),IF(N930=\"Transporte Aéreo\",VLOOKUP(O935,Tabelas!$F$16:$G$21,2),\"\")))","v":""},null,null,null,null,null,null,null,null,null,null,null,null,null,null,null,"",{"$f":"+IF(AF935=\"\",\"\",VLOOKUP(AF935,Tabelas!$J$27:$K$30,2))","v":""}]
[null,null,null,null,null,null,{"$f":"+IF(F936=\"\",\"\",VLOOKUP(F936,Tabelas!$B$7:$C$96,2))","v":""},null,{"$f":"IF(H936=\"\",\"\",ROUND(H936/SUM(H930:H937),4))","v":""},null,null,null,null,null,null,{"$f":"+IF(O936=\"\",\"\",IF(N930=\"Transporte Marítimo\",VLOOKUP(O936,Tabelas!$F$7:$G$12,2),IF(N930=\"Transporte Aéreo\",VLOOKUP(O936,Tabelas!$F$16:$G$21,2),\"\")))","v":""},null,null,null,null,null,null,null,null,null,null,null,null,null,null,null,"",{"$f":"+IF(AF936=\"\",\"\",VLOOKUP(AF936,Tabelas!$J$27:$K$30,2))","v":""}]
[null,null,null,null,null,null,{"$f":"+IF(F937=\"\",\"\",VLOOKUP(F937,Tabelas!$B$7:$C$96,2))","v":""},null,{"$f":"IF(H937=\"\",\"\",ROUND(H937/SUM(H930:H937),4))","v":""},null,null,null,null,null,null,{"$f":"+IF(O937=\"\",\"\",IF(N930=\"Transporte Marítimo\",VLOOKUP(O937,Tabelas!$F$7:$G$12,2),IF(N930=\"Transporte Aéreo\",VLOOKUP(O937,Tabelas!$F$16:$G$21,2),\"\")))","v":""},null,null,null,null,null,null,null,null,null,null,null,null,null,null,null,"",{"$f":"+IF(AF937=\"\",\"\",VLOOKUP(AF937,Tabelas!$J$27:$K$30,2))","v":""}]
[null,{"$f":"+B930+1","v":116},null,null,null,null,{"$f":"+IF(F938=\"\",\"\",VLOOKUP(F938,Tabelas!$B$7:$C$96,2))","v":""},null,{"$f":"IF(H938=\"\",\"\",1-SUM(I939:I945))","v":""},null,null,null,null,null,null,{"$f":"+IF(O938=\"\",\"\",IF(N938=\"Transporte Marítimo\",VLOOKUP(O938,Tabelas!$F$7:$G$12,2),IF(N938=\"Transporte Aéreo\",VLOOKUP(O938,Tabelas!$F$16:$G$21,2),\"\")))","v":""},null,null,null,null,null,null,null,null,null,null,null,null,null,null,null,"",{"$f":"+IF(AF938=\"\",\"\",VLOOKUP(AF938,Tabelas!$J$27:$K$30,2))","v":""},null,null,null,null,null,null,null,null,null,null,null,null,null,null,null," "]
[null,null,null,null,null,null,{"$f":"+IF(F939=\"\",\"\",VLOOKUP(F939,Tabelas!$B$7:$C$96,2))","v":""},null,{"$f":"IF(H939=\"\",\"\",ROUND(H939/SUM(H938:H945),4))","v":""},null,null,null,null,null,null,{"$f":"+IF(O939=\"\",\"\",IF(N938=\"Transporte Marítimo\",VLOOKUP(O939,Tabelas!$F$7:$G$12,2),IF(N938=\"Transporte Aéreo\",VLOOKUP(O939,Tabelas!$F$16:$G$21,2),\"\")))","v":""},null,null,null,null,null,null,null,null,null,null,null,null,null,null,null,"",{"$f":"+IF(AF939=\"\",\"\",VLOOKUP(AF939,Tabelas!$J$27:$K$30,2))","v":""}]
[null,null,null,null,null,null,{"$f":"+IF(F940=\"\",\"\",VLOOKUP(F940,Tabelas!$B$7:$C$96,2))","v":""},null,{"$f":"IF(H940=\"\",\"\",ROUND(H940/SUM(H938:H945),4))","v":""},null,null,null,null,null,null,{"$f":"+IF(O940=\"\",\"\",IF(N938=\"Transporte Marítimo\",VLOOKUP(O940,Tabelas!$F$7:$G$12,2),IF(N938=\"Transporte Aéreo\",VLOOKUP(O940,Tabelas!$F$16:$G$21,2),\"\")))","v":""},null,null,null,null,null,null,null,null,null,null,null,null,null,null,null,"",{"$f":"+IF(AF940=\"\",\"\",VLOOKUP(AF940,Tabelas!$J$27:$K$30,2))","v":""}]
[null,null,null,null,null,null,{"$f":"+IF(F941=\"\",\"\",VLOOKUP(F941,Tabelas!$B$7:$C$96,2))","v":""},null,{"$f":"IF(H941=\"\",\"\",ROUND(H941/SUM(H938:H945),4))","v":""},null,null,null,null,null,null,{"$f":"+IF(O941=\"\",\"\",IF(N938=\"Transporte Marítimo\",VLOOKUP(O941,Tabelas!$F$7:$G$12,2),IF(N938=\"Transporte Aéreo\",VLOOKUP(O941,Tabelas!$F$16:$G$21,2),\"\")))","v":""},null,null,null,null,null,null,null,null,null,null,null,null,null,null,null,"",{"$f":"+IF(AF941=\"\",\"\",VLOOKUP(AF941,Tabelas!$J$27:$K$30,2))","v":""}]
[null,null,null,null,null,null,{"$f":"+IF(F942=\"\",\"\",VLOOKUP(F942,Tabelas!$B$7:$C$96,2))","v":""},null,{"$f":"IF(H942=\"\",\"\",ROUND(H942/SUM(H938:H945),4))","v":""},null,null,null,null,null,null,{"$f":"+IF(O942=\"\",\"\",IF(N938=\"Transporte Marítimo\",VLOOKUP(O942,Tabelas!$F$7:$G$12,2),IF(N938=\"Transporte Aéreo\",VLOOKUP(O942,Tabelas!$F$16:$G$21,2),\"\")))","v":""},null,null,null,null,null,null,null,null,null,null,null,null,null,null,null,"",{"$f":"+IF(AF942=\"\",\"\",VLOOKUP(AF942,Tabelas!$J$27:$K$30,2))","v":""}]
[null,null,null,null,null,null,{"$f":"+IF(F943=\"\",\"\",VLOOKUP(F943,Tabelas!$B$7:$C$96,2))","v":""},null,{"$f":"IF(H943=\"\",\"\",ROUND(H943/SUM(H938:H945),4))","v":""},null,null,null,null,null,null,{"$f":"+IF(O943=\"\",\"\",IF(N938=\"Transporte Marítimo\",VLOOKUP(O943,Tabelas!$F$7:$G$12,2),IF(N938=\"Transporte Aéreo\",VLOOKUP(O943,Tabelas!$F$16:$G$21,2),\"\")))","v":""},null,null,null,null,null,null,null,null,null,null,null,null,null,null,null,"",{"$f":"+IF(AF943=\"\",\"\",VLOOKUP(AF943,Tabelas!$J$27:$K$30,2))","v":""}]
[null,null,null,null,null,null,{"$f":"+IF(F944=\"\",\"\",VLOOKUP(F944,Tabelas!$B$7:$C$96,2))","v":""},null,{"$f":"IF(H944=\"\",\"\",ROUND(H944/SUM(H938:H945),4))","v":""},null,null,null,null,null,null,{"$f":"+IF(O944=\"\",\"\",IF(N938=\"Transporte Marítimo\",VLOOKUP(O944,Tabelas!$F$7:$G$12,2),IF(N938=\"Transporte Aéreo\",VLOOKUP(O944,Tabelas!$F$16:$G$21,2),\"\")))","v":""},null,null,null,null,null,null,null,null,null,null,null,null,null,null,null,"",{"$f":"+IF(AF944=\"\",\"\",VLOOKUP(AF944,Tabelas!$J$27:$K$30,2))","v":""}]
[null,null,null,null,null,null,{"$f":"+IF(F945=\"\",\"\",VLOOKUP(F945,Tabelas!$B$7:$C$96,2))","v":""},null,{"$f":"IF(H945=\"\",\"\",ROUND(H945/SUM(H938:H945),4))","v":""},null,null,null,null,null,null,{"$f":"+IF(O945=\"\",\"\",IF(N938=\"Transporte Marítimo\",VLOOKUP(O945,Tabelas!$F$7:$G$12,2),IF(N938=\"Transporte Aéreo\",VLOOKUP(O945,Tabelas!$F$16:$G$21,2),\"\")))","v":""},null,null,null,null,null,null,null,null,null,null,null,null,null,null,null,"",{"$f":"+IF(AF945=\"\",\"\",VLOOKUP(AF945,Tabelas!$J$27:$K$30,2))","v":""}]
[null,{"$f":"+B938+1","v":117},null,null,null,null,{"$f":"+IF(F946=\"\",\"\",VLOOKUP(F946,Tabelas!$B$7:$C$96,2))","v":""},null,{"$f":"IF(H946=\"\",\"\",1-SUM(I947:I953))","v":""},null,null,null,null,null,null,{"$f":"+IF(O946=\"\",\"\",IF(N946=\"Transporte Marítimo\",VLOOKUP(O946,Tabelas!$F$7:$G$12,2),IF(N946=\"Transporte Aéreo\",VLOOKUP(O946,Tabelas!$F$16:$G$21,2),\"\")))","v":""},null,null,null,null,null,null,null,null,null,null,null,null,null,null,null,"",{"$f":"+IF(AF946=\"\",\"\",VLOOKUP(AF946,Tabelas!$J$27:$K$30,2))","v":""},null,null,null,null,null,null,null,null,null,null,null,null,null,null,null," "]
[null,null,null,null,null,null,{"$f":"+IF(F947=\"\",\"\",VLOOKUP(F947,Tabelas!$B$7:$C$96,2))","v":""},null,{"$f":"IF(H947=\"\",\"\",ROUND(H947/SUM(H946:H953),4))","v":""},null,null,null,null,null,null,{"$f":"+IF(O947=\"\",\"\",IF(N946=\"Transporte Marítimo\",VLOOKUP(O947,Tabelas!$F$7:$G$12,2),IF(N946=\"Transporte Aéreo\",VLOOKUP(O947,Tabelas!$F$16:$G$21,2),\"\")))","v":""},null,null,null,null,null,null,null,null,null,null,null,null,null,null,null,"",{"$f":"+IF(AF947=\"\",\"\",VLOOKUP(AF947,Tabelas!$J$27:$K$30,2))","v":""}]
[null,null,null,null,null,null,{"$f":"+IF(F948=\"\",\"\",VLOOKUP(F948,Tabelas!$B$7:$C$96,2))","v":""},null,{"$f":"IF(H948=\"\",\"\",ROUND(H948/SUM(H946:H953),4))","v":""},null,null,null,null,null,null,{"$f":"+IF(O948=\"\",\"\",IF(N946=\"Transporte Marítimo\",VLOOKUP(O948,Tabelas!$F$7:$G$12,2),IF(N946=\"Transporte Aéreo\",VLOOKUP(O948,Tabelas!$F$16:$G$21,2),\"\")))","v":""},null,null,null,null,null,null,null,null,null,null,null,null,null,null,null,"",{"$f":"+IF(AF948=\"\",\"\",VLOOKUP(AF948,Tabelas!$J$27:$K$30,2))","v":""}]
[null,null,null,null,null,null,{"$f":"+IF(F949=\"\",\"\",VLOOKUP(F949,Tabelas!$B$7:$C$96,2))","v":""},null,{"$f":"IF(H949=\"\",\"\",ROUND(H949/SUM(H946:H953),4))","v":""},null,null,null,null,null,null,{"$f":"+IF(O949=\"\",\"\",IF(N946=\"Transporte Marítimo\",VLOOKUP(O949,Tabelas!$F$7:$G$12,2),IF(N946=\"Transporte Aéreo\",VLOOKUP(O949,Tabelas!$F$16:$G$21,2),\"\")))","v":""},null,null,null,null,null,null,null,null,null,null,null,null,null,null,null,"",{"$f":"+IF(AF949=\"\",\"\",VLOOKUP(AF949,Tabelas!$J$27:$K$30,2))","v":""}]
[null,null,null,null,null,null,{"$f":"+IF(F950=\"\",\"\",VLOOKUP(F950,Tabelas!$B$7:$C$96,2))","v":""},null,{"$f":"IF(H950=\"\",\"\",ROUND(H950/SUM(H946:H953),4))","v":""},null,null,null,null,null,null,{"$f":"+IF(O950=\"\",\"\",IF(N946=\"Transporte Marítimo\",VLOOKUP(O950,Tabelas!$F$7:$G$12,2),IF(N946=\"Transporte Aéreo\",VLOOKUP(O950,Tabelas!$F$16:$G$21,2),\"\")))","v":""},null,null,null,null,null,null,null,null,null,null,null,null,null,null,null,"",{"$f":"+IF(AF950=\"\",\"\",VLOOKUP(AF950,Tabelas!$J$27:$K$30,2))","v":""}]
[null,null,null,null,null,null,{"$f":"+IF(F951=\"\",\"\",VLOOKUP(F951,Tabelas!$B$7:$C$96,2))","v":""},null,{"$f":"IF(H951=\"\",\"\",ROUND(H951/SUM(H946:H953),4))","v":""},null,null,null,null,null,null,{"$f":"+IF(O951=\"\",\"\",IF(N946=\"Transporte Marítimo\",VLOOKUP(O951,Tabelas!$F$7:$G$12,2),IF(N946=\"Transporte Aéreo\",VLOOKUP(O951,Tabelas!$F$16:$G$21,2),\"\")))","v":""},null,null,null,null,null,null,null,null,null,null,null,null,null,null,null,"",{"$f":"+IF(AF951=\"\",\"\",VLOOKUP(AF951,Tabelas!$J$27:$K$30,2))","v":""}]
[null,null,null,null,null,null,{"$f":"+IF(F952=\"\",\"\",VLOOKUP(F952,Tabelas!$B$7:$C$96,2))","v":""},null,{"$f":"IF(H952=\"\",\"\",ROUND(H952/SUM(H946:H953),4))","v":""},null,null,null,null,null,null,{"$f":"+IF(O952=\"\",\"\",IF(N946=\"Transporte Marítimo\",VLOOKUP(O952,Tabelas!$F$7:$G$12,2),IF(N946=\"Transporte Aéreo\",VLOOKUP(O952,Tabelas!$F$16:$G$21,2),\"\")))","v":""},null,null,null,null,null,null,null,null,null,null,null,null,null,null,null,"",{"$f":"+IF(AF952=\"\",\"\",VLOOKUP(AF952,Tabelas!$J$27:$K$30,2))","v":""}]
[null,null,null,null,null,null,{"$f":"+IF(F953=\"\",\"\",VLOOKUP(F953,Tabelas!$B$7:$C$96,2))","v":""},null,{"$f":"IF(H953=\"\",\"\",ROUND(H953/SUM(H946:H953),4))","v":""},null,null,null,null,null,null,{"$f":"+IF(O953=\"\",\"\",IF(N946=\"Transporte Marítimo\",VLOOKUP(O953,Tabelas!$F$7:$G$12,2),IF(N946=\"Transporte Aéreo\",VLOOKUP(O953,Tabelas!$F$16:$G$21,2),\"\")))","v":""},null,null,null,null,null,null,null,null,null,null,null,null,null,null,null,"",{"$f":"+IF(AF953=\"\",\"\",VLOOKUP(AF953,Tabelas!$J$27:$K$30,2))","v":""}]
[null,{"$f":"+B946+1","v":118},null,null,null,null,{"$f":"+IF(F954=\"\",\"\",VLOOKUP(F954,Tabelas!$B$7:$C$96,2))","v":""},null,{"$f":"IF(H954=\"\",\"\",1-SUM(I955:I961))","v":""},null,null,null,null,null,null,{"$f":"+IF(O954=\"\",\"\",IF(N954=\"Transporte Marítimo\",VLOOKUP(O954,Tabelas!$F$7:$G$12,2),IF(N954=\"Transporte Aéreo\",VLOOKUP(O954,Tabelas!$F$16:$G$21,2),\"\")))","v":""},null,null,null,null,null,null,null,null,null,null,null,null,null,null,null,"",{"$f":"+IF(AF954=\"\",\"\",VLOOKUP(AF954,Tabelas!$J$27:$K$30,2))","v":""},null,null,null,null,null,null,null,null,null,null,null,null,null,null,null," "]
[null,null,null,null,null,null,{"$f":"+IF(F955=\"\",\"\",VLOOKUP(F955,Tabelas!$B$7:$C$96,2))","v":""},null,{"$f":"IF(H955=\"\",\"\",ROUND(H955/SUM(H954:H961),4))","v":""},null,null,null,null,null,null,{"$f":"+IF(O955=\"\",\"\",IF(N954=\"Transporte Marítimo\",VLOOKUP(O955,Tabelas!$F$7:$G$12,2),IF(N954=\"Transporte Aéreo\",VLOOKUP(O955,Tabelas!$F$16:$G$21,2),\"\")))","v":""},null,null,null,null,null,null,null,null,null,null,null,null,null,null,null,"",{"$f":"+IF(AF955=\"\",\"\",VLOOKUP(AF955,Tabelas!$J$27:$K$30,2))","v":""}]
[null,null,null,null,null,null,{"$f":"+IF(F956=\"\",\"\",VLOOKUP(F956,Tabelas!$B$7:$C$96,2))","v":""},null,{"$f":"IF(H956=\"\",\"\",ROUND(H956/SUM(H954:H961),4))","v":""},null,null,null,null,null,null,{"$f":"+IF(O956=\"\",\"\",IF(N954=\"Transporte Marítimo\",VLOOKUP(O956,Tabelas!$F$7:$G$12,2),IF(N954=\"Transporte Aéreo\",VLOOKUP(O956,Tabelas!$F$16:$G$21,2),\"\")))","v":""},null,null,null,null,null,null,null,null,null,null,null,null,null,null,null,"",{"$f":"+IF(AF956=\"\",\"\",VLOOKUP(AF956,Tabelas!$J$27:$K$30,2))","v":""}]
[null,null,null,null,null,null,{"$f":"+IF(F957=\"\",\"\",VLOOKUP(F957,Tabelas!$B$7:$C$96,2))","v":""},null,{"$f":"IF(H957=\"\",\"\",ROUND(H957/SUM(H954:H961),4))","v":""},null,null,null,null,null,null,{"$f":"+IF(O957=\"\",\"\",IF(N954=\"Transporte Marítimo\",VLOOKUP(O957,Tabelas!$F$7:$G$12,2),IF(N954=\"Transporte Aéreo\",VLOOKUP(O957,Tabelas!$F$16:$G$21,2),\"\")))","v":""},null,null,null,null,null,null,null,null,null,null,null,null,null,null,null,"",{"$f":"+IF(AF957=\"\",\"\",VLOOKUP(AF957,Tabelas!$J$27:$K$30,2))","v":""}]
[null,null,null,null,null,null,{"$f":"+IF(F958=\"\",\"\",VLOOKUP(F958,Tabelas!$B$7:$C$96,2))","v":""},null,{"$f":"IF(H958=\"\",\"\",ROUND(H958/SUM(H954:H961),4))","v":""},null,null,null,null,null,null,{"$f":"+IF(O958=\"\",\"\",IF(N954=\"Transporte Marítimo\",VLOOKUP(O958,Tabelas!$F$7:$G$12,2),IF(N954=\"Transporte Aéreo\",VLOOKUP(O958,Tabelas!$F$16:$G$21,2),\"\")))","v":""},null,null,null,null,null,null,null,null,null,null,null,null,null,null,null,"",{"$f":"+IF(AF958=\"\",\"\",VLOOKUP(AF958,Tabelas!$J$27:$K$30,2))","v":""}]
[null,null,null,null,null,null,{"$f":"+IF(F959=\"\",\"\",VLOOKUP(F959,Tabelas!$B$7:$C$96,2))","v":""},null,{"$f":"IF(H959=\"\",\"\",ROUND(H959/SUM(H954:H961),4))","v":""},null,null,null,null,null,null,{"$f":"+IF(O959=\"\",\"\",IF(N954=\"Transporte Marítimo\",VLOOKUP(O959,Tabelas!$F$7:$G$12,2),IF(N954=\"Transporte Aéreo\",VLOOKUP(O959,Tabelas!$F$16:$G$21,2),\"\")))","v":""},null,null,null,null,null,null,null,null,null,null,null,null,null,null,null,"",{"$f":"+IF(AF959=\"\",\"\",VLOOKUP(AF959,Tabelas!$J$27:$K$30,2))","v":""}]
[null,null,null,null,null,null,{"$f":"+IF(F960=\"\",\"\",VLOOKUP(F960,Tabelas!$B$7:$C$96,2))","v":""},null,{"$f":"IF(H960=\"\",\"\",ROUND(H960/SUM(H954:H961),4))","v":""},null,null,null,null,null,null,{"$f":"+IF(O960=\"\",\"\",IF(N954=\"Transporte Marítimo\",VLOOKUP(O960,Tabelas!$F$7:$G$12,2),IF(N954=\"Transporte Aéreo\",VLOOKUP(O960,Tabelas!$F$16:$G$21,2),\"\")))","v":""},null,null,null,null,null,null,null,null,null,null,null,null,null,null,null,"",{"$f":"+IF(AF960=\"\",\"\",VLOOKUP(AF960,Tabelas!$J$27:$K$30,2))","v":""}]
[null,null,null,null,null,null,{"$f":"+IF(F961=\"\",\"\",VLOOKUP(F961,Tabelas!$B$7:$C$96,2))","v":""},null,{"$f":"IF(H961=\"\",\"\",ROUND(H961/SUM(H954:H961),4))","v":""},null,null,null,null,null,null,{"$f":"+IF(O961=\"\",\"\",IF(N954=\"Transporte Marítimo\",VLOOKUP(O961,Tabelas!$F$7:$G$12,2),IF(N954=\"Transporte Aéreo\",VLOOKUP(O961,Tabelas!$F$16:$G$21,2),\"\")))","v":""},null,null,null,null,null,null,null,null,null,null,null,null,null,null,null,"",{"$f":"+IF(AF961=\"\",\"\",VLOOKUP(AF961,Tabelas!$J$27:$K$30,2))","v":""}]
[null,{"$f":"+B954+1","v":119},null,null,null,null,{"$f":"+IF(F962=\"\",\"\",VLOOKUP(F962,Tabelas!$B$7:$C$96,2))","v":""},null,{"$f":"IF(H962=\"\",\"\",1-SUM(I963:I969))","v":""},null,null,null,null,null,null,{"$f":"+IF(O962=\"\",\"\",IF(N962=\"Transporte Marítimo\",VLOOKUP(O962,Tabelas!$F$7:$G$12,2),IF(N962=\"Transporte Aéreo\",VLOOKUP(O962,Tabelas!$F$16:$G$21,2),\"\")))","v":""},null,null,null,null,null,null,null,null,null,null,null,null,null,null,null,"",{"$f":"+IF(AF962=\"\",\"\",VLOOKUP(AF962,Tabelas!$J$27:$K$30,2))","v":""},null,null,null,null,null,null,null,null,null,null,null,null,null,null,null," "]
[null,null,null,null,null,null,{"$f":"+IF(F963=\"\",\"\",VLOOKUP(F963,Tabelas!$B$7:$C$96,2))","v":""},null,{"$f":"IF(H963=\"\",\"\",ROUND(H963/SUM(H962:H969),4))","v":""},null,null,null,null,null,null,{"$f":"+IF(O963=\"\",\"\",IF(N962=\"Transporte Marítimo\",VLOOKUP(O963,Tabelas!$F$7:$G$12,2),IF(N962=\"Transporte Aéreo\",VLOOKUP(O963,Tabelas!$F$16:$G$21,2),\"\")))","v":""},null,null,null,null,null,null,null,null,null,null,null,null,null,null,null,"",{"$f":"+IF(AF963=\"\",\"\",VLOOKUP(AF963,Tabelas!$J$27:$K$30,2))","v":""}]
[null,null,null,null,null,null,{"$f":"+IF(F964=\"\",\"\",VLOOKUP(F964,Tabelas!$B$7:$C$96,2))","v":""},null,{"$f":"IF(H964=\"\",\"\",ROUND(H964/SUM(H962:H969),4))","v":""},null,null,null,null,null,null,{"$f":"+IF(O964=\"\",\"\",IF(N962=\"Transporte Marítimo\",VLOOKUP(O964,Tabelas!$F$7:$G$12,2),IF(N962=\"Transporte Aéreo\",VLOOKUP(O964,Tabelas!$F$16:$G$21,2),\"\")))","v":""},null,null,null,null,null,null,null,null,null,null,null,null,null,null,null,"",{"$f":"+IF(AF964=\"\",\"\",VLOOKUP(AF964,Tabelas!$J$27:$K$30,2))","v":""}]
[null,null,null,null,null,null,{"$f":"+IF(F965=\"\",\"\",VLOOKUP(F965,Tabelas!$B$7:$C$96,2))","v":""},null,{"$f":"IF(H965=\"\",\"\",ROUND(H965/SUM(H962:H969),4))","v":""},null,null,null,null,null,null,{"$f":"+IF(O965=\"\",\"\",IF(N962=\"Transporte Marítimo\",VLOOKUP(O965,Tabelas!$F$7:$G$12,2),IF(N962=\"Transporte Aéreo\",VLOOKUP(O965,Tabelas!$F$16:$G$21,2),\"\")))","v":""},null,null,null,null,null,null,null,null,null,null,null,null,null,null,null,"",{"$f":"+IF(AF965=\"\",\"\",VLOOKUP(AF965,Tabelas!$J$27:$K$30,2))","v":""}]
[null,null,null,null,null,null,{"$f":"+IF(F966=\"\",\"\",VLOOKUP(F966,Tabelas!$B$7:$C$96,2))","v":""},null,{"$f":"IF(H966=\"\",\"\",ROUND(H966/SUM(H962:H969),4))","v":""},null,null,null,null,null,null,{"$f":"+IF(O966=\"\",\"\",IF(N962=\"Transporte Marítimo\",VLOOKUP(O966,Tabelas!$F$7:$G$12,2),IF(N962=\"Transporte Aéreo\",VLOOKUP(O966,Tabelas!$F$16:$G$21,2),\"\")))","v":""},null,null,null,null,null,null,null,null,null,null,null,null,null,null,null,"",{"$f":"+IF(AF966=\"\",\"\",VLOOKUP(AF966,Tabelas!$J$27:$K$30,2))","v":""}]
[null,null,null,null,null,null,{"$f":"+IF(F967=\"\",\"\",VLOOKUP(F967,Tabelas!$B$7:$C$96,2))","v":""},null,{"$f":"IF(H967=\"\",\"\",ROUND(H967/SUM(H962:H969),4))","v":""},null,null,null,null,null,null,{"$f":"+IF(O967=\"\",\"\",IF(N962=\"Transporte Marítimo\",VLOOKUP(O967,Tabelas!$F$7:$G$12,2),IF(N962=\"Transporte Aéreo\",VLOOKUP(O967,Tabelas!$F$16:$G$21,2),\"\")))","v":""},null,null,null,null,null,null,null,null,null,null,null,null,null,null,null,"",{"$f":"+IF(AF967=\"\",\"\",VLOOKUP(AF967,Tabelas!$J$27:$K$30,2))","v":""}]
[null,null,null,null,null,null,{"$f":"+IF(F968=\"\",\"\",VLOOKUP(F968,Tabelas!$B$7:$C$96,2))","v":""},null,{"$f":"IF(H968=\"\",\"\",ROUND(H968/SUM(H962:H969),4))","v":""},null,null,null,null,null,null,{"$f":"+IF(O968=\"\",\"\",IF(N962=\"Transporte Marítimo\",VLOOKUP(O968,Tabelas!$F$7:$G$12,2),IF(N962=\"Transporte Aéreo\",VLOOKUP(O968,Tabelas!$F$16:$G$21,2),\"\")))","v":""},null,null,null,null,null,null,null,null,null,null,null,null,null,null,null,"",{"$f":"+IF(AF968=\"\",\"\",VLOOKUP(AF968,Tabelas!$J$27:$K$30,2))","v":""}]
[null,null,null,null,null,null,{"$f":"+IF(F969=\"\",\"\",VLOOKUP(F969,Tabelas!$B$7:$C$96,2))","v":""},null,{"$f":"IF(H969=\"\",\"\",ROUND(H969/SUM(H962:H969),4))","v":""},null,null,null,null,null,null,{"$f":"+IF(O969=\"\",\"\",IF(N962=\"Transporte Marítimo\",VLOOKUP(O969,Tabelas!$F$7:$G$12,2),IF(N962=\"Transporte Aéreo\",VLOOKUP(O969,Tabelas!$F$16:$G$21,2),\"\")))","v":""},null,null,null,null,null,null,null,null,null,null,null,null,null,null,null,"",{"$f":"+IF(AF969=\"\",\"\",VLOOKUP(AF969,Tabelas!$J$27:$K$30,2))","v":""}]
[null,{"$f":"+B962+1","v":120},null,null,null,null,{"$f":"+IF(F970=\"\",\"\",VLOOKUP(F970,Tabelas!$B$7:$C$96,2))","v":""},null,{"$f":"IF(H970=\"\",\"\",1-SUM(I971:I977))","v":""},null,null,null,null,null,null,{"$f":"+IF(O970=\"\",\"\",IF(N970=\"Transporte Marítimo\",VLOOKUP(O970,Tabelas!$F$7:$G$12,2),IF(N970=\"Transporte Aéreo\",VLOOKUP(O970,Tabelas!$F$16:$G$21,2),\"\")))","v":""},null,null,null,null,null,null,null,null,null,null,null,null,null,null,null,"",{"$f":"+IF(AF970=\"\",\"\",VLOOKUP(AF970,Tabelas!$J$27:$K$30,2))","v":""},null,null,null,null,null,null,null,null,null,null,null,null,null,null,null," "]
[null,null,null,null,null,null,{"$f":"+IF(F971=\"\",\"\",VLOOKUP(F971,Tabelas!$B$7:$C$96,2))","v":""},null,{"$f":"IF(H971=\"\",\"\",ROUND(H971/SUM(H970:H977),4))","v":""},null,null,null,null,null,null,{"$f":"+IF(O971=\"\",\"\",IF(N970=\"Transporte Marítimo\",VLOOKUP(O971,Tabelas!$F$7:$G$12,2),IF(N970=\"Transporte Aéreo\",VLOOKUP(O971,Tabelas!$F$16:$G$21,2),\"\")))","v":""},null,null,null,null,null,null,null,null,null,null,null,null,null,null,null,"",{"$f":"+IF(AF971=\"\",\"\",VLOOKUP(AF971,Tabelas!$J$27:$K$30,2))","v":""}]
[null,null,null,null,null,null,{"$f":"+IF(F972=\"\",\"\",VLOOKUP(F972,Tabelas!$B$7:$C$96,2))","v":""},null,{"$f":"IF(H972=\"\",\"\",ROUND(H972/SUM(H970:H977),4))","v":""},null,null,null,null,null,null,{"$f":"+IF(O972=\"\",\"\",IF(N970=\"Transporte Marítimo\",VLOOKUP(O972,Tabelas!$F$7:$G$12,2),IF(N970=\"Transporte Aéreo\",VLOOKUP(O972,Tabelas!$F$16:$G$21,2),\"\")))","v":""},null,null,null,null,null,null,null,null,null,null,null,null,null,null,null,"",{"$f":"+IF(AF972=\"\",\"\",VLOOKUP(AF972,Tabelas!$J$27:$K$30,2))","v":""}]
[null,null,null,null,null,null,{"$f":"+IF(F973=\"\",\"\",VLOOKUP(F973,Tabelas!$B$7:$C$96,2))","v":""},null,{"$f":"IF(H973=\"\",\"\",ROUND(H973/SUM(H970:H977),4))","v":""},null,null,null,null,null,null,{"$f":"+IF(O973=\"\",\"\",IF(N970=\"Transporte Marítimo\",VLOOKUP(O973,Tabelas!$F$7:$G$12,2),IF(N970=\"Transporte Aéreo\",VLOOKUP(O973,Tabelas!$F$16:$G$21,2),\"\")))","v":""},null,null,null,null,null,null,null,null,null,null,null,null,null,null,null,"",{"$f":"+IF(AF973=\"\",\"\",VLOOKUP(AF973,Tabelas!$J$27:$K$30,2))","v":""}]
[null,null,null,null,null,null,{"$f":"+IF(F974=\"\",\"\",VLOOKUP(F974,Tabelas!$B$7:$C$96,2))","v":""},null,{"$f":"IF(H974=\"\",\"\",ROUND(H974/SUM(H970:H977),4))","v":""},null,null,null,null,null,null,{"$f":"+IF(O974=\"\",\"\",IF(N970=\"Transporte Marítimo\",VLOOKUP(O974,Tabelas!$F$7:$G$12,2),IF(N970=\"Transporte Aéreo\",VLOOKUP(O974,Tabelas!$F$16:$G$21,2),\"\")))","v":""},null,null,null,null,null,null,null,null,null,null,null,null,null,null,null,"",{"$f":"+IF(AF974=\"\",\"\",VLOOKUP(AF974,Tabelas!$J$27:$K$30,2))","v":""}]
[null,null,null,null,null,null,{"$f":"+IF(F975=\"\",\"\",VLOOKUP(F975,Tabelas!$B$7:$C$96,2))","v":""},null,{"$f":"IF(H975=\"\",\"\",ROUND(H975/SUM(H970:H977),4))","v":""},null,null,null,null,null,null,{"$f":"+IF(O975=\"\",\"\",IF(N970=\"Transporte Marítimo\",VLOOKUP(O975,Tabelas!$F$7:$G$12,2),IF(N970=\"Transporte Aéreo\",VLOOKUP(O975,Tabelas!$F$16:$G$21,2),\"\")))","v":""},null,null,null,null,null,null,null,null,null,null,null,null,null,null,null,"",{"$f":"+IF(AF975=\"\",\"\",VLOOKUP(AF975,Tabelas!$J$27:$K$30,2))","v":""}]
[null,null,null,null,null,null,{"$f":"+IF(F976=\"\",\"\",VLOOKUP(F976,Tabelas!$B$7:$C$96,2))","v":""},null,{"$f":"IF(H976=\"\",\"\",ROUND(H976/SUM(H970:H977),4))","v":""},null,null,null,null,null,null,{"$f":"+IF(O976=\"\",\"\",IF(N970=\"Transporte Marítimo\",VLOOKUP(O976,Tabelas!$F$7:$G$12,2),IF(N970=\"Transporte Aéreo\",VLOOKUP(O976,Tabelas!$F$16:$G$21,2),\"\")))","v":""},null,null,null,null,null,null,null,null,null,null,null,null,null,null,null,"",{"$f":"+IF(AF976=\"\",\"\",VLOOKUP(AF976,Tabelas!$J$27:$K$30,2))","v":""}]
[null,null,null,null,null,null,{"$f":"+IF(F977=\"\",\"\",VLOOKUP(F977,Tabelas!$B$7:$C$96,2))","v":""},null,{"$f":"IF(H977=\"\",\"\",ROUND(H977/SUM(H970:H977),4))","v":""},null,null,null,null,null,null,{"$f":"+IF(O977=\"\",\"\",IF(N970=\"Transporte Marítimo\",VLOOKUP(O977,Tabelas!$F$7:$G$12,2),IF(N970=\"Transporte Aéreo\",VLOOKUP(O977,Tabelas!$F$16:$G$21,2),\"\")))","v":""},null,null,null,null,null,null,null,null,null,null,null,null,null,null,null,"",{"$f":"+IF(AF977=\"\",\"\",VLOOKUP(AF977,Tabelas!$J$27:$K$30,2))","v":""}]
[null,{"$f":"+B970+1","v":121},null,null,null,null,{"$f":"+IF(F978=\"\",\"\",VLOOKUP(F978,Tabelas!$B$7:$C$96,2))","v":""},null,{"$f":"IF(H978=\"\",\"\",1-SUM(I979:I985))","v":""},null,null,null,null,null,null,{"$f":"+IF(O978=\"\",\"\",IF(N978=\"Transporte Marítimo\",VLOOKUP(O978,Tabelas!$F$7:$G$12,2),IF(N978=\"Transporte Aéreo\",VLOOKUP(O978,Tabelas!$F$16:$G$21,2),\"\")))","v":""},null,null,null,null,null,null,null,null,null,null,null,null,null,null,null,"",{"$f":"+IF(AF978=\"\",\"\",VLOOKUP(AF978,Tabelas!$J$27:$K$30,2))","v":""},null,null,null,null,null,null,null,null,null,null,null,null,null,null,null," "]
[null,null,null,null,null,null,{"$f":"+IF(F979=\"\",\"\",VLOOKUP(F979,Tabelas!$B$7:$C$96,2))","v":""},null,{"$f":"IF(H979=\"\",\"\",ROUND(H979/SUM(H978:H985),4))","v":""},null,null,null,null,null,null,{"$f":"+IF(O979=\"\",\"\",IF(N978=\"Transporte Marítimo\",VLOOKUP(O979,Tabelas!$F$7:$G$12,2),IF(N978=\"Transporte Aéreo\",VLOOKUP(O979,Tabelas!$F$16:$G$21,2),\"\")))","v":""},null,null,null,null,null,null,null,null,null,null,null,null,null,null,null,{"$f":"+IF(AE979=\"20NL\",1,IF(AE979=\"40NL\",2,IF(AE979=\"20RF\",3,IF(AE979=\"40RF\",4,\"\"))))","v":""},{"$f":"+IF(AF979=\"\",\"\",VLOOKUP(AF979,Tabelas!$J$27:$K$30,2))","v":""}]
[null,null,null,null,null,null,{"$f":"+IF(F980=\"\",\"\",VLOOKUP(F980,Tabelas!$B$7:$C$96,2))","v":""},null,{"$f":"IF(H980=\"\",\"\",ROUND(H980/SUM(H978:H985),4))","v":""},null,null,null,null,null,null,{"$f":"+IF(O980=\"\",\"\",IF(N978=\"Transporte Marítimo\",VLOOKUP(O980,Tabelas!$F$7:$G$12,2),IF(N978=\"Transporte Aéreo\",VLOOKUP(O980,Tabelas!$F$16:$G$21,2),\"\")))","v":""},null,null,null,null,null,null,null,null,null,null,null,null,null,null,null,"",{"$f":"+IF(AF980=\"\",\"\",VLOOKUP(AF980,Tabelas!$J$27:$K$30,2))","v":""}]
[null,null,null,null,null,null,{"$f":"+IF(F981=\"\",\"\",VLOOKUP(F981,Tabelas!$B$7:$C$96,2))","v":""},null,{"$f":"IF(H981=\"\",\"\",ROUND(H981/SUM(H978:H985),4))","v":""},null,null,null,null,null,null,{"$f":"+IF(O981=\"\",\"\",IF(N978=\"Transporte Marítimo\",VLOOKUP(O981,Tabelas!$F$7:$G$12,2),IF(N978=\"Transporte Aéreo\",VLOOKUP(O981,Tabelas!$F$16:$G$21,2),\"\")))","v":""},null,null,null,null,null,null,null,null,null,null,null,null,null,null,null,"",{"$f":"+IF(AF981=\"\",\"\",VLOOKUP(AF981,Tabelas!$J$27:$K$30,2))","v":""}]
[null,null,null,null,null,null,{"$f":"+IF(F982=\"\",\"\",VLOOKUP(F982,Tabelas!$B$7:$C$96,2))","v":""},null,{"$f":"IF(H982=\"\",\"\",ROUND(H982/SUM(H978:H985),4))","v":""},null,null,null,null,null,null,{"$f":"+IF(O982=\"\",\"\",IF(N978=\"Transporte Marítimo\",VLOOKUP(O982,Tabelas!$F$7:$G$12,2),IF(N978=\"Transporte Aéreo\",VLOOKUP(O982,Tabelas!$F$16:$G$21,2),\"\")))","v":""},null,null,null,null,null,null,null,null,null,null,null,null,null,null,null,"",{"$f":"+IF(AF982=\"\",\"\",VLOOKUP(AF982,Tabelas!$J$27:$K$30,2))","v":""}]
[null,null,null,null,null,null,{"$f":"+IF(F983=\"\",\"\",VLOOKUP(F983,Tabelas!$B$7:$C$96,2))","v":""},null,{"$f":"IF(H983=\"\",\"\",ROUND(H983/SUM(H978:H985),4))","v":""},null,null,null,null,null,null,{"$f":"+IF(O983=\"\",\"\",IF(N978=\"Transporte Marítimo\",VLOOKUP(O983,Tabelas!$F$7:$G$12,2),IF(N978=\"Transporte Aéreo\",VLOOKUP(O983,Tabelas!$F$16:$G$21,2),\"\")))","v":""},null,null,null,null,null,null,null,null,null,null,null,null,null,null,null,"",{"$f":"+IF(AF983=\"\",\"\",VLOOKUP(AF983,Tabelas!$J$27:$K$30,2))","v":""}]
[null,null,null,null,null,null,{"$f":"+IF(F984=\"\",\"\",VLOOKUP(F984,Tabelas!$B$7:$C$96,2))","v":""},null,{"$f":"IF(H984=\"\",\"\",ROUND(H984/SUM(H978:H985),4))","v":""},null,null,null,null,null,null,{"$f":"+IF(O984=\"\",\"\",IF(N978=\"Transporte Marítimo\",VLOOKUP(O984,Tabelas!$F$7:$G$12,2),IF(N978=\"Transporte Aéreo\",VLOOKUP(O984,Tabelas!$F$16:$G$21,2),\"\")))","v":""},null,null,null,null,null,null,null,null,null,null,null,null,null,null,null,"",{"$f":"+IF(AF984=\"\",\"\",VLOOKUP(AF984,Tabelas!$J$27:$K$30,2))","v":""}]
[null,null,null,null,null,null,{"$f":"+IF(F985=\"\",\"\",VLOOKUP(F985,Tabelas!$B$7:$C$96,2))","v":""},null,{"$f":"IF(H985=\"\",\"\",ROUND(H985/SUM(H978:H985),4))","v":""},null,null,null,null,null,null,{"$f":"+IF(O985=\"\",\"\",IF(N978=\"Transporte Marítimo\",VLOOKUP(O985,Tabelas!$F$7:$G$12,2),IF(N978=\"Transporte Aéreo\",VLOOKUP(O985,Tabelas!$F$16:$G$21,2),\"\")))","v":""},null,null,null,null,null,null,null,null,null,null,null,null,null,null,null,"",{"$f":"+IF(AF985=\"\",\"\",VLOOKUP(AF985,Tabelas!$J$27:$K$30,2))","v":""}]
[null,{"$f":"+B978+1","v":122},null,null,null,null,{"$f":"+IF(F986=\"\",\"\",VLOOKUP(F986,Tabelas!$B$7:$C$96,2))","v":""},null,{"$f":"IF(H986=\"\",\"\",1-SUM(I987:I993))","v":""},null,null,null,null,null,null,{"$f":"+IF(O986=\"\",\"\",IF(N986=\"Transporte Marítimo\",VLOOKUP(O986,Tabelas!$F$7:$G$12,2),IF(N986=\"Transporte Aéreo\",VLOOKUP(O986,Tabelas!$F$16:$G$21,2),\"\")))","v":""},null,null,null,null,null,null,null,null,null,null,null,null,null,null,null,"",{"$f":"+IF(AF986=\"\",\"\",VLOOKUP(AF986,Tabelas!$J$27:$K$30,2))","v":""},null,null,null,null,null,null,null,null,null,null,null,null,null,null,null," "]
[null,null,null,null,null,null,{"$f":"+IF(F987=\"\",\"\",VLOOKUP(F987,Tabelas!$B$7:$C$96,2))","v":""},null,{"$f":"IF(H987=\"\",\"\",ROUND(H987/SUM(H986:H993),4))","v":""},null,null,null,null,null,null,{"$f":"+IF(O987=\"\",\"\",IF(N986=\"Transporte Marítimo\",VLOOKUP(O987,Tabelas!$F$7:$G$12,2),IF(N986=\"Transporte Aéreo\",VLOOKUP(O987,Tabelas!$F$16:$G$21,2),\"\")))","v":""},null,null,null,null,null,null,null,null,null,null,null,null,null,null,null,"",{"$f":"+IF(AF987=\"\",\"\",VLOOKUP(AF987,Tabelas!$J$27:$K$30,2))","v":""}]
[null,null,null,null,null,null,{"$f":"+IF(F988=\"\",\"\",VLOOKUP(F988,Tabelas!$B$7:$C$96,2))","v":""},null,{"$f":"IF(H988=\"\",\"\",ROUND(H988/SUM(H986:H993),4))","v":""},null,null,null,null,null,null,{"$f":"+IF(O988=\"\",\"\",IF(N986=\"Transporte Marítimo\",VLOOKUP(O988,Tabelas!$F$7:$G$12,2),IF(N986=\"Transporte Aéreo\",VLOOKUP(O988,Tabelas!$F$16:$G$21,2),\"\")))","v":""},null,null,null,null,null,null,null,null,null,null,null,null,null,null,null,"",{"$f":"+IF(AF988=\"\",\"\",VLOOKUP(AF988,Tabelas!$J$27:$K$30,2))","v":""}]
[null,null,null,null,null,null,{"$f":"+IF(F989=\"\",\"\",VLOOKUP(F989,Tabelas!$B$7:$C$96,2))","v":""},null,{"$f":"IF(H989=\"\",\"\",ROUND(H989/SUM(H986:H993),4))","v":""},null,null,null,null,null,null,{"$f":"+IF(O989=\"\",\"\",IF(N986=\"Transporte Marítimo\",VLOOKUP(O989,Tabelas!$F$7:$G$12,2),IF(N986=\"Transporte Aéreo\",VLOOKUP(O989,Tabelas!$F$16:$G$21,2),\"\")))","v":""},null,null,null,null,null,null,null,null,null,null,null,null,null,null,null,"",{"$f":"+IF(AF989=\"\",\"\",VLOOKUP(AF989,Tabelas!$J$27:$K$30,2))","v":""}]
[null,null,null,null,null,null,{"$f":"+IF(F990=\"\",\"\",VLOOKUP(F990,Tabelas!$B$7:$C$96,2))","v":""},null,{"$f":"IF(H990=\"\",\"\",ROUND(H990/SUM(H986:H993),4))","v":""},null,null,null,null,null,null,{"$f":"+IF(O990=\"\",\"\",IF(N986=\"Transporte Marítimo\",VLOOKUP(O990,Tabelas!$F$7:$G$12,2),IF(N986=\"Transporte Aéreo\",VLOOKUP(O990,Tabelas!$F$16:$G$21,2),\"\")))","v":""},null,null,null,null,null,null,null,null,null,null,null,null,null,null,null,"",{"$f":"+IF(AF990=\"\",\"\",VLOOKUP(AF990,Tabelas!$J$27:$K$30,2))","v":""}]
[null,null,null,null,null,null,{"$f":"+IF(F991=\"\",\"\",VLOOKUP(F991,Tabelas!$B$7:$C$96,2))","v":""},null,{"$f":"IF(H991=\"\",\"\",ROUND(H991/SUM(H986:H993),4))","v":""},null,null,null,null,null,null,{"$f":"+IF(O991=\"\",\"\",IF(N986=\"Transporte Marítimo\",VLOOKUP(O991,Tabelas!$F$7:$G$12,2),IF(N986=\"Transporte Aéreo\",VLOOKUP(O991,Tabelas!$F$16:$G$21,2),\"\")))","v":""},null,null,null,null,null,null,null,null,null,null,null,null,null,null,null,"",{"$f":"+IF(AF991=\"\",\"\",VLOOKUP(AF991,Tabelas!$J$27:$K$30,2))","v":""}]
[null,null,null,null,null,null,{"$f":"+IF(F992=\"\",\"\",VLOOKUP(F992,Tabelas!$B$7:$C$96,2))","v":""},null,{"$f":"IF(H992=\"\",\"\",ROUND(H992/SUM(H986:H993),4))","v":""},null,null,null,null,null,null,{"$f":"+IF(O992=\"\",\"\",IF(N986=\"Transporte Marítimo\",VLOOKUP(O992,Tabelas!$F$7:$G$12,2),IF(N986=\"Transporte Aéreo\",VLOOKUP(O992,Tabelas!$F$16:$G$21,2),\"\")))","v":""},null,null,null,null,null,null,null,null,null,null,null,null,null,null,null,"",{"$f":"+IF(AF992=\"\",\"\",VLOOKUP(AF992,Tabelas!$J$27:$K$30,2))","v":""}]
[null,null,null,null,null,null,{"$f":"+IF(F993=\"\",\"\",VLOOKUP(F993,Tabelas!$B$7:$C$96,2))","v":""},null,{"$f":"IF(H993=\"\",\"\",ROUND(H993/SUM(H986:H993),4))","v":""},null,null,null,null,null,null,{"$f":"+IF(O993=\"\",\"\",IF(N986=\"Transporte Marítimo\",VLOOKUP(O993,Tabelas!$F$7:$G$12,2),IF(N986=\"Transporte Aéreo\",VLOOKUP(O993,Tabelas!$F$16:$G$21,2),\"\")))","v":""},null,null,null,null,null,null,null,null,null,null,null,null,null,null,null,"",{"$f":"+IF(AF993=\"\",\"\",VLOOKUP(AF993,Tabelas!$J$27:$K$30,2))","v":""}]
[null,{"$f":"+B986+1","v":123},null,null,null,null,{"$f":"+IF(F994=\"\",\"\",VLOOKUP(F994,Tabelas!$B$7:$C$96,2))","v":""},null,{"$f":"IF(H994=\"\",\"\",1-SUM(I995:I1001))","v":""},null,null,null,null,null,null,{"$f":"+IF(O994=\"\",\"\",IF(N994=\"Transporte Marítimo\",VLOOKUP(O994,Tabelas!$F$7:$G$12,2),IF(N994=\"Transporte Aéreo\",VLOOKUP(O994,Tabelas!$F$16:$G$21,2),\"\")))","v":""},null,null,null,null,null,null,null,null,null,null,null,null,null,null,null,"",{"$f":"+IF(AF994=\"\",\"\",VLOOKUP(AF994,Tabelas!$J$27:$K$30,2))","v":""},null,null,null,null,null,null,null,null,null,null,null,null,null,null,null," "]
[null,null,null,null,null,null,{"$f":"+IF(F995=\"\",\"\",VLOOKUP(F995,Tabelas!$B$7:$C$96,2))","v":""},null,{"$f":"IF(H995=\"\",\"\",ROUND(H995/SUM(H994:H1001),4))","v":""},null,null,null,null,null,null,{"$f":"+IF(O995=\"\",\"\",IF(N994=\"Transporte Marítimo\",VLOOKUP(O995,Tabelas!$F$7:$G$12,2),IF(N994=\"Transporte Aéreo\",VLOOKUP(O995,Tabelas!$F$16:$G$21,2),\"\")))","v":""},null,null,null,null,null,null,null,null,null,null,null,null,null,null,null,"",{"$f":"+IF(AF995=\"\",\"\",VLOOKUP(AF995,Tabelas!$J$27:$K$30,2))","v":""}]
[null,null,null,null,null,null,{"$f":"+IF(F996=\"\",\"\",VLOOKUP(F996,Tabelas!$B$7:$C$96,2))","v":""},null,{"$f":"IF(H996=\"\",\"\",ROUND(H996/SUM(H994:H1001),4))","v":""},null,null,null,null,null,null,{"$f":"+IF(O996=\"\",\"\",IF(N994=\"Transporte Marítimo\",VLOOKUP(O996,Tabelas!$F$7:$G$12,2),IF(N994=\"Transporte Aéreo\",VLOOKUP(O996,Tabelas!$F$16:$G$21,2),\"\")))","v":""},null,null,null,null,null,null,null,null,null,null,null,null,null,null,null,"",{"$f":"+IF(AF996=\"\",\"\",VLOOKUP(AF996,Tabelas!$J$27:$K$30,2))","v":""}]
[null,null,null,null,null,null,{"$f":"+IF(F997=\"\",\"\",VLOOKUP(F997,Tabelas!$B$7:$C$96,2))","v":""},null,{"$f":"IF(H997=\"\",\"\",ROUND(H997/SUM(H994:H1001),4))","v":""},null,null,null,null,null,null,{"$f":"+IF(O997=\"\",\"\",IF(N994=\"Transporte Marítimo\",VLOOKUP(O997,Tabelas!$F$7:$G$12,2),IF(N994=\"Transporte Aéreo\",VLOOKUP(O997,Tabelas!$F$16:$G$21,2),\"\")))","v":""},null,null,null,null,null,null,null,null,null,null,null,null,null,null,null,"",{"$f":"+IF(AF997=\"\",\"\",VLOOKUP(AF997,Tabelas!$J$27:$K$30,2))","v":""}]
[null,null,null,null,null,null,{"$f":"+IF(F998=\"\",\"\",VLOOKUP(F998,Tabelas!$B$7:$C$96,2))","v":""},null,{"$f":"IF(H998=\"\",\"\",ROUND(H998/SUM(H994:H1001),4))","v":""},null,null,null,null,null,null,{"$f":"+IF(O998=\"\",\"\",IF(N994=\"Transporte Marítimo\",VLOOKUP(O998,Tabelas!$F$7:$G$12,2),IF(N994=\"Transporte Aéreo\",VLOOKUP(O998,Tabelas!$F$16:$G$21,2),\"\")))","v":""},null,null,null,null,null,null,null,null,null,null,null,null,null,null,null,"",{"$f":"+IF(AF998=\"\",\"\",VLOOKUP(AF998,Tabelas!$J$27:$K$30,2))","v":""}]
[null,null,null,null,null,null,{"$f":"+IF(F999=\"\",\"\",VLOOKUP(F999,Tabelas!$B$7:$C$96,2))","v":""},null,{"$f":"IF(H999=\"\",\"\",ROUND(H999/SUM(H994:H1001),4))","v":""},null,null,null,null,null,null,{"$f":"+IF(O999=\"\",\"\",IF(N994=\"Transporte Marítimo\",VLOOKUP(O999,Tabelas!$F$7:$G$12,2),IF(N994=\"Transporte Aéreo\",VLOOKUP(O999,Tabelas!$F$16:$G$21,2),\"\")))","v":""},null,null,null,null,null,null,null,null,null,null,null,null,null,null,null,"",{"$f":"+IF(AF999=\"\",\"\",VLOOKUP(AF999,Tabelas!$J$27:$K$30,2))","v":""}]
[null,null,null,null,null,null,{"$f":"+IF(F1000=\"\",\"\",VLOOKUP(F1000,Tabelas!$B$7:$C$96,2))","v":""},null,{"$f":"IF(H1000=\"\",\"\",ROUND(H1000/SUM(H994:H1001),4))","v":""},null,null,null,null,null,null,{"$f":"+IF(O1000=\"\",\"\",IF(N994=\"Transporte Marítimo\",VLOOKUP(O1000,Tabelas!$F$7:$G$12,2),IF(N994=\"Transporte Aéreo\",VLOOKUP(O1000,Tabelas!$F$16:$G$21,2),\"\")))","v":""},null,null,null,null,null,null,null,null,null,null,null,null,null,null,null,"",{"$f":"+IF(AF1000=\"\",\"\",VLOOKUP(AF1000,Tabelas!$J$27:$K$30,2))","v":""}]
[null,{"$f":"+B994+1","v":124},null,null,null,null,{"$f":"+IF(F1002=\"\",\"\",VLOOKUP(F1002,Tabelas!$B$7:$C$96,2))","v":""},null,{"$f":"IF(H1002=\"\",\"\",1-SUM(I1003:I1009))","v":""},null,null,null,null,null,null,{"$f":"+IF(O1002=\"\",\"\",IF(N1002=\"Transporte Marítimo\",VLOOKUP(O1002,Tabelas!$F$7:$G$12,2),IF(N1002=\"Transporte Aéreo\",VLOOKUP(O1002,Tabelas!$F$16:$G$21,2),\"\")))","v":""},null,null,null,null,null,null,null,null,null,null,null,null,null,null,null,"",{"$f":"+IF(AF1002=\"\",\"\",VLOOKUP(AF1002,Tabelas!$J$27:$K$30,2))","v":""},null,null,null,null,null,null,null,null,null,null,null,null,null,null,null," "]
[null,null,null,null,null,null,{"$f":"+IF(F1003=\"\",\"\",VLOOKUP(F1003,Tabelas!$B$7:$C$96,2))","v":""},null,{"$f":"IF(H1003=\"\",\"\",ROUND(H1003/SUM(H1002:H1009),4))","v":""},null,null,null,null,null,null,{"$f":"+IF(O1003=\"\",\"\",IF(N1002=\"Transporte Marítimo\",VLOOKUP(O1003,Tabelas!$F$7:$G$12,2),IF(N1002=\"Transporte Aéreo\",VLOOKUP(O1003,Tabelas!$F$16:$G$21,2),\"\")))","v":""},null,null,null,null,null,null,null,null,null,null,null,null,null,null,null,"",{"$f":"+IF(AF1003=\"\",\"\",VLOOKUP(AF1003,Tabelas!$J$27:$K$30,2))","v":""}]
[null,null,null,null,null,null,{"$f":"+IF(F1006=\"\",\"\",VLOOKUP(F1006,Tabelas!$B$7:$C$96,2))","v":""},null,{"$f":"IF(H1006=\"\",\"\",ROUND(H1006/SUM(H1002:H1009),4))","v":""},null,null,null,null,null,null,{"$f":"+IF(O1006=\"\",\"\",IF(N1002=\"Transporte Marítimo\",VLOOKUP(O1006,Tabelas!$F$7:$G$12,2),IF(N1002=\"Transporte Aéreo\",VLOOKUP(O1006,Tabelas!$F$16:$G$21,2),\"\")))","v":""},null,null,null,null,null,null,null,null,null,null,null,null,null,null,null,"",{"$f":"+IF(AF1006=\"\",\"\",VLOOKUP(AF1006,Tabelas!$J$27:$K$30,2))","v":""}]
[null,null,null,null,null,null,{"$f":"+IF(F1007=\"\",\"\",VLOOKUP(F1007,Tabelas!$B$7:$C$96,2))","v":""},null,{"$f":"IF(H1007=\"\",\"\",ROUND(H1007/SUM(H1002:H1009),4))","v":""},null,null,null,null,null,null,{"$f":"+IF(O1007=\"\",\"\",IF(N1002=\"Transporte Marítimo\",VLOOKUP(O1007,Tabelas!$F$7:$G$12,2),IF(N1002=\"Transporte Aéreo\",VLOOKUP(O1007,Tabelas!$F$16:$G$21,2),\"\")))","v":""},null,null,null,null,null,null,null,null,null,null,null,null,null,null,null,"",{"$f":"+IF(AF1007=\"\",\"\",VLOOKUP(AF1007,Tabelas!$J$27:$K$30,2))","v":""}]
[null,null,null,null,null,null,{"$f":"+IF(F1011=\"\",\"\",VLOOKUP(F1011,Tabelas!$B$7:$C$96,2))","v":""},null,{"$f":"IF(H1011=\"\",\"\",ROUND(H1011/SUM(H1010:H1017),4))","v":""},null,null,null,null,null,null,{"$f":"+IF(O1011=\"\",\"\",IF(N1010=\"Transporte Marítimo\",VLOOKUP(O1011,Tabelas!$F$7:$G$12,2),IF(N1010=\"Transporte Aéreo\",VLOOKUP(O1011,Tabelas!$F$16:$G$21,2),\"\")))","v":""},null,null,null,null,null,null,null,null,null,null,null,null,null,null,null,"",{"$f":"+IF(AF1011=\"\",\"\",VLOOKUP(AF1011,Tabelas!$J$27:$K$30,2))","v":""}]
[null,null,null,null,null,null,{"$f":"+IF(F1012=\"\",\"\",VLOOKUP(F1012,Tabelas!$B$7:$C$96,2))","v":""},null,{"$f":"IF(H1012=\"\",\"\",ROUND(H1012/SUM(H1010:H1017),4))","v":""},null,null,null,null,null,null,{"$f":"+IF(O1012=\"\",\"\",IF(N1010=\"Transporte Marítimo\",VLOOKUP(O1012,Tabelas!$F$7:$G$12,2),IF(N1010=\"Transporte Aéreo\",VLOOKUP(O1012,Tabelas!$F$16:$G$21,2),\"\")))","v":""},null,null,null,null,null,null,null,null,null,null,null,null,null,null,null,"",{"$f":"+IF(AF1012=\"\",\"\",VLOOKUP(AF1012,Tabelas!$J$27:$K$30,2))","v":""}]
[null,null,null,null,null,null,{"$f":"+IF(F1015=\"\",\"\",VLOOKUP(F1015,Tabelas!$B$7:$C$96,2))","v":""},null,{"$f":"IF(H1015=\"\",\"\",ROUND(H1015/SUM(H1010:H1017),4))","v":""},null,null,null,null,null,null,{"$f":"+IF(O1015=\"\",\"\",IF(N1010=\"Transporte Marítimo\",VLOOKUP(O1015,Tabelas!$F$7:$G$12,2),IF(N1010=\"Transporte Aéreo\",VLOOKUP(O1015,Tabelas!$F$16:$G$21,2),\"\")))","v":""},null,null,null,null,null,null,null,null,null,null,null,null,null,null,null,"",{"$f":"+IF(AF1015=\"\",\"\",VLOOKUP(AF1015,Tabelas!$J$27:$K$30,2))","v":""}]
[null,null,null,null,null,null,{"$f":"+IF(F1016=\"\",\"\",VLOOKUP(F1016,Tabelas!$B$7:$C$96,2))","v":""},null,{"$f":"IF(H1016=\"\",\"\",ROUND(H1016/SUM(H1010:H1017),4))","v":""},null,null,null,null,null,null,{"$f":"+IF(O1016=\"\",\"\",IF(N1010=\"Transporte Marítimo\",VLOOKUP(O1016,Tabelas!$F$7:$G$12,2),IF(N1010=\"Transporte Aéreo\",VLOOKUP(O1016,Tabelas!$F$16:$G$21,2),\"\")))","v":""},null,null,null,null,null,null,null,null,null,null,null,null,null,null,null,"",{"$f":"+IF(AF1016=\"\",\"\",VLOOKUP(AF1016,Tabelas!$J$27:$K$30,2))","v":""}]
[null,null,null,null,null,null,{"$f":"+IF(F1019=\"\",\"\",VLOOKUP(F1019,Tabelas!$B$7:$C$96,2))","v":""},null,{"$f":"IF(H1019=\"\",\"\",ROUND(H1019/SUM(H1018:H1025),4))","v":""},null,null,null,null,null,null,{"$f":"+IF(O1019=\"\",\"\",IF(N1018=\"Transporte Marítimo\",VLOOKUP(O1019,Tabelas!$F$7:$G$12,2),IF(N1018=\"Transporte Aéreo\",VLOOKUP(O1019,Tabelas!$F$16:$G$21,2),\"\")))","v":""},null,null,null,null,null,null,null,null,null,null,null,null,null,null,null,"",{"$f":"+IF(AF1019=\"\",\"\",VLOOKUP(AF1019,Tabelas!$J$27:$K$30,2))","v":""}]
[null,null,null,null,null,null,{"$f":"+IF(F1021=\"\",\"\",VLOOKUP(F1021,Tabelas!$B$7:$C$96,2))","v":""},null,{"$f":"IF(H1021=\"\",\"\",ROUND(H1021/SUM(H1018:H1025),4))","v":""},null,null,null,null,null,null,{"$f":"+IF(O1021=\"\",\"\",IF(N1018=\"Transporte Marítimo\",VLOOKUP(O1021,Tabelas!$F$7:$G$12,2),IF(N1018=\"Transporte Aéreo\",VLOOKUP(O1021,Tabelas!$F$16:$G$21,2),\"\")))","v":""},null,null,null,null,null,null,null,null,null,null,null,null,null,null,null,"",{"$f":"+IF(AF1021=\"\",\"\",VLOOKUP(AF1021,Tabelas!$J$27:$K$30,2))","v":""}]
[null,null,null,null,null,null,{"$f":"+IF(F1024=\"\",\"\",VLOOKUP(F1024,Tabelas!$B$7:$C$96,2))","v":""},null,{"$f":"IF(H1024=\"\",\"\",ROUND(H1024/SUM(H1018:H1025),4))","v":""},null,null,null,null,null,null,{"$f":"+IF(O1024=\"\",\"\",IF(N1018=\"Transporte Marítimo\",VLOOKUP(O1024,Tabelas!$F$7:$G$12,2),IF(N1018=\"Transporte Aéreo\",VLOOKUP(O1024,Tabelas!$F$16:$G$21,2),\"\")))","v":""},null,null,null,null,null,null,null,null,null,null,null,null,null,null,null,"",{"$f":"+IF(AF1024=\"\",\"\",VLOOKUP(AF1024,Tabelas!$J$27:$K$30,2))","v":""}]
[null,null,null,null,null,null,{"$f":"+IF(F1025=\"\",\"\",VLOOKUP(F1025,Tabelas!$B$7:$C$96,2))","v":""},null,{"$f":"IF(H1025=\"\",\"\",ROUND(H1025/SUM(H1018:H1025),4))","v":""},null,null,null,null,null,null,{"$f":"+IF(O1025=\"\",\"\",IF(N1018=\"Transporte Marítimo\",VLOOKUP(O1025,Tabelas!$F$7:$G$12,2),IF(N1018=\"Transporte Aéreo\",VLOOKUP(O1025,Tabelas!$F$16:$G$21,2),\"\")))","v":""},null,null,null,null,null,null,null,null,null,null,null,null,null,null,null,"",{"$f":"+IF(AF1025=\"\",\"\",VLOOKUP(AF1025,Tabelas!$J$27:$K$30,2))","v":""}]
[null,null,null,null,null,null,{"$f":"+IF(F1028=\"\",\"\",VLOOKUP(F1028,Tabelas!$B$7:$C$96,2))","v":""},null,{"$f":"IF(H1028=\"\",\"\",ROUND(H1028/SUM(H1026:H1033),4))","v":""},null,null,null,null,null,null,{"$f":"+IF(O1028=\"\",\"\",IF(N1026=\"Transporte Marítimo\",VLOOKUP(O1028,Tabelas!$F$7:$G$12,2),IF(N1026=\"Transporte Aéreo\",VLOOKUP(O1028,Tabelas!$F$16:$G$21,2),\"\")))","v":""},null,null,null,null,null,null,null,null,null,null,null,null,null,null,null,"",{"$f":"+IF(AF1028=\"\",\"\",VLOOKUP(AF1028,Tabelas!$J$27:$K$30,2))","v":""}]
[null,null,null,null,null,null,{"$f":"+IF(F1031=\"\",\"\",VLOOKUP(F1031,Tabelas!$B$7:$C$96,2))","v":""},null,{"$f":"IF(H1031=\"\",\"\",ROUND(H1031/SUM(H1026:H1033),4))","v":""},null,null,null,null,null,null,{"$f":"+IF(O1031=\"\",\"\",IF(N1026=\"Transporte Marítimo\",VLOOKUP(O1031,Tabelas!$F$7:$G$12,2),IF(N1026=\"Transporte Aéreo\",VLOOKUP(O1031,Tabelas!$F$16:$G$21,2),\"\")))","v":""},null,null,null,null,null,null,null,null,null,null,null,null,null,null,null,"",{"$f":"+IF(AF1031=\"\",\"\",VLOOKUP(AF1031,Tabelas!$J$27:$K$30,2))","v":""}]
[null,null,null,null,null,null,{"$f":"+IF(F1033=\"\",\"\",VLOOKUP(F1033,Tabelas!$B$7:$C$96,2))","v":""},null,{"$f":"IF(H1033=\"\",\"\",ROUND(H1033/SUM(H1026:H1033),4))","v":""},null,null,null,null,null,null,{"$f":"+IF(O1033=\"\",\"\",IF(N1026=\"Transporte Marítimo\",VLOOKUP(O1033,Tabelas!$F$7:$G$12,2),IF(N1026=\"Transporte Aéreo\",VLOOKUP(O1033,Tabelas!$F$16:$G$21,2),\"\")))","v":""},null,null,null,null,null,null,null,null,null,null,null,null,null,null,null,"",{"$f":"+IF(AF1033=\"\",\"\",VLOOKUP(AF1033,Tabelas!$J$27:$K$30,2))","v":""}]
[null,{"$f":"+B1026+1","v":128},null,null,null,null,{"$f":"+IF(F1034=\"\",\"\",VLOOKUP(F1034,Tabelas!$B$7:$C$96,2))","v":""},null,{"$f":"IF(H1034=\"\",\"\",1-SUM(I1035:I1041))","v":""},null,null,null,null,null,null,{"$f":"+IF(O1034=\"\",\"\",IF(N1034=\"Transporte Marítimo\",VLOOKUP(O1034,Tabelas!$F$7:$G$12,2),IF(N1034=\"Transporte Aéreo\",VLOOKUP(O1034,Tabelas!$F$16:$G$21,2),\"\")))","v":""},null,null,null,null,null,null,null,null,null,null,null,null,null,null,null,"",{"$f":"+IF(AF1034=\"\",\"\",VLOOKUP(AF1034,Tabelas!$J$27:$K$30,2))","v":""},null,null,null,null,null,null,null,null,null,null,null,null,null,null,null," "]
[null,null,null,null,null,null,{"$f":"+IF(F1037=\"\",\"\",VLOOKUP(F1037,Tabelas!$B$7:$C$96,2))","v":""},null,{"$f":"IF(H1037=\"\",\"\",ROUND(H1037/SUM(H1034:H1041),4))","v":""},null,null,null,null,null,null,{"$f":"+IF(O1037=\"\",\"\",IF(N1034=\"Transporte Marítimo\",VLOOKUP(O1037,Tabelas!$F$7:$G$12,2),IF(N1034=\"Transporte Aéreo\",VLOOKUP(O1037,Tabelas!$F$16:$G$21,2),\"\")))","v":""},null,null,null,null,null,null,null,null,null,null,null,null,null,null,null,"",{"$f":"+IF(AF1037=\"\",\"\",VLOOKUP(AF1037,Tabelas!$J$27:$K$30,2))","v":""}]
[null,null,null,null,null,null,{"$f":"+IF(F1039=\"\",\"\",VLOOKUP(F1039,Tabelas!$B$7:$C$96,2))","v":""},null,{"$f":"IF(H1039=\"\",\"\",ROUND(H1039/SUM(H1034:H1041),4))","v":""},null,null,null,null,null,null,{"$f":"+IF(O1039=\"\",\"\",IF(N1034=\"Transporte Marítimo\",VLOOKUP(O1039,Tabelas!$F$7:$G$12,2),IF(N1034=\"Transporte Aéreo\",VLOOKUP(O1039,Tabelas!$F$16:$G$21,2),\"\")))","v":""},null,null,null,null,null,null,null,null,null,null,null,null,null,null,null,"",{"$f":"+IF(AF1039=\"\",\"\",VLOOKUP(AF1039,Tabelas!$J$27:$K$30,2))","v":""}]
[null,{"$f":"+B1034+1","v":129},null,null,null,null,{"$f":"+IF(F1042=\"\",\"\",VLOOKUP(F1042,Tabelas!$B$7:$C$96,2))","v":""},null,{"$f":"IF(H1042=\"\",\"\",1-SUM(I1043:I1049))","v":""},null,null,null,null,null,null,{"$f":"+IF(O1042=\"\",\"\",IF(N1042=\"Transporte Marítimo\",VLOOKUP(O1042,Tabelas!$F$7:$G$12,2),IF(N1042=\"Transporte Aéreo\",VLOOKUP(O1042,Tabelas!$F$16:$G$21,2),\"\")))","v":""},null,null,null,null,null,null,null,null,null,null,null,null,null,null,null,"",{"$f":"+IF(AF1042=\"\",\"\",VLOOKUP(AF1042,Tabelas!$J$27:$K$30,2))","v":""},null,null,null,null,null,null,null,null,null,null,null,null,null,null,null," "]
[null,null,null,null,null,null,{"$f":"+IF(F1043=\"\",\"\",VLOOKUP(F1043,Tabelas!$B$7:$C$96,2))","v":""},null,{"$f":"IF(H1043=\"\",\"\",ROUND(H1043/SUM(H1042:H1049),4))","v":""},null,null,null,null,null,null,{"$f":"+IF(O1043=\"\",\"\",IF(N1042=\"Transporte Marítimo\",VLOOKUP(O1043,Tabelas!$F$7:$G$12,2),IF(N1042=\"Transporte Aéreo\",VLOOKUP(O1043,Tabelas!$F$16:$G$21,2),\"\")))","v":""},null,null,null,null,null,null,null,null,null,null,null,null,null,null,null,{"$f":"+IF(AE1043=\"20NL\",1,IF(AE1043=\"40NL\",2,IF(AE1043=\"20RF\",3,IF(AE1043=\"40RF\",4,\"\"))))","v":""},{"$f":"+IF(AF1043=\"\",\"\",VLOOKUP(AF1043,Tabelas!$J$27:$K$30,2))","v":""}]
[null,null,null,null,null,null,{"$f":"+IF(F1046=\"\",\"\",VLOOKUP(F1046,Tabelas!$B$7:$C$96,2))","v":""},null,{"$f":"IF(H1046=\"\",\"\",ROUND(H1046/SUM(H1042:H1049),4))","v":""},null,null,null,null,null,null,{"$f":"+IF(O1046=\"\",\"\",IF(N1042=\"Transporte Marítimo\",VLOOKUP(O1046,Tabelas!$F$7:$G$12,2),IF(N1042=\"Transporte Aéreo\",VLOOKUP(O1046,Tabelas!$F$16:$G$21,2),\"\")))","v":""},null,null,null,null,null,null,null,null,null,null,null,null,null,null,null,"",{"$f":"+IF(AF1046=\"\",\"\",VLOOKUP(AF1046,Tabelas!$J$27:$K$30,2))","v":""}]
[null,null,null,null,null,null,{"$f":"+IF(F1047=\"\",\"\",VLOOKUP(F1047,Tabelas!$B$7:$C$96,2))","v":""},null,{"$f":"IF(H1047=\"\",\"\",ROUND(H1047/SUM(H1042:H1049),4))","v":""},null,null,null,null,null,null,{"$f":"+IF(O1047=\"\",\"\",IF(N1042=\"Transporte Marítimo\",VLOOKUP(O1047,Tabelas!$F$7:$G$12,2),IF(N1042=\"Transporte Aéreo\",VLOOKUP(O1047,Tabelas!$F$16:$G$21,2),\"\")))","v":""},null,null,null,null,null,null,null,null,null,null,null,null,null,null,null,"",{"$f":"+IF(AF1047=\"\",\"\",VLOOKUP(AF1047,Tabelas!$J$27:$K$30,2))","v":""}]
[null,null,null,null,null,null,{"$f":"+IF(F1051=\"\",\"\",VLOOKUP(F1051,Tabelas!$B$7:$C$96,2))","v":""},null,{"$f":"IF(H1051=\"\",\"\",ROUND(H1051/SUM(H1050:H1057),4))","v":""},null,null,null,null,null,null,{"$f":"+IF(O1051=\"\",\"\",IF(N1050=\"Transporte Marítimo\",VLOOKUP(O1051,Tabelas!$F$7:$G$12,2),IF(N1050=\"Transporte Aéreo\",VLOOKUP(O1051,Tabelas!$F$16:$G$21,2),\"\")))","v":""},null,null,null,null,null,null,null,null,null,null,null,null,null,null,null,"",{"$f":"+IF(AF1051=\"\",\"\",VLOOKUP(AF1051,Tabelas!$J$27:$K$30,2))","v":""}]
[null,null,null,null,null,null,{"$f":"+IF(F1052=\"\",\"\",VLOOKUP(F1052,Tabelas!$B$7:$C$96,2))","v":""},null,{"$f":"IF(H1052=\"\",\"\",ROUND(H1052/SUM(H1050:H1057),4))","v":""},null,null,null,null,null,null,{"$f":"+IF(O1052=\"\",\"\",IF(N1050=\"Transporte Marítimo\",VLOOKUP(O1052,Tabelas!$F$7:$G$12,2),IF(N1050=\"Transporte Aéreo\",VLOOKUP(O1052,Tabelas!$F$16:$G$21,2),\"\")))","v":""},null,null,null,null,null,null,null,null,null,null,null,null,null,null,null,"",{"$f":"+IF(AF1052=\"\",\"\",VLOOKUP(AF1052,Tabelas!$J$27:$K$30,2))","v":""}]
[null,null,null,null,null,null,{"$f":"+IF(F1055=\"\",\"\",VLOOKUP(F1055,Tabelas!$B$7:$C$96,2))","v":""},null,{"$f":"IF(H1055=\"\",\"\",ROUND(H1055/SUM(H1050:H1057),4))","v":""},null,null,null,null,null,null,{"$f":"+IF(O1055=\"\",\"\",IF(N1050=\"Transporte Marítimo\",VLOOKUP(O1055,Tabelas!$F$7:$G$12,2),IF(N1050=\"Transporte Aéreo\",VLOOKUP(O1055,Tabelas!$F$16:$G$21,2),\"\")))","v":""},null,null,null,null,null,null,null,null,null,null,null,null,null,null,null,"",{"$f":"+IF(AF1055=\"\",\"\",VLOOKUP(AF1055,Tabelas!$J$27:$K$30,2))","v":""}]
[null,null,null,null,null,null,{"$f":"+IF(F1056=\"\",\"\",VLOOKUP(F1056,Tabelas!$B$7:$C$96,2))","v":""},null,{"$f":"IF(H1056=\"\",\"\",ROUND(H1056/SUM(H1050:H1057),4))","v":""},null,null,null,null,null,null,{"$f":"+IF(O1056=\"\",\"\",IF(N1050=\"Transporte Marítimo\",VLOOKUP(O1056,Tabelas!$F$7:$G$12,2),IF(N1050=\"Transporte Aéreo\",VLOOKUP(O1056,Tabelas!$F$16:$G$21,2),\"\")))","v":""},null,null,null,null,null,null,null,null,null,null,null,null,null,null,null,"",{"$f":"+IF(AF1056=\"\",\"\",VLOOKUP(AF1056,Tabelas!$J$27:$K$30,2))","v":""}]
[null,null,null,null,null,null,{"$f":"+IF(F1059=\"\",\"\",VLOOKUP(F1059,Tabelas!$B$7:$C$96,2))","v":""},null,{"$f":"IF(H1059=\"\",\"\",ROUND(H1059/SUM(H1058:H1065),4))","v":""},null,null,null,null,null,null,{"$f":"+IF(O1059=\"\",\"\",IF(N1058=\"Transporte Marítimo\",VLOOKUP(O1059,Tabelas!$F$7:$G$12,2),IF(N1058=\"Transporte Aéreo\",VLOOKUP(O1059,Tabelas!$F$16:$G$21,2),\"\")))","v":""},null,null,null,null,null,null,null,null,null,null,null,null,null,null,null,"",{"$f":"+IF(AF1059=\"\",\"\",VLOOKUP(AF1059,Tabelas!$J$27:$K$30,2))","v":""}]
[null,null,null,null,null,null,{"$f":"+IF(F1061=\"\",\"\",VLOOKUP(F1061,Tabelas!$B$7:$C$96,2))","v":""},null,{"$f":"IF(H1061=\"\",\"\",ROUND(H1061/SUM(H1058:H1065),4))","v":""},null,null,null,null,null,null,{"$f":"+IF(O1061=\"\",\"\",IF(N1058=\"Transporte Marítimo\",VLOOKUP(O1061,Tabelas!$F$7:$G$12,2),IF(N1058=\"Transporte Aéreo\",VLOOKUP(O1061,Tabelas!$F$16:$G$21,2),\"\")))","v":""},null,null,null,null,null,null,null,null,null,null,null,null,null,null,null,"",{"$f":"+IF(AF1061=\"\",\"\",VLOOKUP(AF1061,Tabelas!$J$27:$K$30,2))","v":""}]
[null,null,null,null,null,null,{"$f":"+IF(F1064=\"\",\"\",VLOOKUP(F1064,Tabelas!$B$7:$C$96,2))","v":""},null,{"$f":"IF(H1064=\"\",\"\",ROUND(H1064/SUM(H1058:H1065),4))","v":""},null,null,null,null,null,null,{"$f":"+IF(O1064=\"\",\"\",IF(N1058=\"Transporte Marítimo\",VLOOKUP(O1064,Tabelas!$F$7:$G$12,2),IF(N1058=\"Transporte Aéreo\",VLOOKUP(O1064,Tabelas!$F$16:$G$21,2),\"\")))","v":""},null,null,null,null,null,null,null,null,null,null,null,null,null,null,null,"",{"$f":"+IF(AF1064=\"\",\"\",VLOOKUP(AF1064,Tabelas!$J$27:$K$30,2))","v":""}]
[null,null,null,null,null,null,{"$f":"+IF(F1065=\"\",\"\",VLOOKUP(F1065,Tabelas!$B$7:$C$96,2))","v":""},null,{"$f":"IF(H1065=\"\",\"\",ROUND(H1065/SUM(H1058:H1065),4))","v":""},null,null,null,null,null,null,{"$f":"+IF(O1065=\"\",\"\",IF(N1058=\"Transporte Marítimo\",VLOOKUP(O1065,Tabelas!$F$7:$G$12,2),IF(N1058=\"Transporte Aéreo\",VLOOKUP(O1065,Tabelas!$F$16:$G$21,2),\"\")))","v":""},null,null,null,null,null,null,null,null,null,null,null,null,null,null,null,"",{"$f":"+IF(AF1065=\"\",\"\",VLOOKUP(AF1065,Tabelas!$J$27:$K$30,2))","v":""}]
[null,null,null,null,null,null,{"$f":"+IF(F1067=\"\",\"\",VLOOKUP(F1067,Tabelas!$B$7:$C$96,2))","v":""},null,{"$f":"IF(H1067=\"\",\"\",ROUND(H1067/SUM(H1066:H1073),4))","v":""},null,null,null,null,null,null,{"$f":"+IF(O1067=\"\",\"\",IF(N1066=\"Transporte Marítimo\",VLOOKUP(O1067,Tabelas!$F$7:$G$12,2),IF(N1066=\"Transporte Aéreo\",VLOOKUP(O1067,Tabelas!$F$16:$G$21,2),\"\")))","v":""},null,null,null,null,null,null,null,null,null,null,null,null,null,null,null,"",{"$f":"+IF(AF1067=\"\",\"\",VLOOKUP(AF1067,Tabelas!$J$27:$K$30,2))","v":""}]
[null,null,null,null,null,null,{"$f":"+IF(F1070=\"\",\"\",VLOOKUP(F1070,Tabelas!$B$7:$C$96,2))","v":""},null,{"$f":"IF(H1070=\"\",\"\",ROUND(H1070/SUM(H1066:H1073),4))","v":""},null,null,null,null,null,null,{"$f":"+IF(O1070=\"\",\"\",IF(N1066=\"Transporte Marítimo\",VLOOKUP(O1070,Tabelas!$F$7:$G$12,2),IF(N1066=\"Transporte Aéreo\",VLOOKUP(O1070,Tabelas!$F$16:$G$21,2),\"\")))","v":""},null,null,null,null,null,null,null,null,null,null,null,null,null,null,null,"",{"$f":"+IF(AF1070=\"\",\"\",VLOOKUP(AF1070,Tabelas!$J$27:$K$30,2))","v":""}]
[null,null,null,null,null,null,{"$f":"+IF(F1073=\"\",\"\",VLOOKUP(F1073,Tabelas!$B$7:$C$96,2))","v":""},null,{"$f":"IF(H1073=\"\",\"\",ROUND(H1073/SUM(H1066:H1073),4))","v":""},null,null,null,null,null,null,{"$f":"+IF(O1073=\"\",\"\",IF(N1066=\"Transporte Marítimo\",VLOOKUP(O1073,Tabelas!$F$7:$G$12,2),IF(N1066=\"Transporte Aéreo\",VLOOKUP(O1073,Tabelas!$F$16:$G$21,2),\"\")))","v":""},null,null,null,null,null,null,null,null,null,null,null,null,null,null,null,"",{"$f":"+IF(AF1073=\"\",\"\",VLOOKUP(AF1073,Tabelas!$J$27:$K$30,2))","v":""}]
[null,{"$f":"+B1066+1","v":133},null,null,null,null,{"$f":"+IF(F1074=\"\",\"\",VLOOKUP(F1074,Tabelas!$B$7:$C$96,2))","v":""},null,{"$f":"IF(H1074=\"\",\"\",1-SUM(I1075:I1081))","v":""},null,null,null,null,null,null,{"$f":"+IF(O1074=\"\",\"\",IF(N1074=\"Transporte Marítimo\",VLOOKUP(O1074,Tabelas!$F$7:$G$12,2),IF(N1074=\"Transporte Aéreo\",VLOOKUP(O1074,Tabelas!$F$16:$G$21,2),\"\")))","v":""},null,null,null,null,null,null,null,null,null,null,null,null,null,null,null,"",{"$f":"+IF(AF1074=\"\",\"\",VLOOKUP(AF1074,Tabelas!$J$27:$K$30,2))","v":""},null,null,null,null,null,null,null,null,null,null,null,null,null,null,null," "]
[null,null,null,null,null,null,{"$f":"+IF(F1077=\"\",\"\",VLOOKUP(F1077,Tabelas!$B$7:$C$96,2))","v":""},null,{"$f":"IF(H1077=\"\",\"\",ROUND(H1077/SUM(H1074:H1081),4))","v":""},null,null,null,null,null,null,{"$f":"+IF(O1077=\"\",\"\",IF(N1074=\"Transporte Marítimo\",VLOOKUP(O1077,Tabelas!$F$7:$G$12,2),IF(N1074=\"Transporte Aéreo\",VLOOKUP(O1077,Tabelas!$F$16:$G$21,2),\"\")))","v":""},null,null,null,null,null,null,null,null,null,null,null,null,null,null,null,"",{"$f":"+IF(AF1077=\"\",\"\",VLOOKUP(AF1077,Tabelas!$J$27:$K$30,2))","v":""}]
[null,null,null,null,null,null,{"$f":"+IF(F1079=\"\",\"\",VLOOKUP(F1079,Tabelas!$B$7:$C$96,2))","v":""},null,{"$f":"IF(H1079=\"\",\"\",ROUND(H1079/SUM(H1074:H1081),4))","v":""},null,null,null,null,null,null,{"$f":"+IF(O1079=\"\",\"\",IF(N1074=\"Transporte Marítimo\",VLOOKUP(O1079,Tabelas!$F$7:$G$12,2),IF(N1074=\"Transporte Aéreo\",VLOOKUP(O1079,Tabelas!$F$16:$G$21,2),\"\")))","v":""},null,null,null,null,null,null,null,null,null,null,null,null,null,null,null,"",{"$f":"+IF(AF1079=\"\",\"\",VLOOKUP(AF1079,Tabelas!$J$27:$K$30,2))","v":""}]
[null,{"$f":"+B1074+1","v":134},null,null,null,null,{"$f":"+IF(F1082=\"\",\"\",VLOOKUP(F1082,Tabelas!$B$7:$C$96,2))","v":""},null,{"$f":"IF(H1082=\"\",\"\",1-SUM(I1083:I1089))","v":""},null,null,null,null,null,null,{"$f":"+IF(O1082=\"\",\"\",IF(N1082=\"Transporte Marítimo\",VLOOKUP(O1082,Tabelas!$F$7:$G$12,2),IF(N1082=\"Transporte Aéreo\",VLOOKUP(O1082,Tabelas!$F$16:$G$21,2),\"\")))","v":""},null,null,null,null,null,null,null,null,null,null,null,null,null,null,null,"",{"$f":"+IF(AF1082=\"\",\"\",VLOOKUP(AF1082,Tabelas!$J$27:$K$30,2))","v":""},null,null,null,null,null,null,null,null,null,null,null,null,null,null,null," "]
[null,null,null,null,null,null,{"$f":"+IF(F1083=\"\",\"\",VLOOKUP(F1083,Tabelas!$B$7:$C$96,2))","v":""},null,{"$f":"IF(H1083=\"\",\"\",ROUND(H1083/SUM(H1082:H1089),4))","v":""},null,null,null,null,null,null,{"$f":"+IF(O1083=\"\",\"\",IF(N1082=\"Transporte Marítimo\",VLOOKUP(O1083,Tabelas!$F$7:$G$12,2),IF(N1082=\"Transporte Aéreo\",VLOOKUP(O1083,Tabelas!$F$16:$G$21,2),\"\")))","v":""},null,null,null,null,null,null,null,null,null,null,null,null,null,null,null,"",{"$f":"+IF(AF1083=\"\",\"\",VLOOKUP(AF1083,Tabelas!$J$27:$K$30,2))","v":""}]
[null,null,null,null,null,null,{"$f":"+IF(F1086=\"\",\"\",VLOOKUP(F1086,Tabelas!$B$7:$C$96,2))","v":""},null,{"$f":"IF(H1086=\"\",\"\",ROUND(H1086/SUM(H1082:H1089),4))","v":""},null,null,null,null,null,null,{"$f":"+IF(O1086=\"\",\"\",IF(N1082=\"Transporte Marítimo\",VLOOKUP(O1086,Tabelas!$F$7:$G$12,2),IF(N1082=\"Transporte Aéreo\",VLOOKUP(O1086,Tabelas!$F$16:$G$21,2),\"\")))","v":""},null,null,null,null,null,null,null,null,null,null,null,null,null,null,null,"",{"$f":"+IF(AF1086=\"\",\"\",VLOOKUP(AF1086,Tabelas!$J$27:$K$30,2))","v":""}]
[null,null,null,null,null,null,{"$f":"+IF(F1087=\"\",\"\",VLOOKUP(F1087,Tabelas!$B$7:$C$96,2))","v":""},null,{"$f":"IF(H1087=\"\",\"\",ROUND(H1087/SUM(H1082:H1089),4))","v":""},null,null,null,null,null,null,{"$f":"+IF(O1087=\"\",\"\",IF(N1082=\"Transporte Marítimo\",VLOOKUP(O1087,Tabelas!$F$7:$G$12,2),IF(N1082=\"Transporte Aéreo\",VLOOKUP(O1087,Tabelas!$F$16:$G$21,2),\"\")))","v":""},null,null,null,null,null,null,null,null,null,null,null,null,null,null,null,"",{"$f":"+IF(AF1087=\"\",\"\",VLOOKUP(AF1087,Tabelas!$J$27:$K$30,2))","v":""}]
[null,null,null,null,null,null,{"$f":"+IF(F1091=\"\",\"\",VLOOKUP(F1091,Tabelas!$B$7:$C$96,2))","v":""},null,{"$f":"IF(H1091=\"\",\"\",ROUND(H1091/SUM(H1090:H1097),4))","v":""},null,null,null,null,null,null,{"$f":"+IF(O1091=\"\",\"\",IF(N1090=\"Transporte Marítimo\",VLOOKUP(O1091,Tabelas!$F$7:$G$12,2),IF(N1090=\"Transporte Aéreo\",VLOOKUP(O1091,Tabelas!$F$16:$G$21,2),\"\")))","v":""},null,null,null,null,null,null,null,null,null,null,null,null,null,null,null,"",{"$f":"+IF(AF1091=\"\",\"\",VLOOKUP(AF1091,Tabelas!$J$27:$K$30,2))","v":""}]
[null,null,null,null,null,null,{"$f":"+IF(F1092=\"\",\"\",VLOOKUP(F1092,Tabelas!$B$7:$C$96,2))","v":""},null,{"$f":"IF(H1092=\"\",\"\",ROUND(H1092/SUM(H1090:H1097),4))","v":""},null,null,null,null,null,null,{"$f":"+IF(O1092=\"\",\"\",IF(N1090=\"Transporte Marítimo\",VLOOKUP(O1092,Tabelas!$F$7:$G$12,2),IF(N1090=\"Transporte Aéreo\",VLOOKUP(O1092,Tabelas!$F$16:$G$21,2),\"\")))","v":""},null,null,null,null,null,null,null,null,null,null,null,null,null,null,null,"",{"$f":"+IF(AF1092=\"\",\"\",VLOOKUP(AF1092,Tabelas!$J$27:$K$30,2))","v":""}]
[null,null,null,null,null,null,{"$f":"+IF(F1095=\"\",\"\",VLOOKUP(F1095,Tabelas!$B$7:$C$96,2))","v":""},null,{"$f":"IF(H1095=\"\",\"\",ROUND(H1095/SUM(H1090:H1097),4))","v":""},null,null,null,null,null,null,{"$f":"+IF(O1095=\"\",\"\",IF(N1090=\"Transporte Marítimo\",VLOOKUP(O1095,Tabelas!$F$7:$G$12,2),IF(N1090=\"Transporte Aéreo\",VLOOKUP(O1095,Tabelas!$F$16:$G$21,2),\"\")))","v":""},null,null,null,null,null,null,null,null,null,null,null,null,null,null,null,"",{"$f":"+IF(AF1095=\"\",\"\",VLOOKUP(AF1095,Tabelas!$J$27:$K$30,2))","v":""}]
[null,{"$f":"+B1090+1","v":136},null,null,null,null,{"$f":"+IF(F1098=\"\",\"\",VLOOKUP(F1098,Tabelas!$B$7:$C$96,2))","v":""},null,{"$f":"IF(H1098=\"\",\"\",1-SUM(I1099:I1105))","v":""},null,null,null,null,null,null,{"$f":"+IF(O1098=\"\",\"\",IF(N1098=\"Transporte Marítimo\",VLOOKUP(O1098,Tabelas!$F$7:$G$12,2),IF(N1098=\"Transporte Aéreo\",VLOOKUP(O1098,Tabelas!$F$16:$G$21,2),\"\")))","v":""},null,null,null,null,null,null,null,null,null,null,null,null,null,null,null,"",{"$f":"+IF(AF1098=\"\",\"\",VLOOKUP(AF1098,Tabelas!$J$27:$K$30,2))","v":""},null,null,null,null,null,null,null,null,null,null,null,null,null,null,null," "]
[null,null,null,null,null,null,{"$f":"+IF(F1100=\"\",\"\",VLOOKUP(F1100,Tabelas!$B$7:$C$96,2))","v":""},null,{"$f":"IF(H1100=\"\",\"\",ROUND(H1100/SUM(H1098:H1105),4))","v":""},null,null,null,null,null,null,{"$f":"+IF(O1100=\"\",\"\",IF(N1098=\"Transporte Marítimo\",VLOOKUP(O1100,Tabelas!$F$7:$G$12,2),IF(N1098=\"Transporte Aéreo\",VLOOKUP(O1100,Tabelas!$F$16:$G$21,2),\"\")))","v":""},null,null,null,null,null,null,null,null,null,null,null,null,null,null,null,"",{"$f":"+IF(AF1100=\"\",\"\",VLOOKUP(AF1100,Tabelas!$J$27:$K$30,2))","v":""}]
[null,null,null,null,null,null,{"$f":"+IF(F1101=\"\",\"\",VLOOKUP(F1101,Tabelas!$B$7:$C$96,2))","v":""},null,{"$f":"IF(H1101=\"\",\"\",ROUND(H1101/SUM(H1098:H1105),4))","v":""},null,null,null,null,null,null,{"$f":"+IF(O1101=\"\",\"\",IF(N1098=\"Transporte Marítimo\",VLOOKUP(O1101,Tabelas!$F$7:$G$12,2),IF(N1098=\"Transporte Aéreo\",VLOOKUP(O1101,Tabelas!$F$16:$G$21,2),\"\")))","v":""},null,null,null,null,null,null,null,null,null,null,null,null,null,null,null,"",{"$f":"+IF(AF1101=\"\",\"\",VLOOKUP(AF1101,Tabelas!$J$27:$K$30,2))","v":""}]
[null,null,null,null,null,null,{"$f":"+IF(F1104=\"\",\"\",VLOOKUP(F1104,Tabelas!$B$7:$C$96,2))","v":""},null,{"$f":"IF(H1104=\"\",\"\",ROUND(H1104/SUM(H1098:H1105),4))","v":""},null,null,null,null,null,null,{"$f":"+IF(O1104=\"\",\"\",IF(N1098=\"Transporte Marítimo\",VLOOKUP(O1104,Tabelas!$F$7:$G$12,2),IF(N1098=\"Transporte Aéreo\",VLOOKUP(O1104,Tabelas!$F$16:$G$21,2),\"\")))","v":""},null,null,null,null,null,null,null,null,null,null,null,null,null,null,null,"",{"$f":"+IF(AF1104=\"\",\"\",VLOOKUP(AF1104,Tabelas!$J$27:$K$30,2))","v":""}]
[null,null,null,null,null,null,{"$f":"+IF(F1105=\"\",\"\",VLOOKUP(F1105,Tabelas!$B$7:$C$96,2))","v":""},null,{"$f":"IF(H1105=\"\",\"\",ROUND(H1105/SUM(H1098:H1105),4))","v":""},null,null,null,null,null,null,{"$f":"+IF(O1105=\"\",\"\",IF(N1098=\"Transporte Marítimo\",VLOOKUP(O1105,Tabelas!$F$7:$G$12,2),IF(N1098=\"Transporte Aéreo\",VLOOKUP(O1105,Tabelas!$F$16:$G$21,2),\"\")))","v":""},null,null,null,null,null,null,null,null,null,null,null,null,null,null,null,"",{"$f":"+IF(AF1105=\"\",\"\",VLOOKUP(AF1105,Tabelas!$J$27:$K$30,2))","v":""}]
[null,null,null,null,null,null,{"$f":"+IF(F1109=\"\",\"\",VLOOKUP(F1109,Tabelas!$B$7:$C$96,2))","v":""},null,{"$f":"IF(H1109=\"\",\"\",ROUND(H1109/SUM(H1106:H1113),4))","v":""},null,null,null,null,null,null,{"$f":"+IF(O1109=\"\",\"\",IF(N1106=\"Transporte Marítimo\",VLOOKUP(O1109,Tabelas!$F$7:$G$12,2),IF(N1106=\"Transporte Aéreo\",VLOOKUP(O1109,Tabelas!$F$16:$G$21,2),\"\")))","v":""},null,null,null,null,null,null,null,null,null,null,null,null,null,null,null,"",{"$f":"+IF(AF1109=\"\",\"\",VLOOKUP(AF1109,Tabelas!$J$27:$K$30,2))","v":""}]
[null,null,null,null,null,null,{"$f":"+IF(F1110=\"\",\"\",VLOOKUP(F1110,Tabelas!$B$7:$C$96,2))","v":""},null,{"$f":"IF(H1110=\"\",\"\",ROUND(H1110/SUM(H1106:H1113),4))","v":""},null,null,null,null,null,null,{"$f":"+IF(O1110=\"\",\"\",IF(N1106=\"Transporte Marítimo\",VLOOKUP(O1110,Tabelas!$F$7:$G$12,2),IF(N1106=\"Transporte Aéreo\",VLOOKUP(O1110,Tabelas!$F$16:$G$21,2),\"\")))","v":""},null,null,null,null,null,null,null,null,null,null,null,null,null,null,null,"",{"$f":"+IF(AF1110=\"\",\"\",VLOOKUP(AF1110,Tabelas!$J$27:$K$30,2))","v":""}]
[null,null,null,null,null,null,{"$f":"+IF(F1113=\"\",\"\",VLOOKUP(F1113,Tabelas!$B$7:$C$96,2))","v":""},null,{"$f":"IF(H1113=\"\",\"\",ROUND(H1113/SUM(H1106:H1113),4))","v":""},null,null,null,null,null,null,{"$f":"+IF(O1113=\"\",\"\",IF(N1106=\"Transporte Marítimo\",VLOOKUP(O1113,Tabelas!$F$7:$G$12,2),IF(N1106=\"Transporte Aéreo\",VLOOKUP(O1113,Tabelas!$F$16:$G$21,2),\"\")))","v":""},null,null,null,null,null,null,null,null,null,null,null,null,null,null,null,"",{"$f":"+IF(AF1113=\"\",\"\",VLOOKUP(AF1113,Tabelas!$J$27:$K$30,2))","v":""}]
[null,{"$f":"+B1106+1","v":138},null,null,null,null,{"$f":"+IF(F1114=\"\",\"\",VLOOKUP(F1114,Tabelas!$B$7:$C$96,2))","v":""},null,{"$f":"IF(H1114=\"\",\"\",1-SUM(I1115:I1121))","v":""},null,null,null,null,null,null,{"$f":"+IF(O1114=\"\",\"\",IF(N1114=\"Transporte Marítimo\",VLOOKUP(O1114,Tabelas!$F$7:$G$12,2),IF(N1114=\"Transporte Aéreo\",VLOOKUP(O1114,Tabelas!$F$16:$G$21,2),\"\")))","v":""},null,null,null,null,null,null,null,null,null,null,null,null,null,null,null,"",{"$f":"+IF(AF1114=\"\",\"\",VLOOKUP(AF1114,Tabelas!$J$27:$K$30,2))","v":""},null,null,null,null,null,null,null,null,null,null,null,null,null,null,null," "]
[null,null,null,null,null,null,{"$f":"+IF(F1118=\"\",\"\",VLOOKUP(F1118,Tabelas!$B$7:$C$96,2))","v":""},null,{"$f":"IF(H1118=\"\",\"\",ROUND(H1118/SUM(H1114:H1121),4))","v":""},null,null,null,null,null,null,{"$f":"+IF(O1118=\"\",\"\",IF(N1114=\"Transporte Marítimo\",VLOOKUP(O1118,Tabelas!$F$7:$G$12,2),IF(N1114=\"Transporte Aéreo\",VLOOKUP(O1118,Tabelas!$F$16:$G$21,2),\"\")))","v":""},null,null,null,null,null,null,null,null,null,null,null,null,null,null,null,"",{"$f":"+IF(AF1118=\"\",\"\",VLOOKUP(AF1118,Tabelas!$J$27:$K$30,2))","v":""}]
[null,null,null,null,null,null,{"$f":"+IF(F1119=\"\",\"\",VLOOKUP(F1119,Tabelas!$B$7:$C$96,2))","v":""},null,{"$f":"IF(H1119=\"\",\"\",ROUND(H1119/SUM(H1114:H1121),4))","v":""},null,null,null,null,null,null,{"$f":"+IF(O1119=\"\",\"\",IF(N1114=\"Transporte Marítimo\",VLOOKUP(O1119,Tabelas!$F$7:$G$12,2),IF(N1114=\"Transporte Aéreo\",VLOOKUP(O1119,Tabelas!$F$16:$G$21,2),\"\")))","v":""},null,null,null,null,null,null,null,null,null,null,null,null,null,null,null,"",{"$f":"+IF(AF1119=\"\",\"\",VLOOKUP(AF1119,Tabelas!$J$27:$K$30,2))","v":""}]
[null,{"$f":"+B1114+1","v":139},null,null,null,null,{"$f":"+IF(F1122=\"\",\"\",VLOOKUP(F1122,Tabelas!$B$7:$C$96,2))","v":""},null,{"$f":"IF(H1122=\"\",\"\",1-SUM(I1123:I1129))","v":""},null,null,null,null,null,null,{"$f":"+IF(O1122=\"\",\"\",IF(N1122=\"Transporte Marítimo\",VLOOKUP(O1122,Tabelas!$F$7:$G$12,2),IF(N1122=\"Transporte Aéreo\",VLOOKUP(O1122,Tabelas!$F$16:$G$21,2),\"\")))","v":""},null,null,null,null,null,null,null,null,null,null,null,null,null,null,null,"",{"$f":"+IF(AF1122=\"\",\"\",VLOOKUP(AF1122,Tabelas!$J$27:$K$30,2))","v":""},null,null,null,null,null,null,null,null,null,null,null,null,null,null,null," "]
[null,null,null,null,null,null,{"$f":"+IF(F1123=\"\",\"\",VLOOKUP(F1123,Tabelas!$B$7:$C$96,2))","v":""},null,{"$f":"IF(H1123=\"\",\"\",ROUND(H1123/SUM(H1122:H1129),4))","v":""},null,null,null,null,null,null,{"$f":"+IF(O1123=\"\",\"\",IF(N1122=\"Transporte Marítimo\",VLOOKUP(O1123,Tabelas!$F$7:$G$12,2),IF(N1122=\"Transporte Aéreo\",VLOOKUP(O1123,Tabelas!$F$16:$G$21,2),\"\")))","v":""},null,null,null,null,null,null,null,null,null,null,null,null,null,null,null,"",{"$f":"+IF(AF1123=\"\",\"\",VLOOKUP(AF1123,Tabelas!$J$27:$K$30,2))","v":""}]
[null,null,null,null,null,null,{"$f":"+IF(F1126=\"\",\"\",VLOOKUP(F1126,Tabelas!$B$7:$C$96,2))","v":""},null,{"$f":"IF(H1126=\"\",\"\",ROUND(H1126/SUM(H1122:H1129),4))","v":""},null,null,null,null,null,null,{"$f":"+IF(O1126=\"\",\"\",IF(N1122=\"Transporte Marítimo\",VLOOKUP(O1126,Tabelas!$F$7:$G$12,2),IF(N1122=\"Transporte Aéreo\",VLOOKUP(O1126,Tabelas!$F$16:$G$21,2),\"\")))","v":""},null,null,null,null,null,null,null,null,null,null,null,null,null,null,null,"",{"$f":"+IF(AF1126=\"\",\"\",VLOOKUP(AF1126,Tabelas!$J$27:$K$30,2))","v":""}]
[null,null,null,null,null,null,{"$f":"+IF(F1128=\"\",\"\",VLOOKUP(F1128,Tabelas!$B$7:$C$96,2))","v":""},null,{"$f":"IF(H1128=\"\",\"\",ROUND(H1128/SUM(H1122:H1129),4))","v":""},null,null,null,null,null,null,{"$f":"+IF(O1128=\"\",\"\",IF(N1122=\"Transporte Marítimo\",VLOOKUP(O1128,Tabelas!$F$7:$G$12,2),IF(N1122=\"Transporte Aéreo\",VLOOKUP(O1128,Tabelas!$F$16:$G$21,2),\"\")))","v":""},null,null,null,null,null,null,null,null,null,null,null,null,null,null,null,"",{"$f":"+IF(AF1128=\"\",\"\",VLOOKUP(AF1128,Tabelas!$J$27:$K$30,2))","v":""}]
[null,null,null,null,null,null,{"$f":"+IF(F1131=\"\",\"\",VLOOKUP(F1131,Tabelas!$B$7:$C$96,2))","v":""},null,{"$f":"IF(H1131=\"\",\"\",ROUND(H1131/SUM(H1130:H1137),4))","v":""},null,null,null,null,null,null,{"$f":"+IF(O1131=\"\",\"\",IF(N1130=\"Transporte Marítimo\",VLOOKUP(O1131,Tabelas!$F$7:$G$12,2),IF(N1130=\"Transporte Aéreo\",VLOOKUP(O1131,Tabelas!$F$16:$G$21,2),\"\")))","v":""},null,null,null,null,null,null,null,null,null,null,null,null,null,null,null,"",{"$f":"+IF(AF1131=\"\",\"\",VLOOKUP(AF1131,Tabelas!$J$27:$K$30,2))","v":""}]
[null,null,null,null,null,null,{"$f":"+IF(F1132=\"\",\"\",VLOOKUP(F1132,Tabelas!$B$7:$C$96,2))","v":""},null,{"$f":"IF(H1132=\"\",\"\",ROUND(H1132/SUM(H1130:H1137),4))","v":""},null,null,null,null,null,null,{"$f":"+IF(O1132=\"\",\"\",IF(N1130=\"Transporte Marítimo\",VLOOKUP(O1132,Tabelas!$F$7:$G$12,2),IF(N1130=\"Transporte Aéreo\",VLOOKUP(O1132,Tabelas!$F$16:$G$21,2),\"\")))","v":""},null,null,null,null,null,null,null,null,null,null,null,null,null,null,null,"",{"$f":"+IF(AF1132=\"\",\"\",VLOOKUP(AF1132,Tabelas!$J$27:$K$30,2))","v":""}]
[null,null,null,null,null,null,{"$f":"+IF(F1136=\"\",\"\",VLOOKUP(F1136,Tabelas!$B$7:$C$96,2))","v":""},null,{"$f":"IF(H1136=\"\",\"\",ROUND(H1136/SUM(H1130:H1137),4))","v":""},null,null,null,null,null,null,{"$f":"+IF(O1136=\"\",\"\",IF(N1130=\"Transporte Marítimo\",VLOOKUP(O1136,Tabelas!$F$7:$G$12,2),IF(N1130=\"Transporte Aéreo\",VLOOKUP(O1136,Tabelas!$F$16:$G$21,2),\"\")))","v":""},null,null,null,null,null,null,null,null,null,null,null,null,null,null,null,"",{"$f":"+IF(AF1136=\"\",\"\",VLOOKUP(AF1136,Tabelas!$J$27:$K$30,2))","v":""}]
[null,null,null,null,null,null,{"$f":"+IF(F1137=\"\",\"\",VLOOKUP(F1137,Tabelas!$B$7:$C$96,2))","v":""},null,{"$f":"IF(H1137=\"\",\"\",ROUND(H1137/SUM(H1130:H1137),4))","v":""},null,null,null,null,null,null,{"$f":"+IF(O1137=\"\",\"\",IF(N1130=\"Transporte Marítimo\",VLOOKUP(O1137,Tabelas!$F$7:$G$12,2),IF(N1130=\"Transporte Aéreo\",VLOOKUP(O1137,Tabelas!$F$16:$G$21,2),\"\")))","v":""},null,null,null,null,null,null,null,null,null,null,null,null,null,null,null,"",{"$f":"+IF(AF1137=\"\",\"\",VLOOKUP(AF1137,Tabelas!$J$27:$K$30,2))","v":""}]
[null,null,null,null,null,null,{"$f":"+IF(F1140=\"\",\"\",VLOOKUP(F1140,Tabelas!$B$7:$C$96,2))","v":""},null,{"$f":"IF(H1140=\"\",\"\",ROUND(H1140/SUM(H1138:H1145),4))","v":""},null,null,null,null,null,null,{"$f":"+IF(O1140=\"\",\"\",IF(N1138=\"Transporte Marítimo\",VLOOKUP(O1140,Tabelas!$F$7:$G$12,2),IF(N1138=\"Transporte Aéreo\",VLOOKUP(O1140,Tabelas!$F$16:$G$21,2),\"\")))","v":""},null,null,null,null,null,null,null,null,null,null,null,null,null,null,null,"",{"$f":"+IF(AF1140=\"\",\"\",VLOOKUP(AF1140,Tabelas!$J$27:$K$30,2))","v":""}]
[null,null,null,null,null,null,{"$f":"+IF(F1141=\"\",\"\",VLOOKUP(F1141,Tabelas!$B$7:$C$96,2))","v":""},null,{"$f":"IF(H1141=\"\",\"\",ROUND(H1141/SUM(H1138:H1145),4))","v":""},null,null,null,null,null,null,{"$f":"+IF(O1141=\"\",\"\",IF(N1138=\"Transporte Marítimo\",VLOOKUP(O1141,Tabelas!$F$7:$G$12,2),IF(N1138=\"Transporte Aéreo\",VLOOKUP(O1141,Tabelas!$F$16:$G$21,2),\"\")))","v":""},null,null,null,null,null,null,null,null,null,null,null,null,null,null,null,"",{"$f":"+IF(AF1141=\"\",\"\",VLOOKUP(AF1141,Tabelas!$J$27:$K$30,2))","v":""}]
[null,null,null,null,null,null,{"$f":"+IF(F1144=\"\",\"\",VLOOKUP(F1144,Tabelas!$B$7:$C$96,2))","v":""},null,{"$f":"IF(H1144=\"\",\"\",ROUND(H1144/SUM(H1138:H1145),4))","v":""},null,null,null,null,null,null,{"$f":"+IF(O1144=\"\",\"\",IF(N1138=\"Transporte Marítimo\",VLOOKUP(O1144,Tabelas!$F$7:$G$12,2),IF(N1138=\"Transporte Aéreo\",VLOOKUP(O1144,Tabelas!$F$16:$G$21,2),\"\")))","v":""},null,null,null,null,null,null,null,null,null,null,null,null,null,null,null,"",{"$f":"+IF(AF1144=\"\",\"\",VLOOKUP(AF1144,Tabelas!$J$27:$K$30,2))","v":""}]
[null,{"$f":"+B1138+1","v":142},null,null,null,null,{"$f":"+IF(F1146=\"\",\"\",VLOOKUP(F1146,Tabelas!$B$7:$C$96,2))","v":""},null,{"$f":"IF(H1146=\"\",\"\",1-SUM(I1147:I1153))","v":""},null,null,null,null,null,null,{"$f":"+IF(O1146=\"\",\"\",IF(N1146=\"Transporte Marítimo\",VLOOKUP(O1146,Tabelas!$F$7:$G$12,2),IF(N1146=\"Transporte Aéreo\",VLOOKUP(O1146,Tabelas!$F$16:$G$21,2),\"\")))","v":""},null,null,null,null,null,null,null,null,null,null,null,null,null,null,null,"",{"$f":"+IF(AF1146=\"\",\"\",VLOOKUP(AF1146,Tabelas!$J$27:$K$30,2))","v":""},null,null,null,null,null,null,null,null,null,null,null,null,null,null,null," "]
[null,null,null,null,null,null,{"$f":"+IF(F1149=\"\",\"\",VLOOKUP(F1149,Tabelas!$B$7:$C$96,2))","v":""},null,{"$f":"IF(H1149=\"\",\"\",ROUND(H1149/SUM(H1146:H1153),4))","v":""},null,null,null,null,null,null,{"$f":"+IF(O1149=\"\",\"\",IF(N1146=\"Transporte Marítimo\",VLOOKUP(O1149,Tabelas!$F$7:$G$12,2),IF(N1146=\"Transporte Aéreo\",VLOOKUP(O1149,Tabelas!$F$16:$G$21,2),\"\")))","v":""},null,null,null,null,null,null,null,null,null,null,null,null,null,null,null,"",{"$f":"+IF(AF1149=\"\",\"\",VLOOKUP(AF1149,Tabelas!$J$27:$K$30,2))","v":""}]
[null,null,null,null,null,null,{"$f":"+IF(F1150=\"\",\"\",VLOOKUP(F1150,Tabelas!$B$7:$C$96,2))","v":""},null,{"$f":"IF(H1150=\"\",\"\",ROUND(H1150/SUM(H1146:H1153),4))","v":""},null,null,null,null,null,null,{"$f":"+IF(O1150=\"\",\"\",IF(N1146=\"Transporte Marítimo\",VLOOKUP(O1150,Tabelas!$F$7:$G$12,2),IF(N1146=\"Transporte Aéreo\",VLOOKUP(O1150,Tabelas!$F$16:$G$21,2),\"\")))","v":""},null,null,null,null,null,null,null,null,null,null,null,null,null,null,null,"",{"$f":"+IF(AF1150=\"\",\"\",VLOOKUP(AF1150,Tabelas!$J$27:$K$30,2))","v":""}]
[null,null,null,null,null,null,{"$f":"+IF(F1153=\"\",\"\",VLOOKUP(F1153,Tabelas!$B$7:$C$96,2))","v":""},null,{"$f":"IF(H1153=\"\",\"\",ROUND(H1153/SUM(H1146:H1153),4))","v":""},null,null,null,null,null,null,{"$f":"+IF(O1153=\"\",\"\",IF(N1146=\"Transporte Marítimo\",VLOOKUP(O1153,Tabelas!$F$7:$G$12,2),IF(N1146=\"Transporte Aéreo\",VLOOKUP(O1153,Tabelas!$F$16:$G$21,2),\"\")))","v":""},null,null,null,null,null,null,null,null,null,null,null,null,null,null,null,"",{"$f":"+IF(AF1153=\"\",\"\",VLOOKUP(AF1153,Tabelas!$J$27:$K$30,2))","v":""}]
[null,{"$f":"+B1146+1","v":143},null,null,null,null,{"$f":"+IF(F1154=\"\",\"\",VLOOKUP(F1154,Tabelas!$B$7:$C$96,2))","v":""},null,{"$f":"IF(H1154=\"\",\"\",1-SUM(I1155:I1161))","v":""},null,null,null,null,null,null,{"$f":"+IF(O1154=\"\",\"\",IF(N1154=\"Transporte Marítimo\",VLOOKUP(O1154,Tabelas!$F$7:$G$12,2),IF(N1154=\"Transporte Aéreo\",VLOOKUP(O1154,Tabelas!$F$16:$G$21,2),\"\")))","v":""},null,null,null,null,null,null,null,null,null,null,null,null,null,null,null,"",{"$f":"+IF(AF1154=\"\",\"\",VLOOKUP(AF1154,Tabelas!$J$27:$K$30,2))","v":""},null,null,null,null,null,null,null,null,null,null,null,null,null,null,null," "]
[null,null,null,null,null,null,{"$f":"+IF(F1158=\"\",\"\",VLOOKUP(F1158,Tabelas!$B$7:$C$96,2))","v":""},null,{"$f":"IF(H1158=\"\",\"\",ROUND(H1158/SUM(H1154:H1161),4))","v":""},null,null,null,null,null,null,{"$f":"+IF(O1158=\"\",\"\",IF(N1154=\"Transporte Marítimo\",VLOOKUP(O1158,Tabelas!$F$7:$G$12,2),IF(N1154=\"Transporte Aéreo\",VLOOKUP(O1158,Tabelas!$F$16:$G$21,2),\"\")))","v":""},null,null,null,null,null,null,null,null,null,null,null,null,null,null,null,"",{"$f":"+IF(AF1158=\"\",\"\",VLOOKUP(AF1158,Tabelas!$J$27:$K$30,2))","v":""}]
[null,null,null,null,null,null,{"$f":"+IF(F1159=\"\",\"\",VLOOKUP(F1159,Tabelas!$B$7:$C$96,2))","v":""},null,{"$f":"IF(H1159=\"\",\"\",ROUND(H1159/SUM(H1154:H1161),4))","v":""},null,null,null,null,null,null,{"$f":"+IF(O1159=\"\",\"\",IF(N1154=\"Transporte Marítimo\",VLOOKUP(O1159,Tabelas!$F$7:$G$12,2),IF(N1154=\"Transporte Aéreo\",VLOOKUP(O1159,Tabelas!$F$16:$G$21,2),\"\")))","v":""},null,null,null,null,null,null,null,null,null,null,null,null,null,null,null,"",{"$f":"+IF(AF1159=\"\",\"\",VLOOKUP(AF1159,Tabelas!$J$27:$K$30,2))","v":""}]
[null,{"$f":"+B1154+1","v":144},null,null,null,null,{"$f":"+IF(F1162=\"\",\"\",VLOOKUP(F1162,Tabelas!$B$7:$C$96,2))","v":""},null,{"$f":"IF(H1162=\"\",\"\",1-SUM(I1163:I1169))","v":""},null,null,null,null,null,null,{"$f":"+IF(O1162=\"\",\"\",IF(N1162=\"Transporte Marítimo\",VLOOKUP(O1162,Tabelas!$F$7:$G$12,2),IF(N1162=\"Transporte Aéreo\",VLOOKUP(O1162,Tabelas!$F$16:$G$21,2),\"\")))","v":""},null,null,null,null,null,null,null,null,null,null,null,null,null,null,null,"",{"$f":"+IF(AF1162=\"\",\"\",VLOOKUP(AF1162,Tabelas!$J$27:$K$30,2))","v":""},null,null,null,null,null,null,null,null,null,null,null,null,null,null,null," "]
[null,null,null,null,null,null,{"$f":"+IF(F1164=\"\",\"\",VLOOKUP(F1164,Tabelas!$B$7:$C$96,2))","v":""},null,{"$f":"IF(H1164=\"\",\"\",ROUND(H1164/SUM(H1162:H1169),4))","v":""},null,null,null,null,null,null,{"$f":"+IF(O1164=\"\",\"\",IF(N1162=\"Transporte Marítimo\",VLOOKUP(O1164,Tabelas!$F$7:$G$12,2),IF(N1162=\"Transporte Aéreo\",VLOOKUP(O1164,Tabelas!$F$16:$G$21,2),\"\")))","v":""},null,null,null,null,null,null,null,null,null,null,null,null,null,null,null,"",{"$f":"+IF(AF1164=\"\",\"\",VLOOKUP(AF1164,Tabelas!$J$27:$K$30,2))","v":""}]
[null,null,null,null,null,null,{"$f":"+IF(F1167=\"\",\"\",VLOOKUP(F1167,Tabelas!$B$7:$C$96,2))","v":""},null,{"$f":"IF(H1167=\"\",\"\",ROUND(H1167/SUM(H1162:H1169),4))","v":""},null,null,null,null,null,null,{"$f":"+IF(O1167=\"\",\"\",IF(N1162=\"Transporte Marítimo\",VLOOKUP(O1167,Tabelas!$F$7:$G$12,2),IF(N1162=\"Transporte Aéreo\",VLOOKUP(O1167,Tabelas!$F$16:$G$21,2),\"\")))","v":""},null,null,null,null,null,null,null,null,null,null,null,null,null,null,null,"",{"$f":"+IF(AF1167=\"\",\"\",VLOOKUP(AF1167,Tabelas!$J$27:$K$30,2))","v":""}]
[null,null,null,null,null,null,{"$f":"+IF(F1168=\"\",\"\",VLOOKUP(F1168,Tabelas!$B$7:$C$96,2))","v":""},null,{"$f":"IF(H1168=\"\",\"\",ROUND(H1168/SUM(H1162:H1169),4))","v":""},null,null,null,null,null,null,{"$f":"+IF(O1168=\"\",\"\",IF(N1162=\"Transporte Marítimo\",VLOOKUP(O1168,Tabelas!$F$7:$G$12,2),IF(N1162=\"Transporte Aéreo\",VLOOKUP(O1168,Tabelas!$F$16:$G$21,2),\"\")))","v":""},null,null,null,null,null,null,null,null,null,null,null,null,null,null,null,"",{"$f":"+IF(AF1168=\"\",\"\",VLOOKUP(AF1168,Tabelas!$J$27:$K$30,2))","v":""}]
[null,null,null,null,null,null,{"$f":"+IF(F1171=\"\",\"\",VLOOKUP(F1171,Tabelas!$B$7:$C$96,2))","v":""},null,{"$f":"IF(H1171=\"\",\"\",ROUND(H1171/SUM(H1170:H1177),4))","v":""},null,null,null,null,null,null,{"$f":"+IF(O1171=\"\",\"\",IF(N1170=\"Transporte Marítimo\",VLOOKUP(O1171,Tabelas!$F$7:$G$12,2),IF(N1170=\"Transporte Aéreo\",VLOOKUP(O1171,Tabelas!$F$16:$G$21,2),\"\")))","v":""},null,null,null,null,null,null,null,null,null,null,null,null,null,null,null,{"$f":"+IF(AE1171=\"20NL\",1,IF(AE1171=\"40NL\",2,IF(AE1171=\"20RF\",3,IF(AE1171=\"40RF\",4,\"\"))))","v":""},{"$f":"+IF(AF1171=\"\",\"\",VLOOKUP(AF1171,Tabelas!$J$27:$K$30,2))","v":""}]
[null,null,null,null,null,null,{"$f":"+IF(F1172=\"\",\"\",VLOOKUP(F1172,Tabelas!$B$7:$C$96,2))","v":""},null,{"$f":"IF(H1172=\"\",\"\",ROUND(H1172/SUM(H1170:H1177),4))","v":""},null,null,null,null,null,null,{"$f":"+IF(O1172=\"\",\"\",IF(N1170=\"Transporte Marítimo\",VLOOKUP(O1172,Tabelas!$F$7:$G$12,2),IF(N1170=\"Transporte Aéreo\",VLOOKUP(O1172,Tabelas!$F$16:$G$21,2),\"\")))","v":""},null,null,null,null,null,null,null,null,null,null,null,null,null,null,null,"",{"$f":"+IF(AF1172=\"\",\"\",VLOOKUP(AF1172,Tabelas!$J$27:$K$30,2))","v":""}]
[null,null,null,null,null,null,{"$f":"+IF(F1174=\"\",\"\",VLOOKUP(F1174,Tabelas!$B$7:$C$96,2))","v":""},null,{"$f":"IF(H1174=\"\",\"\",ROUND(H1174/SUM(H1170:H1177),4))","v":""},null,null,null,null,null,null,{"$f":"+IF(O1174=\"\",\"\",IF(N1170=\"Transporte Marítimo\",VLOOKUP(O1174,Tabelas!$F$7:$G$12,2),IF(N1170=\"Transporte Aéreo\",VLOOKUP(O1174,Tabelas!$F$16:$G$21,2),\"\")))","v":""},null,null,null,null,null,null,null,null,null,null,null,null,null,null,null,"",{"$f":"+IF(AF1174=\"\",\"\",VLOOKUP(AF1174,Tabelas!$J$27:$K$30,2))","v":""}]
[null,null,null,null,null,null,{"$f":"+IF(F1177=\"\",\"\",VLOOKUP(F1177,Tabelas!$B$7:$C$96,2))","v":""},null,{"$f":"IF(H1177=\"\",\"\",ROUND(H1177/SUM(H1170:H1177),4))","v":""},null,null,null,null,null,null,{"$f":"+IF(O1177=\"\",\"\",IF(N1170=\"Transporte Marítimo\",VLOOKUP(O1177,Tabelas!$F$7:$G$12,2),IF(N1170=\"Transporte Aéreo\",VLOOKUP(O1177,Tabelas!$F$16:$G$21,2),\"\")))","v":""},null,null,null,null,null,null,null,null,null,null,null,null,null,null,null,"",{"$f":"+IF(AF1177=\"\",\"\",VLOOKUP(AF1177,Tabelas!$J$27:$K$30,2))","v":""}]
[null,null,null,null,null,null,{"$f":"+IF(F1180=\"\",\"\",VLOOKUP(F1180,Tabelas!$B$7:$C$96,2))","v":""},null,{"$f":"IF(H1180=\"\",\"\",ROUND(H1180/SUM(H1178:H1185),4))","v":""},null,null,null,null,null,null,{"$f":"+IF(O1180=\"\",\"\",IF(N1178=\"Transporte Marítimo\",VLOOKUP(O1180,Tabelas!$F$7:$G$12,2),IF(N1178=\"Transporte Aéreo\",VLOOKUP(O1180,Tabelas!$F$16:$G$21,2),\"\")))","v":""},null,null,null,null,null,null,null,null,null,null,null,null,null,null,null,"",{"$f":"+IF(AF1180=\"\",\"\",VLOOKUP(AF1180,Tabelas!$J$27:$K$30,2))","v":""}]
[null,null,null,null,null,null,{"$f":"+IF(F1181=\"\",\"\",VLOOKUP(F1181,Tabelas!$B$7:$C$96,2))","v":""},null,{"$f":"IF(H1181=\"\",\"\",ROUND(H1181/SUM(H1178:H1185),4))","v":""},null,null,null,null,null,null,{"$f":"+IF(O1181=\"\",\"\",IF(N1178=\"Transporte Marítimo\",VLOOKUP(O1181,Tabelas!$F$7:$G$12,2),IF(N1178=\"Transporte Aéreo\",VLOOKUP(O1181,Tabelas!$F$16:$G$21,2),\"\")))","v":""},null,null,null,null,null,null,null,null,null,null,null,null,null,null,null,"",{"$f":"+IF(AF1181=\"\",\"\",VLOOKUP(AF1181,Tabelas!$J$27:$K$30,2))","v":""}]
[null,null,null,null,null,null,{"$f":"+IF(F1185=\"\",\"\",VLOOKUP(F1185,Tabelas!$B$7:$C$96,2))","v":""},null,{"$f":"IF(H1185=\"\",\"\",ROUND(H1185/SUM(H1178:H1185),4))","v":""},null,null,null,null,null,null,{"$f":"+IF(O1185=\"\",\"\",IF(N1178=\"Transporte Marítimo\",VLOOKUP(O1185,Tabelas!$F$7:$G$12,2),IF(N1178=\"Transporte Aéreo\",VLOOKUP(O1185,Tabelas!$F$16:$G$21,2),\"\")))","v":""},null,null,null,null,null,null,null,null,null,null,null,null,null,null,null,"",{"$f":"+IF(AF1185=\"\",\"\",VLOOKUP(AF1185,Tabelas!$J$27:$K$30,2))","v":""}]
[null,{"$f":"+B1178+1","v":147},null,null,null,null,{"$f":"+IF(F1186=\"\",\"\",VLOOKUP(F1186,Tabelas!$B$7:$C$96,2))","v":""},null,{"$f":"IF(H1186=\"\",\"\",1-SUM(I1187:I1193))","v":""},null,null,null,null,null,null,{"$f":"+IF(O1186=\"\",\"\",IF(N1186=\"Transporte Marítimo\",VLOOKUP(O1186,Tabelas!$F$7:$G$12,2),IF(N1186=\"Transporte Aéreo\",VLOOKUP(O1186,Tabelas!$F$16:$G$21,2),\"\")))","v":""},null,null,null,null,null,null,null,null,null,null,null,null,null,null,null,"",{"$f":"+IF(AF1186=\"\",\"\",VLOOKUP(AF1186,Tabelas!$J$27:$K$30,2))","v":""},null,null,null,null,null,null,null,null,null,null,null,null,null,null,null," "]
[null,null,null,null,null,null,{"$f":"+IF(F1189=\"\",\"\",VLOOKUP(F1189,Tabelas!$B$7:$C$96,2))","v":""},null,{"$f":"IF(H1189=\"\",\"\",ROUND(H1189/SUM(H1186:H1193),4))","v":""},null,null,null,null,null,null,{"$f":"+IF(O1189=\"\",\"\",IF(N1186=\"Transporte Marítimo\",VLOOKUP(O1189,Tabelas!$F$7:$G$12,2),IF(N1186=\"Transporte Aéreo\",VLOOKUP(O1189,Tabelas!$F$16:$G$21,2),\"\")))","v":""},null,null,null,null,null,null,null,null,null,null,null,null,null,null,null,"",{"$f":"+IF(AF1189=\"\",\"\",VLOOKUP(AF1189,Tabelas!$J$27:$K$30,2))","v":""}]
[null,null,null,null,null,null,{"$f":"+IF(F1190=\"\",\"\",VLOOKUP(F1190,Tabelas!$B$7:$C$96,2))","v":""},null,{"$f":"IF(H1190=\"\",\"\",ROUND(H1190/SUM(H1186:H1193),4))","v":""},null,null,null,null,null,null,{"$f":"+IF(O1190=\"\",\"\",IF(N1186=\"Transporte Marítimo\",VLOOKUP(O1190,Tabelas!$F$7:$G$12,2),IF(N1186=\"Transporte Aéreo\",VLOOKUP(O1190,Tabelas!$F$16:$G$21,2),\"\")))","v":""},null,null,null,null,null,null,null,null,null,null,null,null,null,null,null,"",{"$f":"+IF(AF1190=\"\",\"\",VLOOKUP(AF1190,Tabelas!$J$27:$K$30,2))","v":""}]
[null,null,null,null,null,null,{"$f":"+IF(F1192=\"\",\"\",VLOOKUP(F1192,Tabelas!$B$7:$C$96,2))","v":""},null,{"$f":"IF(H1192=\"\",\"\",ROUND(H1192/SUM(H1186:H1193),4))","v":""},null,null,null,null,null,null,{"$f":"+IF(O1192=\"\",\"\",IF(N1186=\"Transporte Marítimo\",VLOOKUP(O1192,Tabelas!$F$7:$G$12,2),IF(N1186=\"Transporte Aéreo\",VLOOKUP(O1192,Tabelas!$F$16:$G$21,2),\"\")))","v":""},null,null,null,null,null,null,null,null,null,null,null,null,null,null,null,"",{"$f":"+IF(AF1192=\"\",\"\",VLOOKUP(AF1192,Tabelas!$J$27:$K$30,2))","v":""}]
[null,null,null,null,null,null,{"$f":"+IF(F1195=\"\",\"\",VLOOKUP(F1195,Tabelas!$B$7:$C$96,2))","v":""},null,{"$f":"IF(H1195=\"\",\"\",ROUND(H1195/SUM(H1194:H1201),4))","v":""},null,null,null,null,null,null,{"$f":"+IF(O1195=\"\",\"\",IF(N1194=\"Transporte Marítimo\",VLOOKUP(O1195,Tabelas!$F$7:$G$12,2),IF(N1194=\"Transporte Aéreo\",VLOOKUP(O1195,Tabelas!$F$16:$G$21,2),\"\")))","v":""},null,null,null,null,null,null,null,null,null,null,null,null,null,null,null,"",{"$f":"+IF(AF1195=\"\",\"\",VLOOKUP(AF1195,Tabelas!$J$27:$K$30,2))","v":""}]
[null,null,null,null,null,null,{"$f":"+IF(F1198=\"\",\"\",VLOOKUP(F1198,Tabelas!$B$7:$C$96,2))","v":""},null,{"$f":"IF(H1198=\"\",\"\",ROUND(H1198/SUM(H1194:H1201),4))","v":""},null,null,null,null,null,null,{"$f":"+IF(O1198=\"\",\"\",IF(N1194=\"Transporte Marítimo\",VLOOKUP(O1198,Tabelas!$F$7:$G$12,2),IF(N1194=\"Transporte Aéreo\",VLOOKUP(O1198,Tabelas!$F$16:$G$21,2),\"\")))","v":""},null,null,null,null,null,null,null,null,null,null,null,null,null,null,null,"",{"$f":"+IF(AF1198=\"\",\"\",VLOOKUP(AF1198,Tabelas!$J$27:$K$30,2))","v":""}]
[null,null,null,null,null,null,{"$f":"+IF(F1199=\"\",\"\",VLOOKUP(F1199,Tabelas!$B$7:$C$96,2))","v":""},null,{"$f":"IF(H1199=\"\",\"\",ROUND(H1199/SUM(H1194:H1201),4))","v":""},null,null,null,null,null,null,{"$f":"+IF(O1199=\"\",\"\",IF(N1194=\"Transporte Marítimo\",VLOOKUP(O1199,Tabelas!$F$7:$G$12,2),IF(N1194=\"Transporte Aéreo\",VLOOKUP(O1199,Tabelas!$F$16:$G$21,2),\"\")))","v":""},null,null,null,null,null,null,null,null,null,null,null,null,null,null,null,"",{"$f":"+IF(AF1199=\"\",\"\",VLOOKUP(AF1199,Tabelas!$J$27:$K$30,2))","v":""}]
[null,{"$f":"+B1194+1","v":149},null,null,null,null,{"$f":"+IF(F1202=\"\",\"\",VLOOKUP(F1202,Tabelas!$B$7:$C$96,2))","v":""},null,{"$f":"IF(H1202=\"\",\"\",1-SUM(I1203:I1209))","v":""},null,null,null,null,null,null,{"$f":"+IF(O1202=\"\",\"\",IF(N1202=\"Transporte Marítimo\",VLOOKUP(O1202,Tabelas!$F$7:$G$12,2),IF(N1202=\"Transporte Aéreo\",VLOOKUP(O1202,Tabelas!$F$16:$G$21,2),\"\")))","v":""},null,null,null,null,null,null,null,null,null,null,null,null,null,null,null,"",{"$f":"+IF(AF1202=\"\",\"\",VLOOKUP(AF1202,Tabelas!$J$27:$K$30,2))","v":""},null,null,null,null,null,null,null,null,null,null,null,null,null,null,null," "]
[null,null,null,null,null,null,{"$f":"+IF(F1205=\"\",\"\",VLOOKUP(F1205,Tabelas!$B$7:$C$96,2))","v":""},null,{"$f":"IF(H1205=\"\",\"\",ROUND(H1205/SUM(H1202:H1209),4))","v":""},null,null,null,null,null,null,{"$f":"+IF(O1205=\"\",\"\",IF(N1202=\"Transporte Marítimo\",VLOOKUP(O1205,Tabelas!$F$7:$G$12,2),IF(N1202=\"Transporte Aéreo\",VLOOKUP(O1205,Tabelas!$F$16:$G$21,2),\"\")))","v":""},null,null,null,null,null,null,null,null,null,null,null,null,null,null,null,"",{"$f":"+IF(AF1205=\"\",\"\",VLOOKUP(AF1205,Tabelas!$J$27:$K$30,2))","v":""}]
[null,null,null,null,null,null,{"$f":"+IF(F1207=\"\",\"\",VLOOKUP(F1207,Tabelas!$B$7:$C$96,2))","v":""},null,{"$f":"IF(H1207=\"\",\"\",ROUND(H1207/SUM(H1202:H1209),4))","v":""},null,null,null,null,null,null,{"$f":"+IF(O1207=\"\",\"\",IF(N1202=\"Transporte Marítimo\",VLOOKUP(O1207,Tabelas!$F$7:$G$12,2),IF(N1202=\"Transporte Aéreo\",VLOOKUP(O1207,Tabelas!$F$16:$G$21,2),\"\")))","v":""},null,null,null,null,null,null,null,null,null,null,null,null,null,null,null,"",{"$f":"+IF(AF1207=\"\",\"\",VLOOKUP(AF1207,Tabelas!$J$27:$K$30,2))","v":""}]
[null,null,null,null,null,null,{"$f":"+IF(F1208=\"\",\"\",VLOOKUP(F1208,Tabelas!$B$7:$C$96,2))","v":""},null,{"$f":"IF(H1208=\"\",\"\",ROUND(H1208/SUM(H1202:H1209),4))","v":""},null,null,null,null,null,null,{"$f":"+IF(O1208=\"\",\"\",IF(N1202=\"Transporte Marítimo\",VLOOKUP(O1208,Tabelas!$F$7:$G$12,2),IF(N1202=\"Transporte Aéreo\",VLOOKUP(O1208,Tabelas!$F$16:$G$21,2),\"\")))","v":""},null,null,null,null,null,null,null,null,null,null,null,null,null,null,null,"",{"$f":"+IF(AF1208=\"\",\"\",VLOOKUP(AF1208,Tabelas!$J$27:$K$30,2))","v":""}]
[null,null,null,null,null,null,{"$f":"+IF(F1211=\"\",\"\",VLOOKUP(F1211,Tabelas!$B$7:$C$96,2))","v":""},null,{"$f":"IF(H1211=\"\",\"\",ROUND(H1211/SUM(H1210:H1217),4))","v":""},null,null,null,null,null,null,{"$f":"+IF(O1211=\"\",\"\",IF(N1210=\"Transporte Marítimo\",VLOOKUP(O1211,Tabelas!$F$7:$G$12,2),IF(N1210=\"Transporte Aéreo\",VLOOKUP(O1211,Tabelas!$F$16:$G$21,2),\"\")))","v":""},null,null,null,null,null,null,null,null,null,null,null,null,null,null,null,"",{"$f":"+IF(AF1211=\"\",\"\",VLOOKUP(AF1211,Tabelas!$J$27:$K$30,2))","v":""}]
[null,null,null,null,null,null,{"$f":"+IF(F1213=\"\",\"\",VLOOKUP(F1213,Tabelas!$B$7:$C$96,2))","v":""},null,{"$f":"IF(H1213=\"\",\"\",ROUND(H1213/SUM(H1210:H1217),4))","v":""},null,null,null,null,null,null,{"$f":"+IF(O1213=\"\",\"\",IF(N1210=\"Transporte Marítimo\",VLOOKUP(O1213,Tabelas!$F$7:$G$12,2),IF(N1210=\"Transporte Aéreo\",VLOOKUP(O1213,Tabelas!$F$16:$G$21,2),\"\")))","v":""},null,null,null,null,null,null,null,null,null,null,null,null,null,null,null,"",{"$f":"+IF(AF1213=\"\",\"\",VLOOKUP(AF1213,Tabelas!$J$27:$K$30,2))","v":""}]
[null,null,null,null,null,null,{"$f":"+IF(F1216=\"\",\"\",VLOOKUP(F1216,Tabelas!$B$7:$C$96,2))","v":""},null,{"$f":"IF(H1216=\"\",\"\",ROUND(H1216/SUM(H1210:H1217),4))","v":""},null,null,null,null,null,null,{"$f":"+IF(O1216=\"\",\"\",IF(N1210=\"Transporte Marítimo\",VLOOKUP(O1216,Tabelas!$F$7:$G$12,2),IF(N1210=\"Transporte Aéreo\",VLOOKUP(O1216,Tabelas!$F$16:$G$21,2),\"\")))","v":""},null,null,null,null,null,null,null,null,null,null,null,null,null,null,null,"",{"$f":"+IF(AF1216=\"\",\"\",VLOOKUP(AF1216,Tabelas!$J$27:$K$30,2))","v":""}]
[null,null,null,null,null,null,{"$f":"+IF(F1217=\"\",\"\",VLOOKUP(F1217,Tabelas!$B$7:$C$96,2))","v":""},null,{"$f":"IF(H1217=\"\",\"\",ROUND(H1217/SUM(H1210:H1217),4))","v":""},null,null,null,null,null,null,{"$f":"+IF(O1217=\"\",\"\",IF(N1210=\"Transporte Marítimo\",VLOOKUP(O1217,Tabelas!$F$7:$G$12,2),IF(N1210=\"Transporte Aéreo\",VLOOKUP(O1217,Tabelas!$F$16:$G$21,2),\"\")))","v":""},null,null,null,null,null,null,null,null,null,null,null,null,null,null,null,"",{"$f":"+IF(AF1217=\"\",\"\",VLOOKUP(AF1217,Tabelas!$J$27:$K$30,2))","v":""}]
[null,null,null,null,null,null,{"$f":"+IF(F1220=\"\",\"\",VLOOKUP(F1220,Tabelas!$B$7:$C$96,2))","v":""},null,{"$f":"IF(H1220=\"\",\"\",ROUND(H1220/SUM(H1218:H1225),4))","v":""},null,null,null,null,null,null,{"$f":"+IF(O1220=\"\",\"\",IF(N1218=\"Transporte Marítimo\",VLOOKUP(O1220,Tabelas!$F$7:$G$12,2),IF(N1218=\"Transporte Aéreo\",VLOOKUP(O1220,Tabelas!$F$16:$G$21,2),\"\")))","v":""},null,null,null,null,null,null,null,null,null,null,null,null,null,null,null,"",{"$f":"+IF(AF1220=\"\",\"\",VLOOKUP(AF1220,Tabelas!$J$27:$K$30,2))","v":""}]
[null,null,null,null,null,null,{"$f":"+IF(F1223=\"\",\"\",VLOOKUP(F1223,Tabelas!$B$7:$C$96,2))","v":""},null,{"$f":"IF(H1223=\"\",\"\",ROUND(H1223/SUM(H1218:H1225),4))","v":""},null,null,null,null,null,null,{"$f":"+IF(O1223=\"\",\"\",IF(N1218=\"Transporte Marítimo\",VLOOKUP(O1223,Tabelas!$F$7:$G$12,2),IF(N1218=\"Transporte Aéreo\",VLOOKUP(O1223,Tabelas!$F$16:$G$21,2),\"\")))","v":""},null,null,null,null,null,null,null,null,null,null,null,null,null,null,null,"",{"$f":"+IF(AF1223=\"\",\"\",VLOOKUP(AF1223,Tabelas!$J$27:$K$30,2))","v":""}]
[null,null,null,null,null,null,{"$f":"+IF(F1225=\"\",\"\",VLOOKUP(F1225,Tabelas!$B$7:$C$96,2))","v":""},null,{"$f":"IF(H1225=\"\",\"\",ROUND(H1225/SUM(H1218:H1225),4))","v":""},null,null,null,null,null,null,{"$f":"+IF(O1225=\"\",\"\",IF(N1218=\"Transporte Marítimo\",VLOOKUP(O1225,Tabelas!$F$7:$G$12,2),IF(N1218=\"Transporte Aéreo\",VLOOKUP(O1225,Tabelas!$F$16:$G$21,2),\"\")))","v":""},null,null,null,null,null,null,null,null,null,null,null,null,null,null,null,"",{"$f":"+IF(AF1225=\"\",\"\",VLOOKUP(AF1225,Tabelas!$J$27:$K$30,2))","v":""}]
[null,{"$f":"+B1218+1","v":152},null,null,null,null,{"$f":"+IF(F1226=\"\",\"\",VLOOKUP(F1226,Tabelas!$B$7:$C$96,2))","v":""},null,{"$f":"IF(H1226=\"\",\"\",1-SUM(I1227:I1233))","v":""},null,null,null,null,null,null,{"$f":"+IF(O1226=\"\",\"\",IF(N1226=\"Transporte Marítimo\",VLOOKUP(O1226,Tabelas!$F$7:$G$12,2),IF(N1226=\"Transporte Aéreo\",VLOOKUP(O1226,Tabelas!$F$16:$G$21,2),\"\")))","v":""},null,null,null,null,null,null,null,null,null,null,null,null,null,null,null,"",{"$f":"+IF(AF1226=\"\",\"\",VLOOKUP(AF1226,Tabelas!$J$27:$K$30,2))","v":""},null,null,null,null,null,null,null,null,null,null,null,null,null,null,null," "]
[null,null,null,null,null,null,{"$f":"+IF(F1229=\"\",\"\",VLOOKUP(F1229,Tabelas!$B$7:$C$96,2))","v":""},null,{"$f":"IF(H1229=\"\",\"\",ROUND(H1229/SUM(H1226:H1233),4))","v":""},null,null,null,null,null,null,{"$f":"+IF(O1229=\"\",\"\",IF(N1226=\"Transporte Marítimo\",VLOOKUP(O1229,Tabelas!$F$7:$G$12,2),IF(N1226=\"Transporte Aéreo\",VLOOKUP(O1229,Tabelas!$F$16:$G$21,2),\"\")))","v":""},null,null,null,null,null,null,null,null,null,null,null,null,null,null,null,"",{"$f":"+IF(AF1229=\"\",\"\",VLOOKUP(AF1229,Tabelas!$J$27:$K$30,2))","v":""}]
[null,null,null,null,null,null,{"$f":"+IF(F1230=\"\",\"\",VLOOKUP(F1230,Tabelas!$B$7:$C$96,2))","v":""},null,{"$f":"IF(H1230=\"\",\"\",ROUND(H1230/SUM(H1226:H1233),4))","v":""},null,null,null,null,null,null,{"$f":"+IF(O1230=\"\",\"\",IF(N1226=\"Transporte Marítimo\",VLOOKUP(O1230,Tabelas!$F$7:$G$12,2),IF(N1226=\"Transporte Aéreo\",VLOOKUP(O1230,Tabelas!$F$16:$G$21,2),\"\")))","v":""},null,null,null,null,null,null,null,null,null,null,null,null,null,null,null,"",{"$f":"+IF(AF1230=\"\",\"\",VLOOKUP(AF1230,Tabelas!$J$27:$K$30,2))","v":""}]
[null,null,null,null,null,null,{"$f":"+IF(F1233=\"\",\"\",VLOOKUP(F1233,Tabelas!$B$7:$C$96,2))","v":""},null,{"$f":"IF(H1233=\"\",\"\",ROUND(H1233/SUM(H1226:H1233),4))","v":""},null,null,null,null,null,null,{"$f":"+IF(O1233=\"\",\"\",IF(N1226=\"Transporte Marítimo\",VLOOKUP(O1233,Tabelas!$F$7:$G$12,2),IF(N1226=\"Transporte Aéreo\",VLOOKUP(O1233,Tabelas!$F$16:$G$21,2),\"\")))","v":""},null,null,null,null,null,null,null,null,null,null,null,null,null,null,null,"",{"$f":"+IF(AF1233=\"\",\"\",VLOOKUP(AF1233,Tabelas!$J$27:$K$30,2))","v":""}]
[null,null,null,null,null,null,{"$f":"+IF(F1235=\"\",\"\",VLOOKUP(F1235,Tabelas!$B$7:$C$96,2))","v":""},null,{"$f":"IF(H1235=\"\",\"\",ROUND(H1235/SUM(H1234:H1241),4))","v":""},null,null,null,null,null,null,{"$f":"+IF(O1235=\"\",\"\",IF(N1234=\"Transporte Marítimo\",VLOOKUP(O1235,Tabelas!$F$7:$G$12,2),IF(N1234=\"Transporte Aéreo\",VLOOKUP(O1235,Tabelas!$F$16:$G$21,2),\"\")))","v":""},null,null,null,null,null,null,null,null,null,null,null,null,null,null,null,{"$f":"+IF(AE1235=\"20NL\",1,IF(AE1235=\"40NL\",2,IF(AE1235=\"20RF\",3,IF(AE1235=\"40RF\",4,\"\"))))","v":""},{"$f":"+IF(AF1235=\"\",\"\",VLOOKUP(AF1235,Tabelas!$J$27:$K$30,2))","v":""}]
[null,null,null,null,null,null,{"$f":"+IF(F1238=\"\",\"\",VLOOKUP(F1238,Tabelas!$B$7:$C$96,2))","v":""},null,{"$f":"IF(H1238=\"\",\"\",ROUND(H1238/SUM(H1234:H1241),4))","v":""},null,null,null,null,null,null,{"$f":"+IF(O1238=\"\",\"\",IF(N1234=\"Transporte Marítimo\",VLOOKUP(O1238,Tabelas!$F$7:$G$12,2),IF(N1234=\"Transporte Aéreo\",VLOOKUP(O1238,Tabelas!$F$16:$G$21,2),\"\")))","v":""},null,null,null,null,null,null,null,null,null,null,null,null,null,null,null,"",{"$f":"+IF(AF1238=\"\",\"\",VLOOKUP(AF1238,Tabelas!$J$27:$K$30,2))","v":""}]
[null,null,null,null,null,null,{"$f":"+IF(F1239=\"\",\"\",VLOOKUP(F1239,Tabelas!$B$7:$C$96,2))","v":""},null,{"$f":"IF(H1239=\"\",\"\",ROUND(H1239/SUM(H1234:H1241),4))","v":""},null,null,null,null,null,null,{"$f":"+IF(O1239=\"\",\"\",IF(N1234=\"Transporte Marítimo\",VLOOKUP(O1239,Tabelas!$F$7:$G$12,2),IF(N1234=\"Transporte Aéreo\",VLOOKUP(O1239,Tabelas!$F$16:$G$21,2),\"\")))","v":""},null,null,null,null,null,null,null,null,null,null,null,null,null,null,null,"",{"$f":"+IF(AF1239=\"\",\"\",VLOOKUP(AF1239,Tabelas!$J$27:$K$30,2))","v":""}]
[null,null,null,null,null,null,{"$f":"+IF(F1241=\"\",\"\",VLOOKUP(F1241,Tabelas!$B$7:$C$96,2))","v":""},null,{"$f":"IF(H1241=\"\",\"\",ROUND(H1241/SUM(H1234:H1241),4))","v":""},null,null,null,null,null,null,{"$f":"+IF(O1241=\"\",\"\",IF(N1234=\"Transporte Marítimo\",VLOOKUP(O1241,Tabelas!$F$7:$G$12,2),IF(N1234=\"Transporte Aéreo\",VLOOKUP(O1241,Tabelas!$F$16:$G$21,2),\"\")))","v":""},null,null,null,null,null,null,null,null,null,null,null,null,null,null,null,"",{"$f":"+IF(AF1241=\"\",\"\",VLOOKUP(AF1241,Tabelas!$J$27:$K$30,2))","v":""}]
[null,null,null,null,null,null,{"$f":"+IF(F1244=\"\",\"\",VLOOKUP(F1244,Tabelas!$B$7:$C$96,2))","v":""},null,{"$f":"IF(H1244=\"\",\"\",ROUND(H1244/SUM(H1242:H1249),4))","v":""},null,null,null,null,null,null,{"$f":"+IF(O1244=\"\",\"\",IF(N1242=\"Transporte Marítimo\",VLOOKUP(O1244,Tabelas!$F$7:$G$12,2),IF(N1242=\"Transporte Aéreo\",VLOOKUP(O1244,Tabelas!$F$16:$G$21,2),\"\")))","v":""},null,null,null,null,null,null,null,null,null,null,null,null,null,null,null,"",{"$f":"+IF(AF1244=\"\",\"\",VLOOKUP(AF1244,Tabelas!$J$27:$K$30,2))","v":""}]
[null,null,null,null,null,null,{"$f":"+IF(F1247=\"\",\"\",VLOOKUP(F1247,Tabelas!$B$7:$C$96,2))","v":""},null,{"$f":"IF(H1247=\"\",\"\",ROUND(H1247/SUM(H1242:H1249),4))","v":""},null,null,null,null,null,null,{"$f":"+IF(O1247=\"\",\"\",IF(N1242=\"Transporte Marítimo\",VLOOKUP(O1247,Tabelas!$F$7:$G$12,2),IF(N1242=\"Transporte Aéreo\",VLOOKUP(O1247,Tabelas!$F$16:$G$21,2),\"\")))","v":""},null,null,null,null,null,null,null,null,null,null,null,null,null,null,null,"",{"$f":"+IF(AF1247=\"\",\"\",VLOOKUP(AF1247,Tabelas!$J$27:$K$30,2))","v":""}]
[null,null,null,null,null,null,{"$f":"+IF(F1248=\"\",\"\",VLOOKUP(F1248,Tabelas!$B$7:$C$96,2))","v":""},null,{"$f":"IF(H1248=\"\",\"\",ROUND(H1248/SUM(H1242:H1249),4))","v":""},null,null,null,null,null,null,{"$f":"+IF(O1248=\"\",\"\",IF(N1242=\"Transporte Marítimo\",VLOOKUP(O1248,Tabelas!$F$7:$G$12,2),IF(N1242=\"Transporte Aéreo\",VLOOKUP(O1248,Tabelas!$F$16:$G$21,2),\"\")))","v":""},null,null,null,null,null,null,null,null,null,null,null,null,null,null,null,"",{"$f":"+IF(AF1248=\"\",\"\",VLOOKUP(AF1248,Tabelas!$J$27:$K$30,2))","v":""}]
[null,null,null,null,null,null,{"$f":"+IF(F1251=\"\",\"\",VLOOKUP(F1251,Tabelas!$B$7:$C$96,2))","v":""},null,{"$f":"IF(H1251=\"\",\"\",ROUND(H1251/SUM(H1250:H1257),4))","v":""},null,null,null,null,null,null,{"$f":"+IF(O1251=\"\",\"\",IF(N1250=\"Transporte Marítimo\",VLOOKUP(O1251,Tabelas!$F$7:$G$12,2),IF(N1250=\"Transporte Aéreo\",VLOOKUP(O1251,Tabelas!$F$16:$G$21,2),\"\")))","v":""},null,null,null,null,null,null,null,null,null,null,null,null,null,null,null,"",{"$f":"+IF(AF1251=\"\",\"\",VLOOKUP(AF1251,Tabelas!$J$27:$K$30,2))","v":""}]
[null,null,null,null,null,null,{"$f":"+IF(F1254=\"\",\"\",VLOOKUP(F1254,Tabelas!$B$7:$C$96,2))","v":""},null,{"$f":"IF(H1254=\"\",\"\",ROUND(H1254/SUM(H1250:H1257),4))","v":""},null,null,null,null,null,null,{"$f":"+IF(O1254=\"\",\"\",IF(N1250=\"Transporte Marítimo\",VLOOKUP(O1254,Tabelas!$F$7:$G$12,2),IF(N1250=\"Transporte Aéreo\",VLOOKUP(O1254,Tabelas!$F$16:$G$21,2),\"\")))","v":""},null,null,null,null,null,null,null,null,null,null,null,null,null,null,null,"",{"$f":"+IF(AF1254=\"\",\"\",VLOOKUP(AF1254,Tabelas!$J$27:$K$30,2))","v":""}]
[null,null,null,null,null,null,{"$f":"+IF(F1256=\"\",\"\",VLOOKUP(F1256,Tabelas!$B$7:$C$96,2))","v":""},null,{"$f":"IF(H1256=\"\",\"\",ROUND(H1256/SUM(H1250:H1257),4))","v":""},null,null,null,null,null,null,{"$f":"+IF(O1256=\"\",\"\",IF(N1250=\"Transporte Marítimo\",VLOOKUP(O1256,Tabelas!$F$7:$G$12,2),IF(N1250=\"Transporte Aéreo\",VLOOKUP(O1256,Tabelas!$F$16:$G$21,2),\"\")))","v":""},null,null,null,null,null,null,null,null,null,null,null,null,null,null,null,"",{"$f":"+IF(AF1256=\"\",\"\",VLOOKUP(AF1256,Tabelas!$J$27:$K$30,2))","v":""}]
[null,null,null,null,null,null,{"$f":"+IF(F1257=\"\",\"\",VLOOKUP(F1257,Tabelas!$B$7:$C$96,2))","v":""},null,{"$f":"IF(H1257=\"\",\"\",ROUND(H1257/SUM(H1250:H1257),4))","v":""},null,null,null,null,null,null,{"$f":"+IF(O1257=\"\",\"\",IF(N1250=\"Transporte Marítimo\",VLOOKUP(O1257,Tabelas!$F$7:$G$12,2),IF(N1250=\"Transporte Aéreo\",VLOOKUP(O1257,Tabelas!$F$16:$G$21,2),\"\")))","v":""},null,null,null,null,null,null,null,null,null,null,null,null,null,null,null,"",{"$f":"+IF(AF1257=\"\",\"\",VLOOKUP(AF1257,Tabelas!$J$27:$K$30,2))","v":""}]
[null,null,null,null,null,null,{"$f":"+IF(F1260=\"\",\"\",VLOOKUP(F1260,Tabelas!$B$7:$C$96,2))","v":""},null,{"$f":"IF(H1260=\"\",\"\",ROUND(H1260/SUM(H1258:H1265),4))","v":""},null,null,null,null,null,null,{"$f":"+IF(O1260=\"\",\"\",IF(N1258=\"Transporte Marítimo\",VLOOKUP(O1260,Tabelas!$F$7:$G$12,2),IF(N1258=\"Transporte Aéreo\",VLOOKUP(O1260,Tabelas!$F$16:$G$21,2),\"\")))","v":""},null,null,null,null,null,null,null,null,null,null,null,null,null,null,null,"",{"$f":"+IF(AF1260=\"\",\"\",VLOOKUP(AF1260,Tabelas!$J$27:$K$30,2))","v":""}]
[null,null,null,null,null,null,{"$f":"+IF(F1261=\"\",\"\",VLOOKUP(F1261,Tabelas!$B$7:$C$96,2))","v":""},null,{"$f":"IF(H1261=\"\",\"\",ROUND(H1261/SUM(H1258:H1265),4))","v":""},null,null,null,null,null,null,{"$f":"+IF(O1261=\"\",\"\",IF(N1258=\"Transporte Marítimo\",VLOOKUP(O1261,Tabelas!$F$7:$G$12,2),IF(N1258=\"Transporte Aéreo\",VLOOKUP(O1261,Tabelas!$F$16:$G$21,2),\"\")))","v":""},null,null,null,null,null,null,null,null,null,null,null,null,null,null,null,"",{"$f":"+IF(AF1261=\"\",\"\",VLOOKUP(AF1261,Tabelas!$J$27:$K$30,2))","v":""}]
[null,null,null,null,null,null,{"$f":"+IF(F1265=\"\",\"\",VLOOKUP(F1265,Tabelas!$B$7:$C$96,2))","v":""},null,{"$f":"IF(H1265=\"\",\"\",ROUND(H1265/SUM(H1258:H1265),4))","v":""},null,null,null,null,null,null,{"$f":"+IF(O1265=\"\",\"\",IF(N1258=\"Transporte Marítimo\",VLOOKUP(O1265,Tabelas!$F$7:$G$12,2),IF(N1258=\"Transporte Aéreo\",VLOOKUP(O1265,Tabelas!$F$16:$G$21,2),\"\")))","v":""},null,null,null,null,null,null,null,null,null,null,null,null,null,null,null,"",{"$f":"+IF(AF1265=\"\",\"\",VLOOKUP(AF1265,Tabelas!$J$27:$K$30,2))","v":""}]
[null,{"$f":"+B1258+1","v":157},null,null,null,null,{"$f":"+IF(F1266=\"\",\"\",VLOOKUP(F1266,Tabelas!$B$7:$C$96,2))","v":""},null,{"$f":"IF(H1266=\"\",\"\",1-SUM(I1267:I1273))","v":""},null,null,null,null,null,null,{"$f":"+IF(O1266=\"\",\"\",IF(N1266=\"Transporte Marítimo\",VLOOKUP(O1266,Tabelas!$F$7:$G$12,2),IF(N1266=\"Transporte Aéreo\",VLOOKUP(O1266,Tabelas!$F$16:$G$21,2),\"\")))","v":""},null,null,null,null,null,null,null,null,null,null,null,null,null,null,null,"",{"$f":"+IF(AF1266=\"\",\"\",VLOOKUP(AF1266,Tabelas!$J$27:$K$30,2))","v":""},null,null,null,null,null,null,null,null,null,null,null,null,null,null,null," "]
[null,null,null,null,null,null,{"$f":"+IF(F1269=\"\",\"\",VLOOKUP(F1269,Tabelas!$B$7:$C$96,2))","v":""},null,{"$f":"IF(H1269=\"\",\"\",ROUND(H1269/SUM(H1266:H1273),4))","v":""},null,null,null,null,null,null,{"$f":"+IF(O1269=\"\",\"\",IF(N1266=\"Transporte Marítimo\",VLOOKUP(O1269,Tabelas!$F$7:$G$12,2),IF(N1266=\"Transporte Aéreo\",VLOOKUP(O1269,Tabelas!$F$16:$G$21,2),\"\")))","v":""},null,null,null,null,null,null,null,null,null,null,null,null,null,null,null,"",{"$f":"+IF(AF1269=\"\",\"\",VLOOKUP(AF1269,Tabelas!$J$27:$K$30,2))","v":""}]
[null,null,null,null,null,null,{"$f":"+IF(F1272=\"\",\"\",VLOOKUP(F1272,Tabelas!$B$7:$C$96,2))","v":""},null,{"$f":"IF(H1272=\"\",\"\",ROUND(H1272/SUM(H1266:H1273),4))","v":""},null,null,null,null,null,null,{"$f":"+IF(O1272=\"\",\"\",IF(N1266=\"Transporte Marítimo\",VLOOKUP(O1272,Tabelas!$F$7:$G$12,2),IF(N1266=\"Transporte Aéreo\",VLOOKUP(O1272,Tabelas!$F$16:$G$21,2),\"\")))","v":""},null,null,null,null,null,null,null,null,null,null,null,null,null,null,null,"",{"$f":"+IF(AF1272=\"\",\"\",VLOOKUP(AF1272,Tabelas!$J$27:$K$30,2))","v":""}]
[null,{"$f":"+B1266+1","v":158},null,null,null,null,{"$f":"+IF(F1274=\"\",\"\",VLOOKUP(F1274,Tabelas!$B$7:$C$96,2))","v":""},null,{"$f":"IF(H1274=\"\",\"\",1-SUM(I1275:I1281))","v":""},null,null,null,null,null,null,{"$f":"+IF(O1274=\"\",\"\",IF(N1274=\"Transporte Marítimo\",VLOOKUP(O1274,Tabelas!$F$7:$G$12,2),IF(N1274=\"Transporte Aéreo\",VLOOKUP(O1274,Tabelas!$F$16:$G$21,2),\"\")))","v":""},null,null,null,null,null,null,null,null,null,null,null,null,null,null,null,"",{"$f":"+IF(AF1274=\"\",\"\",VLOOKUP(AF1274,Tabelas!$J$27:$K$30,2))","v":""},null,null,null,null,null,null,null,null,null,null,null,null,null,null,null," "]
[null,null,null,null,null,null,{"$f":"+IF(F1275=\"\",\"\",VLOOKUP(F1275,Tabelas!$B$7:$C$96,2))","v":""},null,{"$f":"IF(H1275=\"\",\"\",ROUND(H1275/SUM(H1274:H1281),4))","v":""},null,null,null,null,null,null,{"$f":"+IF(O1275=\"\",\"\",IF(N1274=\"Transporte Marítimo\",VLOOKUP(O1275,Tabelas!$F$7:$G$12,2),IF(N1274=\"Transporte Aéreo\",VLOOKUP(O1275,Tabelas!$F$16:$G$21,2),\"\")))","v":""},null,null,null,null,null,null,null,null,null,null,null,null,null,null,null,"",{"$f":"+IF(AF1275=\"\",\"\",VLOOKUP(AF1275,Tabelas!$J$27:$K$30,2))","v":""}]
[null,null,null,null,null,null,{"$f":"+IF(F1278=\"\",\"\",VLOOKUP(F1278,Tabelas!$B$7:$C$96,2))","v":""},null,{"$f":"IF(H1278=\"\",\"\",ROUND(H1278/SUM(H1274:H1281),4))","v":""},null,null,null,null,null,null,{"$f":"+IF(O1278=\"\",\"\",IF(N1274=\"Transporte Marítimo\",VLOOKUP(O1278,Tabelas!$F$7:$G$12,2),IF(N1274=\"Transporte Aéreo\",VLOOKUP(O1278,Tabelas!$F$16:$G$21,2),\"\")))","v":""},null,null,null,null,null,null,null,null,null,null,null,null,null,null,null,"",{"$f":"+IF(AF1278=\"\",\"\",VLOOKUP(AF1278,Tabelas!$J$27:$K$30,2))","v":""}]
[null,null,null,null,null,null,{"$f":"+IF(F1279=\"\",\"\",VLOOKUP(F1279,Tabelas!$B$7:$C$96,2))","v":""},null,{"$f":"IF(H1279=\"\",\"\",ROUND(H1279/SUM(H1274:H1281),4))","v":""},null,null,null,null,null,null,{"$f":"+IF(O1279=\"\",\"\",IF(N1274=\"Transporte Marítimo\",VLOOKUP(O1279,Tabelas!$F$7:$G$12,2),IF(N1274=\"Transporte Aéreo\",VLOOKUP(O1279,Tabelas!$F$16:$G$21,2),\"\")))","v":""},null,null,null,null,null,null,null,null,null,null,null,null,null,null,null,"",{"$f":"+IF(AF1279=\"\",\"\",VLOOKUP(AF1279,Tabelas!$J$27:$K$30,2))","v":""}]
[null,{"$f":"+B1274+1","v":159},null,null,null,null,{"$f":"+IF(F1282=\"\",\"\",VLOOKUP(F1282,Tabelas!$B$7:$C$96,2))","v":""},null,{"$f":"IF(H1282=\"\",\"\",1-SUM(I1283:I1289))","v":""},null,null,null,null,null,null,{"$f":"+IF(O1282=\"\",\"\",IF(N1282=\"Transporte Marítimo\",VLOOKUP(O1282,Tabelas!$F$7:$G$12,2),IF(N1282=\"Transporte Aéreo\",VLOOKUP(O1282,Tabelas!$F$16:$G$21,2),\"\")))","v":""},null,null,null,null,null,null,null,null,null,null,null,null,null,null,null,"",{"$f":"+IF(AF1282=\"\",\"\",VLOOKUP(AF1282,Tabelas!$J$27:$K$30,2))","v":""},null,null,null,null,null,null,null,null,null,null,null,null,null,null,null," "]
[null,null,null,null,null,null,{"$f":"+IF(F1284=\"\",\"\",VLOOKUP(F1284,Tabelas!$B$7:$C$96,2))","v":""},null,{"$f":"IF(H1284=\"\",\"\",ROUND(H1284/SUM(H1282:H1289),4))","v":""},null,null,null,null,null,null,{"$f":"+IF(O1284=\"\",\"\",IF(N1282=\"Transporte Marítimo\",VLOOKUP(O1284,Tabelas!$F$7:$G$12,2),IF(N1282=\"Transporte Aéreo\",VLOOKUP(O1284,Tabelas!$F$16:$G$21,2),\"\")))","v":""},null,null,null,null,null,null,null,null,null,null,null,null,null,null,null,"",{"$f":"+IF(AF1284=\"\",\"\",VLOOKUP(AF1284,Tabelas!$J$27:$K$30,2))","v":""}]
[null,null,null,null,null,null,{"$f":"+IF(F1287=\"\",\"\",VLOOKUP(F1287,Tabelas!$B$7:$C$96,2))","v":""},null,{"$f":"IF(H1287=\"\",\"\",ROUND(H1287/SUM(H1282:H1289),4))","v":""},null,null,null,null,null,null,{"$f":"+IF(O1287=\"\",\"\",IF(N1282=\"Transporte Marítimo\",VLOOKUP(O1287,Tabelas!$F$7:$G$12,2),IF(N1282=\"Transporte Aéreo\",VLOOKUP(O1287,Tabelas!$F$16:$G$21,2),\"\")))","v":""},null,null,null,null,null,null,null,null,null,null,null,null,null,null,null,"",{"$f":"+IF(AF1287=\"\",\"\",VLOOKUP(AF1287,Tabelas!$J$27:$K$30,2))","v":""}]
[null,null,null,null,null,null,{"$f":"+IF(F1288=\"\",\"\",VLOOKUP(F1288,Tabelas!$B$7:$C$96,2))","v":""},null,{"$f":"IF(H1288=\"\",\"\",ROUND(H1288/SUM(H1282:H1289),4))","v":""},null,null,null,null,null,null,{"$f":"+IF(O1288=\"\",\"\",IF(N1282=\"Transporte Marítimo\",VLOOKUP(O1288,Tabelas!$F$7:$G$12,2),IF(N1282=\"Transporte Aéreo\",VLOOKUP(O1288,Tabelas!$F$16:$G$21,2),\"\")))","v":""},null,null,null,null,null,null,null,null,null,null,null,null,null,null,null,"",{"$f":"+IF(AF1288=\"\",\"\",VLOOKUP(AF1288,Tabelas!$J$27:$K$30,2))","v":""}]
[null,null,null,null,null,null,{"$f":"+IF(F1292=\"\",\"\",VLOOKUP(F1292,Tabelas!$B$7:$C$96,2))","v":""},null,{"$f":"IF(H1292=\"\",\"\",ROUND(H1292/SUM(H1290:H1297),4))","v":""},null,null,null,null,null,null,{"$f":"+IF(O1292=\"\",\"\",IF(N1290=\"Transporte Marítimo\",VLOOKUP(O1292,Tabelas!$F$7:$G$12,2),IF(N1290=\"Transporte Aéreo\",VLOOKUP(O1292,Tabelas!$F$16:$G$21,2),\"\")))","v":""},null,null,null,null,null,null,null,null,null,null,null,null,null,null,null,"",{"$f":"+IF(AF1292=\"\",\"\",VLOOKUP(AF1292,Tabelas!$J$27:$K$30,2))","v":""}]
[null,null,null,null,null,null,{"$f":"+IF(F1293=\"\",\"\",VLOOKUP(F1293,Tabelas!$B$7:$C$96,2))","v":""},null,{"$f":"IF(H1293=\"\",\"\",ROUND(H1293/SUM(H1290:H1297),4))","v":""},null,null,null,null,null,null,{"$f":"+IF(O1293=\"\",\"\",IF(N1290=\"Transporte Marítimo\",VLOOKUP(O1293,Tabelas!$F$7:$G$12,2),IF(N1290=\"Transporte Aéreo\",VLOOKUP(O1293,Tabelas!$F$16:$G$21,2),\"\")))","v":""},null,null,null,null,null,null,null,null,null,null,null,null,null,null,null,"",{"$f":"+IF(AF1293=\"\",\"\",VLOOKUP(AF1293,Tabelas!$J$27:$K$30,2))","v":""}]
[null,null,null,null,null,null,{"$f":"+IF(F1296=\"\",\"\",VLOOKUP(F1296,Tabelas!$B$7:$C$96,2))","v":""},null,{"$f":"IF(H1296=\"\",\"\",ROUND(H1296/SUM(H1290:H1297),4))","v":""},null,null,null,null,null,null,{"$f":"+IF(O1296=\"\",\"\",IF(N1290=\"Transporte Marítimo\",VLOOKUP(O1296,Tabelas!$F$7:$G$12,2),IF(N1290=\"Transporte Aéreo\",VLOOKUP(O1296,Tabelas!$F$16:$G$21,2),\"\")))","v":""},null,null,null,null,null,null,null,null,null,null,null,null,null,null,null,"",{"$f":"+IF(AF1296=\"\",\"\",VLOOKUP(AF1296,Tabelas!$J$27:$K$30,2))","v":""}]
[null,null,null,null,null,null,{"$f":"+IF(F1297=\"\",\"\",VLOOKUP(F1297,Tabelas!$B$7:$C$96,2))","v":""},null,{"$f":"IF(H1297=\"\",\"\",ROUND(H1297/SUM(H1290:H1297),4))","v":""},null,null,null,null,null,null,{"$f":"+IF(O1297=\"\",\"\",IF(N1290=\"Transporte Marítimo\",VLOOKUP(O1297,Tabelas!$F$7:$G$12,2),IF(N1290=\"Transporte Aéreo\",VLOOKUP(O1297,Tabelas!$F$16:$G$21,2),\"\")))","v":""},null,null,null,null,null,null,null,null,null,null,null,null,null,null,null,"",{"$f":"+IF(AF1297=\"\",\"\",VLOOKUP(AF1297,Tabelas!$J$27:$K$30,2))","v":""}]
[null,null,null,null,null,null,{"$f":"+IF(F1300=\"\",\"\",VLOOKUP(F1300,Tabelas!$B$7:$C$96,2))","v":""},null,{"$f":"IF(H1300=\"\",\"\",ROUND(H1300/SUM(H1298:H1305),4))","v":""},null,null,null,null,null,null,{"$f":"+IF(O1300=\"\",\"\",IF(N1298=\"Transporte Marítimo\",VLOOKUP(O1300,Tabelas!$F$7:$G$12,2),IF(N1298=\"Transporte Aéreo\",VLOOKUP(O1300,Tabelas!$F$16:$G$21,2),\"\")))","v":""},null,null,null,null,null,null,null,null,null,null,null,null,null,null,null,"",{"$f":"+IF(AF1300=\"\",\"\",VLOOKUP(AF1300,Tabelas!$J$27:$K$30,2))","v":""}]
[null,null,null,null,null,null,{"$f":"+IF(F1302=\"\",\"\",VLOOKUP(F1302,Tabelas!$B$7:$C$96,2))","v":""},null,{"$f":"IF(H1302=\"\",\"\",ROUND(H1302/SUM(H1298:H1305),4))","v":""},null,null,null,null,null,null,{"$f":"+IF(O1302=\"\",\"\",IF(N1298=\"Transporte Marítimo\",VLOOKUP(O1302,Tabelas!$F$7:$G$12,2),IF(N1298=\"Transporte Aéreo\",VLOOKUP(O1302,Tabelas!$F$16:$G$21,2),\"\")))","v":""},null,null,null,null,null,null,null,null,null,null,null,null,null,null,null,"",{"$f":"+IF(AF1302=\"\",\"\",VLOOKUP(AF1302,Tabelas!$J$27:$K$30,2))","v":""}]
[null,null,null,null,null,null,{"$f":"+IF(F1305=\"\",\"\",VLOOKUP(F1305,Tabelas!$B$7:$C$96,2))","v":""},null,{"$f":"IF(H1305=\"\",\"\",ROUND(H1305/SUM(H1298:H1305),4))","v":""},null,null,null,null,null,null,{"$f":"+IF(O1305=\"\",\"\",IF(N1298=\"Transporte Marítimo\",VLOOKUP(O1305,Tabelas!$F$7:$G$12,2),IF(N1298=\"Transporte Aéreo\",VLOOKUP(O1305,Tabelas!$F$16:$G$21,2),\"\")))","v":""},null,null,null,null,null,null,null,null,null,null,null,null,null,null,null,"",{"$f":"+IF(AF1305=\"\",\"\",VLOOKUP(AF1305,Tabelas!$J$27:$K$30,2))","v":""}]
[null,{"$f":"+B1298+1","v":162},null,null,null,null,{"$f":"+IF(F1306=\"\",\"\",VLOOKUP(F1306,Tabelas!$B$7:$C$96,2))","v":""},null,{"$f":"IF(H1306=\"\",\"\",1-SUM(I1307:I1313))","v":""},null,null,null,null,null,null,{"$f":"+IF(O1306=\"\",\"\",IF(N1306=\"Transporte Marítimo\",VLOOKUP(O1306,Tabelas!$F$7:$G$12,2),IF(N1306=\"Transporte Aéreo\",VLOOKUP(O1306,Tabelas!$F$16:$G$21,2),\"\")))","v":""},null,null,null,null,null,null,null,null,null,null,null,null,null,null,null,"",{"$f":"+IF(AF1306=\"\",\"\",VLOOKUP(AF1306,Tabelas!$J$27:$K$30,2))","v":""},null,null,null,null,null,null,null,null,null,null,null,null,null,null,null," "]
[null,null,null,null,null,null,{"$f":"+IF(F1309=\"\",\"\",VLOOKUP(F1309,Tabelas!$B$7:$C$96,2))","v":""},null,{"$f":"IF(H1309=\"\",\"\",ROUND(H1309/SUM(H1306:H1313),4))","v":""},null,null,null,null,null,null,{"$f":"+IF(O1309=\"\",\"\",IF(N1306=\"Transporte Marítimo\",VLOOKUP(O1309,Tabelas!$F$7:$G$12,2),IF(N1306=\"Transporte Aéreo\",VLOOKUP(O1309,Tabelas!$F$16:$G$21,2),\"\")))","v":""},null,null,null,null,null,null,null,null,null,null,null,null,null,null,null,"",{"$f":"+IF(AF1309=\"\",\"\",VLOOKUP(AF1309,Tabelas!$J$27:$K$30,2))","v":""}]
[null,null,null,null,null,null,{"$f":"+IF(F1310=\"\",\"\",VLOOKUP(F1310,Tabelas!$B$7:$C$96,2))","v":""},null,{"$f":"IF(H1310=\"\",\"\",ROUND(H1310/SUM(H1306:H1313),4))","v":""},null,null,null,null,null,null,{"$f":"+IF(O1310=\"\",\"\",IF(N1306=\"Transporte Marítimo\",VLOOKUP(O1310,Tabelas!$F$7:$G$12,2),IF(N1306=\"Transporte Aéreo\",VLOOKUP(O1310,Tabelas!$F$16:$G$21,2),\"\")))","v":""},null,null,null,null,null,null,null,null,null,null,null,null,null,null,null,"",{"$f":"+IF(AF1310=\"\",\"\",VLOOKUP(AF1310,Tabelas!$J$27:$K$30,2))","v":""}]
[null,{"$f":"+B1306+1","v":163},null,null,null,null,{"$f":"+IF(F1314=\"\",\"\",VLOOKUP(F1314,Tabelas!$B$7:$C$96,2))","v":""},null,{"$f":"IF(H1314=\"\",\"\",1-SUM(I1315:I1321))","v":""},null,null,null,null,null,null,{"$f":"+IF(O1314=\"\",\"\",IF(N1314=\"Transporte Marítimo\",VLOOKUP(O1314,Tabelas!$F$7:$G$12,2),IF(N1314=\"Transporte Aéreo\",VLOOKUP(O1314,Tabelas!$F$16:$G$21,2),\"\")))","v":""},null,null,null,null,null,null,null,null,null,null,null,null,null,null,null,"",{"$f":"+IF(AF1314=\"\",\"\",VLOOKUP(AF1314,Tabelas!$J$27:$K$30,2))","v":""},null,null,null,null,null,null,null,null,null,null,null,null,null,null,null," "]
[null,null,null,null,null,null,{"$f":"+IF(F1315=\"\",\"\",VLOOKUP(F1315,Tabelas!$B$7:$C$96,2))","v":""},null,{"$f":"IF(H1315=\"\",\"\",ROUND(H1315/SUM(H1314:H1321),4))","v":""},null,null,null,null,null,null,{"$f":"+IF(O1315=\"\",\"\",IF(N1314=\"Transporte Marítimo\",VLOOKUP(O1315,Tabelas!$F$7:$G$12,2),IF(N1314=\"Transporte Aéreo\",VLOOKUP(O1315,Tabelas!$F$16:$G$21,2),\"\")))","v":""},null,null,null,null,null,null,null,null,null,null,null,null,null,null,null,"",{"$f":"+IF(AF1315=\"\",\"\",VLOOKUP(AF1315,Tabelas!$J$27:$K$30,2))","v":""}]
[null,null,null,null,null,null,{"$f":"+IF(F1318=\"\",\"\",VLOOKUP(F1318,Tabelas!$B$7:$C$96,2))","v":""},null,{"$f":"IF(H1318=\"\",\"\",ROUND(H1318/SUM(H1314:H1321),4))","v":""},null,null,null,null,null,null,{"$f":"+IF(O1318=\"\",\"\",IF(N1314=\"Transporte Marítimo\",VLOOKUP(O1318,Tabelas!$F$7:$G$12,2),IF(N1314=\"Transporte Aéreo\",VLOOKUP(O1318,Tabelas!$F$16:$G$21,2),\"\")))","v":""},null,null,null,null,null,null,null,null,null,null,null,null,null,null,null,"",{"$f":"+IF(AF1318=\"\",\"\",VLOOKUP(AF1318,Tabelas!$J$27:$K$30,2))","v":""}]
[null,null,null,null,null,null,{"$f":"+IF(F1320=\"\",\"\",VLOOKUP(F1320,Tabelas!$B$7:$C$96,2))","v":""},null,{"$f":"IF(H1320=\"\",\"\",ROUND(H1320/SUM(H1314:H1321),4))","v":""},null,null,null,null,null,null,{"$f":"+IF(O1320=\"\",\"\",IF(N1314=\"Transporte Marítimo\",VLOOKUP(O1320,Tabelas!$F$7:$G$12,2),IF(N1314=\"Transporte Aéreo\",VLOOKUP(O1320,Tabelas!$F$16:$G$21,2),\"\")))","v":""},null,null,null,null,null,null,null,null,null,null,null,null,null,null,null,"",{"$f":"+IF(AF1320=\"\",\"\",VLOOKUP(AF1320,Tabelas!$J$27:$K$30,2))","v":""}]
[null,null,null,null,null,null,{"$f":"+IF(F1323=\"\",\"\",VLOOKUP(F1323,Tabelas!$B$7:$C$96,2))","v":""},null,{"$f":"IF(H1323=\"\",\"\",ROUND(H1323/SUM(H1322:H1329),4))","v":""},null,null,null,null,null,null,{"$f":"+IF(O1323=\"\",\"\",IF(N1322=\"Transporte Marítimo\",VLOOKUP(O1323,Tabelas!$F$7:$G$12,2),IF(N1322=\"Transporte Aéreo\",VLOOKUP(O1323,Tabelas!$F$16:$G$21,2),\"\")))","v":""},null,null,null,null,null,null,null,null,null,null,null,null,null,null,null,"",{"$f":"+IF(AF1323=\"\",\"\",VLOOKUP(AF1323,Tabelas!$J$27:$K$30,2))","v":""}]
[null,null,null,null,null,null,{"$f":"+IF(F1324=\"\",\"\",VLOOKUP(F1324,Tabelas!$B$7:$C$96,2))","v":""},null,{"$f":"IF(H1324=\"\",\"\",ROUND(H1324/SUM(H1322:H1329),4))","v":""},null,null,null,null,null,null,{"$f":"+IF(O1324=\"\",\"\",IF(N1322=\"Transporte Marítimo\",VLOOKUP(O1324,Tabelas!$F$7:$G$12,2),IF(N1322=\"Transporte Aéreo\",VLOOKUP(O1324,Tabelas!$F$16:$G$21,2),\"\")))","v":""},null,null,null,null,null,null,null,null,null,null,null,null,null,null,null,"",{"$f":"+IF(AF1324=\"\",\"\",VLOOKUP(AF1324,Tabelas!$J$27:$K$30,2))","v":""}]
[null,null,null,null,null,null,{"$f":"+IF(F1327=\"\",\"\",VLOOKUP(F1327,Tabelas!$B$7:$C$96,2))","v":""},null,{"$f":"IF(H1327=\"\",\"\",ROUND(H1327/SUM(H1322:H1329),4))","v":""},null,null,null,null,null,null,{"$f":"+IF(O1327=\"\",\"\",IF(N1322=\"Transporte Marítimo\",VLOOKUP(O1327,Tabelas!$F$7:$G$12,2),IF(N1322=\"Transporte Aéreo\",VLOOKUP(O1327,Tabelas!$F$16:$G$21,2),\"\")))","v":""},null,null,null,null,null,null,null,null,null,null,null,null,null,null,null,"",{"$f":"+IF(AF1327=\"\",\"\",VLOOKUP(AF1327,Tabelas!$J$27:$K$30,2))","v":""}]
[null,null,null,null,null,null,{"$f":"+IF(F1328=\"\",\"\",VLOOKUP(F1328,Tabelas!$B$7:$C$96,2))","v":""},null,{"$f":"IF(H1328=\"\",\"\",ROUND(H1328/SUM(H1322:H1329),4))","v":""},null,null,null,null,null,null,{"$f":"+IF(O1328=\"\",\"\",IF(N1322=\"Transporte Marítimo\",VLOOKUP(O1328,Tabelas!$F$7:$G$12,2),IF(N1322=\"Transporte Aéreo\",VLOOKUP(O1328,Tabelas!$F$16:$G$21,2),\"\")))","v":""},null,null,null,null,null,null,null,null,null,null,null,null,null,null,null,"",{"$f":"+IF(AF1328=\"\",\"\",VLOOKUP(AF1328,Tabelas!$J$27:$K$30,2))","v":""}]
[null,null,null,null,null,null,{"$f":"+IF(F1332=\"\",\"\",VLOOKUP(F1332,Tabelas!$B$7:$C$96,2))","v":""},null,{"$f":"IF(H1332=\"\",\"\",ROUND(H1332/SUM(H1330:H1337),4))","v":""},null,null,null,null,null,null,{"$f":"+IF(O1332=\"\",\"\",IF(N1330=\"Transporte Marítimo\",VLOOKUP(O1332,Tabelas!$F$7:$G$12,2),IF(N1330=\"Transporte Aéreo\",VLOOKUP(O1332,Tabelas!$F$16:$G$21,2),\"\")))","v":""},null,null,null,null,null,null,null,null,null,null,null,null,null,null,null,"",{"$f":"+IF(AF1332=\"\",\"\",VLOOKUP(AF1332,Tabelas!$J$27:$K$30,2))","v":""}]
[null,null,null,null,null,null,{"$f":"+IF(F1333=\"\",\"\",VLOOKUP(F1333,Tabelas!$B$7:$C$96,2))","v":""},null,{"$f":"IF(H1333=\"\",\"\",ROUND(H1333/SUM(H1330:H1337),4))","v":""},null,null,null,null,null,null,{"$f":"+IF(O1333=\"\",\"\",IF(N1330=\"Transporte Marítimo\",VLOOKUP(O1333,Tabelas!$F$7:$G$12,2),IF(N1330=\"Transporte Aéreo\",VLOOKUP(O1333,Tabelas!$F$16:$G$21,2),\"\")))","v":""},null,null,null,null,null,null,null,null,null,null,null,null,null,null,null,"",{"$f":"+IF(AF1333=\"\",\"\",VLOOKUP(AF1333,Tabelas!$J$27:$K$30,2))","v":""}]
[null,null,null,null,null,null,{"$f":"+IF(F1336=\"\",\"\",VLOOKUP(F1336,Tabelas!$B$7:$C$96,2))","v":""},null,{"$f":"IF(H1336=\"\",\"\",ROUND(H1336/SUM(H1330:H1337),4))","v":""},null,null,null,null,null,null,{"$f":"+IF(O1336=\"\",\"\",IF(N1330=\"Transporte Marítimo\",VLOOKUP(O1336,Tabelas!$F$7:$G$12,2),IF(N1330=\"Transporte Aéreo\",VLOOKUP(O1336,Tabelas!$F$16:$G$21,2),\"\")))","v":""},null,null,null,null,null,null,null,null,null,null,null,null,null,null,null,"",{"$f":"+IF(AF1336=\"\",\"\",VLOOKUP(AF1336,Tabelas!$J$27:$K$30,2))","v":""}]
[null,null,null,null,null,null,{"$f":"+IF(F1337=\"\",\"\",VLOOKUP(F1337,Tabelas!$B$7:$C$96,2))","v":""},null,{"$f":"IF(H1337=\"\",\"\",ROUND(H1337/SUM(H1330:H1337),4))","v":""},null,null,null,null,null,null,{"$f":"+IF(O1337=\"\",\"\",IF(N1330=\"Transporte Marítimo\",VLOOKUP(O1337,Tabelas!$F$7:$G$12,2),IF(N1330=\"Transporte Aéreo\",VLOOKUP(O1337,Tabelas!$F$16:$G$21,2),\"\")))","v":""},null,null,null,null,null,null,null,null,null,null,null,null,null,null,null,"",{"$f":"+IF(AF1337=\"\",\"\",VLOOKUP(AF1337,Tabelas!$J$27:$K$30,2))","v":""}]
[null,null,null,null,null,null,{"$f":"+IF(F1341=\"\",\"\",VLOOKUP(F1341,Tabelas!$B$7:$C$96,2))","v":""},null,{"$f":"IF(H1341=\"\",\"\",ROUND(H1341/SUM(H1338:H1345),4))","v":""},null,null,null,null,null,null,{"$f":"+IF(O1341=\"\",\"\",IF(N1338=\"Transporte Marítimo\",VLOOKUP(O1341,Tabelas!$F$7:$G$12,2),IF(N1338=\"Transporte Aéreo\",VLOOKUP(O1341,Tabelas!$F$16:$G$21,2),\"\")))","v":""},null,null,null,null,null,null,null,null,null,null,null,null,null,null,null,"",{"$f":"+IF(AF1341=\"\",\"\",VLOOKUP(AF1341,Tabelas!$J$27:$K$30,2))","v":""}]
[null,null,null,null,null,null,{"$f":"+IF(F1342=\"\",\"\",VLOOKUP(F1342,Tabelas!$B$7:$C$96,2))","v":""},null,{"$f":"IF(H1342=\"\",\"\",ROUND(H1342/SUM(H1338:H1345),4))","v":""},null,null,null,null,null,null,{"$f":"+IF(O1342=\"\",\"\",IF(N1338=\"Transporte Marítimo\",VLOOKUP(O1342,Tabelas!$F$7:$G$12,2),IF(N1338=\"Transporte Aéreo\",VLOOKUP(O1342,Tabelas!$F$16:$G$21,2),\"\")))","v":""},null,null,null,null,null,null,null,null,null,null,null,null,null,null,null,"",{"$f":"+IF(AF1342=\"\",\"\",VLOOKUP(AF1342,Tabelas!$J$27:$K$30,2))","v":""}]
[null,null,null,null,null,null,{"$f":"+IF(F1345=\"\",\"\",VLOOKUP(F1345,Tabelas!$B$7:$C$96,2))","v":""},null,{"$f":"IF(H1345=\"\",\"\",ROUND(H1345/SUM(H1338:H1345),4))","v":""},null,null,null,null,null,null,{"$f":"+IF(O1345=\"\",\"\",IF(N1338=\"Transporte Marítimo\",VLOOKUP(O1345,Tabelas!$F$7:$G$12,2),IF(N1338=\"Transporte Aéreo\",VLOOKUP(O1345,Tabelas!$F$16:$G$21,2),\"\")))","v":""},null,null,null,null,null,null,null,null,null,null,null,null,null,null,null,"",{"$f":"+IF(AF1345=\"\",\"\",VLOOKUP(AF1345,Tabelas!$J$27:$K$30,2))","v":""}]
[null,{"$f":"+B1338+1","v":167},null,null,null,null,{"$f":"+IF(F1346=\"\",\"\",VLOOKUP(F1346,Tabelas!$B$7:$C$96,2))","v":""},null,{"$f":"IF(H1346=\"\",\"\",1-SUM(I1347:I1353))","v":""},null,null,null,null,null,null,{"$f":"+IF(O1346=\"\",\"\",IF(N1346=\"Transporte Marítimo\",VLOOKUP(O1346,Tabelas!$F$7:$G$12,2),IF(N1346=\"Transporte Aéreo\",VLOOKUP(O1346,Tabelas!$F$16:$G$21,2),\"\")))","v":""},null,null,null,null,null,null,null,null,null,null,null,null,null,null,null,"",{"$f":"+IF(AF1346=\"\",\"\",VLOOKUP(AF1346,Tabelas!$J$27:$K$30,2))","v":""},null,null,null,null,null,null,null,null,null,null,null,null,null,null,null," "]
[null,null,null,null,null,null,{"$f":"+IF(F1348=\"\",\"\",VLOOKUP(F1348,Tabelas!$B$7:$C$96,2))","v":""},null,{"$f":"IF(H1348=\"\",\"\",ROUND(H1348/SUM(H1346:H1353),4))","v":""},null,null,null,null,null,null,{"$f":"+IF(O1348=\"\",\"\",IF(N1346=\"Transporte Marítimo\",VLOOKUP(O1348,Tabelas!$F$7:$G$12,2),IF(N1346=\"Transporte Aéreo\",VLOOKUP(O1348,Tabelas!$F$16:$G$21,2),\"\")))","v":""},null,null,null,null,null,null,null,null,null,null,null,null,null,null,null,"",{"$f":"+IF(AF1348=\"\",\"\",VLOOKUP(AF1348,Tabelas!$J$27:$K$30,2))","v":""}]
[null,null,null,null,null,null,{"$f":"+IF(F1351=\"\",\"\",VLOOKUP(F1351,Tabelas!$B$7:$C$96,2))","v":""},null,{"$f":"IF(H1351=\"\",\"\",ROUND(H1351/SUM(H1346:H1353),4))","v":""},null,null,null,null,null,null,{"$f":"+IF(O1351=\"\",\"\",IF(N1346=\"Transporte Marítimo\",VLOOKUP(O1351,Tabelas!$F$7:$G$12,2),IF(N1346=\"Transporte Aéreo\",VLOOKUP(O1351,Tabelas!$F$16:$G$21,2),\"\")))","v":""},null,null,null,null,null,null,null,null,null,null,null,null,null,null,null,"",{"$f":"+IF(AF1351=\"\",\"\",VLOOKUP(AF1351,Tabelas!$J$27:$K$30,2))","v":""}]
[null,{"$f":"+B1346+1","v":168},null,null,null,null,{"$f":"+IF(F1354=\"\",\"\",VLOOKUP(F1354,Tabelas!$B$7:$C$96,2))","v":""},null,{"$f":"IF(H1354=\"\",\"\",1-SUM(I1355:I1361))","v":""},null,null,null,null,null,null,{"$f":"+IF(O1354=\"\",\"\",IF(N1354=\"Transporte Marítimo\",VLOOKUP(O1354,Tabelas!$F$7:$G$12,2),IF(N1354=\"Transporte Aéreo\",VLOOKUP(O1354,Tabelas!$F$16:$G$21,2),\"\")))","v":""},null,null,null,null,null,null,null,null,null,null,null,null,null,null,null,"",{"$f":"+IF(AF1354=\"\",\"\",VLOOKUP(AF1354,Tabelas!$J$27:$K$30,2))","v":""},null,null,null,null,null,null,null,null,null,null,null,null,null,null,null," "]
[null,null,null,null,null,null,{"$f":"+IF(F1355=\"\",\"\",VLOOKUP(F1355,Tabelas!$B$7:$C$96,2))","v":""},null,{"$f":"IF(H1355=\"\",\"\",ROUND(H1355/SUM(H1354:H1361),4))","v":""},null,null,null,null,null,null,{"$f":"+IF(O1355=\"\",\"\",IF(N1354=\"Transporte Marítimo\",VLOOKUP(O1355,Tabelas!$F$7:$G$12,2),IF(N1354=\"Transporte Aéreo\",VLOOKUP(O1355,Tabelas!$F$16:$G$21,2),\"\")))","v":""},null,null,null,null,null,null,null,null,null,null,null,null,null,null,null,"",{"$f":"+IF(AF1355=\"\",\"\",VLOOKUP(AF1355,Tabelas!$J$27:$K$30,2))","v":""}]
[null,null,null,null,null,null,{"$f":"+IF(F1359=\"\",\"\",VLOOKUP(F1359,Tabelas!$B$7:$C$96,2))","v":""},null,{"$f":"IF(H1359=\"\",\"\",ROUND(H1359/SUM(H1354:H1361),4))","v":""},null,null,null,null,null,null,{"$f":"+IF(O1359=\"\",\"\",IF(N1354=\"Transporte Marítimo\",VLOOKUP(O1359,Tabelas!$F$7:$G$12,2),IF(N1354=\"Transporte Aéreo\",VLOOKUP(O1359,Tabelas!$F$16:$G$21,2),\"\")))","v":""},null,null,null,null,null,null,null,null,null,null,null,null,null,null,null,"",{"$f":"+IF(AF1359=\"\",\"\",VLOOKUP(AF1359,Tabelas!$J$27:$K$30,2))","v":""}]
[null,null,null,null,null,null,{"$f":"+IF(F1360=\"\",\"\",VLOOKUP(F1360,Tabelas!$B$7:$C$96,2))","v":""},null,{"$f":"IF(H1360=\"\",\"\",ROUND(H1360/SUM(H1354:H1361),4))","v":""},null,null,null,null,null,null,{"$f":"+IF(O1360=\"\",\"\",IF(N1354=\"Transporte Marítimo\",VLOOKUP(O1360,Tabelas!$F$7:$G$12,2),IF(N1354=\"Transporte Aéreo\",VLOOKUP(O1360,Tabelas!$F$16:$G$21,2),\"\")))","v":""},null,null,null,null,null,null,null,null,null,null,null,null,null,null,null,"",{"$f":"+IF(AF1360=\"\",\"\",VLOOKUP(AF1360,Tabelas!$J$27:$K$30,2))","v":""}]
[null,null,null,null,null,null,{"$f":"+IF(F1363=\"\",\"\",VLOOKUP(F1363,Tabelas!$B$7:$C$96,2))","v":""},null,{"$f":"IF(H1363=\"\",\"\",ROUND(H1363/SUM(H1362:H1369),4))","v":""},null,null,null,null,null,null,{"$f":"+IF(O1363=\"\",\"\",IF(N1362=\"Transporte Marítimo\",VLOOKUP(O1363,Tabelas!$F$7:$G$12,2),IF(N1362=\"Transporte Aéreo\",VLOOKUP(O1363,Tabelas!$F$16:$G$21,2),\"\")))","v":""},null,null,null,null,null,null,null,null,null,null,null,null,null,null,null,{"$f":"+IF(AE1363=\"20NL\",1,IF(AE1363=\"40NL\",2,IF(AE1363=\"20RF\",3,IF(AE1363=\"40RF\",4,\"\"))))","v":""},{"$f":"+IF(AF1363=\"\",\"\",VLOOKUP(AF1363,Tabelas!$J$27:$K$30,2))","v":""}]
[null,null,null,null,null,null,{"$f":"+IF(F1364=\"\",\"\",VLOOKUP(F1364,Tabelas!$B$7:$C$96,2))","v":""},null,{"$f":"IF(H1364=\"\",\"\",ROUND(H1364/SUM(H1362:H1369),4))","v":""},null,null,null,null,null,null,{"$f":"+IF(O1364=\"\",\"\",IF(N1362=\"Transporte Marítimo\",VLOOKUP(O1364,Tabelas!$F$7:$G$12,2),IF(N1362=\"Transporte Aéreo\",VLOOKUP(O1364,Tabelas!$F$16:$G$21,2),\"\")))","v":""},null,null,null,null,null,null,null,null,null,null,null,null,null,null,null,"",{"$f":"+IF(AF1364=\"\",\"\",VLOOKUP(AF1364,Tabelas!$J$27:$K$30,2))","v":""}]
[null,null,null,null,null,null,{"$f":"+IF(F1367=\"\",\"\",VLOOKUP(F1367,Tabelas!$B$7:$C$96,2))","v":""},null,{"$f":"IF(H1367=\"\",\"\",ROUND(H1367/SUM(H1362:H1369),4))","v":""},null,null,null,null,null,null,{"$f":"+IF(O1367=\"\",\"\",IF(N1362=\"Transporte Marítimo\",VLOOKUP(O1367,Tabelas!$F$7:$G$12,2),IF(N1362=\"Transporte Aéreo\",VLOOKUP(O1367,Tabelas!$F$16:$G$21,2),\"\")))","v":""},null,null,null,null,null,null,null,null,null,null,null,null,null,null,null,"",{"$f":"+IF(AF1367=\"\",\"\",VLOOKUP(AF1367,Tabelas!$J$27:$K$30,2))","v":""}]
[null,null,null,null,null,null,{"$f":"+IF(F1369=\"\",\"\",VLOOKUP(F1369,Tabelas!$B$7:$C$96,2))","v":""},null,{"$f":"IF(H1369=\"\",\"\",ROUND(H1369/SUM(H1362:H1369),4))","v":""},null,null,null,null,null,null,{"$f":"+IF(O1369=\"\",\"\",IF(N1362=\"Transporte Marítimo\",VLOOKUP(O1369,Tabelas!$F$7:$G$12,2),IF(N1362=\"Transporte Aéreo\",VLOOKUP(O1369,Tabelas!$F$16:$G$21,2),\"\")))","v":""},null,null,null,null,null,null,null,null,null,null,null,null,null,null,null,"",{"$f":"+IF(AF1369=\"\",\"\",VLOOKUP(AF1369,Tabelas!$J$27:$K$30,2))","v":""}]
[null,null,null,null,null,null,{"$f":"+IF(F1372=\"\",\"\",VLOOKUP(F1372,Tabelas!$B$7:$C$96,2))","v":""},null,{"$f":"IF(H1372=\"\",\"\",ROUND(H1372/SUM(H1370:H1377),4))","v":""},null,null,null,null,null,null,{"$f":"+IF(O1372=\"\",\"\",IF(N1370=\"Transporte Marítimo\",VLOOKUP(O1372,Tabelas!$F$7:$G$12,2),IF(N1370=\"Transporte Aéreo\",VLOOKUP(O1372,Tabelas!$F$16:$G$21,2),\"\")))","v":""},null,null,null,null,null,null,null,null,null,null,null,null,null,null,null,"",{"$f":"+IF(AF1372=\"\",\"\",VLOOKUP(AF1372,Tabelas!$J$27:$K$30,2))","v":""}]
[null,null,null,null,null,null,{"$f":"+IF(F1373=\"\",\"\",VLOOKUP(F1373,Tabelas!$B$7:$C$96,2))","v":""},null,{"$f":"IF(H1373=\"\",\"\",ROUND(H1373/SUM(H1370:H1377),4))","v":""},null,null,null,null,null,null,{"$f":"+IF(O1373=\"\",\"\",IF(N1370=\"Transporte Marítimo\",VLOOKUP(O1373,Tabelas!$F$7:$G$12,2),IF(N1370=\"Transporte Aéreo\",VLOOKUP(O1373,Tabelas!$F$16:$G$21,2),\"\")))","v":""},null,null,null,null,null,null,null,null,null,null,null,null,null,null,null,"",{"$f":"+IF(AF1373=\"\",\"\",VLOOKUP(AF1373,Tabelas!$J$27:$K$30,2))","v":""}]
[null,null,null,null,null,null,{"$f":"+IF(F1376=\"\",\"\",VLOOKUP(F1376,Tabelas!$B$7:$C$96,2))","v":""},null,{"$f":"IF(H1376=\"\",\"\",ROUND(H1376/SUM(H1370:H1377),4))","v":""},null,null,null,null,null,null,{"$f":"+IF(O1376=\"\",\"\",IF(N1370=\"Transporte Marítimo\",VLOOKUP(O1376,Tabelas!$F$7:$G$12,2),IF(N1370=\"Transporte Aéreo\",VLOOKUP(O1376,Tabelas!$F$16:$G$21,2),\"\")))","v":""},null,null,null,null,null,null,null,null,null,null,null,null,null,null,null,"",{"$f":"+IF(AF1376=\"\",\"\",VLOOKUP(AF1376,Tabelas!$J$27:$K$30,2))","v":""}]
[null,null,null,null,null,null,{"$f":"+IF(F1379=\"\",\"\",VLOOKUP(F1379,Tabelas!$B$7:$C$96,2))","v":""},null,{"$f":"IF(H1379=\"\",\"\",ROUND(H1379/SUM(H1378:H1385),4))","v":""},null,null,null,null,null,null,{"$f":"+IF(O1379=\"\",\"\",IF(N1378=\"Transporte Marítimo\",VLOOKUP(O1379,Tabelas!$F$7:$G$12,2),IF(N1378=\"Transporte Aéreo\",VLOOKUP(O1379,Tabelas!$F$16:$G$21,2),\"\")))","v":""},null,null,null,null,null,null,null,null,null,null,null,null,null,null,null,"",{"$f":"+IF(AF1379=\"\",\"\",VLOOKUP(AF1379,Tabelas!$J$27:$K$30,2))","v":""}]
[null,null,null,null,null,null,{"$f":"+IF(F1381=\"\",\"\",VLOOKUP(F1381,Tabelas!$B$7:$C$96,2))","v":""},null,{"$f":"IF(H1381=\"\",\"\",ROUND(H1381/SUM(H1378:H1385),4))","v":""},null,null,null,null,null,null,{"$f":"+IF(O1381=\"\",\"\",IF(N1378=\"Transporte Marítimo\",VLOOKUP(O1381,Tabelas!$F$7:$G$12,2),IF(N1378=\"Transporte Aéreo\",VLOOKUP(O1381,Tabelas!$F$16:$G$21,2),\"\")))","v":""},null,null,null,null,null,null,null,null,null,null,null,null,null,null,null,"",{"$f":"+IF(AF1381=\"\",\"\",VLOOKUP(AF1381,Tabelas!$J$27:$K$30,2))","v":""}]
[null,null,null,null,null,null,{"$f":"+IF(F1382=\"\",\"\",VLOOKUP(F1382,Tabelas!$B$7:$C$96,2))","v":""},null,{"$f":"IF(H1382=\"\",\"\",ROUND(H1382/SUM(H1378:H1385),4))","v":""},null,null,null,null,null,null,{"$f":"+IF(O1382=\"\",\"\",IF(N1378=\"Transporte Marítimo\",VLOOKUP(O1382,Tabelas!$F$7:$G$12,2),IF(N1378=\"Transporte Aéreo\",VLOOKUP(O1382,Tabelas!$F$16:$G$21,2),\"\")))","v":""},null,null,null,null,null,null,null,null,null,null,null,null,null,null,null,"",{"$f":"+IF(AF1382=\"\",\"\",VLOOKUP(AF1382,Tabelas!$J$27:$K$30,2))","v":""}]
[null,null,null,null,null,null,{"$f":"+IF(F1385=\"\",\"\",VLOOKUP(F1385,Tabelas!$B$7:$C$96,2))","v":""},null,{"$f":"IF(H1385=\"\",\"\",ROUND(H1385/SUM(H1378:H1385),4))","v":""},null,null,null,null,null,null,{"$f":"+IF(O1385=\"\",\"\",IF(N1378=\"Transporte Marítimo\",VLOOKUP(O1385,Tabelas!$F$7:$G$12,2),IF(N1378=\"Transporte Aéreo\",VLOOKUP(O1385,Tabelas!$F$16:$G$21,2),\"\")))","v":""},null,null,null,null,null,null,null,null,null,null,null,null,null,null,null,"",{"$f":"+IF(AF1385=\"\",\"\",VLOOKUP(AF1385,Tabelas!$J$27:$K$30,2))","v":""}]
[null,null,null,null,null,null,{"$f":"+IF(F1387=\"\",\"\",VLOOKUP(F1387,Tabelas!$B$7:$C$96,2))","v":""},null,{"$f":"IF(H1387=\"\",\"\",ROUND(H1387/SUM(H1386:H1393),4))","v":""},null,null,null,null,null,null,{"$f":"+IF(O1387=\"\",\"\",IF(N1386=\"Transporte Marítimo\",VLOOKUP(O1387,Tabelas!$F$7:$G$12,2),IF(N1386=\"Transporte Aéreo\",VLOOKUP(O1387,Tabelas!$F$16:$G$21,2),\"\")))","v":""},null,null,null,null,null,null,null,null,null,null,null,null,null,null,null,"",{"$f":"+IF(AF1387=\"\",\"\",VLOOKUP(AF1387,Tabelas!$J$27:$K$30,2))","v":""}]
[null,null,null,null,null,null,{"$f":"+IF(F1390=\"\",\"\",VLOOKUP(F1390,Tabelas!$B$7:$C$96,2))","v":""},null,{"$f":"IF(H1390=\"\",\"\",ROUND(H1390/SUM(H1386:H1393),4))","v":""},null,null,null,null,null,null,{"$f":"+IF(O1390=\"\",\"\",IF(N1386=\"Transporte Marítimo\",VLOOKUP(O1390,Tabelas!$F$7:$G$12,2),IF(N1386=\"Transporte Aéreo\",VLOOKUP(O1390,Tabelas!$F$16:$G$21,2),\"\")))","v":""},null,null,null,null,null,null,null,null,null,null,null,null,null,null,null,"",{"$f":"+IF(AF1390=\"\",\"\",VLOOKUP(AF1390,Tabelas!$J$27:$K$30,2))","v":""}]
[null,null,null,null,null,null,{"$f":"+IF(F1391=\"\",\"\",VLOOKUP(F1391,Tabelas!$B$7:$C$96,2))","v":""},null,{"$f":"IF(H1391=\"\",\"\",ROUND(H1391/SUM(H1386:H1393),4))","v":""},null,null,null,null,null,null,{"$f":"+IF(O1391=\"\",\"\",IF(N1386=\"Transporte Marítimo\",VLOOKUP(O1391,Tabelas!$F$7:$G$12,2),IF(N1386=\"Transporte Aéreo\",VLOOKUP(O1391,Tabelas!$F$16:$G$21,2),\"\")))","v":""},null,null,null,null,null,null,null,null,null,null,null,null,null,null,null,"",{"$f":"+IF(AF1391=\"\",\"\",VLOOKUP(AF1391,Tabelas!$J$27:$K$30,2))","v":""}]
[null,{"$f":"+B1386+1","v":173},null,null,null,null,{"$f":"+IF(F1394=\"\",\"\",VLOOKUP(F1394,Tabelas!$B$7:$C$96,2))","v":""},null,{"$f":"IF(H1394=\"\",\"\",1-SUM(I1395:I1401))","v":""},null,null,null,null,null,null,{"$f":"+IF(O1394=\"\",\"\",IF(N1394=\"Transporte Marítimo\",VLOOKUP(O1394,Tabelas!$F$7:$G$12,2),IF(N1394=\"Transporte Aéreo\",VLOOKUP(O1394,Tabelas!$F$16:$G$21,2),\"\")))","v":""},null,null,null,null,null,null,null,null,null,null,null,null,null,null,null,"",{"$f":"+IF(AF1394=\"\",\"\",VLOOKUP(AF1394,Tabelas!$J$27:$K$30,2))","v":""},null,null,null,null,null,null,null,null,null,null,null,null,null,null,null," "]
[null,null,null,null,null,null,{"$f":"+IF(F1395=\"\",\"\",VLOOKUP(F1395,Tabelas!$B$7:$C$96,2))","v":""},null,{"$f":"IF(H1395=\"\",\"\",ROUND(H1395/SUM(H1394:H1401),4))","v":""},null,null,null,null,null,null,{"$f":"+IF(O1395=\"\",\"\",IF(N1394=\"Transporte Marítimo\",VLOOKUP(O1395,Tabelas!$F$7:$G$12,2),IF(N1394=\"Transporte Aéreo\",VLOOKUP(O1395,Tabelas!$F$16:$G$21,2),\"\")))","v":""},null,null,null,null,null,null,null,null,null,null,null,null,null,null,null,"",{"$f":"+IF(AF1395=\"\",\"\",VLOOKUP(AF1395,Tabelas!$J$27:$K$30,2))","v":""}]
[null,null,null,null,null,null,{"$f":"+IF(F1399=\"\",\"\",VLOOKUP(F1399,Tabelas!$B$7:$C$96,2))","v":""},null,{"$f":"IF(H1399=\"\",\"\",ROUND(H1399/SUM(H1394:H1401),4))","v":""},null,null,null,null,null,null,{"$f":"+IF(O1399=\"\",\"\",IF(N1394=\"Transporte Marítimo\",VLOOKUP(O1399,Tabelas!$F$7:$G$12,2),IF(N1394=\"Transporte Aéreo\",VLOOKUP(O1399,Tabelas!$F$16:$G$21,2),\"\")))","v":""},null,null,null,null,null,null,null,null,null,null,null,null,null,null,null,"",{"$f":"+IF(AF1399=\"\",\"\",VLOOKUP(AF1399,Tabelas!$J$27:$K$30,2))","v":""}]
[null,null,null,null,null,null,{"$f":"+IF(F1400=\"\",\"\",VLOOKUP(F1400,Tabelas!$B$7:$C$96,2))","v":""},null,{"$f":"IF(H1400=\"\",\"\",ROUND(H1400/SUM(H1394:H1401),4))","v":""},null,null,null,null,null,null,{"$f":"+IF(O1400=\"\",\"\",IF(N1394=\"Transporte Marítimo\",VLOOKUP(O1400,Tabelas!$F$7:$G$12,2),IF(N1394=\"Transporte Aéreo\",VLOOKUP(O1400,Tabelas!$F$16:$G$21,2),\"\")))","v":""},null,null,null,null,null,null,null,null,null,null,null,null,null,null,null,"",{"$f":"+IF(AF1400=\"\",\"\",VLOOKUP(AF1400,Tabelas!$J$27:$K$30,2))","v":""}]
[null,null,null,null,null,null,{"$f":"+IF(F1403=\"\",\"\",VLOOKUP(F1403,Tabelas!$B$7:$C$96,2))","v":""},null,{"$f":"IF(H1403=\"\",\"\",ROUND(H1403/SUM(H1402:H1409),4))","v":""},null,null,null,null,null,null,{"$f":"+IF(O1403=\"\",\"\",IF(N1402=\"Transporte Marítimo\",VLOOKUP(O1403,Tabelas!$F$7:$G$12,2),IF(N1402=\"Transporte Aéreo\",VLOOKUP(O1403,Tabelas!$F$16:$G$21,2),\"\")))","v":""},null,null,null,null,null,null,null,null,null,null,null,null,null,null,null,"",{"$f":"+IF(AF1403=\"\",\"\",VLOOKUP(AF1403,Tabelas!$J$27:$K$30,2))","v":""}]
[null,null,null,null,null,null,{"$f":"+IF(F1404=\"\",\"\",VLOOKUP(F1404,Tabelas!$B$7:$C$96,2))","v":""},null,{"$f":"IF(H1404=\"\",\"\",ROUND(H1404/SUM(H1402:H1409),4))","v":""},null,null,null,null,null,null,{"$f":"+IF(O1404=\"\",\"\",IF(N1402=\"Transporte Marítimo\",VLOOKUP(O1404,Tabelas!$F$7:$G$12,2),IF(N1402=\"Transporte Aéreo\",VLOOKUP(O1404,Tabelas!$F$16:$G$21,2),\"\")))","v":""},null,null,null,null,null,null,null,null,null,null,null,null,null,null,null,"",{"$f":"+IF(AF1404=\"\",\"\",VLOOKUP(AF1404,Tabelas!$J$27:$K$30,2))","v":""}]
[null,null,null,null,null,null,{"$f":"+IF(F1407=\"\",\"\",VLOOKUP(F1407,Tabelas!$B$7:$C$96,2))","v":""},null,{"$f":"IF(H1407=\"\",\"\",ROUND(H1407/SUM(H1402:H1409),4))","v":""},null,null,null,null,null,null,{"$f":"+IF(O1407=\"\",\"\",IF(N1402=\"Transporte Marítimo\",VLOOKUP(O1407,Tabelas!$F$7:$G$12,2),IF(N1402=\"Transporte Aéreo\",VLOOKUP(O1407,Tabelas!$F$16:$G$21,2),\"\")))","v":""},null,null,null,null,null,null,null,null,null,null,null,null,null,null,null,"",{"$f":"+IF(AF1407=\"\",\"\",VLOOKUP(AF1407,Tabelas!$J$27:$K$30,2))","v":""}]
[null,null,null,null,null,null,{"$f":"+IF(F1409=\"\",\"\",VLOOKUP(F1409,Tabelas!$B$7:$C$96,2))","v":""},null,{"$f":"IF(H1409=\"\",\"\",ROUND(H1409/SUM(H1402:H1409),4))","v":""},null,null,null,null,null,null,{"$f":"+IF(O1409=\"\",\"\",IF(N1402=\"Transporte Marítimo\",VLOOKUP(O1409,Tabelas!$F$7:$G$12,2),IF(N1402=\"Transporte Aéreo\",VLOOKUP(O1409,Tabelas!$F$16:$G$21,2),\"\")))","v":""},null,null,null,null,null,null,null,null,null,null,null,null,null,null,null,"",{"$f":"+IF(AF1409=\"\",\"\",VLOOKUP(AF1409,Tabelas!$J$27:$K$30,2))","v":""}]
[null,null,null,null,null,null,{"$f":"+IF(F1412=\"\",\"\",VLOOKUP(F1412,Tabelas!$B$7:$C$96,2))","v":""},null,{"$f":"IF(H1412=\"\",\"\",ROUND(H1412/SUM(H1410:H1417),4))","v":""},null,null,null,null,null,null,{"$f":"+IF(O1412=\"\",\"\",IF(N1410=\"Transporte Marítimo\",VLOOKUP(O1412,Tabelas!$F$7:$G$12,2),IF(N1410=\"Transporte Aéreo\",VLOOKUP(O1412,Tabelas!$F$16:$G$21,2),\"\")))","v":""},null,null,null,null,null,null,null,null,null,null,null,null,null,null,null,"",{"$f":"+IF(AF1412=\"\",\"\",VLOOKUP(AF1412,Tabelas!$J$27:$K$30,2))","v":""}]
[null,null,null,null,null,null,{"$f":"+IF(F1413=\"\",\"\",VLOOKUP(F1413,Tabelas!$B$7:$C$96,2))","v":""},null,{"$f":"IF(H1413=\"\",\"\",ROUND(H1413/SUM(H1410:H1417),4))","v":""},null,null,null,null,null,null,{"$f":"+IF(O1413=\"\",\"\",IF(N1410=\"Transporte Marítimo\",VLOOKUP(O1413,Tabelas!$F$7:$G$12,2),IF(N1410=\"Transporte Aéreo\",VLOOKUP(O1413,Tabelas!$F$16:$G$21,2),\"\")))","v":""},null,null,null,null,null,null,null,null,null,null,null,null,null,null,null,"",{"$f":"+IF(AF1413=\"\",\"\",VLOOKUP(AF1413,Tabelas!$J$27:$K$30,2))","v":""}]
[null,null,null,null,null,null,{"$f":"+IF(F1415=\"\",\"\",VLOOKUP(F1415,Tabelas!$B$7:$C$96,2))","v":""},null,{"$f":"IF(H1415=\"\",\"\",ROUND(H1415/SUM(H1410:H1417),4))","v":""},null,null,null,null,null,null,{"$f":"+IF(O1415=\"\",\"\",IF(N1410=\"Transporte Marítimo\",VLOOKUP(O1415,Tabelas!$F$7:$G$12,2),IF(N1410=\"Transporte Aéreo\",VLOOKUP(O1415,Tabelas!$F$16:$G$21,2),\"\")))","v":""},null,null,null,null,null,null,null,null,null,null,null,null,null,null,null,"",{"$f":"+IF(AF1415=\"\",\"\",VLOOKUP(AF1415,Tabelas!$J$27:$K$30,2))","v":""}]
[null,{"$f":"+B1410+1","v":176},null,null,null,null,{"$f":"+IF(F1418=\"\",\"\",VLOOKUP(F1418,Tabelas!$B$7:$C$96,2))","v":""},null,{"$f":"IF(H1418=\"\",\"\",1-SUM(I1419:I1425))","v":""},null,null,null,null,null,null,{"$f":"+IF(O1418=\"\",\"\",IF(N1418=\"Transporte Marítimo\",VLOOKUP(O1418,Tabelas!$F$7:$G$12,2),IF(N1418=\"Transporte Aéreo\",VLOOKUP(O1418,Tabelas!$F$16:$G$21,2),\"\")))","v":""},null,null,null,null,null,null,null,null,null,null,null,null,null,null,null,"",{"$f":"+IF(AF1418=\"\",\"\",VLOOKUP(AF1418,Tabelas!$J$27:$K$30,2))","v":""},null,null,null,null,null,null,null,null,null,null,null,null,null,null,null," "]
[null,null,null,null,null,null,{"$f":"+IF(F1421=\"\",\"\",VLOOKUP(F1421,Tabelas!$B$7:$C$96,2))","v":""},null,{"$f":"IF(H1421=\"\",\"\",ROUND(H1421/SUM(H1418:H1425),4))","v":""},null,null,null,null,null,null,{"$f":"+IF(O1421=\"\",\"\",IF(N1418=\"Transporte Marítimo\",VLOOKUP(O1421,Tabelas!$F$7:$G$12,2),IF(N1418=\"Transporte Aéreo\",VLOOKUP(O1421,Tabelas!$F$16:$G$21,2),\"\")))","v":""},null,null,null,null,null,null,null,null,null,null,null,null,null,null,null,"",{"$f":"+IF(AF1421=\"\",\"\",VLOOKUP(AF1421,Tabelas!$J$27:$K$30,2))","v":""}]
[null,null,null,null,null,null,{"$f":"+IF(F1422=\"\",\"\",VLOOKUP(F1422,Tabelas!$B$7:$C$96,2))","v":""},null,{"$f":"IF(H1422=\"\",\"\",ROUND(H1422/SUM(H1418:H1425),4))","v":""},null,null,null,null,null,null,{"$f":"+IF(O1422=\"\",\"\",IF(N1418=\"Transporte Marítimo\",VLOOKUP(O1422,Tabelas!$F$7:$G$12,2),IF(N1418=\"Transporte Aéreo\",VLOOKUP(O1422,Tabelas!$F$16:$G$21,2),\"\")))","v":""},null,null,null,null,null,null,null,null,null,null,null,null,null,null,null,"",{"$f":"+IF(AF1422=\"\",\"\",VLOOKUP(AF1422,Tabelas!$J$27:$K$30,2))","v":""}]
[null,null,null,null,null,null,{"$f":"+IF(F1425=\"\",\"\",VLOOKUP(F1425,Tabelas!$B$7:$C$96,2))","v":""},null,{"$f":"IF(H1425=\"\",\"\",ROUND(H1425/SUM(H1418:H1425),4))","v":""},null,null,null,null,null,null,{"$f":"+IF(O1425=\"\",\"\",IF(N1418=\"Transporte Marítimo\",VLOOKUP(O1425,Tabelas!$F$7:$G$12,2),IF(N1418=\"Transporte Aéreo\",VLOOKUP(O1425,Tabelas!$F$16:$G$21,2),\"\")))","v":""},null,null,null,null,null,null,null,null,null,null,null,null,null,null,null,"",{"$f":"+IF(AF1425=\"\",\"\",VLOOKUP(AF1425,Tabelas!$J$27:$K$30,2))","v":""}]
[null,null,null,null,null,null,{"$f":"+IF(F1427=\"\",\"\",VLOOKUP(F1427,Tabelas!$B$7:$C$96,2))","v":""},null,{"$f":"IF(H1427=\"\",\"\",ROUND(H1427/SUM(H1426:H1433),4))","v":""},null,null,null,null,null,null,{"$f":"+IF(O1427=\"\",\"\",IF(N1426=\"Transporte Marítimo\",VLOOKUP(O1427,Tabelas!$F$7:$G$12,2),IF(N1426=\"Transporte Aéreo\",VLOOKUP(O1427,Tabelas!$F$16:$G$21,2),\"\")))","v":""},null,null,null,null,null,null,null,null,null,null,null,null,null,null,null,{"$f":"+IF(AE1427=\"20NL\",1,IF(AE1427=\"40NL\",2,IF(AE1427=\"20RF\",3,IF(AE1427=\"40RF\",4,\"\"))))","v":""},{"$f":"+IF(AF1427=\"\",\"\",VLOOKUP(AF1427,Tabelas!$J$27:$K$30,2))","v":""}]
[null,null,null,null,null,null,{"$f":"+IF(F1430=\"\",\"\",VLOOKUP(F1430,Tabelas!$B$7:$C$96,2))","v":""},null,{"$f":"IF(H1430=\"\",\"\",ROUND(H1430/SUM(H1426:H1433),4))","v":""},null,null,null,null,null,null,{"$f":"+IF(O1430=\"\",\"\",IF(N1426=\"Transporte Marítimo\",VLOOKUP(O1430,Tabelas!$F$7:$G$12,2),IF(N1426=\"Transporte Aéreo\",VLOOKUP(O1430,Tabelas!$F$16:$G$21,2),\"\")))","v":""},null,null,null,null,null,null,null,null,null,null,null,null,null,null,null,"",{"$f":"+IF(AF1430=\"\",\"\",VLOOKUP(AF1430,Tabelas!$J$27:$K$30,2))","v":""}]
[null,null,null,null,null,null,{"$f":"+IF(F1431=\"\",\"\",VLOOKUP(F1431,Tabelas!$B$7:$C$96,2))","v":""},null,{"$f":"IF(H1431=\"\",\"\",ROUND(H1431/SUM(H1426:H1433),4))","v":""},null,null,null,null,null,null,{"$f":"+IF(O1431=\"\",\"\",IF(N1426=\"Transporte Marítimo\",VLOOKUP(O1431,Tabelas!$F$7:$G$12,2),IF(N1426=\"Transporte Aéreo\",VLOOKUP(O1431,Tabelas!$F$16:$G$21,2),\"\")))","v":""},null,null,null,null,null,null,null,null,null,null,null,null,null,null,null,"",{"$f":"+IF(AF1431=\"\",\"\",VLOOKUP(AF1431,Tabelas!$J$27:$K$30,2))","v":""}]
[null,{"$f":"+B1426+1","v":178},null,null,null,null,{"$f":"+IF(F1434=\"\",\"\",VLOOKUP(F1434,Tabelas!$B$7:$C$96,2))","v":""},null,{"$f":"IF(H1434=\"\",\"\",1-SUM(I1435:I1441))","v":""},null,null,null,null,null,null,{"$f":"+IF(O1434=\"\",\"\",IF(N1434=\"Transporte Marítimo\",VLOOKUP(O1434,Tabelas!$F$7:$G$12,2),IF(N1434=\"Transporte Aéreo\",VLOOKUP(O1434,Tabelas!$F$16:$G$21,2),\"\")))","v":""},null,null,null,null,null,null,null,null,null,null,null,null,null,null,null,"",{"$f":"+IF(AF1434=\"\",\"\",VLOOKUP(AF1434,Tabelas!$J$27:$K$30,2))","v":""},null,null,null,null,null,null,null,null,null,null,null,null,null,null,null," "]
[null,null,null,null,null,null,{"$f":"+IF(F1435=\"\",\"\",VLOOKUP(F1435,Tabelas!$B$7:$C$96,2))","v":""},null,{"$f":"IF(H1435=\"\",\"\",ROUND(H1435/SUM(H1434:H1441),4))","v":""},null,null,null,null,null,null,{"$f":"+IF(O1435=\"\",\"\",IF(N1434=\"Transporte Marítimo\",VLOOKUP(O1435,Tabelas!$F$7:$G$12,2),IF(N1434=\"Transporte Aéreo\",VLOOKUP(O1435,Tabelas!$F$16:$G$21,2),\"\")))","v":""},null,null,null,null,null,null,null,null,null,null,null,null,null,null,null,"",{"$f":"+IF(AF1435=\"\",\"\",VLOOKUP(AF1435,Tabelas!$J$27:$K$30,2))","v":""}]
[null,null,null,null,null,null,{"$f":"+IF(F1439=\"\",\"\",VLOOKUP(F1439,Tabelas!$B$7:$C$96,2))","v":""},null,{"$f":"IF(H1439=\"\",\"\",ROUND(H1439/SUM(H1434:H1441),4))","v":""},null,null,null,null,null,null,{"$f":"+IF(O1439=\"\",\"\",IF(N1434=\"Transporte Marítimo\",VLOOKUP(O1439,Tabelas!$F$7:$G$12,2),IF(N1434=\"Transporte Aéreo\",VLOOKUP(O1439,Tabelas!$F$16:$G$21,2),\"\")))","v":""},null,null,null,null,null,null,null,null,null,null,null,null,null,null,null,"",{"$f":"+IF(AF1439=\"\",\"\",VLOOKUP(AF1439,Tabelas!$J$27:$K$30,2))","v":""}]
[null,null,null,null,null,null,{"$f":"+IF(F1440=\"\",\"\",VLOOKUP(F1440,Tabelas!$B$7:$C$96,2))","v":""},null,{"$f":"IF(H1440=\"\",\"\",ROUND(H1440/SUM(H1434:H1441),4))","v":""},null,null,null,null,null,null,{"$f":"+IF(O1440=\"\",\"\",IF(N1434=\"Transporte Marítimo\",VLOOKUP(O1440,Tabelas!$F$7:$G$12,2),IF(N1434=\"Transporte Aéreo\",VLOOKUP(O1440,Tabelas!$F$16:$G$21,2),\"\")))","v":""},null,null,null,null,null,null,null,null,null,null,null,null,null,null,null,"",{"$f":"+IF(AF1440=\"\",\"\",VLOOKUP(AF1440,Tabelas!$J$27:$K$30,2))","v":""}]
[null,null,null,null,null,null,{"$f":"+IF(F1443=\"\",\"\",VLOOKUP(F1443,Tabelas!$B$7:$C$96,2))","v":""},null,{"$f":"IF(H1443=\"\",\"\",ROUND(H1443/SUM(H1442:H1449),4))","v":""},null,null,null,null,null,null,{"$f":"+IF(O1443=\"\",\"\",IF(N1442=\"Transporte Marítimo\",VLOOKUP(O1443,Tabelas!$F$7:$G$12,2),IF(N1442=\"Transporte Aéreo\",VLOOKUP(O1443,Tabelas!$F$16:$G$21,2),\"\")))","v":""},null,null,null,null,null,null,null,null,null,null,null,null,null,null,null,"",{"$f":"+IF(AF1443=\"\",\"\",VLOOKUP(AF1443,Tabelas!$J$27:$K$30,2))","v":""}]
[null,null,null,null,null,null,{"$f":"+IF(F1446=\"\",\"\",VLOOKUP(F1446,Tabelas!$B$7:$C$96,2))","v":""},null,{"$f":"IF(H1446=\"\",\"\",ROUND(H1446/SUM(H1442:H1449),4))","v":""},null,null,null,null,null,null,{"$f":"+IF(O1446=\"\",\"\",IF(N1442=\"Transporte Marítimo\",VLOOKUP(O1446,Tabelas!$F$7:$G$12,2),IF(N1442=\"Transporte Aéreo\",VLOOKUP(O1446,Tabelas!$F$16:$G$21,2),\"\")))","v":""},null,null,null,null,null,null,null,null,null,null,null,null,null,null,null,"",{"$f":"+IF(AF1446=\"\",\"\",VLOOKUP(AF1446,Tabelas!$J$27:$K$30,2))","v":""}]
[null,null,null,null,null,null,{"$f":"+IF(F1448=\"\",\"\",VLOOKUP(F1448,Tabelas!$B$7:$C$96,2))","v":""},null,{"$f":"IF(H1448=\"\",\"\",ROUND(H1448/SUM(H1442:H1449),4))","v":""},null,null,null,null,null,null,{"$f":"+IF(O1448=\"\",\"\",IF(N1442=\"Transporte Marítimo\",VLOOKUP(O1448,Tabelas!$F$7:$G$12,2),IF(N1442=\"Transporte Aéreo\",VLOOKUP(O1448,Tabelas!$F$16:$G$21,2),\"\")))","v":""},null,null,null,null,null,null,null,null,null,null,null,null,null,null,null,"",{"$f":"+IF(AF1448=\"\",\"\",VLOOKUP(AF1448,Tabelas!$J$27:$K$30,2))","v":""}]
[null,null,null,null,null,null,{"$f":"+IF(F1449=\"\",\"\",VLOOKUP(F1449,Tabelas!$B$7:$C$96,2))","v":""},null,{"$f":"IF(H1449=\"\",\"\",ROUND(H1449/SUM(H1442:H1449),4))","v":""},null,null,null,null,null,null,{"$f":"+IF(O1449=\"\",\"\",IF(N1442=\"Transporte Marítimo\",VLOOKUP(O1449,Tabelas!$F$7:$G$12,2),IF(N1442=\"Transporte Aéreo\",VLOOKUP(O1449,Tabelas!$F$16:$G$21,2),\"\")))","v":""},null,null,null,null,null,null,null,null,null,null,null,null,null,null,null,"",{"$f":"+IF(AF1449=\"\",\"\",VLOOKUP(AF1449,Tabelas!$J$27:$K$30,2))","v":""}]
[null,null,null,null,null,null,{"$f":"+IF(F1452=\"\",\"\",VLOOKUP(F1452,Tabelas!$B$7:$C$96,2))","v":""},null,{"$f":"IF(H1452=\"\",\"\",ROUND(H1452/SUM(H1450:H1457),4))","v":""},null,null,null,null,null,null,{"$f":"+IF(O1452=\"\",\"\",IF(N1450=\"Transporte Marítimo\",VLOOKUP(O1452,Tabelas!$F$7:$G$12,2),IF(N1450=\"Transporte Aéreo\",VLOOKUP(O1452,Tabelas!$F$16:$G$21,2),\"\")))","v":""},null,null,null,null,null,null,null,null,null,null,null,null,null,null,null,"",{"$f":"+IF(AF1452=\"\",\"\",VLOOKUP(AF1452,Tabelas!$J$27:$K$30,2))","v":""}]
[null,null,null,null,null,null,{"$f":"+IF(F1453=\"\",\"\",VLOOKUP(F1453,Tabelas!$B$7:$C$96,2))","v":""},null,{"$f":"IF(H1453=\"\",\"\",ROUND(H1453/SUM(H1450:H1457),4))","v":""},null,null,null,null,null,null,{"$f":"+IF(O1453=\"\",\"\",IF(N1450=\"Transporte Marítimo\",VLOOKUP(O1453,Tabelas!$F$7:$G$12,2),IF(N1450=\"Transporte Aéreo\",VLOOKUP(O1453,Tabelas!$F$16:$G$21,2),\"\")))","v":""},null,null,null,null,null,null,null,null,null,null,null,null,null,null,null,"",{"$f":"+IF(AF1453=\"\",\"\",VLOOKUP(AF1453,Tabelas!$J$27:$K$30,2))","v":""}]
[null,null,null,null,null,null,{"$f":"+IF(F1455=\"\",\"\",VLOOKUP(F1455,Tabelas!$B$7:$C$96,2))","v":""},null,{"$f":"IF(H1455=\"\",\"\",ROUND(H1455/SUM(H1450:H1457),4))","v":""},null,null,null,null,null,null,{"$f":"+IF(O1455=\"\",\"\",IF(N1450=\"Transporte Marítimo\",VLOOKUP(O1455,Tabelas!$F$7:$G$12,2),IF(N1450=\"Transporte Aéreo\",VLOOKUP(O1455,Tabelas!$F$16:$G$21,2),\"\")))","v":""},null,null,null,null,null,null,null,null,null,null,null,null,null,null,null,"",{"$f":"+IF(AF1455=\"\",\"\",VLOOKUP(AF1455,Tabelas!$J$27:$K$30,2))","v":""}]
[null,{"$f":"+B1450+1","v":181},null,null,null,null,{"$f":"+IF(F1458=\"\",\"\",VLOOKUP(F1458,Tabelas!$B$7:$C$96,2))","v":""},null,{"$f":"IF(H1458=\"\",\"\",1-SUM(I1459:I1465))","v":""},null,null,null,null,null,null,{"$f":"+IF(O1458=\"\",\"\",IF(N1458=\"Transporte Marítimo\",VLOOKUP(O1458,Tabelas!$F$7:$G$12,2),IF(N1458=\"Transporte Aéreo\",VLOOKUP(O1458,Tabelas!$F$16:$G$21,2),\"\")))","v":""},null,null,null,null,null,null,null,null,null,null,null,null,null,null,null,"",{"$f":"+IF(AF1458=\"\",\"\",VLOOKUP(AF1458,Tabelas!$J$27:$K$30,2))","v":""},null,null,null,null,null,null,null,null,null,null,null,null,null,null,null," "]
[null,null,null,null,null,null,{"$f":"+IF(F1461=\"\",\"\",VLOOKUP(F1461,Tabelas!$B$7:$C$96,2))","v":""},null,{"$f":"IF(H1461=\"\",\"\",ROUND(H1461/SUM(H1458:H1465),4))","v":""},null,null,null,null,null,null,{"$f":"+IF(O1461=\"\",\"\",IF(N1458=\"Transporte Marítimo\",VLOOKUP(O1461,Tabelas!$F$7:$G$12,2),IF(N1458=\"Transporte Aéreo\",VLOOKUP(O1461,Tabelas!$F$16:$G$21,2),\"\")))","v":""},null,null,null,null,null,null,null,null,null,null,null,null,null,null,null,"",{"$f":"+IF(AF1461=\"\",\"\",VLOOKUP(AF1461,Tabelas!$J$27:$K$30,2))","v":""}]
[null,null,null,null,null,null,{"$f":"+IF(F1462=\"\",\"\",VLOOKUP(F1462,Tabelas!$B$7:$C$96,2))","v":""},null,{"$f":"IF(H1462=\"\",\"\",ROUND(H1462/SUM(H1458:H1465),4))","v":""},null,null,null,null,null,null,{"$f":"+IF(O1462=\"\",\"\",IF(N1458=\"Transporte Marítimo\",VLOOKUP(O1462,Tabelas!$F$7:$G$12,2),IF(N1458=\"Transporte Aéreo\",VLOOKUP(O1462,Tabelas!$F$16:$G$21,2),\"\")))","v":""},null,null,null,null,null,null,null,null,null,null,null,null,null,null,null,"",{"$f":"+IF(AF1462=\"\",\"\",VLOOKUP(AF1462,Tabelas!$J$27:$K$30,2))","v":""}]
[null,{"$f":"+B1458+1","v":182},null,null,null,null,{"$f":"+IF(F1466=\"\",\"\",VLOOKUP(F1466,Tabelas!$B$7:$C$96,2))","v":""},null,{"$f":"IF(H1466=\"\",\"\",1-SUM(I1467:I1473))","v":""},null,null,null,null,null,null,{"$f":"+IF(O1466=\"\",\"\",IF(N1466=\"Transporte Marítimo\",VLOOKUP(O1466,Tabelas!$F$7:$G$12,2),IF(N1466=\"Transporte Aéreo\",VLOOKUP(O1466,Tabelas!$F$16:$G$21,2),\"\")))","v":""},null,null,null,null,null,null,null,null,null,null,null,null,null,null,null,"",{"$f":"+IF(AF1466=\"\",\"\",VLOOKUP(AF1466,Tabelas!$J$27:$K$30,2))","v":""},null,null,null,null,null,null,null,null,null,null,null,null,null,null,null," "]
[null,null,null,null,null,null,{"$f":"+IF(F1467=\"\",\"\",VLOOKUP(F1467,Tabelas!$B$7:$C$96,2))","v":""},null,{"$f":"IF(H1467=\"\",\"\",ROUND(H1467/SUM(H1466:H1473),4))","v":""},null,null,null,null,null,null,{"$f":"+IF(O1467=\"\",\"\",IF(N1466=\"Transporte Marítimo\",VLOOKUP(O1467,Tabelas!$F$7:$G$12,2),IF(N1466=\"Transporte Aéreo\",VLOOKUP(O1467,Tabelas!$F$16:$G$21,2),\"\")))","v":""},null,null,null,null,null,null,null,null,null,null,null,null,null,null,null,"",{"$f":"+IF(AF1467=\"\",\"\",VLOOKUP(AF1467,Tabelas!$J$27:$K$30,2))","v":""}]
[null,null,null,null,null,null,{"$f":"+IF(F1470=\"\",\"\",VLOOKUP(F1470,Tabelas!$B$7:$C$96,2))","v":""},null,{"$f":"IF(H1470=\"\",\"\",ROUND(H1470/SUM(H1466:H1473),4))","v":""},null,null,null,null,null,null,{"$f":"+IF(O1470=\"\",\"\",IF(N1466=\"Transporte Marítimo\",VLOOKUP(O1470,Tabelas!$F$7:$G$12,2),IF(N1466=\"Transporte Aéreo\",VLOOKUP(O1470,Tabelas!$F$16:$G$21,2),\"\")))","v":""},null,null,null,null,null,null,null,null,null,null,null,null,null,null,null,"",{"$f":"+IF(AF1470=\"\",\"\",VLOOKUP(AF1470,Tabelas!$J$27:$K$30,2))","v":""}]
[null,null,null,null,null,null,{"$f":"+IF(F1471=\"\",\"\",VLOOKUP(F1471,Tabelas!$B$7:$C$96,2))","v":""},null,{"$f":"IF(H1471=\"\",\"\",ROUND(H1471/SUM(H1466:H1473),4))","v":""},null,null,null,null,null,null,{"$f":"+IF(O1471=\"\",\"\",IF(N1466=\"Transporte Marítimo\",VLOOKUP(O1471,Tabelas!$F$7:$G$12,2),IF(N1466=\"Transporte Aéreo\",VLOOKUP(O1471,Tabelas!$F$16:$G$21,2),\"\")))","v":""},null,null,null,null,null,null,null,null,null,null,null,null,null,null,null,"",{"$f":"+IF(AF1471=\"\",\"\",VLOOKUP(AF1471,Tabelas!$J$27:$K$30,2))","v":""}]
[null,{"$f":"+B1466+1","v":183},null,null,null,null,{"$f":"+IF(F1474=\"\",\"\",VLOOKUP(F1474,Tabelas!$B$7:$C$96,2))","v":""},null,{"$f":"IF(H1474=\"\",\"\",1-SUM(I1475:I1481))","v":""},null,null,null,null,null,null,{"$f":"+IF(O1474=\"\",\"\",IF(N1474=\"Transporte Marítimo\",VLOOKUP(O1474,Tabelas!$F$7:$G$12,2),IF(N1474=\"Transporte Aéreo\",VLOOKUP(O1474,Tabelas!$F$16:$G$21,2),\"\")))","v":""},null,null,null,null,null,null,null,null,null,null,null,null,null,null,null,"",{"$f":"+IF(AF1474=\"\",\"\",VLOOKUP(AF1474,Tabelas!$J$27:$K$30,2))","v":""},null,null,null,null,null,null,null,null,null,null,null,null,null,null,null," "]
[null,null,null,null,null,null,{"$f":"+IF(F1476=\"\",\"\",VLOOKUP(F1476,Tabelas!$B$7:$C$96,2))","v":""},null,{"$f":"IF(H1476=\"\",\"\",ROUND(H1476/SUM(H1474:H1481),4))","v":""},null,null,null,null,null,null,{"$f":"+IF(O1476=\"\",\"\",IF(N1474=\"Transporte Marítimo\",VLOOKUP(O1476,Tabelas!$F$7:$G$12,2),IF(N1474=\"Transporte Aéreo\",VLOOKUP(O1476,Tabelas!$F$16:$G$21,2),\"\")))","v":""},null,null,null,null,null,null,null,null,null,null,null,null,null,null,null,"",{"$f":"+IF(AF1476=\"\",\"\",VLOOKUP(AF1476,Tabelas!$J$27:$K$30,2))","v":""}]
[null,null,null,null,null,null,{"$f":"+IF(F1479=\"\",\"\",VLOOKUP(F1479,Tabelas!$B$7:$C$96,2))","v":""},null,{"$f":"IF(H1479=\"\",\"\",ROUND(H1479/SUM(H1474:H1481),4))","v":""},null,null,null,null,null,null,{"$f":"+IF(O1479=\"\",\"\",IF(N1474=\"Transporte Marítimo\",VLOOKUP(O1479,Tabelas!$F$7:$G$12,2),IF(N1474=\"Transporte Aéreo\",VLOOKUP(O1479,Tabelas!$F$16:$G$21,2),\"\")))","v":""},null,null,null,null,null,null,null,null,null,null,null,null,null,null,null,"",{"$f":"+IF(AF1479=\"\",\"\",VLOOKUP(AF1479,Tabelas!$J$27:$K$30,2))","v":""}]
[null,null,null,null,null,null,{"$f":"+IF(F1480=\"\",\"\",VLOOKUP(F1480,Tabelas!$B$7:$C$96,2))","v":""},null,{"$f":"IF(H1480=\"\",\"\",ROUND(H1480/SUM(H1474:H1481),4))","v":""},null,null,null,null,null,null,{"$f":"+IF(O1480=\"\",\"\",IF(N1474=\"Transporte Marítimo\",VLOOKUP(O1480,Tabelas!$F$7:$G$12,2),IF(N1474=\"Transporte Aéreo\",VLOOKUP(O1480,Tabelas!$F$16:$G$21,2),\"\")))","v":""},null,null,null,null,null,null,null,null,null,null,null,null,null,null,null,"",{"$f":"+IF(AF1480=\"\",\"\",VLOOKUP(AF1480,Tabelas!$J$27:$K$30,2))","v":""}]
[null,null,null,null,null,null,{"$f":"+IF(F1483=\"\",\"\",VLOOKUP(F1483,Tabelas!$B$7:$C$96,2))","v":""},null,{"$f":"IF(H1483=\"\",\"\",ROUND(H1483/SUM(H1482:H1489),4))","v":""},null,null,null,null,null,null,{"$f":"+IF(O1483=\"\",\"\",IF(N1482=\"Transporte Marítimo\",VLOOKUP(O1483,Tabelas!$F$7:$G$12,2),IF(N1482=\"Transporte Aéreo\",VLOOKUP(O1483,Tabelas!$F$16:$G$21,2),\"\")))","v":""},null,null,null,null,null,null,null,null,null,null,null,null,null,null,null,"",{"$f":"+IF(AF1483=\"\",\"\",VLOOKUP(AF1483,Tabelas!$J$27:$K$30,2))","v":""}]
[null,null,null,null,null,null,{"$f":"+IF(F1486=\"\",\"\",VLOOKUP(F1486,Tabelas!$B$7:$C$96,2))","v":""},null,{"$f":"IF(H1486=\"\",\"\",ROUND(H1486/SUM(H1482:H1489),4))","v":""},null,null,null,null,null,null,{"$f":"+IF(O1486=\"\",\"\",IF(N1482=\"Transporte Marítimo\",VLOOKUP(O1486,Tabelas!$F$7:$G$12,2),IF(N1482=\"Transporte Aéreo\",VLOOKUP(O1486,Tabelas!$F$16:$G$21,2),\"\")))","v":""},null,null,null,null,null,null,null,null,null,null,null,null,null,null,null,"",{"$f":"+IF(AF1486=\"\",\"\",VLOOKUP(AF1486,Tabelas!$J$27:$K$30,2))","v":""}]
[null,null,null,null,null,null,{"$f":"+IF(F1488=\"\",\"\",VLOOKUP(F1488,Tabelas!$B$7:$C$96,2))","v":""},null,{"$f":"IF(H1488=\"\",\"\",ROUND(H1488/SUM(H1482:H1489),4))","v":""},null,null,null,null,null,null,{"$f":"+IF(O1488=\"\",\"\",IF(N1482=\"Transporte Marítimo\",VLOOKUP(O1488,Tabelas!$F$7:$G$12,2),IF(N1482=\"Transporte Aéreo\",VLOOKUP(O1488,Tabelas!$F$16:$G$21,2),\"\")))","v":""},null,null,null,null,null,null,null,null,null,null,null,null,null,null,null,"",{"$f":"+IF(AF1488=\"\",\"\",VLOOKUP(AF1488,Tabelas!$J$27:$K$30,2))","v":""}]
[null,null,null,null,null,null,{"$f":"+IF(F1489=\"\",\"\",VLOOKUP(F1489,Tabelas!$B$7:$C$96,2))","v":""},null,{"$f":"IF(H1489=\"\",\"\",ROUND(H1489/SUM(H1482:H1489),4))","v":""},null,null,null,null,null,null,{"$f":"+IF(O1489=\"\",\"\",IF(N1482=\"Transporte Marítimo\",VLOOKUP(O1489,Tabelas!$F$7:$G$12,2),IF(N1482=\"Transporte Aéreo\",VLOOKUP(O1489,Tabelas!$F$16:$G$21,2),\"\")))","v":""},null,null,null,null,null,null,null,null,null,null,null,null,null,null,null,"",{"$f":"+IF(AF1489=\"\",\"\",VLOOKUP(AF1489,Tabelas!$J$27:$K$30,2))","v":""}]
[null,null,null,null,null,null,{"$f":"+IF(F1492=\"\",\"\",VLOOKUP(F1492,Tabelas!$B$7:$C$96,2))","v":""},null,{"$f":"IF(H1492=\"\",\"\",ROUND(H1492/SUM(H1490:H1497),4))","v":""},null,null,null,null,null,null,{"$f":"+IF(O1492=\"\",\"\",IF(N1490=\"Transporte Marítimo\",VLOOKUP(O1492,Tabelas!$F$7:$G$12,2),IF(N1490=\"Transporte Aéreo\",VLOOKUP(O1492,Tabelas!$F$16:$G$21,2),\"\")))","v":""},null,null,null,null,null,null,null,null,null,null,null,null,null,null,null,"",{"$f":"+IF(AF1492=\"\",\"\",VLOOKUP(AF1492,Tabelas!$J$27:$K$30,2))","v":""}]
[null,null,null,null,null,null,{"$f":"+IF(F1494=\"\",\"\",VLOOKUP(F1494,Tabelas!$B$7:$C$96,2))","v":""},null,{"$f":"IF(H1494=\"\",\"\",ROUND(H1494/SUM(H1490:H1497),4))","v":""},null,null,null,null,null,null,{"$f":"+IF(O1494=\"\",\"\",IF(N1490=\"Transporte Marítimo\",VLOOKUP(O1494,Tabelas!$F$7:$G$12,2),IF(N1490=\"Transporte Aéreo\",VLOOKUP(O1494,Tabelas!$F$16:$G$21,2),\"\")))","v":""},null,null,null,null,null,null,null,null,null,null,null,null,null,null,null,"",{"$f":"+IF(AF1494=\"\",\"\",VLOOKUP(AF1494,Tabelas!$J$27:$K$30,2))","v":""}]
[null,null,null,null,null,null,{"$f":"+IF(F1497=\"\",\"\",VLOOKUP(F1497,Tabelas!$B$7:$C$96,2))","v":""},null,{"$f":"IF(H1497=\"\",\"\",ROUND(H1497/SUM(H1490:H1497),4))","v":""},null,null,null,null,null,null,{"$f":"+IF(O1497=\"\",\"\",IF(N1490=\"Transporte Marítimo\",VLOOKUP(O1497,Tabelas!$F$7:$G$12,2),IF(N1490=\"Transporte Aéreo\",VLOOKUP(O1497,Tabelas!$F$16:$G$21,2),\"\")))","v":""},null,null,null,null,null,null,null,null,null,null,null,null,null,null,null,"",{"$f":"+IF(AF1497=\"\",\"\",VLOOKUP(AF1497,Tabelas!$J$27:$K$30,2))","v":""}]
[null,{"$f":"+B1490+1","v":186},null,null,null,null,{"$f":"+IF(F1498=\"\",\"\",VLOOKUP(F1498,Tabelas!$B$7:$C$96,2))","v":""},null,{"$f":"IF(H1498=\"\",\"\",1-SUM(I1499:I1505))","v":""},null,null,null,null,null,null,{"$f":"+IF(O1498=\"\",\"\",IF(N1498=\"Transporte Marítimo\",VLOOKUP(O1498,Tabelas!$F$7:$G$12,2),IF(N1498=\"Transporte Aéreo\",VLOOKUP(O1498,Tabelas!$F$16:$G$21,2),\"\")))","v":""},null,null,null,null,null,null,null,null,null,null,null,null,null,null,null,"",{"$f":"+IF(AF1498=\"\",\"\",VLOOKUP(AF1498,Tabelas!$J$27:$K$30,2))","v":""},null,null,null,null,null,null,null,null,null,null,null,null,null,null,null," "]
[null,null,null,null,null,null,{"$f":"+IF(F1501=\"\",\"\",VLOOKUP(F1501,Tabelas!$B$7:$C$96,2))","v":""},null,{"$f":"IF(H1501=\"\",\"\",ROUND(H1501/SUM(H1498:H1505),4))","v":""},null,null,null,null,null,null,{"$f":"+IF(O1501=\"\",\"\",IF(N1498=\"Transporte Marítimo\",VLOOKUP(O1501,Tabelas!$F$7:$G$12,2),IF(N1498=\"Transporte Aéreo\",VLOOKUP(O1501,Tabelas!$F$16:$G$21,2),\"\")))","v":""},null,null,null,null,null,null,null,null,null,null,null,null,null,null,null,"",{"$f":"+IF(AF1501=\"\",\"\",VLOOKUP(AF1501,Tabelas!$J$27:$K$30,2))","v":""}]
[null,null,null,null,null,null,{"$f":"+IF(F1502=\"\",\"\",VLOOKUP(F1502,Tabelas!$B$7:$C$96,2))","v":""},null,{"$f":"IF(H1502=\"\",\"\",ROUND(H1502/SUM(H1498:H1505),4))","v":""},null,null,null,null,null,null,{"$f":"+IF(O1502=\"\",\"\",IF(N1498=\"Transporte Marítimo\",VLOOKUP(O1502,Tabelas!$F$7:$G$12,2),IF(N1498=\"Transporte Aéreo\",VLOOKUP(O1502,Tabelas!$F$16:$G$21,2),\"\")))","v":""},null,null,null,null,null,null,null,null,null,null,null,null,null,null,null,"",{"$f":"+IF(AF1502=\"\",\"\",VLOOKUP(AF1502,Tabelas!$J$27:$K$30,2))","v":""}]
[null,null,null,null,null,null,{"$f":"+IF(F1504=\"\",\"\",VLOOKUP(F1504,Tabelas!$B$7:$C$96,2))","v":""},null,{"$f":"IF(H1504=\"\",\"\",ROUND(H1504/SUM(H1498:H1505),4))","v":""},null,null,null,null,null,null,{"$f":"+IF(O1504=\"\",\"\",IF(N1498=\"Transporte Marítimo\",VLOOKUP(O1504,Tabelas!$F$7:$G$12,2),IF(N1498=\"Transporte Aéreo\",VLOOKUP(O1504,Tabelas!$F$16:$G$21,2),\"\")))","v":""},null,null,null,null,null,null,null,null,null,null,null,null,null,null,null,"",{"$f":"+IF(AF1504=\"\",\"\",VLOOKUP(AF1504,Tabelas!$J$27:$K$30,2))","v":""}]
[null,null,null,null,null,null,{"$f":"+IF(F1507=\"\",\"\",VLOOKUP(F1507,Tabelas!$B$7:$C$96,2))","v":""},null,{"$f":"IF(H1507=\"\",\"\",ROUND(H1507/SUM(H1506:H1513),4))","v":""},null,null,null,null,null,null,{"$f":"+IF(O1507=\"\",\"\",IF(N1506=\"Transporte Marítimo\",VLOOKUP(O1507,Tabelas!$F$7:$G$12,2),IF(N1506=\"Transporte Aéreo\",VLOOKUP(O1507,Tabelas!$F$16:$G$21,2),\"\")))","v":""},null,null,null,null,null,null,null,null,null,null,null,null,null,null,null,"",{"$f":"+IF(AF1507=\"\",\"\",VLOOKUP(AF1507,Tabelas!$J$27:$K$30,2))","v":""}]
[null,null,null,null,null,null,{"$f":"+IF(F1510=\"\",\"\",VLOOKUP(F1510,Tabelas!$B$7:$C$96,2))","v":""},null,{"$f":"IF(H1510=\"\",\"\",ROUND(H1510/SUM(H1506:H1513),4))","v":""},null,null,null,null,null,null,{"$f":"+IF(O1510=\"\",\"\",IF(N1506=\"Transporte Marítimo\",VLOOKUP(O1510,Tabelas!$F$7:$G$12,2),IF(N1506=\"Transporte Aéreo\",VLOOKUP(O1510,Tabelas!$F$16:$G$21,2),\"\")))","v":""},null,null,null,null,null,null,null,null,null,null,null,null,null,null,null,"",{"$f":"+IF(AF1510=\"\",\"\",VLOOKUP(AF1510,Tabelas!$J$27:$K$30,2))","v":""}]
[null,null,null,null,null,null,{"$f":"+IF(F1511=\"\",\"\",VLOOKUP(F1511,Tabelas!$B$7:$C$96,2))","v":""},null,{"$f":"IF(H1511=\"\",\"\",ROUND(H1511/SUM(H1506:H1513),4))","v":""},null,null,null,null,null,null,{"$f":"+IF(O1511=\"\",\"\",IF(N1506=\"Transporte Marítimo\",VLOOKUP(O1511,Tabelas!$F$7:$G$12,2),IF(N1506=\"Transporte Aéreo\",VLOOKUP(O1511,Tabelas!$F$16:$G$21,2),\"\")))","v":""},null,null,null,null,null,null,null,null,null,null,null,null,null,null,null,"",{"$f":"+IF(AF1511=\"\",\"\",VLOOKUP(AF1511,Tabelas!$J$27:$K$30,2))","v":""}]
[null,{"$f":"+B1506+1","v":188},null,null,null,null,{"$f":"+IF(F1514=\"\",\"\",VLOOKUP(F1514,Tabelas!$B$7:$C$96,2))","v":""},null,{"$f":"IF(H1514=\"\",\"\",1-SUM(I1515:I1521))","v":""},null,null,null,null,null,null,{"$f":"+IF(O1514=\"\",\"\",IF(N1514=\"Transporte Marítimo\",VLOOKUP(O1514,Tabelas!$F$7:$G$12,2),IF(N1514=\"Transporte Aéreo\",VLOOKUP(O1514,Tabelas!$F$16:$G$21,2),\"\")))","v":""},null,null,null,null,null,null,null,null,null,null,null,null,null,null,null,"",{"$f":"+IF(AF1514=\"\",\"\",VLOOKUP(AF1514,Tabelas!$J$27:$K$30,2))","v":""},null,null,null,null,null,null,null,null,null,null,null,null,null,null,null," "]
[null,null,null,null,null,null,{"$f":"+IF(F1516=\"\",\"\",VLOOKUP(F1516,Tabelas!$B$7:$C$96,2))","v":""},null,{"$f":"IF(H1516=\"\",\"\",ROUND(H1516/SUM(H1514:H1521),4))","v":""},null,null,null,null,null,null,{"$f":"+IF(O1516=\"\",\"\",IF(N1514=\"Transporte Marítimo\",VLOOKUP(O1516,Tabelas!$F$7:$G$12,2),IF(N1514=\"Transporte Aéreo\",VLOOKUP(O1516,Tabelas!$F$16:$G$21,2),\"\")))","v":""},null,null,null,null,null,null,null,null,null,null,null,null,null,null,null,"",{"$f":"+IF(AF1516=\"\",\"\",VLOOKUP(AF1516,Tabelas!$J$27:$K$30,2))","v":""}]
[null,null,null,null,null,null,{"$f":"+IF(F1519=\"\",\"\",VLOOKUP(F1519,Tabelas!$B$7:$C$96,2))","v":""},null,{"$f":"IF(H1519=\"\",\"\",ROUND(H1519/SUM(H1514:H1521),4))","v":""},null,null,null,null,null,null,{"$f":"+IF(O1519=\"\",\"\",IF(N1514=\"Transporte Marítimo\",VLOOKUP(O1519,Tabelas!$F$7:$G$12,2),IF(N1514=\"Transporte Aéreo\",VLOOKUP(O1519,Tabelas!$F$16:$G$21,2),\"\")))","v":""},null,null,null,null,null,null,null,null,null,null,null,null,null,null,null,"",{"$f":"+IF(AF1519=\"\",\"\",VLOOKUP(AF1519,Tabelas!$J$27:$K$30,2))","v":""}]
[null,null,null,null,null,null,{"$f":"+IF(F1520=\"\",\"\",VLOOKUP(F1520,Tabelas!$B$7:$C$96,2))","v":""},null,{"$f":"IF(H1520=\"\",\"\",ROUND(H1520/SUM(H1514:H1521),4))","v":""},null,null,null,null,null,null,{"$f":"+IF(O1520=\"\",\"\",IF(N1514=\"Transporte Marítimo\",VLOOKUP(O1520,Tabelas!$F$7:$G$12,2),IF(N1514=\"Transporte Aéreo\",VLOOKUP(O1520,Tabelas!$F$16:$G$21,2),\"\")))","v":""},null,null,null,null,null,null,null,null,null,null,null,null,null,null,null,"",{"$f":"+IF(AF1520=\"\",\"\",VLOOKUP(AF1520,Tabelas!$J$27:$K$30,2))","v":""}]
[null,{"$f":"+B1514+1","v":189},null,null,null,null,{"$f":"+IF(F1522=\"\",\"\",VLOOKUP(F1522,Tabelas!$B$7:$C$96,2))","v":""},null,{"$f":"IF(H1522=\"\",\"\",1-SUM(I1523:I1529))","v":""},null,null,null,null,null,null,{"$f":"+IF(O1522=\"\",\"\",IF(N1522=\"Transporte Marítimo\",VLOOKUP(O1522,Tabelas!$F$7:$G$12,2),IF(N1522=\"Transporte Aéreo\",VLOOKUP(O1522,Tabelas!$F$16:$G$21,2),\"\")))","v":""},null,null,null,null,null,null,null,null,null,null,null,null,null,null,null,"",{"$f":"+IF(AF1522=\"\",\"\",VLOOKUP(AF1522,Tabelas!$J$27:$K$30,2))","v":""},null,null,null,null,null,null,null,null,null,null,null,null,null,null,null," "]
[null,null,null,null,null,null,{"$f":"+IF(F1525=\"\",\"\",VLOOKUP(F1525,Tabelas!$B$7:$C$96,2))","v":""},null,{"$f":"IF(H1525=\"\",\"\",ROUND(H1525/SUM(H1522:H1529),4))","v":""},null,null,null,null,null,null,{"$f":"+IF(O1525=\"\",\"\",IF(N1522=\"Transporte Marítimo\",VLOOKUP(O1525,Tabelas!$F$7:$G$12,2),IF(N1522=\"Transporte Aéreo\",VLOOKUP(O1525,Tabelas!$F$16:$G$21,2),\"\")))","v":""},null,null,null,null,null,null,null,null,null,null,null,null,null,null,null,"",{"$f":"+IF(AF1525=\"\",\"\",VLOOKUP(AF1525,Tabelas!$J$27:$K$30,2))","v":""}]
[null,null,null,null,null,null,{"$f":"+IF(F1528=\"\",\"\",VLOOKUP(F1528,Tabelas!$B$7:$C$96,2))","v":""},null,{"$f":"IF(H1528=\"\",\"\",ROUND(H1528/SUM(H1522:H1529),4))","v":""},null,null,null,null,null,null,{"$f":"+IF(O1528=\"\",\"\",IF(N1522=\"Transporte Marítimo\",VLOOKUP(O1528,Tabelas!$F$7:$G$12,2),IF(N1522=\"Transporte Aéreo\",VLOOKUP(O1528,Tabelas!$F$16:$G$21,2),\"\")))","v":""},null,null,null,null,null,null,null,null,null,null,null,null,null,null,null,"",{"$f":"+IF(AF1528=\"\",\"\",VLOOKUP(AF1528,Tabelas!$J$27:$K$30,2))","v":""}]
[null,null,null,null,null,null,{"$f":"+IF(F1529=\"\",\"\",VLOOKUP(F1529,Tabelas!$B$7:$C$96,2))","v":""},null,{"$f":"IF(H1529=\"\",\"\",ROUND(H1529/SUM(H1522:H1529),4))","v":""},null,null,null,null,null,null,{"$f":"+IF(O1529=\"\",\"\",IF(N1522=\"Transporte Marítimo\",VLOOKUP(O1529,Tabelas!$F$7:$G$12,2),IF(N1522=\"Transporte Aéreo\",VLOOKUP(O1529,Tabelas!$F$16:$G$21,2),\"\")))","v":""},null,null,null,null,null,null,null,null,null,null,null,null,null,null,null,"",{"$f":"+IF(AF1529=\"\",\"\",VLOOKUP(AF1529,Tabelas!$J$27:$K$30,2))","v":""}]
[null,null,null,null,null,null,{"$f":"+IF(F1532=\"\",\"\",VLOOKUP(F1532,Tabelas!$B$7:$C$96,2))","v":""},null,{"$f":"IF(H1532=\"\",\"\",ROUND(H1532/SUM(H1530:H1537),4))","v":""},null,null,null,null,null,null,{"$f":"+IF(O1532=\"\",\"\",IF(N1530=\"Transporte Marítimo\",VLOOKUP(O1532,Tabelas!$F$7:$G$12,2),IF(N1530=\"Transporte Aéreo\",VLOOKUP(O1532,Tabelas!$F$16:$G$21,2),\"\")))","v":""},null,null,null,null,null,null,null,null,null,null,null,null,null,null,null,"",{"$f":"+IF(AF1532=\"\",\"\",VLOOKUP(AF1532,Tabelas!$J$27:$K$30,2))","v":""}]
[null,null,null,null,null,null,{"$f":"+IF(F1535=\"\",\"\",VLOOKUP(F1535,Tabelas!$B$7:$C$96,2))","v":""},null,{"$f":"IF(H1535=\"\",\"\",ROUND(H1535/SUM(H1530:H1537),4))","v":""},null,null,null,null,null,null,{"$f":"+IF(O1535=\"\",\"\",IF(N1530=\"Transporte Marítimo\",VLOOKUP(O1535,Tabelas!$F$7:$G$12,2),IF(N1530=\"Transporte Aéreo\",VLOOKUP(O1535,Tabelas!$F$16:$G$21,2),\"\")))","v":""},null,null,null,null,null,null,null,null,null,null,null,null,null,null,null,"",{"$f":"+IF(AF1535=\"\",\"\",VLOOKUP(AF1535,Tabelas!$J$27:$K$30,2))","v":""}]
[null,null,null,null,null,null,{"$f":"+IF(F1537=\"\",\"\",VLOOKUP(F1537,Tabelas!$B$7:$C$96,2))","v":""},null,{"$f":"IF(H1537=\"\",\"\",ROUND(H1537/SUM(H1530:H1537),4))","v":""},null,null,null,null,null,null,{"$f":"+IF(O1537=\"\",\"\",IF(N1530=\"Transporte Marítimo\",VLOOKUP(O1537,Tabelas!$F$7:$G$12,2),IF(N1530=\"Transporte Aéreo\",VLOOKUP(O1537,Tabelas!$F$16:$G$21,2),\"\")))","v":""},null,null,null,null,null,null,null,null,null,null,null,null,null,null,null,"",{"$f":"+IF(AF1537=\"\",\"\",VLOOKUP(AF1537,Tabelas!$J$27:$K$30,2))","v":""}]
[null,{"$f":"+B1530+1","v":191},null,null,null,null,{"$f":"+IF(F1538=\"\",\"\",VLOOKUP(F1538,Tabelas!$B$7:$C$96,2))","v":""},null,{"$f":"IF(H1538=\"\",\"\",1-SUM(I1539:I1545))","v":""},null,null,null,null,null,null,{"$f":"+IF(O1538=\"\",\"\",IF(N1538=\"Transporte Marítimo\",VLOOKUP(O1538,Tabelas!$F$7:$G$12,2),IF(N1538=\"Transporte Aéreo\",VLOOKUP(O1538,Tabelas!$F$16:$G$21,2),\"\")))","v":""},null,null,null,null,null,null,null,null,null,null,null,null,null,null,null,"",{"$f":"+IF(AF1538=\"\",\"\",VLOOKUP(AF1538,Tabelas!$J$27:$K$30,2))","v":""},null,null,null,null,null,null,null,null,null,null,null,null,null,null,null," "]
[null,null,null,null,null,null,{"$f":"+IF(F1541=\"\",\"\",VLOOKUP(F1541,Tabelas!$B$7:$C$96,2))","v":""},null,{"$f":"IF(H1541=\"\",\"\",ROUND(H1541/SUM(H1538:H1545),4))","v":""},null,null,null,null,null,null,{"$f":"+IF(O1541=\"\",\"\",IF(N1538=\"Transporte Marítimo\",VLOOKUP(O1541,Tabelas!$F$7:$G$12,2),IF(N1538=\"Transporte Aéreo\",VLOOKUP(O1541,Tabelas!$F$16:$G$21,2),\"\")))","v":""},null,null,null,null,null,null,null,null,null,null,null,null,null,null,null,"",{"$f":"+IF(AF1541=\"\",\"\",VLOOKUP(AF1541,Tabelas!$J$27:$K$30,2))","v":""}]
[null,null,null,null,null,null,{"$f":"+IF(F1542=\"\",\"\",VLOOKUP(F1542,Tabelas!$B$7:$C$96,2))","v":""},null,{"$f":"IF(H1542=\"\",\"\",ROUND(H1542/SUM(H1538:H1545),4))","v":""},null,null,null,null,null,null,{"$f":"+IF(O1542=\"\",\"\",IF(N1538=\"Transporte Marítimo\",VLOOKUP(O1542,Tabelas!$F$7:$G$12,2),IF(N1538=\"Transporte Aéreo\",VLOOKUP(O1542,Tabelas!$F$16:$G$21,2),\"\")))","v":""},null,null,null,null,null,null,null,null,null,null,null,null,null,null,null,"",{"$f":"+IF(AF1542=\"\",\"\",VLOOKUP(AF1542,Tabelas!$J$27:$K$30,2))","v":""}]
[null,{"$f":"+B1538+1","v":192},null,null,null,null,{"$f":"+IF(F1546=\"\",\"\",VLOOKUP(F1546,Tabelas!$B$7:$C$96,2))","v":""},null,{"$f":"IF(H1546=\"\",\"\",1-SUM(I1547:I1553))","v":""},null,null,null,null,null,null,{"$f":"+IF(O1546=\"\",\"\",IF(N1546=\"Transporte Marítimo\",VLOOKUP(O1546,Tabelas!$F$7:$G$12,2),IF(N1546=\"Transporte Aéreo\",VLOOKUP(O1546,Tabelas!$F$16:$G$21,2),\"\")))","v":""},null,null,null,null,null,null,null,null,null,null,null,null,null,null,null,"",{"$f":"+IF(AF1546=\"\",\"\",VLOOKUP(AF1546,Tabelas!$J$27:$K$30,2))","v":""},null,null,null,null,null,null,null,null,null,null,null,null,null,null,null," "]
[null,null,null,null,null,null,{"$f":"+IF(F1547=\"\",\"\",VLOOKUP(F1547,Tabelas!$B$7:$C$96,2))","v":""},null,{"$f":"IF(H1547=\"\",\"\",ROUND(H1547/SUM(H1546:H1553),4))","v":""},null,null,null,null,null,null,{"$f":"+IF(O1547=\"\",\"\",IF(N1546=\"Transporte Marítimo\",VLOOKUP(O1547,Tabelas!$F$7:$G$12,2),IF(N1546=\"Transporte Aéreo\",VLOOKUP(O1547,Tabelas!$F$16:$G$21,2),\"\")))","v":""},null,null,null,null,null,null,null,null,null,null,null,null,null,null,null,"",{"$f":"+IF(AF1547=\"\",\"\",VLOOKUP(AF1547,Tabelas!$J$27:$K$30,2))","v":""}]
[null,null,null,null,null,null,{"$f":"+IF(F1550=\"\",\"\",VLOOKUP(F1550,Tabelas!$B$7:$C$96,2))","v":""},null,{"$f":"IF(H1550=\"\",\"\",ROUND(H1550/SUM(H1546:H1553),4))","v":""},null,null,null,null,null,null,{"$f":"+IF(O1550=\"\",\"\",IF(N1546=\"Transporte Marítimo\",VLOOKUP(O1550,Tabelas!$F$7:$G$12,2),IF(N1546=\"Transporte Aéreo\",VLOOKUP(O1550,Tabelas!$F$16:$G$21,2),\"\")))","v":""},null,null,null,null,null,null,null,null,null,null,null,null,null,null,null,"",{"$f":"+IF(AF1550=\"\",\"\",VLOOKUP(AF1550,Tabelas!$J$27:$K$30,2))","v":""}]
[null,null,null,null,null,null,{"$f":"+IF(F1553=\"\",\"\",VLOOKUP(F1553,Tabelas!$B$7:$C$96,2))","v":""},null,{"$f":"IF(H1553=\"\",\"\",ROUND(H1553/SUM(H1546:H1553),4))","v":""},null,null,null,null,null,null,{"$f":"+IF(O1553=\"\",\"\",IF(N1546=\"Transporte Marítimo\",VLOOKUP(O1553,Tabelas!$F$7:$G$12,2),IF(N1546=\"Transporte Aéreo\",VLOOKUP(O1553,Tabelas!$F$16:$G$21,2),\"\")))","v":""},null,null,null,null,null,null,null,null,null,null,null,null,null,null,null,"",{"$f":"+IF(AF1553=\"\",\"\",VLOOKUP(AF1553,Tabelas!$J$27:$K$30,2))","v":""}]
[null,null,null,null,null,null,{"$f":"+IF(F1555=\"\",\"\",VLOOKUP(F1555,Tabelas!$B$7:$C$96,2))","v":""},null,{"$f":"IF(H1555=\"\",\"\",ROUND(H1555/SUM(H1554:H1561),4))","v":""},null,null,null,null,null,null,{"$f":"+IF(O1555=\"\",\"\",IF(N1554=\"Transporte Marítimo\",VLOOKUP(O1555,Tabelas!$F$7:$G$12,2),IF(N1554=\"Transporte Aéreo\",VLOOKUP(O1555,Tabelas!$F$16:$G$21,2),\"\")))","v":""},null,null,null,null,null,null,null,null,null,null,null,null,null,null,null,{"$f":"+IF(AE1555=\"20NL\",1,IF(AE1555=\"40NL\",2,IF(AE1555=\"20RF\",3,IF(AE1555=\"40RF\",4,\"\"))))","v":""},{"$f":"+IF(AF1555=\"\",\"\",VLOOKUP(AF1555,Tabelas!$J$27:$K$30,2))","v":""}]
[null,null,null,null,null,null,{"$f":"+IF(F1556=\"\",\"\",VLOOKUP(F1556,Tabelas!$B$7:$C$96,2))","v":""},null,{"$f":"IF(H1556=\"\",\"\",ROUND(H1556/SUM(H1554:H1561),4))","v":""},null,null,null,null,null,null,{"$f":"+IF(O1556=\"\",\"\",IF(N1554=\"Transporte Marítimo\",VLOOKUP(O1556,Tabelas!$F$7:$G$12,2),IF(N1554=\"Transporte Aéreo\",VLOOKUP(O1556,Tabelas!$F$16:$G$21,2),\"\")))","v":""},null,null,null,null,null,null,null,null,null,null,null,null,null,null,null,"",{"$f":"+IF(AF1556=\"\",\"\",VLOOKUP(AF1556,Tabelas!$J$27:$K$30,2))","v":""}]
[null,null,null,null,null,null,{"$f":"+IF(F1559=\"\",\"\",VLOOKUP(F1559,Tabelas!$B$7:$C$96,2))","v":""},null,{"$f":"IF(H1559=\"\",\"\",ROUND(H1559/SUM(H1554:H1561),4))","v":""},null,null,null,null,null,null,{"$f":"+IF(O1559=\"\",\"\",IF(N1554=\"Transporte Marítimo\",VLOOKUP(O1559,Tabelas!$F$7:$G$12,2),IF(N1554=\"Transporte Aéreo\",VLOOKUP(O1559,Tabelas!$F$16:$G$21,2),\"\")))","v":""},null,null,null,null,null,null,null,null,null,null,null,null,null,null,null,"",{"$f":"+IF(AF1559=\"\",\"\",VLOOKUP(AF1559,Tabelas!$J$27:$K$30,2))","v":""}]
[null,null,null,null,null,null,{"$f":"+IF(F1560=\"\",\"\",VLOOKUP(F1560,Tabelas!$B$7:$C$96,2))","v":""},null,{"$f":"IF(H1560=\"\",\"\",ROUND(H1560/SUM(H1554:H1561),4))","v":""},null,null,null,null,null,null,{"$f":"+IF(O1560=\"\",\"\",IF(N1554=\"Transporte Marítimo\",VLOOKUP(O1560,Tabelas!$F$7:$G$12,2),IF(N1554=\"Transporte Aéreo\",VLOOKUP(O1560,Tabelas!$F$16:$G$21,2),\"\")))","v":""},null,null,null,null,null,null,null,null,null,null,null,null,null,null,null,"",{"$f":"+IF(AF1560=\"\",\"\",VLOOKUP(AF1560,Tabelas!$J$27:$K$30,2))","v":""}]
[null,null,null,null,null,null,{"$f":"+IF(F1563=\"\",\"\",VLOOKUP(F1563,Tabelas!$B$7:$C$96,2))","v":""},null,{"$f":"IF(H1563=\"\",\"\",ROUND(H1563/SUM(H1562:H1569),4))","v":""},null,null,null,null,null,null,{"$f":"+IF(O1563=\"\",\"\",IF(N1562=\"Transporte Marítimo\",VLOOKUP(O1563,Tabelas!$F$7:$G$12,2),IF(N1562=\"Transporte Aéreo\",VLOOKUP(O1563,Tabelas!$F$16:$G$21,2),\"\")))","v":""},null,null,null,null,null,null,null,null,null,null,null,null,null,null,null,"",{"$f":"+IF(AF1563=\"\",\"\",VLOOKUP(AF1563,Tabelas!$J$27:$K$30,2))","v":""}]
[null,null,null,null,null,null,{"$f":"+IF(F1565=\"\",\"\",VLOOKUP(F1565,Tabelas!$B$7:$C$96,2))","v":""},null,{"$f":"IF(H1565=\"\",\"\",ROUND(H1565/SUM(H1562:H1569),4))","v":""},null,null,null,null,null,null,{"$f":"+IF(O1565=\"\",\"\",IF(N1562=\"Transporte Marítimo\",VLOOKUP(O1565,Tabelas!$F$7:$G$12,2),IF(N1562=\"Transporte Aéreo\",VLOOKUP(O1565,Tabelas!$F$16:$G$21,2),\"\")))","v":""},null,null,null,null,null,null,null,null,null,null,null,null,null,null,null,"",{"$f":"+IF(AF1565=\"\",\"\",VLOOKUP(AF1565,Tabelas!$J$27:$K$30,2))","v":""}]
[null,null,null,null,null,null,{"$f":"+IF(F1568=\"\",\"\",VLOOKUP(F1568,Tabelas!$B$7:$C$96,2))","v":""},null,{"$f":"IF(H1568=\"\",\"\",ROUND(H1568/SUM(H1562:H1569),4))","v":""},null,null,null,null,null,null,{"$f":"+IF(O1568=\"\",\"\",IF(N1562=\"Transporte Marítimo\",VLOOKUP(O1568,Tabelas!$F$7:$G$12,2),IF(N1562=\"Transporte Aéreo\",VLOOKUP(O1568,Tabelas!$F$16:$G$21,2),\"\")))","v":""},null,null,null,null,null,null,null,null,null,null,null,null,null,null,null,"",{"$f":"+IF(AF1568=\"\",\"\",VLOOKUP(AF1568,Tabelas!$J$27:$K$30,2))","v":""}]
[null,null,null,null,null,null,{"$f":"+IF(F1569=\"\",\"\",VLOOKUP(F1569,Tabelas!$B$7:$C$96,2))","v":""},null,{"$f":"IF(H1569=\"\",\"\",ROUND(H1569/SUM(H1562:H1569),4))","v":""},null,null,null,null,null,null,{"$f":"+IF(O1569=\"\",\"\",IF(N1562=\"Transporte Marítimo\",VLOOKUP(O1569,Tabelas!$F$7:$G$12,2),IF(N1562=\"Transporte Aéreo\",VLOOKUP(O1569,Tabelas!$F$16:$G$21,2),\"\")))","v":""},null,null,null,null,null,null,null,null,null,null,null,null,null,null,null,"",{"$f":"+IF(AF1569=\"\",\"\",VLOOKUP(AF1569,Tabelas!$J$27:$K$30,2))","v":""}]
[null,null,null,null,null,null,{"$f":"+IF(F1573=\"\",\"\",VLOOKUP(F1573,Tabelas!$B$7:$C$96,2))","v":""},null,{"$f":"IF(H1573=\"\",\"\",ROUND(H1573/SUM(H1570:H1577),4))","v":""},null,null,null,null,null,null,{"$f":"+IF(O1573=\"\",\"\",IF(N1570=\"Transporte Marítimo\",VLOOKUP(O1573,Tabelas!$F$7:$G$12,2),IF(N1570=\"Transporte Aéreo\",VLOOKUP(O1573,Tabelas!$F$16:$G$21,2),\"\")))","v":""},null,null,null,null,null,null,null,null,null,null,null,null,null,null,null,"",{"$f":"+IF(AF1573=\"\",\"\",VLOOKUP(AF1573,Tabelas!$J$27:$K$30,2))","v":""}]
[null,null,null,null,null,null,{"$f":"+IF(F1574=\"\",\"\",VLOOKUP(F1574,Tabelas!$B$7:$C$96,2))","v":""},null,{"$f":"IF(H1574=\"\",\"\",ROUND(H1574/SUM(H1570:H1577),4))","v":""},null,null,null,null,null,null,{"$f":"+IF(O1574=\"\",\"\",IF(N1570=\"Transporte Marítimo\",VLOOKUP(O1574,Tabelas!$F$7:$G$12,2),IF(N1570=\"Transporte Aéreo\",VLOOKUP(O1574,Tabelas!$F$16:$G$21,2),\"\")))","v":""},null,null,null,null,null,null,null,null,null,null,null,null,null,null,null,"",{"$f":"+IF(AF1574=\"\",\"\",VLOOKUP(AF1574,Tabelas!$J$27:$K$30,2))","v":""}]
[null,null,null,null,null,null,{"$f":"+IF(F1577=\"\",\"\",VLOOKUP(F1577,Tabelas!$B$7:$C$96,2))","v":""},null,{"$f":"IF(H1577=\"\",\"\",ROUND(H1577/SUM(H1570:H1577),4))","v":""},null,null,null,null,null,null,{"$f":"+IF(O1577=\"\",\"\",IF(N1570=\"Transporte Marítimo\",VLOOKUP(O1577,Tabelas!$F$7:$G$12,2),IF(N1570=\"Transporte Aéreo\",VLOOKUP(O1577,Tabelas!$F$16:$G$21,2),\"\")))","v":""},null,null,null,null,null,null,null,null,null,null,null,null,null,null,null,"",{"$f":"+IF(AF1577=\"\",\"\",VLOOKUP(AF1577,Tabelas!$J$27:$K$30,2))","v":""}]
[null,{"$f":"+B1570+1","v":196},null,null,null,null,{"$f":"+IF(F1578=\"\",\"\",VLOOKUP(F1578,Tabelas!$B$7:$C$96,2))","v":""},null,{"$f":"IF(H1578=\"\",\"\",1-SUM(I1579:I1585))","v":""},null,null,null,null,null,null,{"$f":"+IF(O1578=\"\",\"\",IF(N1578=\"Transporte Marítimo\",VLOOKUP(O1578,Tabelas!$F$7:$G$12,2),IF(N1578=\"Transporte Aéreo\",VLOOKUP(O1578,Tabelas!$F$16:$G$21,2),\"\")))","v":""},null,null,null,null,null,null,null,null,null,null,null,null,null,null,null,"",{"$f":"+IF(AF1578=\"\",\"\",VLOOKUP(AF1578,Tabelas!$J$27:$K$30,2))","v":""},null,null,null,null,null,null,null,null,null,null,null,null,null,null,null," "]
[null,null,null,null,null,null,{"$f":"+IF(F1581=\"\",\"\",VLOOKUP(F1581,Tabelas!$B$7:$C$96,2))","v":""},null,{"$f":"IF(H1581=\"\",\"\",ROUND(H1581/SUM(H1578:H1585),4))","v":""},null,null,null,null,null,null,{"$f":"+IF(O1581=\"\",\"\",IF(N1578=\"Transporte Marítimo\",VLOOKUP(O1581,Tabelas!$F$7:$G$12,2),IF(N1578=\"Transporte Aéreo\",VLOOKUP(O1581,Tabelas!$F$16:$G$21,2),\"\")))","v":""},null,null,null,null,null,null,null,null,null,null,null,null,null,null,null,"",{"$f":"+IF(AF1581=\"\",\"\",VLOOKUP(AF1581,Tabelas!$J$27:$K$30,2))","v":""}]
[null,null,null,null,null,null,{"$f":"+IF(F1583=\"\",\"\",VLOOKUP(F1583,Tabelas!$B$7:$C$96,2))","v":""},null,{"$f":"IF(H1583=\"\",\"\",ROUND(H1583/SUM(H1578:H1585),4))","v":""},null,null,null,null,null,null,{"$f":"+IF(O1583=\"\",\"\",IF(N1578=\"Transporte Marítimo\",VLOOKUP(O1583,Tabelas!$F$7:$G$12,2),IF(N1578=\"Transporte Aéreo\",VLOOKUP(O1583,Tabelas!$F$16:$G$21,2),\"\")))","v":""},null,null,null,null,null,null,null,null,null,null,null,null,null,null,null,"",{"$f":"+IF(AF1583=\"\",\"\",VLOOKUP(AF1583,Tabelas!$J$27:$K$30,2))","v":""}]
[null,{"$f":"+B1578+1","v":197},null,null,null,null,{"$f":"+IF(F1586=\"\",\"\",VLOOKUP(F1586,Tabelas!$B$7:$C$96,2))","v":""},null,{"$f":"IF(H1586=\"\",\"\",1-SUM(I1587:I1593))","v":""},null,null,null,null,null,null,{"$f":"+IF(O1586=\"\",\"\",IF(N1586=\"Transporte Marítimo\",VLOOKUP(O1586,Tabelas!$F$7:$G$12,2),IF(N1586=\"Transporte Aéreo\",VLOOKUP(O1586,Tabelas!$F$16:$G$21,2),\"\")))","v":""},null,null,null,null,null,null,null,null,null,null,null,null,null,null,null,"",{"$f":"+IF(AF1586=\"\",\"\",VLOOKUP(AF1586,Tabelas!$J$27:$K$30,2))","v":""},null,null,null,null,null,null,null,null,null,null,null,null,null,null,null," "]
[null,null,null,null,null,null,{"$f":"+IF(F1587=\"\",\"\",VLOOKUP(F1587,Tabelas!$B$7:$C$96,2))","v":""},null,{"$f":"IF(H1587=\"\",\"\",ROUND(H1587/SUM(H1586:H1593),4))","v":""},null,null,null,null,null,null,{"$f":"+IF(O1587=\"\",\"\",IF(N1586=\"Transporte Marítimo\",VLOOKUP(O1587,Tabelas!$F$7:$G$12,2),IF(N1586=\"Transporte Aéreo\",VLOOKUP(O1587,Tabelas!$F$16:$G$21,2),\"\")))","v":""},null,null,null,null,null,null,null,null,null,null,null,null,null,null,null,"",{"$f":"+IF(AF1587=\"\",\"\",VLOOKUP(AF1587,Tabelas!$J$27:$K$30,2))","v":""}]
[null,null,null,null,null,null,{"$f":"+IF(F1590=\"\",\"\",VLOOKUP(F1590,Tabelas!$B$7:$C$96,2))","v":""},null,{"$f":"IF(H1590=\"\",\"\",ROUND(H1590/SUM(H1586:H1593),4))","v":""},null,null,null,null,null,null,{"$f":"+IF(O1590=\"\",\"\",IF(N1586=\"Transporte Marítimo\",VLOOKUP(O1590,Tabelas!$F$7:$G$12,2),IF(N1586=\"Transporte Aéreo\",VLOOKUP(O1590,Tabelas!$F$16:$G$21,2),\"\")))","v":""},null,null,null,null,null,null,null,null,null,null,null,null,null,null,null,"",{"$f":"+IF(AF1590=\"\",\"\",VLOOKUP(AF1590,Tabelas!$J$27:$K$30,2))","v":""}]
[null,null,null,null,null,null,{"$f":"+IF(F1591=\"\",\"\",VLOOKUP(F1591,Tabelas!$B$7:$C$96,2))","v":""},null,{"$f":"IF(H1591=\"\",\"\",ROUND(H1591/SUM(H1586:H1593),4))","v":""},null,null,null,null,null,null,{"$f":"+IF(O1591=\"\",\"\",IF(N1586=\"Transporte Marítimo\",VLOOKUP(O1591,Tabelas!$F$7:$G$12,2),IF(N1586=\"Transporte Aéreo\",VLOOKUP(O1591,Tabelas!$F$16:$G$21,2),\"\")))","v":""},null,null,null,null,null,null,null,null,null,null,null,null,null,null,null,"",{"$f":"+IF(AF1591=\"\",\"\",VLOOKUP(AF1591,Tabelas!$J$27:$K$30,2))","v":""}]
[null,null,null,null,null,null,{"$f":"+IF(F1595=\"\",\"\",VLOOKUP(F1595,Tabelas!$B$7:$C$96,2))","v":""},null,{"$f":"IF(H1595=\"\",\"\",ROUND(H1595/SUM(H1594:H1601),4))","v":""},null,null,null,null,null,null,{"$f":"+IF(O1595=\"\",\"\",IF(N1594=\"Transporte Marítimo\",VLOOKUP(O1595,Tabelas!$F$7:$G$12,2),IF(N1594=\"Transporte Aéreo\",VLOOKUP(O1595,Tabelas!$F$16:$G$21,2),\"\")))","v":""},null,null,null,null,null,null,null,null,null,null,null,null,null,null,null,"",{"$f":"+IF(AF1595=\"\",\"\",VLOOKUP(AF1595,Tabelas!$J$27:$K$30,2))","v":""}]
[null,null,null,null,null,null,{"$f":"+IF(F1596=\"\",\"\",VLOOKUP(F1596,Tabelas!$B$7:$C$96,2))","v":""},null,{"$f":"IF(H1596=\"\",\"\",ROUND(H1596/SUM(H1594:H1601),4))","v":""},null,null,null,null,null,null,{"$f":"+IF(O1596=\"\",\"\",IF(N1594=\"Transporte Marítimo\",VLOOKUP(O1596,Tabelas!$F$7:$G$12,2),IF(N1594=\"Transporte Aéreo\",VLOOKUP(O1596,Tabelas!$F$16:$G$21,2),\"\")))","v":""},null,null,null,null,null,null,null,null,null,null,null,null,null,null,null,"",{"$f":"+IF(AF1596=\"\",\"\",VLOOKUP(AF1596,Tabelas!$J$27:$K$30,2))","v":""}]
[null,null,null,null,null,null,{"$f":"+IF(F1599=\"\",\"\",VLOOKUP(F1599,Tabelas!$B$7:$C$96,2))","v":""},null,{"$f":"IF(H1599=\"\",\"\",ROUND(H1599/SUM(H1594:H1601),4))","v":""},null,null,null,null,null,null,{"$f":"+IF(O1599=\"\",\"\",IF(N1594=\"Transporte Marítimo\",VLOOKUP(O1599,Tabelas!$F$7:$G$12,2),IF(N1594=\"Transporte Aéreo\",VLOOKUP(O1599,Tabelas!$F$16:$G$21,2),\"\")))","v":""},null,null,null,null,null,null,null,null,null,null,null,null,null,null,null,"",{"$f":"+IF(AF1599=\"\",\"\",VLOOKUP(AF1599,Tabelas!$J$27:$K$30,2))","v":""}]
[null,null,null,null,null,null,{"$f":"+IF(F1601=\"\",\"\",VLOOKUP(F1601,Tabelas!$B$7:$C$96,2))","v":""},null,{"$f":"IF(H1601=\"\",\"\",ROUND(H1601/SUM(H1594:H1601),4))","v":""},null,null,null,null,null,null,{"$f":"+IF(O1601=\"\",\"\",IF(N1594=\"Transporte Marítimo\",VLOOKUP(O1601,Tabelas!$F$7:$G$12,2),IF(N1594=\"Transporte Aéreo\",VLOOKUP(O1601,Tabelas!$F$16:$G$21,2),\"\")))","v":""},null,null,null,null,null,null,null,null,null,null,null,null,null,null,null,"",{"$f":"+IF(AF1601=\"\",\"\",VLOOKUP(AF1601,Tabelas!$J$27:$K$30,2))","v":""}]
[null,null,null,null,null,null,{"$f":"+IF(F1604=\"\",\"\",VLOOKUP(F1604,Tabelas!$B$7:$C$96,2))","v":""},null,{"$f":"IF(H1604=\"\",\"\",ROUND(H1604/SUM(H1602:H1609),4))","v":""},null,null,null,null,null,null,{"$f":"+IF(O1604=\"\",\"\",IF(N1602=\"Transporte Marítimo\",VLOOKUP(O1604,Tabelas!$F$7:$G$12,2),IF(N1602=\"Transporte Aéreo\",VLOOKUP(O1604,Tabelas!$F$16:$G$21,2),\"\")))","v":""},null,null,null,null,null,null,null,null,null,null,null,null,null,null,null,"",{"$f":"+IF(AF1604=\"\",\"\",VLOOKUP(AF1604,Tabelas!$J$27:$K$30,2))","v":""}]
[null,null,null,null,null,null,{"$f":"+IF(F1605=\"\",\"\",VLOOKUP(F1605,Tabelas!$B$7:$C$96,2))","v":""},null,{"$f":"IF(H1605=\"\",\"\",ROUND(H1605/SUM(H1602:H1609),4))","v":""},null,null,null,null,null,null,{"$f":"+IF(O1605=\"\",\"\",IF(N1602=\"Transporte Marítimo\",VLOOKUP(O1605,Tabelas!$F$7:$G$12,2),IF(N1602=\"Transporte Aéreo\",VLOOKUP(O1605,Tabelas!$F$16:$G$21,2),\"\")))","v":""},null,null,null,null,null,null,null,null,null,null,null,null,null,null,null,"",{"$f":"+IF(AF1605=\"\",\"\",VLOOKUP(AF1605,Tabelas!$J$27:$K$30,2))","v":""}]
[null,null,null,null,null,null,{"$f":"+IF(F1608=\"\",\"\",VLOOKUP(F1608,Tabelas!$B$7:$C$96,2))","v":""},null,{"$f":"IF(H1608=\"\",\"\",ROUND(H1608/SUM(H1602:H1609),4))","v":""},null,null,null,null,null,null,{"$f":"+IF(O1608=\"\",\"\",IF(N1602=\"Transporte Marítimo\",VLOOKUP(O1608,Tabelas!$F$7:$G$12,2),IF(N1602=\"Transporte Aéreo\",VLOOKUP(O1608,Tabelas!$F$16:$G$21,2),\"\")))","v":""},null,null,null,null,null,null,null,null,null,null,null,null,null,null,null,"",{"$f":"+IF(AF1608=\"\",\"\",VLOOKUP(AF1608,Tabelas!$J$27:$K$30,2))","v":""}]
[null,null,null,null,null,null,{"$f":"+IF(F1609=\"\",\"\",VLOOKUP(F1609,Tabelas!$B$7:$C$96,2))","v":""},null,{"$f":"IF(H1609=\"\",\"\",ROUND(H1609/SUM(H1602:H1609),4))","v":""},null,null,null,null,null,null,{"$f":"+IF(O1609=\"\",\"\",IF(N1602=\"Transporte Marítimo\",VLOOKUP(O1609,Tabelas!$F$7:$G$12,2),IF(N1602=\"Transporte Aéreo\",VLOOKUP(O1609,Tabelas!$F$16:$G$21,2),\"\")))","v":""},null,null,null,null,null,null,null,null,null,null,null,null,null,null,null,"",{"$f":"+IF(AF1609=\"\",\"\",VLOOKUP(AF1609,Tabelas!$J$27:$K$30,2))","v":""}]
[null,null,null,null,null,null,{"$f":"+IF(F1613=\"\",\"\",VLOOKUP(F1613,Tabelas!$B$7:$C$96,2))","v":""},null,{"$f":"IF(H1613=\"\",\"\",ROUND(H1613/SUM(H1610:H1617),4))","v":""},null,null,null,null,null,null,{"$f":"+IF(O1613=\"\",\"\",IF(N1610=\"Transporte Marítimo\",VLOOKUP(O1613,Tabelas!$F$7:$G$12,2),IF(N1610=\"Transporte Aéreo\",VLOOKUP(O1613,Tabelas!$F$16:$G$21,2),\"\")))","v":""},null,null,null,null,null,null,null,null,null,null,null,null,null,null,null,"",{"$f":"+IF(AF1613=\"\",\"\",VLOOKUP(AF1613,Tabelas!$J$27:$K$30,2))","v":""}]
[null,null,null,null,null,null,{"$f":"+IF(F1614=\"\",\"\",VLOOKUP(F1614,Tabelas!$B$7:$C$96,2))","v":""},null,{"$f":"IF(H1614=\"\",\"\",ROUND(H1614/SUM(H1610:H1617),4))","v":""},null,null,null,null,null,null,{"$f":"+IF(O1614=\"\",\"\",IF(N1610=\"Transporte Marítimo\",VLOOKUP(O1614,Tabelas!$F$7:$G$12,2),IF(N1610=\"Transporte Aéreo\",VLOOKUP(O1614,Tabelas!$F$16:$G$21,2),\"\")))","v":""},null,null,null,null,null,null,null,null,null,null,null,null,null,null,null,"",{"$f":"+IF(AF1614=\"\",\"\",VLOOKUP(AF1614,Tabelas!$J$27:$K$30,2))","v":""}]
[null,null,null,null,null,null,{"$f":"+IF(F1617=\"\",\"\",VLOOKUP(F1617,Tabelas!$B$7:$C$96,2))","v":""},null,{"$f":"IF(H1617=\"\",\"\",ROUND(H1617/SUM(H1610:H1617),4))","v":""},null,null,null,null,null,null,{"$f":"+IF(O1617=\"\",\"\",IF(N1610=\"Transporte Marítimo\",VLOOKUP(O1617,Tabelas!$F$7:$G$12,2),IF(N1610=\"Transporte Aéreo\",VLOOKUP(O1617,Tabelas!$F$16:$G$21,2),\"\")))","v":""},null,null,null,null,null,null,null,null,null,null,null,null,null,null,null,"",{"$f":"+IF(AF1617=\"\",\"\",VLOOKUP(AF1617,Tabelas!$J$27:$K$30,2))","v":""}]
[null,{"$f":"+B1610+1","v":201},null,null,null,null,{"$f":"+IF(F1618=\"\",\"\",VLOOKUP(F1618,Tabelas!$B$7:$C$96,2))","v":""},null,{"$f":"IF(H1618=\"\",\"\",1-SUM(I1619:I1625))","v":""},null,null,null,null,null,null,{"$f":"+IF(O1618=\"\",\"\",IF(N1618=\"Transporte Marítimo\",VLOOKUP(O1618,Tabelas!$F$7:$G$12,2),IF(N1618=\"Transporte Aéreo\",VLOOKUP(O1618,Tabelas!$F$16:$G$21,2),\"\")))","v":""},null,null,null,null,null,null,null,null,null,null,null,null,null,null,null,"",{"$f":"+IF(AF1618=\"\",\"\",VLOOKUP(AF1618,Tabelas!$J$27:$K$30,2))","v":""},null,null,null,null,null,null,null,null,null,null,null,null,null,null,null," "]
[null,null,null,null,null,null,{"$f":"+IF(F1622=\"\",\"\",VLOOKUP(F1622,Tabelas!$B$7:$C$96,2))","v":""},null,{"$f":"IF(H1622=\"\",\"\",ROUND(H1622/SUM(H1618:H1625),4))","v":""},null,null,null,null,null,null,{"$f":"+IF(O1622=\"\",\"\",IF(N1618=\"Transporte Marítimo\",VLOOKUP(O1622,Tabelas!$F$7:$G$12,2),IF(N1618=\"Transporte Aéreo\",VLOOKUP(O1622,Tabelas!$F$16:$G$21,2),\"\")))","v":""},null,null,null,null,null,null,null,null,null,null,null,null,null,null,null,"",{"$f":"+IF(AF1622=\"\",\"\",VLOOKUP(AF1622,Tabelas!$J$27:$K$30,2))","v":""}]
[null,null,null,null,null,null,{"$f":"+IF(F1623=\"\",\"\",VLOOKUP(F1623,Tabelas!$B$7:$C$96,2))","v":""},null,{"$f":"IF(H1623=\"\",\"\",ROUND(H1623/SUM(H1618:H1625),4))","v":""},null,null,null,null,null,null,{"$f":"+IF(O1623=\"\",\"\",IF(N1618=\"Transporte Marítimo\",VLOOKUP(O1623,Tabelas!$F$7:$G$12,2),IF(N1618=\"Transporte Aéreo\",VLOOKUP(O1623,Tabelas!$F$16:$G$21,2),\"\")))","v":""},null,null,null,null,null,null,null,null,null,null,null,null,null,null,null,"",{"$f":"+IF(AF1623=\"\",\"\",VLOOKUP(AF1623,Tabelas!$J$27:$K$30,2))","v":""}]
[null,{"$f":"+B1618+1","v":202},null,null,null,null,{"$f":"+IF(F1626=\"\",\"\",VLOOKUP(F1626,Tabelas!$B$7:$C$96,2))","v":""},null,{"$f":"IF(H1626=\"\",\"\",1-SUM(I1627:I1633))","v":""},null,null,null,null,null,null,{"$f":"+IF(O1626=\"\",\"\",IF(N1626=\"Transporte Marítimo\",VLOOKUP(O1626,Tabelas!$F$7:$G$12,2),IF(N1626=\"Transporte Aéreo\",VLOOKUP(O1626,Tabelas!$F$16:$G$21,2),\"\")))","v":""},null,null,null,null,null,null,null,null,null,null,null,null,null,null,null,"",{"$f":"+IF(AF1626=\"\",\"\",VLOOKUP(AF1626,Tabelas!$J$27:$K$30,2))","v":""},null,null,null,null,null,null,null,null,null,null,null,null,null,null,null," "]
[null,null,null,null,null,null,{"$f":"+IF(F1627=\"\",\"\",VLOOKUP(F1627,Tabelas!$B$7:$C$96,2))","v":""},null,{"$f":"IF(H1627=\"\",\"\",ROUND(H1627/SUM(H1626:H1633),4))","v":""},null,null,null,null,null,null,{"$f":"+IF(O1627=\"\",\"\",IF(N1626=\"Transporte Marítimo\",VLOOKUP(O1627,Tabelas!$F$7:$G$12,2),IF(N1626=\"Transporte Aéreo\",VLOOKUP(O1627,Tabelas!$F$16:$G$21,2),\"\")))","v":""},null,null,null,null,null,null,null,null,null,null,null,null,null,null,null,"",{"$f":"+IF(AF1627=\"\",\"\",VLOOKUP(AF1627,Tabelas!$J$27:$K$30,2))","v":""}]
[null,null,null,null,null,null,{"$f":"+IF(F1629=\"\",\"\",VLOOKUP(F1629,Tabelas!$B$7:$C$96,2))","v":""},null,{"$f":"IF(H1629=\"\",\"\",ROUND(H1629/SUM(H1626:H1633),4))","v":""},null,null,null,null,null,null,{"$f":"+IF(O1629=\"\",\"\",IF(N1626=\"Transporte Marítimo\",VLOOKUP(O1629,Tabelas!$F$7:$G$12,2),IF(N1626=\"Transporte Aéreo\",VLOOKUP(O1629,Tabelas!$F$16:$G$21,2),\"\")))","v":""},null,null,null,null,null,null,null,null,null,null,null,null,null,null,null,"",{"$f":"+IF(AF1629=\"\",\"\",VLOOKUP(AF1629,Tabelas!$J$27:$K$30,2))","v":""}]
[null,null,null,null,null,null,{"$f":"+IF(F1632=\"\",\"\",VLOOKUP(F1632,Tabelas!$B$7:$C$96,2))","v":""},null,{"$f":"IF(H1632=\"\",\"\",ROUND(H1632/SUM(H1626:H1633),4))","v":""},null,null,null,null,null,null,{"$f":"+IF(O1632=\"\",\"\",IF(N1626=\"Transporte Marítimo\",VLOOKUP(O1632,Tabelas!$F$7:$G$12,2),IF(N1626=\"Transporte Aéreo\",VLOOKUP(O1632,Tabelas!$F$16:$G$21,2),\"\")))","v":""},null,null,null,null,null,null,null,null,null,null,null,null,null,null,null,"",{"$f":"+IF(AF1632=\"\",\"\",VLOOKUP(AF1632,Tabelas!$J$27:$K$30,2))","v":""}]
[null,null,null,null,null,null,{"$f":"+IF(F1635=\"\",\"\",VLOOKUP(F1635,Tabelas!$B$7:$C$96,2))","v":""},null,{"$f":"IF(H1635=\"\",\"\",ROUND(H1635/SUM(H1634:H1641),4))","v":""},null,null,null,null,null,null,{"$f":"+IF(O1635=\"\",\"\",IF(N1634=\"Transporte Marítimo\",VLOOKUP(O1635,Tabelas!$F$7:$G$12,2),IF(N1634=\"Transporte Aéreo\",VLOOKUP(O1635,Tabelas!$F$16:$G$21,2),\"\")))","v":""},null,null,null,null,null,null,null,null,null,null,null,null,null,null,null,"",{"$f":"+IF(AF1635=\"\",\"\",VLOOKUP(AF1635,Tabelas!$J$27:$K$30,2))","v":""}]
[null,null,null,null,null,null,{"$f":"+IF(F1636=\"\",\"\",VLOOKUP(F1636,Tabelas!$B$7:$C$96,2))","v":""},null,{"$f":"IF(H1636=\"\",\"\",ROUND(H1636/SUM(H1634:H1641),4))","v":""},null,null,null,null,null,null,{"$f":"+IF(O1636=\"\",\"\",IF(N1634=\"Transporte Marítimo\",VLOOKUP(O1636,Tabelas!$F$7:$G$12,2),IF(N1634=\"Transporte Aéreo\",VLOOKUP(O1636,Tabelas!$F$16:$G$21,2),\"\")))","v":""},null,null,null,null,null,null,null,null,null,null,null,null,null,null,null,"",{"$f":"+IF(AF1636=\"\",\"\",VLOOKUP(AF1636,Tabelas!$J$27:$K$30,2))","v":""}]
[null,null,null,null,null,null,{"$f":"+IF(F1640=\"\",\"\",VLOOKUP(F1640,Tabelas!$B$7:$C$96,2))","v":""},null,{"$f":"IF(H1640=\"\",\"\",ROUND(H1640/SUM(H1634:H1641),4))","v":""},null,null,null,null,null,null,{"$f":"+IF(O1640=\"\",\"\",IF(N1634=\"Transporte Marítimo\",VLOOKUP(O1640,Tabelas!$F$7:$G$12,2),IF(N1634=\"Transporte Aéreo\",VLOOKUP(O1640,Tabelas!$F$16:$G$21,2),\"\")))","v":""},null,null,null,null,null,null,null,null,null,null,null,null,null,null,null,"",{"$f":"+IF(AF1640=\"\",\"\",VLOOKUP(AF1640,Tabelas!$J$27:$K$30,2))","v":""}]
[null,null,null,null,null,null,{"$f":"+IF(F1641=\"\",\"\",VLOOKUP(F1641,Tabelas!$B$7:$C$96,2))","v":""},null,{"$f":"IF(H1641=\"\",\"\",ROUND(H1641/SUM(H1634:H1641),4))","v":""},null,null,null,null,null,null,{"$f":"+IF(O1641=\"\",\"\",IF(N1634=\"Transporte Marítimo\",VLOOKUP(O1641,Tabelas!$F$7:$G$12,2),IF(N1634=\"Transporte Aéreo\",VLOOKUP(O1641,Tabelas!$F$16:$G$21,2),\"\")))","v":""},null,null,null,null,null,null,null,null,null,null,null,null,null,null,null,"",{"$f":"+IF(AF1641=\"\",\"\",VLOOKUP(AF1641,Tabelas!$J$27:$K$30,2))","v":""}]
[null,null,null,null,null,null,{"$f":"+IF(F1644=\"\",\"\",VLOOKUP(F1644,Tabelas!$B$7:$C$96,2))","v":""},null,{"$f":"IF(H1644=\"\",\"\",ROUND(H1644/SUM(H1642:H1649),4))","v":""},null,null,null,null,null,null,{"$f":"+IF(O1644=\"\",\"\",IF(N1642=\"Transporte Marítimo\",VLOOKUP(O1644,Tabelas!$F$7:$G$12,2),IF(N1642=\"Transporte Aéreo\",VLOOKUP(O1644,Tabelas!$F$16:$G$21,2),\"\")))","v":""},null,null,null,null,null,null,null,null,null,null,null,null,null,null,null,"",{"$f":"+IF(AF1644=\"\",\"\",VLOOKUP(AF1644,Tabelas!$J$27:$K$30,2))","v":""}]
[null,null,null,null,null,null,{"$f":"+IF(F1645=\"\",\"\",VLOOKUP(F1645,Tabelas!$B$7:$C$96,2))","v":""},null,{"$f":"IF(H1645=\"\",\"\",ROUND(H1645/SUM(H1642:H1649),4))","v":""},null,null,null,null,null,null,{"$f":"+IF(O1645=\"\",\"\",IF(N1642=\"Transporte Marítimo\",VLOOKUP(O1645,Tabelas!$F$7:$G$12,2),IF(N1642=\"Transporte Aéreo\",VLOOKUP(O1645,Tabelas!$F$16:$G$21,2),\"\")))","v":""},null,null,null,null,null,null,null,null,null,null,null,null,null,null,null,"",{"$f":"+IF(AF1645=\"\",\"\",VLOOKUP(AF1645,Tabelas!$J$27:$K$30,2))","v":""}]
[null,null,null,null,null,null,{"$f":"+IF(F1648=\"\",\"\",VLOOKUP(F1648,Tabelas!$B$7:$C$96,2))","v":""},null,{"$f":"IF(H1648=\"\",\"\",ROUND(H1648/SUM(H1642:H1649),4))","v":""},null,null,null,null,null,null,{"$f":"+IF(O1648=\"\",\"\",IF(N1642=\"Transporte Marítimo\",VLOOKUP(O1648,Tabelas!$F$7:$G$12,2),IF(N1642=\"Transporte Aéreo\",VLOOKUP(O1648,Tabelas!$F$16:$G$21,2),\"\")))","v":""},null,null,null,null,null,null,null,null,null,null,null,null,null,null,null,"",{"$f":"+IF(AF1648=\"\",\"\",VLOOKUP(AF1648,Tabelas!$J$27:$K$30,2))","v":""}]
[null,{"$f":"+B1642+1","v":205},null,null,null,null,{"$f":"+IF(F1650=\"\",\"\",VLOOKUP(F1650,Tabelas!$B$7:$C$96,2))","v":""},null,{"$f":"IF(H1650=\"\",\"\",1-SUM(I1651:I1657))","v":""},null,null,null,null,null,null,{"$f":"+IF(O1650=\"\",\"\",IF(N1650=\"Transporte Marítimo\",VLOOKUP(O1650,Tabelas!$F$7:$G$12,2),IF(N1650=\"Transporte Aéreo\",VLOOKUP(O1650,Tabelas!$F$16:$G$21,2),\"\")))","v":""},null,null,null,null,null,null,null,null,null,null,null,null,null,null,null,"",{"$f":"+IF(AF1650=\"\",\"\",VLOOKUP(AF1650,Tabelas!$J$27:$K$30,2))","v":""},null,null,null,null,null,null,null,null,null,null,null,null,null,null,null," "]
[null,null,null,null,null,null,{"$f":"+IF(F1653=\"\",\"\",VLOOKUP(F1653,Tabelas!$B$7:$C$96,2))","v":""},null,{"$f":"IF(H1653=\"\",\"\",ROUND(H1653/SUM(H1650:H1657),4))","v":""},null,null,null,null,null,null,{"$f":"+IF(O1653=\"\",\"\",IF(N1650=\"Transporte Marítimo\",VLOOKUP(O1653,Tabelas!$F$7:$G$12,2),IF(N1650=\"Transporte Aéreo\",VLOOKUP(O1653,Tabelas!$F$16:$G$21,2),\"\")))","v":""},null,null,null,null,null,null,null,null,null,null,null,null,null,null,null,"",{"$f":"+IF(AF1653=\"\",\"\",VLOOKUP(AF1653,Tabelas!$J$27:$K$30,2))","v":""}]
[null,null,null,null,null,null,{"$f":"+IF(F1654=\"\",\"\",VLOOKUP(F1654,Tabelas!$B$7:$C$96,2))","v":""},null,{"$f":"IF(H1654=\"\",\"\",ROUND(H1654/SUM(H1650:H1657),4))","v":""},null,null,null,null,null,null,{"$f":"+IF(O1654=\"\",\"\",IF(N1650=\"Transporte Marítimo\",VLOOKUP(O1654,Tabelas!$F$7:$G$12,2),IF(N1650=\"Transporte Aéreo\",VLOOKUP(O1654,Tabelas!$F$16:$G$21,2),\"\")))","v":""},null,null,null,null,null,null,null,null,null,null,null,null,null,null,null,"",{"$f":"+IF(AF1654=\"\",\"\",VLOOKUP(AF1654,Tabelas!$J$27:$K$30,2))","v":""}]
[null,null,null,null,null,null,{"$f":"+IF(F1657=\"\",\"\",VLOOKUP(F1657,Tabelas!$B$7:$C$96,2))","v":""},null,{"$f":"IF(H1657=\"\",\"\",ROUND(H1657/SUM(H1650:H1657),4))","v":""},null,null,null,null,null,null,{"$f":"+IF(O1657=\"\",\"\",IF(N1650=\"Transporte Marítimo\",VLOOKUP(O1657,Tabelas!$F$7:$G$12,2),IF(N1650=\"Transporte Aéreo\",VLOOKUP(O1657,Tabelas!$F$16:$G$21,2),\"\")))","v":""},null,null,null,null,null,null,null,null,null,null,null,null,null,null,null,"",{"$f":"+IF(AF1657=\"\",\"\",VLOOKUP(AF1657,Tabelas!$J$27:$K$30,2))","v":""}]
[null,null,null,null,null,null,{"$f":"+IF(F1660=\"\",\"\",VLOOKUP(F1660,Tabelas!$B$7:$C$96,2))","v":""},null,{"$f":"IF(H1660=\"\",\"\",ROUND(H1660/SUM(H1658:H1665),4))","v":""},null,null,null,null,null,null,{"$f":"+IF(O1660=\"\",\"\",IF(N1658=\"Transporte Marítimo\",VLOOKUP(O1660,Tabelas!$F$7:$G$12,2),IF(N1658=\"Transporte Aéreo\",VLOOKUP(O1660,Tabelas!$F$16:$G$21,2),\"\")))","v":""},null,null,null,null,null,null,null,null,null,null,null,null,null,null,null,"",{"$f":"+IF(AF1660=\"\",\"\",VLOOKUP(AF1660,Tabelas!$J$27:$K$30,2))","v":""}]
[null,null,null,null,null,null,{"$f":"+IF(F1662=\"\",\"\",VLOOKUP(F1662,Tabelas!$B$7:$C$96,2))","v":""},null,{"$f":"IF(H1662=\"\",\"\",ROUND(H1662/SUM(H1658:H1665),4))","v":""},null,null,null,null,null,null,{"$f":"+IF(O1662=\"\",\"\",IF(N1658=\"Transporte Marítimo\",VLOOKUP(O1662,Tabelas!$F$7:$G$12,2),IF(N1658=\"Transporte Aéreo\",VLOOKUP(O1662,Tabelas!$F$16:$G$21,2),\"\")))","v":""},null,null,null,null,null,null,null,null,null,null,null,null,null,null,null,"",{"$f":"+IF(AF1662=\"\",\"\",VLOOKUP(AF1662,Tabelas!$J$27:$K$30,2))","v":""}]
[null,null,null,null,null,null,{"$f":"+IF(F1663=\"\",\"\",VLOOKUP(F1663,Tabelas!$B$7:$C$96,2))","v":""},null,{"$f":"IF(H1663=\"\",\"\",ROUND(H1663/SUM(H1658:H1665),4))","v":""},null,null,null,null,null,null,{"$f":"+IF(O1663=\"\",\"\",IF(N1658=\"Transporte Marítimo\",VLOOKUP(O1663,Tabelas!$F$7:$G$12,2),IF(N1658=\"Transporte Aéreo\",VLOOKUP(O1663,Tabelas!$F$16:$G$21,2),\"\")))","v":""},null,null,null,null,null,null,null,null,null,null,null,null,null,null,null,"",{"$f":"+IF(AF1663=\"\",\"\",VLOOKUP(AF1663,Tabelas!$J$27:$K$30,2))","v":""}]
[null,{"$f":"+B1658+1","v":207},null,null,null,null,{"$f":"+IF(F1666=\"\",\"\",VLOOKUP(F1666,Tabelas!$B$7:$C$96,2))","v":""},null,{"$f":"IF(H1666=\"\",\"\",1-SUM(I1667:I1673))","v":""},null,null,null,null,null,null,{"$f":"+IF(O1666=\"\",\"\",IF(N1666=\"Transporte Marítimo\",VLOOKUP(O1666,Tabelas!$F$7:$G$12,2),IF(N1666=\"Transporte Aéreo\",VLOOKUP(O1666,Tabelas!$F$16:$G$21,2),\"\")))","v":""},null,null,null,null,null,null,null,null,null,null,null,null,null,null,null,"",{"$f":"+IF(AF1666=\"\",\"\",VLOOKUP(AF1666,Tabelas!$J$27:$K$30,2))","v":""},null,null,null,null,null,null,null,null,null,null,null,null,null,null,null," "]
[null,null,null,null,null,null,{"$f":"+IF(F1668=\"\",\"\",VLOOKUP(F1668,Tabelas!$B$7:$C$96,2))","v":""},null,{"$f":"IF(H1668=\"\",\"\",ROUND(H1668/SUM(H1666:H1673),4))","v":""},null,null,null,null,null,null,{"$f":"+IF(O1668=\"\",\"\",IF(N1666=\"Transporte Marítimo\",VLOOKUP(O1668,Tabelas!$F$7:$G$12,2),IF(N1666=\"Transporte Aéreo\",VLOOKUP(O1668,Tabelas!$F$16:$G$21,2),\"\")))","v":""},null,null,null,null,null,null,null,null,null,null,null,null,null,null,null,"",{"$f":"+IF(AF1668=\"\",\"\",VLOOKUP(AF1668,Tabelas!$J$27:$K$30,2))","v":""}]
[null,null,null,null,null,null,{"$f":"+IF(F1671=\"\",\"\",VLOOKUP(F1671,Tabelas!$B$7:$C$96,2))","v":""},null,{"$f":"IF(H1671=\"\",\"\",ROUND(H1671/SUM(H1666:H1673),4))","v":""},null,null,null,null,null,null,{"$f":"+IF(O1671=\"\",\"\",IF(N1666=\"Transporte Marítimo\",VLOOKUP(O1671,Tabelas!$F$7:$G$12,2),IF(N1666=\"Transporte Aéreo\",VLOOKUP(O1671,Tabelas!$F$16:$G$21,2),\"\")))","v":""},null,null,null,null,null,null,null,null,null,null,null,null,null,null,null,"",{"$f":"+IF(AF1671=\"\",\"\",VLOOKUP(AF1671,Tabelas!$J$27:$K$30,2))","v":""}]
[null,null,null,null,null,null,{"$f":"+IF(F1672=\"\",\"\",VLOOKUP(F1672,Tabelas!$B$7:$C$96,2))","v":""},null,{"$f":"IF(H1672=\"\",\"\",ROUND(H1672/SUM(H1666:H1673),4))","v":""},null,null,null,null,null,null,{"$f":"+IF(O1672=\"\",\"\",IF(N1666=\"Transporte Marítimo\",VLOOKUP(O1672,Tabelas!$F$7:$G$12,2),IF(N1666=\"Transporte Aéreo\",VLOOKUP(O1672,Tabelas!$F$16:$G$21,2),\"\")))","v":""},null,null,null,null,null,null,null,null,null,null,null,null,null,null,null,"",{"$f":"+IF(AF1672=\"\",\"\",VLOOKUP(AF1672,Tabelas!$J$27:$K$30,2))","v":""}]
[null,null,null,null,null,null,{"$f":"+IF(F1675=\"\",\"\",VLOOKUP(F1675,Tabelas!$B$7:$C$96,2))","v":""},null,{"$f":"IF(H1675=\"\",\"\",ROUND(H1675/SUM(H1674:H1681),4))","v":""},null,null,null,null,null,null,{"$f":"+IF(O1675=\"\",\"\",IF(N1674=\"Transporte Marítimo\",VLOOKUP(O1675,Tabelas!$F$7:$G$12,2),IF(N1674=\"Transporte Aéreo\",VLOOKUP(O1675,Tabelas!$F$16:$G$21,2),\"\")))","v":""},null,null,null,null,null,null,null,null,null,null,null,null,null,null,null,"",{"$f":"+IF(AF1675=\"\",\"\",VLOOKUP(AF1675,Tabelas!$J$27:$K$30,2))","v":""}]
[null,null,null,null,null,null,{"$f":"+IF(F1676=\"\",\"\",VLOOKUP(F1676,Tabelas!$B$7:$C$96,2))","v":""},null,{"$f":"IF(H1676=\"\",\"\",ROUND(H1676/SUM(H1674:H1681),4))","v":""},null,null,null,null,null,null,{"$f":"+IF(O1676=\"\",\"\",IF(N1674=\"Transporte Marítimo\",VLOOKUP(O1676,Tabelas!$F$7:$G$12,2),IF(N1674=\"Transporte Aéreo\",VLOOKUP(O1676,Tabelas!$F$16:$G$21,2),\"\")))","v":""},null,null,null,null,null,null,null,null,null,null,null,null,null,null,null,"",{"$f":"+IF(AF1676=\"\",\"\",VLOOKUP(AF1676,Tabelas!$J$27:$K$30,2))","v":""}]
[null,null,null,null,null,null,{"$f":"+IF(F1678=\"\",\"\",VLOOKUP(F1678,Tabelas!$B$7:$C$96,2))","v":""},null,{"$f":"IF(H1678=\"\",\"\",ROUND(H1678/SUM(H1674:H1681),4))","v":""},null,null,null,null,null,null,{"$f":"+IF(O1678=\"\",\"\",IF(N1674=\"Transporte Marítimo\",VLOOKUP(O1678,Tabelas!$F$7:$G$12,2),IF(N1674=\"Transporte Aéreo\",VLOOKUP(O1678,Tabelas!$F$16:$G$21,2),\"\")))","v":""},null,null,null,null,null,null,null,null,null,null,null,null,null,null,null,"",{"$f":"+IF(AF1678=\"\",\"\",VLOOKUP(AF1678,Tabelas!$J$27:$K$30,2))","v":""}]
[null,null,null,null,null,null,{"$f":"+IF(F1681=\"\",\"\",VLOOKUP(F1681,Tabelas!$B$7:$C$96,2))","v":""},null,{"$f":"IF(H1681=\"\",\"\",ROUND(H1681/SUM(H1674:H1681),4))","v":""},null,null,null,null,null,null,{"$f":"+IF(O1681=\"\",\"\",IF(N1674=\"Transporte Marítimo\",VLOOKUP(O1681,Tabelas!$F$7:$G$12,2),IF(N1674=\"Transporte Aéreo\",VLOOKUP(O1681,Tabelas!$F$16:$G$21,2),\"\")))","v":""},null,null,null,null,null,null,null,null,null,null,null,null,null,null,null,"",{"$f":"+IF(AF1681=\"\",\"\",VLOOKUP(AF1681,Tabelas!$J$27:$K$30,2))","v":""}]
[null,null,null,null,null,null,{"$f":"+IF(F1684=\"\",\"\",VLOOKUP(F1684,Tabelas!$B$7:$C$96,2))","v":""},null,{"$f":"IF(H1684=\"\",\"\",ROUND(H1684/SUM(H1682:H1689),4))","v":""},null,null,null,null,null,null,{"$f":"+IF(O1684=\"\",\"\",IF(N1682=\"Transporte Marítimo\",VLOOKUP(O1684,Tabelas!$F$7:$G$12,2),IF(N1682=\"Transporte Aéreo\",VLOOKUP(O1684,Tabelas!$F$16:$G$21,2),\"\")))","v":""},null,null,null,null,null,null,null,null,null,null,null,null,null,null,null,"",{"$f":"+IF(AF1684=\"\",\"\",VLOOKUP(AF1684,Tabelas!$J$27:$K$30,2))","v":""}]
[null,null,null,null,null,null,{"$f":"+IF(F1685=\"\",\"\",VLOOKUP(F1685,Tabelas!$B$7:$C$96,2))","v":""},null,{"$f":"IF(H1685=\"\",\"\",ROUND(H1685/SUM(H1682:H1689),4))","v":""},null,null,null,null,null,null,{"$f":"+IF(O1685=\"\",\"\",IF(N1682=\"Transporte Marítimo\",VLOOKUP(O1685,Tabelas!$F$7:$G$12,2),IF(N1682=\"Transporte Aéreo\",VLOOKUP(O1685,Tabelas!$F$16:$G$21,2),\"\")))","v":""},null,null,null,null,null,null,null,null,null,null,null,null,null,null,null,"",{"$f":"+IF(AF1685=\"\",\"\",VLOOKUP(AF1685,Tabelas!$J$27:$K$30,2))","v":""}]
[null,null,null,null,null,null,{"$f":"+IF(F1688=\"\",\"\",VLOOKUP(F1688,Tabelas!$B$7:$C$96,2))","v":""},null,{"$f":"IF(H1688=\"\",\"\",ROUND(H1688/SUM(H1682:H1689),4))","v":""},null,null,null,null,null,null,{"$f":"+IF(O1688=\"\",\"\",IF(N1682=\"Transporte Marítimo\",VLOOKUP(O1688,Tabelas!$F$7:$G$12,2),IF(N1682=\"Transporte Aéreo\",VLOOKUP(O1688,Tabelas!$F$16:$G$21,2),\"\")))","v":""},null,null,null,null,null,null,null,null,null,null,null,null,null,null,null,"",{"$f":"+IF(AF1688=\"\",\"\",VLOOKUP(AF1688,Tabelas!$J$27:$K$30,2))","v":""}]
[null,{"$f":"+B1682+1","v":210},null,null,null,null,{"$f":"+IF(F1690=\"\",\"\",VLOOKUP(F1690,Tabelas!$B$7:$C$96,2))","v":""},null,{"$f":"IF(H1690=\"\",\"\",1-SUM(I1691:I1697))","v":""},null,null,null,null,null,null,{"$f":"+IF(O1690=\"\",\"\",IF(N1690=\"Transporte Marítimo\",VLOOKUP(O1690,Tabelas!$F$7:$G$12,2),IF(N1690=\"Transporte Aéreo\",VLOOKUP(O1690,Tabelas!$F$16:$G$21,2),\"\")))","v":""},null,null,null,null,null,null,null,null,null,null,null,null,null,null,null,"",{"$f":"+IF(AF1690=\"\",\"\",VLOOKUP(AF1690,Tabelas!$J$27:$K$30,2))","v":""},null,null,null,null,null,null,null,null,null,null,null,null,null,null,null," "]
[null,null,null,null,null,null,{"$f":"+IF(F1693=\"\",\"\",VLOOKUP(F1693,Tabelas!$B$7:$C$96,2))","v":""},null,{"$f":"IF(H1693=\"\",\"\",ROUND(H1693/SUM(H1690:H1697),4))","v":""},null,null,null,null,null,null,{"$f":"+IF(O1693=\"\",\"\",IF(N1690=\"Transporte Marítimo\",VLOOKUP(O1693,Tabelas!$F$7:$G$12,2),IF(N1690=\"Transporte Aéreo\",VLOOKUP(O1693,Tabelas!$F$16:$G$21,2),\"\")))","v":""},null,null,null,null,null,null,null,null,null,null,null,null,null,null,null,"",{"$f":"+IF(AF1693=\"\",\"\",VLOOKUP(AF1693,Tabelas!$J$27:$K$30,2))","v":""}]
[null,null,null,null,null,null,{"$f":"+IF(F1694=\"\",\"\",VLOOKUP(F1694,Tabelas!$B$7:$C$96,2))","v":""},null,{"$f":"IF(H1694=\"\",\"\",ROUND(H1694/SUM(H1690:H1697),4))","v":""},null,null,null,null,null,null,{"$f":"+IF(O1694=\"\",\"\",IF(N1690=\"Transporte Marítimo\",VLOOKUP(O1694,Tabelas!$F$7:$G$12,2),IF(N1690=\"Transporte Aéreo\",VLOOKUP(O1694,Tabelas!$F$16:$G$21,2),\"\")))","v":""},null,null,null,null,null,null,null,null,null,null,null,null,null,null,null,"",{"$f":"+IF(AF1694=\"\",\"\",VLOOKUP(AF1694,Tabelas!$J$27:$K$30,2))","v":""}]
[null,null,null,null,null,null,{"$f":"+IF(F1697=\"\",\"\",VLOOKUP(F1697,Tabelas!$B$7:$C$96,2))","v":""},null,{"$f":"IF(H1697=\"\",\"\",ROUND(H1697/SUM(H1690:H1697),4))","v":""},null,null,null,null,null,null,{"$f":"+IF(O1697=\"\",\"\",IF(N1690=\"Transporte Marítimo\",VLOOKUP(O1697,Tabelas!$F$7:$G$12,2),IF(N1690=\"Transporte Aéreo\",VLOOKUP(O1697,Tabelas!$F$16:$G$21,2),\"\")))","v":""},null,null,null,null,null,null,null,null,null,null,null,null,null,null,null,"",{"$f":"+IF(AF1697=\"\",\"\",VLOOKUP(AF1697,Tabelas!$J$27:$K$30,2))","v":""}]
[null,{"$f":"+B1690+1","v":211},null,null,null,null,{"$f":"+IF(F1698=\"\",\"\",VLOOKUP(F1698,Tabelas!$B$7:$C$96,2))","v":""},null,{"$f":"IF(H1698=\"\",\"\",1-SUM(I1699:I1705))","v":""},null,null,null,null,null,null,{"$f":"+IF(O1698=\"\",\"\",IF(N1698=\"Transporte Marítimo\",VLOOKUP(O1698,Tabelas!$F$7:$G$12,2),IF(N1698=\"Transporte Aéreo\",VLOOKUP(O1698,Tabelas!$F$16:$G$21,2),\"\")))","v":""},null,null,null,null,null,null,null,null,null,null,null,null,null,null,null,"",{"$f":"+IF(AF1698=\"\",\"\",VLOOKUP(AF1698,Tabelas!$J$27:$K$30,2))","v":""},null,null,null,null,null,null,null,null,null,null,null,null,null,null,null," "]
[null,null,null,null,null,null,{"$f":"+IF(F1702=\"\",\"\",VLOOKUP(F1702,Tabelas!$B$7:$C$96,2))","v":""},null,{"$f":"IF(H1702=\"\",\"\",ROUND(H1702/SUM(H1698:H1705),4))","v":""},null,null,null,null,null,null,{"$f":"+IF(O1702=\"\",\"\",IF(N1698=\"Transporte Marítimo\",VLOOKUP(O1702,Tabelas!$F$7:$G$12,2),IF(N1698=\"Transporte Aéreo\",VLOOKUP(O1702,Tabelas!$F$16:$G$21,2),\"\")))","v":""},null,null,null,null,null,null,null,null,null,null,null,null,null,null,null,"",{"$f":"+IF(AF1702=\"\",\"\",VLOOKUP(AF1702,Tabelas!$J$27:$K$30,2))","v":""}]
[null,null,null,null,null,null,{"$f":"+IF(F1703=\"\",\"\",VLOOKUP(F1703,Tabelas!$B$7:$C$96,2))","v":""},null,{"$f":"IF(H1703=\"\",\"\",ROUND(H1703/SUM(H1698:H1705),4))","v":""},null,null,null,null,null,null,{"$f":"+IF(O1703=\"\",\"\",IF(N1698=\"Transporte Marítimo\",VLOOKUP(O1703,Tabelas!$F$7:$G$12,2),IF(N1698=\"Transporte Aéreo\",VLOOKUP(O1703,Tabelas!$F$16:$G$21,2),\"\")))","v":""},null,null,null,null,null,null,null,null,null,null,null,null,null,null,null,"",{"$f":"+IF(AF1703=\"\",\"\",VLOOKUP(AF1703,Tabelas!$J$27:$K$30,2))","v":""}]
[null,{"$f":"+B1698+1","v":212},null,null,null,null,{"$f":"+IF(F1706=\"\",\"\",VLOOKUP(F1706,Tabelas!$B$7:$C$96,2))","v":""},null,{"$f":"IF(H1706=\"\",\"\",1-SUM(I1707:I1713))","v":""},null,null,null,null,null,null,{"$f":"+IF(O1706=\"\",\"\",IF(N1706=\"Transporte Marítimo\",VLOOKUP(O1706,Tabelas!$F$7:$G$12,2),IF(N1706=\"Transporte Aéreo\",VLOOKUP(O1706,Tabelas!$F$16:$G$21,2),\"\")))","v":""},null,null,null,null,null,null,null,null,null,null,null,null,null,null,null,"",{"$f":"+IF(AF1706=\"\",\"\",VLOOKUP(AF1706,Tabelas!$J$27:$K$30,2))","v":""},null,null,null,null,null,null,null,null,null,null,null,null,null,null,null," "]
[null,null,null,null,null,null,{"$f":"+IF(F1709=\"\",\"\",VLOOKUP(F1709,Tabelas!$B$7:$C$96,2))","v":""},null,{"$f":"IF(H1709=\"\",\"\",ROUND(H1709/SUM(H1706:H1713),4))","v":""},null,null,null,null,null,null,{"$f":"+IF(O1709=\"\",\"\",IF(N1706=\"Transporte Marítimo\",VLOOKUP(O1709,Tabelas!$F$7:$G$12,2),IF(N1706=\"Transporte Aéreo\",VLOOKUP(O1709,Tabelas!$F$16:$G$21,2),\"\")))","v":""},null,null,null,null,null,null,null,null,null,null,null,null,null,null,null,"",{"$f":"+IF(AF1709=\"\",\"\",VLOOKUP(AF1709,Tabelas!$J$27:$K$30,2))","v":""}]
[null,null,null,null,null,null,{"$f":"+IF(F1711=\"\",\"\",VLOOKUP(F1711,Tabelas!$B$7:$C$96,2))","v":""},null,{"$f":"IF(H1711=\"\",\"\",ROUND(H1711/SUM(H1706:H1713),4))","v":""},null,null,null,null,null,null,{"$f":"+IF(O1711=\"\",\"\",IF(N1706=\"Transporte Marítimo\",VLOOKUP(O1711,Tabelas!$F$7:$G$12,2),IF(N1706=\"Transporte Aéreo\",VLOOKUP(O1711,Tabelas!$F$16:$G$21,2),\"\")))","v":""},null,null,null,null,null,null,null,null,null,null,null,null,null,null,null,"",{"$f":"+IF(AF1711=\"\",\"\",VLOOKUP(AF1711,Tabelas!$J$27:$K$30,2))","v":""}]
[null,null,null,null,null,null,{"$f":"+IF(F1712=\"\",\"\",VLOOKUP(F1712,Tabelas!$B$7:$C$96,2))","v":""},null,{"$f":"IF(H1712=\"\",\"\",ROUND(H1712/SUM(H1706:H1713),4))","v":""},null,null,null,null,null,null,{"$f":"+IF(O1712=\"\",\"\",IF(N1706=\"Transporte Marítimo\",VLOOKUP(O1712,Tabelas!$F$7:$G$12,2),IF(N1706=\"Transporte Aéreo\",VLOOKUP(O1712,Tabelas!$F$16:$G$21,2),\"\")))","v":""},null,null,null,null,null,null,null,null,null,null,null,null,null,null,null,"",{"$f":"+IF(AF1712=\"\",\"\",VLOOKUP(AF1712,Tabelas!$J$27:$K$30,2))","v":""}]
[null,null,null,null,null,null,{"$f":"+IF(F1715=\"\",\"\",VLOOKUP(F1715,Tabelas!$B$7:$C$96,2))","v":""},null,{"$f":"IF(H1715=\"\",\"\",ROUND(H1715/SUM(H1714:H1721),4))","v":""},null,null,null,null,null,null,{"$f":"+IF(O1715=\"\",\"\",IF(N1714=\"Transporte Marítimo\",VLOOKUP(O1715,Tabelas!$F$7:$G$12,2),IF(N1714=\"Transporte Aéreo\",VLOOKUP(O1715,Tabelas!$F$16:$G$21,2),\"\")))","v":""},null,null,null,null,null,null,null,null,null,null,null,null,null,null,null,"",{"$f":"+IF(AF1715=\"\",\"\",VLOOKUP(AF1715,Tabelas!$J$27:$K$30,2))","v":""}]
[null,null,null,null,null,null,{"$f":"+IF(F1716=\"\",\"\",VLOOKUP(F1716,Tabelas!$B$7:$C$96,2))","v":""},null,{"$f":"IF(H1716=\"\",\"\",ROUND(H1716/SUM(H1714:H1721),4))","v":""},null,null,null,null,null,null,{"$f":"+IF(O1716=\"\",\"\",IF(N1714=\"Transporte Marítimo\",VLOOKUP(O1716,Tabelas!$F$7:$G$12,2),IF(N1714=\"Transporte Aéreo\",VLOOKUP(O1716,Tabelas!$F$16:$G$21,2),\"\")))","v":""},null,null,null,null,null,null,null,null,null,null,null,null,null,null,null,"",{"$f":"+IF(AF1716=\"\",\"\",VLOOKUP(AF1716,Tabelas!$J$27:$K$30,2))","v":""}]
[null,null,null,null,null,null,{"$f":"+IF(F1720=\"\",\"\",VLOOKUP(F1720,Tabelas!$B$7:$C$96,2))","v":""},null,{"$f":"IF(H1720=\"\",\"\",ROUND(H1720/SUM(H1714:H1721),4))","v":""},null,null,null,null,null,null,{"$f":"+IF(O1720=\"\",\"\",IF(N1714=\"Transporte Marítimo\",VLOOKUP(O1720,Tabelas!$F$7:$G$12,2),IF(N1714=\"Transporte Aéreo\",VLOOKUP(O1720,Tabelas!$F$16:$G$21,2),\"\")))","v":""},null,null,null,null,null,null,null,null,null,null,null,null,null,null,null,"",{"$f":"+IF(AF1720=\"\",\"\",VLOOKUP(AF1720,Tabelas!$J$27:$K$30,2))","v":""}]
[null,null,null,null,null,null,{"$f":"+IF(F1721=\"\",\"\",VLOOKUP(F1721,Tabelas!$B$7:$C$96,2))","v":""},null,{"$f":"IF(H1721=\"\",\"\",ROUND(H1721/SUM(H1714:H1721),4))","v":""},null,null,null,null,null,null,{"$f":"+IF(O1721=\"\",\"\",IF(N1714=\"Transporte Marítimo\",VLOOKUP(O1721,Tabelas!$F$7:$G$12,2),IF(N1714=\"Transporte Aéreo\",VLOOKUP(O1721,Tabelas!$F$16:$G$21,2),\"\")))","v":""},null,null,null,null,null,null,null,null,null,null,null,null,null,null,null,"",{"$f":"+IF(AF1721=\"\",\"\",VLOOKUP(AF1721,Tabelas!$J$27:$K$30,2))","v":""}]
[null,null,null,null,null,null,{"$f":"+IF(F1724=\"\",\"\",VLOOKUP(F1724,Tabelas!$B$7:$C$96,2))","v":""},null,{"$f":"IF(H1724=\"\",\"\",ROUND(H1724/SUM(H1722:H1729),4))","v":""},null,null,null,null,null,null,{"$f":"+IF(O1724=\"\",\"\",IF(N1722=\"Transporte Marítimo\",VLOOKUP(O1724,Tabelas!$F$7:$G$12,2),IF(N1722=\"Transporte Aéreo\",VLOOKUP(O1724,Tabelas!$F$16:$G$21,2),\"\")))","v":""},null,null,null,null,null,null,null,null,null,null,null,null,null,null,null,"",{"$f":"+IF(AF1724=\"\",\"\",VLOOKUP(AF1724,Tabelas!$J$27:$K$30,2))","v":""}]
[null,null,null,null,null,null,{"$f":"+IF(F1725=\"\",\"\",VLOOKUP(F1725,Tabelas!$B$7:$C$96,2))","v":""},null,{"$f":"IF(H1725=\"\",\"\",ROUND(H1725/SUM(H1722:H1729),4))","v":""},null,null,null,null,null,null,{"$f":"+IF(O1725=\"\",\"\",IF(N1722=\"Transporte Marítimo\",VLOOKUP(O1725,Tabelas!$F$7:$G$12,2),IF(N1722=\"Transporte Aéreo\",VLOOKUP(O1725,Tabelas!$F$16:$G$21,2),\"\")))","v":""},null,null,null,null,null,null,null,null,null,null,null,null,null,null,null,"",{"$f":"+IF(AF1725=\"\",\"\",VLOOKUP(AF1725,Tabelas!$J$27:$K$30,2))","v":""}]
[null,null,null,null,null,null,{"$f":"+IF(F1729=\"\",\"\",VLOOKUP(F1729,Tabelas!$B$7:$C$96,2))","v":""},null,{"$f":"IF(H1729=\"\",\"\",ROUND(H1729/SUM(H1722:H1729),4))","v":""},null,null,null,null,null,null,{"$f":"+IF(O1729=\"\",\"\",IF(N1722=\"Transporte Marítimo\",VLOOKUP(O1729,Tabelas!$F$7:$G$12,2),IF(N1722=\"Transporte Aéreo\",VLOOKUP(O1729,Tabelas!$F$16:$G$21,2),\"\")))","v":""},null,null,null,null,null,null,null,null,null,null,null,null,null,null,null,"",{"$f":"+IF(AF1729=\"\",\"\",VLOOKUP(AF1729,Tabelas!$J$27:$K$30,2))","v":""}]
[null,{"$f":"+B1722+1","v":215},null,null,null,null,{"$f":"+IF(F1730=\"\",\"\",VLOOKUP(F1730,Tabelas!$B$7:$C$96,2))","v":""},null,{"$f":"IF(H1730=\"\",\"\",1-SUM(I1731:I1737))","v":""},null,null,null,null,null,null,{"$f":"+IF(O1730=\"\",\"\",IF(N1730=\"Transporte Marítimo\",VLOOKUP(O1730,Tabelas!$F$7:$G$12,2),IF(N1730=\"Transporte Aéreo\",VLOOKUP(O1730,Tabelas!$F$16:$G$21,2),\"\")))","v":""},null,null,null,null,null,null,null,null,null,null,null,null,null,null,null,"",{"$f":"+IF(AF1730=\"\",\"\",VLOOKUP(AF1730,Tabelas!$J$27:$K$30,2))","v":""},null,null,null,null,null,null,null,null,null,null,null,null,null,null,null," "]
[null,null,null,null,null,null,{"$f":"+IF(F1733=\"\",\"\",VLOOKUP(F1733,Tabelas!$B$7:$C$96,2))","v":""},null,{"$f":"IF(H1733=\"\",\"\",ROUND(H1733/SUM(H1730:H1737),4))","v":""},null,null,null,null,null,null,{"$f":"+IF(O1733=\"\",\"\",IF(N1730=\"Transporte Marítimo\",VLOOKUP(O1733,Tabelas!$F$7:$G$12,2),IF(N1730=\"Transporte Aéreo\",VLOOKUP(O1733,Tabelas!$F$16:$G$21,2),\"\")))","v":""},null,null,null,null,null,null,null,null,null,null,null,null,null,null,null,"",{"$f":"+IF(AF1733=\"\",\"\",VLOOKUP(AF1733,Tabelas!$J$27:$K$30,2))","v":""}]
[null,null,null,null,null,null,{"$f":"+IF(F1734=\"\",\"\",VLOOKUP(F1734,Tabelas!$B$7:$C$96,2))","v":""},null,{"$f":"IF(H1734=\"\",\"\",ROUND(H1734/SUM(H1730:H1737),4))","v":""},null,null,null,null,null,null,{"$f":"+IF(O1734=\"\",\"\",IF(N1730=\"Transporte Marítimo\",VLOOKUP(O1734,Tabelas!$F$7:$G$12,2),IF(N1730=\"Transporte Aéreo\",VLOOKUP(O1734,Tabelas!$F$16:$G$21,2),\"\")))","v":""},null,null,null,null,null,null,null,null,null,null,null,null,null,null,null,"",{"$f":"+IF(AF1734=\"\",\"\",VLOOKUP(AF1734,Tabelas!$J$27:$K$30,2))","v":""}]
[null,null,null,null,null,null,{"$f":"+IF(F1737=\"\",\"\",VLOOKUP(F1737,Tabelas!$B$7:$C$96,2))","v":""},null,{"$f":"IF(H1737=\"\",\"\",ROUND(H1737/SUM(H1730:H1737),4))","v":""},null,null,null,null,null,null,{"$f":"+IF(O1737=\"\",\"\",IF(N1730=\"Transporte Marítimo\",VLOOKUP(O1737,Tabelas!$F$7:$G$12,2),IF(N1730=\"Transporte Aéreo\",VLOOKUP(O1737,Tabelas!$F$16:$G$21,2),\"\")))","v":""},null,null,null,null,null,null,null,null,null,null,null,null,null,null,null,"",{"$f":"+IF(AF1737=\"\",\"\",VLOOKUP(AF1737,Tabelas!$J$27:$K$30,2))","v":""}]
[null,null,null,null,null,null,{"$f":"+IF(F1739=\"\",\"\",VLOOKUP(F1739,Tabelas!$B$7:$C$96,2))","v":""},null,{"$f":"IF(H1739=\"\",\"\",ROUND(H1739/SUM(H1738:H1745),4))","v":""},null,null,null,null,null,null,{"$f":"+IF(O1739=\"\",\"\",IF(N1738=\"Transporte Marítimo\",VLOOKUP(O1739,Tabelas!$F$7:$G$12,2),IF(N1738=\"Transporte Aéreo\",VLOOKUP(O1739,Tabelas!$F$16:$G$21,2),\"\")))","v":""},null,null,null,null,null,null,null,null,null,null,null,null,null,null,null,"",{"$f":"+IF(AF1739=\"\",\"\",VLOOKUP(AF1739,Tabelas!$J$27:$K$30,2))","v":""}]
[null,null,null,null,null,null,{"$f":"+IF(F1742=\"\",\"\",VLOOKUP(F1742,Tabelas!$B$7:$C$96,2))","v":""},null,{"$f":"IF(H1742=\"\",\"\",ROUND(H1742/SUM(H1738:H1745),4))","v":""},null,null,null,null,null,null,{"$f":"+IF(O1742=\"\",\"\",IF(N1738=\"Transporte Marítimo\",VLOOKUP(O1742,Tabelas!$F$7:$G$12,2),IF(N1738=\"Transporte Aéreo\",VLOOKUP(O1742,Tabelas!$F$16:$G$21,2),\"\")))","v":""},null,null,null,null,null,null,null,null,null,null,null,null,null,null,null,"",{"$f":"+IF(AF1742=\"\",\"\",VLOOKUP(AF1742,Tabelas!$J$27:$K$30,2))","v":""}]
[null,null,null,null,null,null,{"$f":"+IF(F1743=\"\",\"\",VLOOKUP(F1743,Tabelas!$B$7:$C$96,2))","v":""},null,{"$f":"IF(H1743=\"\",\"\",ROUND(H1743/SUM(H1738:H1745),4))","v":""},null,null,null,null,null,null,{"$f":"+IF(O1743=\"\",\"\",IF(N1738=\"Transporte Marítimo\",VLOOKUP(O1743,Tabelas!$F$7:$G$12,2),IF(N1738=\"Transporte Aéreo\",VLOOKUP(O1743,Tabelas!$F$16:$G$21,2),\"\")))","v":""},null,null,null,null,null,null,null,null,null,null,null,null,null,null,null,"",{"$f":"+IF(AF1743=\"\",\"\",VLOOKUP(AF1743,Tabelas!$J$27:$K$30,2))","v":""}]
[null,null,null,null,null,null,{"$f":"+IF(F1747=\"\",\"\",VLOOKUP(F1747,Tabelas!$B$7:$C$96,2))","v":""},null,{"$f":"IF(H1747=\"\",\"\",ROUND(H1747/SUM(H1746:H1753),4))","v":""},null,null,null,null,null,null,{"$f":"+IF(O1747=\"\",\"\",IF(N1746=\"Transporte Marítimo\",VLOOKUP(O1747,Tabelas!$F$7:$G$12,2),IF(N1746=\"Transporte Aéreo\",VLOOKUP(O1747,Tabelas!$F$16:$G$21,2),\"\")))","v":""},null,null,null,null,null,null,null,null,null,null,null,null,null,null,null,{"$f":"+IF(AE1747=\"20NL\",1,IF(AE1747=\"40NL\",2,IF(AE1747=\"20RF\",3,IF(AE1747=\"40RF\",4,\"\"))))","v":""},{"$f":"+IF(AF1747=\"\",\"\",VLOOKUP(AF1747,Tabelas!$J$27:$K$30,2))","v":""}]
[null,null,null,null,null,null,{"$f":"+IF(F1748=\"\",\"\",VLOOKUP(F1748,Tabelas!$B$7:$C$96,2))","v":""},null,{"$f":"IF(H1748=\"\",\"\",ROUND(H1748/SUM(H1746:H1753),4))","v":""},null,null,null,null,null,null,{"$f":"+IF(O1748=\"\",\"\",IF(N1746=\"Transporte Marítimo\",VLOOKUP(O1748,Tabelas!$F$7:$G$12,2),IF(N1746=\"Transporte Aéreo\",VLOOKUP(O1748,Tabelas!$F$16:$G$21,2),\"\")))","v":""},null,null,null,null,null,null,null,null,null,null,null,null,null,null,null,"",{"$f":"+IF(AF1748=\"\",\"\",VLOOKUP(AF1748,Tabelas!$J$27:$K$30,2))","v":""}]
[null,null,null,null,null,null,{"$f":"+IF(F1751=\"\",\"\",VLOOKUP(F1751,Tabelas!$B$7:$C$96,2))","v":""},null,{"$f":"IF(H1751=\"\",\"\",ROUND(H1751/SUM(H1746:H1753),4))","v":""},null,null,null,null,null,null,{"$f":"+IF(O1751=\"\",\"\",IF(N1746=\"Transporte Marítimo\",VLOOKUP(O1751,Tabelas!$F$7:$G$12,2),IF(N1746=\"Transporte Aéreo\",VLOOKUP(O1751,Tabelas!$F$16:$G$21,2),\"\")))","v":""},null,null,null,null,null,null,null,null,null,null,null,null,null,null,null,"",{"$f":"+IF(AF1751=\"\",\"\",VLOOKUP(AF1751,Tabelas!$J$27:$K$30,2))","v":""}]
[null,null,null,null,null,null,{"$f":"+IF(F1752=\"\",\"\",VLOOKUP(F1752,Tabelas!$B$7:$C$96,2))","v":""},null,{"$f":"IF(H1752=\"\",\"\",ROUND(H1752/SUM(H1746:H1753),4))","v":""},null,null,null,null,null,null,{"$f":"+IF(O1752=\"\",\"\",IF(N1746=\"Transporte Marítimo\",VLOOKUP(O1752,Tabelas!$F$7:$G$12,2),IF(N1746=\"Transporte Aéreo\",VLOOKUP(O1752,Tabelas!$F$16:$G$21,2),\"\")))","v":""},null,null,null,null,null,null,null,null,null,null,null,null,null,null,null,"",{"$f":"+IF(AF1752=\"\",\"\",VLOOKUP(AF1752,Tabelas!$J$27:$K$30,2))","v":""}]
[null,null,null,null,null,null,{"$f":"+IF(F1755=\"\",\"\",VLOOKUP(F1755,Tabelas!$B$7:$C$96,2))","v":""},null,{"$f":"IF(H1755=\"\",\"\",ROUND(H1755/SUM(H1754:H1761),4))","v":""},null,null,null,null,null,null,{"$f":"+IF(O1755=\"\",\"\",IF(N1754=\"Transporte Marítimo\",VLOOKUP(O1755,Tabelas!$F$7:$G$12,2),IF(N1754=\"Transporte Aéreo\",VLOOKUP(O1755,Tabelas!$F$16:$G$21,2),\"\")))","v":""},null,null,null,null,null,null,null,null,null,null,null,null,null,null,null,"",{"$f":"+IF(AF1755=\"\",\"\",VLOOKUP(AF1755,Tabelas!$J$27:$K$30,2))","v":""}]
[null,null,null,null,null,null,{"$f":"+IF(F1757=\"\",\"\",VLOOKUP(F1757,Tabelas!$B$7:$C$96,2))","v":""},null,{"$f":"IF(H1757=\"\",\"\",ROUND(H1757/SUM(H1754:H1761),4))","v":""},null,null,null,null,null,null,{"$f":"+IF(O1757=\"\",\"\",IF(N1754=\"Transporte Marítimo\",VLOOKUP(O1757,Tabelas!$F$7:$G$12,2),IF(N1754=\"Transporte Aéreo\",VLOOKUP(O1757,Tabelas!$F$16:$G$21,2),\"\")))","v":""},null,null,null,null,null,null,null,null,null,null,null,null,null,null,null,"",{"$f":"+IF(AF1757=\"\",\"\",VLOOKUP(AF1757,Tabelas!$J$27:$K$30,2))","v":""}]
[null,null,null,null,null,null,{"$f":"+IF(F1760=\"\",\"\",VLOOKUP(F1760,Tabelas!$B$7:$C$96,2))","v":""},null,{"$f":"IF(H1760=\"\",\"\",ROUND(H1760/SUM(H1754:H1761),4))","v":""},null,null,null,null,null,null,{"$f":"+IF(O1760=\"\",\"\",IF(N1754=\"Transporte Marítimo\",VLOOKUP(O1760,Tabelas!$F$7:$G$12,2),IF(N1754=\"Transporte Aéreo\",VLOOKUP(O1760,Tabelas!$F$16:$G$21,2),\"\")))","v":""},null,null,null,null,null,null,null,null,null,null,null,null,null,null,null,"",{"$f":"+IF(AF1760=\"\",\"\",VLOOKUP(AF1760,Tabelas!$J$27:$K$30,2))","v":""}]
[null,null,null,null,null,null,{"$f":"+IF(F1761=\"\",\"\",VLOOKUP(F1761,Tabelas!$B$7:$C$96,2))","v":""},null,{"$f":"IF(H1761=\"\",\"\",ROUND(H1761/SUM(H1754:H1761),4))","v":""},null,null,null,null,null,null,{"$f":"+IF(O1761=\"\",\"\",IF(N1754=\"Transporte Marítimo\",VLOOKUP(O1761,Tabelas!$F$7:$G$12,2),IF(N1754=\"Transporte Aéreo\",VLOOKUP(O1761,Tabelas!$F$16:$G$21,2),\"\")))","v":""},null,null,null,null,null,null,null,null,null,null,null,null,null,null,null,"",{"$f":"+IF(AF1761=\"\",\"\",VLOOKUP(AF1761,Tabelas!$J$27:$K$30,2))","v":""}]
[null,null,null,null,null,null,{"$f":"+IF(F1764=\"\",\"\",VLOOKUP(F1764,Tabelas!$B$7:$C$96,2))","v":""},null,{"$f":"IF(H1764=\"\",\"\",ROUND(H1764/SUM(H1762:H1769),4))","v":""},null,null,null,null,null,null,{"$f":"+IF(O1764=\"\",\"\",IF(N1762=\"Transporte Marítimo\",VLOOKUP(O1764,Tabelas!$F$7:$G$12,2),IF(N1762=\"Transporte Aéreo\",VLOOKUP(O1764,Tabelas!$F$16:$G$21,2),\"\")))","v":""},null,null,null,null,null,null,null,null,null,null,null,null,null,null,null,"",{"$f":"+IF(AF1764=\"\",\"\",VLOOKUP(AF1764,Tabelas!$J$27:$K$30,2))","v":""}]
[null,null,null,null,null,null,{"$f":"+IF(F1765=\"\",\"\",VLOOKUP(F1765,Tabelas!$B$7:$C$96,2))","v":""},null,{"$f":"IF(H1765=\"\",\"\",ROUND(H1765/SUM(H1762:H1769),4))","v":""},null,null,null,null,null,null,{"$f":"+IF(O1765=\"\",\"\",IF(N1762=\"Transporte Marítimo\",VLOOKUP(O1765,Tabelas!$F$7:$G$12,2),IF(N1762=\"Transporte Aéreo\",VLOOKUP(O1765,Tabelas!$F$16:$G$21,2),\"\")))","v":""},null,null,null,null,null,null,null,null,null,null,null,null,null,null,null,"",{"$f":"+IF(AF1765=\"\",\"\",VLOOKUP(AF1765,Tabelas!$J$27:$K$30,2))","v":""}]
[null,null,null,null,null,null,{"$f":"+IF(F1769=\"\",\"\",VLOOKUP(F1769,Tabelas!$B$7:$C$96,2))","v":""},null,{"$f":"IF(H1769=\"\",\"\",ROUND(H1769/SUM(H1762:H1769),4))","v":""},null,null,null,null,null,null,{"$f":"+IF(O1769=\"\",\"\",IF(N1762=\"Transporte Marítimo\",VLOOKUP(O1769,Tabelas!$F$7:$G$12,2),IF(N1762=\"Transporte Aéreo\",VLOOKUP(O1769,Tabelas!$F$16:$G$21,2),\"\")))","v":""},null,null,null,null,null,null,null,null,null,null,null,null,null,null,null,"",{"$f":"+IF(AF1769=\"\",\"\",VLOOKUP(AF1769,Tabelas!$J$27:$K$30,2))","v":""}]
[null,{"$f":"+B1762+1","v":220},null,null,null,null,{"$f":"+IF(F1770=\"\",\"\",VLOOKUP(F1770,Tabelas!$B$7:$C$96,2))","v":""},null,{"$f":"IF(H1770=\"\",\"\",1-SUM(I1771:I1777))","v":""},null,null,null,null,null,null,{"$f":"+IF(O1770=\"\",\"\",IF(N1770=\"Transporte Marítimo\",VLOOKUP(O1770,Tabelas!$F$7:$G$12,2),IF(N1770=\"Transporte Aéreo\",VLOOKUP(O1770,Tabelas!$F$16:$G$21,2),\"\")))","v":""},null,null,null,null,null,null,null,null,null,null,null,null,null,null,null,"",{"$f":"+IF(AF1770=\"\",\"\",VLOOKUP(AF1770,Tabelas!$J$27:$K$30,2))","v":""},null,null,null,null,null,null,null,null,null,null,null,null,null,null,null," "]
[null,null,null,null,null,null,{"$f":"+IF(F1773=\"\",\"\",VLOOKUP(F1773,Tabelas!$B$7:$C$96,2))","v":""},null,{"$f":"IF(H1773=\"\",\"\",ROUND(H1773/SUM(H1770:H1777),4))","v":""},null,null,null,null,null,null,{"$f":"+IF(O1773=\"\",\"\",IF(N1770=\"Transporte Marítimo\",VLOOKUP(O1773,Tabelas!$F$7:$G$12,2),IF(N1770=\"Transporte Aéreo\",VLOOKUP(O1773,Tabelas!$F$16:$G$21,2),\"\")))","v":""},null,null,null,null,null,null,null,null,null,null,null,null,null,null,null,"",{"$f":"+IF(AF1773=\"\",\"\",VLOOKUP(AF1773,Tabelas!$J$27:$K$30,2))","v":""}]
[null,null,null,null,null,null,{"$f":"+IF(F1775=\"\",\"\",VLOOKUP(F1775,Tabelas!$B$7:$C$96,2))","v":""},null,{"$f":"IF(H1775=\"\",\"\",ROUND(H1775/SUM(H1770:H1777),4))","v":""},null,null,null,null,null,null,{"$f":"+IF(O1775=\"\",\"\",IF(N1770=\"Transporte Marítimo\",VLOOKUP(O1775,Tabelas!$F$7:$G$12,2),IF(N1770=\"Transporte Aéreo\",VLOOKUP(O1775,Tabelas!$F$16:$G$21,2),\"\")))","v":""},null,null,null,null,null,null,null,null,null,null,null,null,null,null,null,"",{"$f":"+IF(AF1775=\"\",\"\",VLOOKUP(AF1775,Tabelas!$J$27:$K$30,2))","v":""}]
[null,{"$f":"+B1770+1","v":221},null,null,null,null,{"$f":"+IF(F1778=\"\",\"\",VLOOKUP(F1778,Tabelas!$B$7:$C$96,2))","v":""},null,{"$f":"IF(H1778=\"\",\"\",1-SUM(I1779:I1785))","v":""},null,null,null,null,null,null,{"$f":"+IF(O1778=\"\",\"\",IF(N1778=\"Transporte Marítimo\",VLOOKUP(O1778,Tabelas!$F$7:$G$12,2),IF(N1778=\"Transporte Aéreo\",VLOOKUP(O1778,Tabelas!$F$16:$G$21,2),\"\")))","v":""},null,null,null,null,null,null,null,null,null,null,null,null,null,null,null,"",{"$f":"+IF(AF1778=\"\",\"\",VLOOKUP(AF1778,Tabelas!$J$27:$K$30,2))","v":""},null,null,null,null,null,null,null,null,null,null,null,null,null,null,null," "]
[null,null,null,null,null,null,{"$f":"+IF(F1779=\"\",\"\",VLOOKUP(F1779,Tabelas!$B$7:$C$96,2))","v":""},null,{"$f":"IF(H1779=\"\",\"\",ROUND(H1779/SUM(H1778:H1785),4))","v":""},null,null,null,null,null,null,{"$f":"+IF(O1779=\"\",\"\",IF(N1778=\"Transporte Marítimo\",VLOOKUP(O1779,Tabelas!$F$7:$G$12,2),IF(N1778=\"Transporte Aéreo\",VLOOKUP(O1779,Tabelas!$F$16:$G$21,2),\"\")))","v":""},null,null,null,null,null,null,null,null,null,null,null,null,null,null,null,"",{"$f":"+IF(AF1779=\"\",\"\",VLOOKUP(AF1779,Tabelas!$J$27:$K$30,2))","v":""}]
[null,null,null,null,null,null,{"$f":"+IF(F1782=\"\",\"\",VLOOKUP(F1782,Tabelas!$B$7:$C$96,2))","v":""},null,{"$f":"IF(H1782=\"\",\"\",ROUND(H1782/SUM(H1778:H1785),4))","v":""},null,null,null,null,null,null,{"$f":"+IF(O1782=\"\",\"\",IF(N1778=\"Transporte Marítimo\",VLOOKUP(O1782,Tabelas!$F$7:$G$12,2),IF(N1778=\"Transporte Aéreo\",VLOOKUP(O1782,Tabelas!$F$16:$G$21,2),\"\")))","v":""},null,null,null,null,null,null,null,null,null,null,null,null,null,null,null,"",{"$f":"+IF(AF1782=\"\",\"\",VLOOKUP(AF1782,Tabelas!$J$27:$K$30,2))","v":""}]
[null,null,null,null,null,null,{"$f":"+IF(F1783=\"\",\"\",VLOOKUP(F1783,Tabelas!$B$7:$C$96,2))","v":""},null,{"$f":"IF(H1783=\"\",\"\",ROUND(H1783/SUM(H1778:H1785),4))","v":""},null,null,null,null,null,null,{"$f":"+IF(O1783=\"\",\"\",IF(N1778=\"Transporte Marítimo\",VLOOKUP(O1783,Tabelas!$F$7:$G$12,2),IF(N1778=\"Transporte Aéreo\",VLOOKUP(O1783,Tabelas!$F$16:$G$21,2),\"\")))","v":""},null,null,null,null,null,null,null,null,null,null,null,null,null,null,null,"",{"$f":"+IF(AF1783=\"\",\"\",VLOOKUP(AF1783,Tabelas!$J$27:$K$30,2))","v":""}]
[null,null,null,null,null,null,{"$f":"+IF(F1785=\"\",\"\",VLOOKUP(F1785,Tabelas!$B$7:$C$96,2))","v":""},null,{"$f":"IF(H1785=\"\",\"\",ROUND(H1785/SUM(H1778:H1785),4))","v":""},null,null,null,null,null,null,{"$f":"+IF(O1785=\"\",\"\",IF(N1778=\"Transporte Marítimo\",VLOOKUP(O1785,Tabelas!$F$7:$G$12,2),IF(N1778=\"Transporte Aéreo\",VLOOKUP(O1785,Tabelas!$F$16:$G$21,2),\"\")))","v":""},null,null,null,null,null,null,null,null,null,null,null,null,null,null,null,"",{"$f":"+IF(AF1785=\"\",\"\",VLOOKUP(AF1785,Tabelas!$J$27:$K$30,2))","v":""}]
[null,null,null,null,null,null,{"$f":"+IF(F1788=\"\",\"\",VLOOKUP(F1788,Tabelas!$B$7:$C$96,2))","v":""},null,{"$f":"IF(H1788=\"\",\"\",ROUND(H1788/SUM(H1786:H1793),4))","v":""},null,null,null,null,null,null,{"$f":"+IF(O1788=\"\",\"\",IF(N1786=\"Transporte Marítimo\",VLOOKUP(O1788,Tabelas!$F$7:$G$12,2),IF(N1786=\"Transporte Aéreo\",VLOOKUP(O1788,Tabelas!$F$16:$G$21,2),\"\")))","v":""},null,null,null,null,null,null,null,null,null,null,null,null,null,null,null,"",{"$f":"+IF(AF1788=\"\",\"\",VLOOKUP(AF1788,Tabelas!$J$27:$K$30,2))","v":""}]
[null,null,null,null,null,null,{"$f":"+IF(F1791=\"\",\"\",VLOOKUP(F1791,Tabelas!$B$7:$C$96,2))","v":""},null,{"$f":"IF(H1791=\"\",\"\",ROUND(H1791/SUM(H1786:H1793),4))","v":""},null,null,null,null,null,null,{"$f":"+IF(O1791=\"\",\"\",IF(N1786=\"Transporte Marítimo\",VLOOKUP(O1791,Tabelas!$F$7:$G$12,2),IF(N1786=\"Transporte Aéreo\",VLOOKUP(O1791,Tabelas!$F$16:$G$21,2),\"\")))","v":""},null,null,null,null,null,null,null,null,null,null,null,null,null,null,null,"",{"$f":"+IF(AF1791=\"\",\"\",VLOOKUP(AF1791,Tabelas!$J$27:$K$30,2))","v":""}]
[null,null,null,null,null,null,{"$f":"+IF(F1792=\"\",\"\",VLOOKUP(F1792,Tabelas!$B$7:$C$96,2))","v":""},null,{"$f":"IF(H1792=\"\",\"\",ROUND(H1792/SUM(H1786:H1793),4))","v":""},null,null,null,null,null,null,{"$f":"+IF(O1792=\"\",\"\",IF(N1786=\"Transporte Marítimo\",VLOOKUP(O1792,Tabelas!$F$7:$G$12,2),IF(N1786=\"Transporte Aéreo\",VLOOKUP(O1792,Tabelas!$F$16:$G$21,2),\"\")))","v":""},null,null,null,null,null,null,null,null,null,null,null,null,null,null,null,"",{"$f":"+IF(AF1792=\"\",\"\",VLOOKUP(AF1792,Tabelas!$J$27:$K$30,2))","v":""}]
[null,null,null,null,null,null,{"$f":"+IF(F1795=\"\",\"\",VLOOKUP(F1795,Tabelas!$B$7:$C$96,2))","v":""},null,{"$f":"IF(H1795=\"\",\"\",ROUND(H1795/SUM(H1794:H1801),4))","v":""},null,null,null,null,null,null,{"$f":"+IF(O1795=\"\",\"\",IF(N1794=\"Transporte Marítimo\",VLOOKUP(O1795,Tabelas!$F$7:$G$12,2),IF(N1794=\"Transporte Aéreo\",VLOOKUP(O1795,Tabelas!$F$16:$G$21,2),\"\")))","v":""},null,null,null,null,null,null,null,null,null,null,null,null,null,null,null,"",{"$f":"+IF(AF1795=\"\",\"\",VLOOKUP(AF1795,Tabelas!$J$27:$K$30,2))","v":""}]
[null,null,null,null,null,null,{"$f":"+IF(F1797=\"\",\"\",VLOOKUP(F1797,Tabelas!$B$7:$C$96,2))","v":""},null,{"$f":"IF(H1797=\"\",\"\",ROUND(H1797/SUM(H1794:H1801),4))","v":""},null,null,null,null,null,null,{"$f":"+IF(O1797=\"\",\"\",IF(N1794=\"Transporte Marítimo\",VLOOKUP(O1797,Tabelas!$F$7:$G$12,2),IF(N1794=\"Transporte Aéreo\",VLOOKUP(O1797,Tabelas!$F$16:$G$21,2),\"\")))","v":""},null,null,null,null,null,null,null,null,null,null,null,null,null,null,null,"",{"$f":"+IF(AF1797=\"\",\"\",VLOOKUP(AF1797,Tabelas!$J$27:$K$30,2))","v":""}]
[null,null,null,null,null,null,{"$f":"+IF(F1800=\"\",\"\",VLOOKUP(F1800,Tabelas!$B$7:$C$96,2))","v":""},null,{"$f":"IF(H1800=\"\",\"\",ROUND(H1800/SUM(H1794:H1801),4))","v":""},null,null,null,null,null,null,{"$f":"+IF(O1800=\"\",\"\",IF(N1794=\"Transporte Marítimo\",VLOOKUP(O1800,Tabelas!$F$7:$G$12,2),IF(N1794=\"Transporte Aéreo\",VLOOKUP(O1800,Tabelas!$F$16:$G$21,2),\"\")))","v":""},null,null,null,null,null,null,null,null,null,null,null,null,null,null,null,"",{"$f":"+IF(AF1800=\"\",\"\",VLOOKUP(AF1800,Tabelas!$J$27:$K$30,2))","v":""}]
[null,null,null,null,null,null,{"$f":"+IF(F1801=\"\",\"\",VLOOKUP(F1801,Tabelas!$B$7:$C$96,2))","v":""},null,{"$f":"IF(H1801=\"\",\"\",ROUND(H1801/SUM(H1794:H1801),4))","v":""},null,null,null,null,null,null,{"$f":"+IF(O1801=\"\",\"\",IF(N1794=\"Transporte Marítimo\",VLOOKUP(O1801,Tabelas!$F$7:$G$12,2),IF(N1794=\"Transporte Aéreo\",VLOOKUP(O1801,Tabelas!$F$16:$G$21,2),\"\")))","v":""},null,null,null,null,null,null,null,null,null,null,null,null,null,null,null,"",{"$f":"+IF(AF1801=\"\",\"\",VLOOKUP(AF1801,Tabelas!$J$27:$K$30,2))","v":""}]
[null,null,null,null,null,null,{"$f":"+IF(F1803=\"\",\"\",VLOOKUP(F1803,Tabelas!$B$7:$C$96,2))","v":""},null,{"$f":"IF(H1803=\"\",\"\",ROUND(H1803/SUM(H1802:H1809),4))","v":""},null,null,null,null,null,null,{"$f":"+IF(O1803=\"\",\"\",IF(N1802=\"Transporte Marítimo\",VLOOKUP(O1803,Tabelas!$F$7:$G$12,2),IF(N1802=\"Transporte Aéreo\",VLOOKUP(O1803,Tabelas!$F$16:$G$21,2),\"\")))","v":""},null,null,null,null,null,null,null,null,null,null,null,null,null,null,null,"",{"$f":"+IF(AF1803=\"\",\"\",VLOOKUP(AF1803,Tabelas!$J$27:$K$30,2))","v":""}]
[null,null,null,null,null,null,{"$f":"+IF(F1806=\"\",\"\",VLOOKUP(F1806,Tabelas!$B$7:$C$96,2))","v":""},null,{"$f":"IF(H1806=\"\",\"\",ROUND(H1806/SUM(H1802:H1809),4))","v":""},null,null,null,null,null,null,{"$f":"+IF(O1806=\"\",\"\",IF(N1802=\"Transporte Marítimo\",VLOOKUP(O1806,Tabelas!$F$7:$G$12,2),IF(N1802=\"Transporte Aéreo\",VLOOKUP(O1806,Tabelas!$F$16:$G$21,2),\"\")))","v":""},null,null,null,null,null,null,null,null,null,null,null,null,null,null,null,"",{"$f":"+IF(AF1806=\"\",\"\",VLOOKUP(AF1806,Tabelas!$J$27:$K$30,2))","v":""}]
[null,null,null,null,null,null,{"$f":"+IF(F1809=\"\",\"\",VLOOKUP(F1809,Tabelas!$B$7:$C$96,2))","v":""},null,{"$f":"IF(H1809=\"\",\"\",ROUND(H1809/SUM(H1802:H1809),4))","v":""},null,null,null,null,null,null,{"$f":"+IF(O1809=\"\",\"\",IF(N1802=\"Transporte Marítimo\",VLOOKUP(O1809,Tabelas!$F$7:$G$12,2),IF(N1802=\"Transporte Aéreo\",VLOOKUP(O1809,Tabelas!$F$16:$G$21,2),\"\")))","v":""},null,null,null,null,null,null,null,null,null,null,null,null,null,null,null,"",{"$f":"+IF(AF1809=\"\",\"\",VLOOKUP(AF1809,Tabelas!$J$27:$K$30,2))","v":""}]
[null,{"$f":"+B1802+1","v":225},null,null,null,null,{"$f":"+IF(F1810=\"\",\"\",VLOOKUP(F1810,Tabelas!$B$7:$C$96,2))","v":""},null,{"$f":"IF(H1810=\"\",\"\",1-SUM(I1811:I1817))","v":""},null,null,null,null,null,null,{"$f":"+IF(O1810=\"\",\"\",IF(N1810=\"Transporte Marítimo\",VLOOKUP(O1810,Tabelas!$F$7:$G$12,2),IF(N1810=\"Transporte Aéreo\",VLOOKUP(O1810,Tabelas!$F$16:$G$21,2),\"\")))","v":""},null,null,null,null,null,null,null,null,null,null,null,null,null,null,null,"",{"$f":"+IF(AF1810=\"\",\"\",VLOOKUP(AF1810,Tabelas!$J$27:$K$30,2))","v":""},null,null,null,null,null,null,null,null,null,null,null,null,null,null,null," "]
[null,null,null,null,null,null,{"$f":"+IF(F1813=\"\",\"\",VLOOKUP(F1813,Tabelas!$B$7:$C$96,2))","v":""},null,{"$f":"IF(H1813=\"\",\"\",ROUND(H1813/SUM(H1810:H1817),4))","v":""},null,null,null,null,null,null,{"$f":"+IF(O1813=\"\",\"\",IF(N1810=\"Transporte Marítimo\",VLOOKUP(O1813,Tabelas!$F$7:$G$12,2),IF(N1810=\"Transporte Aéreo\",VLOOKUP(O1813,Tabelas!$F$16:$G$21,2),\"\")))","v":""},null,null,null,null,null,null,null,null,null,null,null,null,null,null,null,"",{"$f":"+IF(AF1813=\"\",\"\",VLOOKUP(AF1813,Tabelas!$J$27:$K$30,2))","v":""}]
[null,null,null,null,null,null,{"$f":"+IF(F1816=\"\",\"\",VLOOKUP(F1816,Tabelas!$B$7:$C$96,2))","v":""},null,{"$f":"IF(H1816=\"\",\"\",ROUND(H1816/SUM(H1810:H1817),4))","v":""},null,null,null,null,null,null,{"$f":"+IF(O1816=\"\",\"\",IF(N1810=\"Transporte Marítimo\",VLOOKUP(O1816,Tabelas!$F$7:$G$12,2),IF(N1810=\"Transporte Aéreo\",VLOOKUP(O1816,Tabelas!$F$16:$G$21,2),\"\")))","v":""},null,null,null,null,null,null,null,null,null,null,null,null,null,null,null,"",{"$f":"+IF(AF1816=\"\",\"\",VLOOKUP(AF1816,Tabelas!$J$27:$K$30,2))","v":""}]
[null,{"$f":"+B1810+1","v":226},null,null,null,null,{"$f":"+IF(F1818=\"\",\"\",VLOOKUP(F1818,Tabelas!$B$7:$C$96,2))","v":""},null,{"$f":"IF(H1818=\"\",\"\",1-SUM(I1819:I1825))","v":""},null,null,null,null,null,null,{"$f":"+IF(O1818=\"\",\"\",IF(N1818=\"Transporte Marítimo\",VLOOKUP(O1818,Tabelas!$F$7:$G$12,2),IF(N1818=\"Transporte Aéreo\",VLOOKUP(O1818,Tabelas!$F$16:$G$21,2),\"\")))","v":""},null,null,null,null,null,null,null,null,null,null,null,null,null,null,null,"",{"$f":"+IF(AF1818=\"\",\"\",VLOOKUP(AF1818,Tabelas!$J$27:$K$30,2))","v":""},null,null,null,null,null,null,null,null,null,null,null,null,null,null,null," "]
[null,null,null,null,null,null,{"$f":"+IF(F1819=\"\",\"\",VLOOKUP(F1819,Tabelas!$B$7:$C$96,2))","v":""},null,{"$f":"IF(H1819=\"\",\"\",ROUND(H1819/SUM(H1818:H1825),4))","v":""},null,null,null,null,null,null,{"$f":"+IF(O1819=\"\",\"\",IF(N1818=\"Transporte Marítimo\",VLOOKUP(O1819,Tabelas!$F$7:$G$12,2),IF(N1818=\"Transporte Aéreo\",VLOOKUP(O1819,Tabelas!$F$16:$G$21,2),\"\")))","v":""},null,null,null,null,null,null,null,null,null,null,null,null,null,null,null,"",{"$f":"+IF(AF1819=\"\",\"\",VLOOKUP(AF1819,Tabelas!$J$27:$K$30,2))","v":""}]
[null,null,null,null,null,null,{"$f":"+IF(F1822=\"\",\"\",VLOOKUP(F1822,Tabelas!$B$7:$C$96,2))","v":""},null,{"$f":"IF(H1822=\"\",\"\",ROUND(H1822/SUM(H1818:H1825),4))","v":""},null,null,null,null,null,null,{"$f":"+IF(O1822=\"\",\"\",IF(N1818=\"Transporte Marítimo\",VLOOKUP(O1822,Tabelas!$F$7:$G$12,2),IF(N1818=\"Transporte Aéreo\",VLOOKUP(O1822,Tabelas!$F$16:$G$21,2),\"\")))","v":""},null,null,null,null,null,null,null,null,null,null,null,null,null,null,null,"",{"$f":"+IF(AF1822=\"\",\"\",VLOOKUP(AF1822,Tabelas!$J$27:$K$30,2))","v":""}]
[null,null,null,null,null,null,{"$f":"+IF(F1823=\"\",\"\",VLOOKUP(F1823,Tabelas!$B$7:$C$96,2))","v":""},null,{"$f":"IF(H1823=\"\",\"\",ROUND(H1823/SUM(H1818:H1825),4))","v":""},null,null,null,null,null,null,{"$f":"+IF(O1823=\"\",\"\",IF(N1818=\"Transporte Marítimo\",VLOOKUP(O1823,Tabelas!$F$7:$G$12,2),IF(N1818=\"Transporte Aéreo\",VLOOKUP(O1823,Tabelas!$F$16:$G$21,2),\"\")))","v":""},null,null,null,null,null,null,null,null,null,null,null,null,null,null,null,"",{"$f":"+IF(AF1823=\"\",\"\",VLOOKUP(AF1823,Tabelas!$J$27:$K$30,2))","v":""}]
[null,null,null,null,null,null,{"$f":"+IF(F1827=\"\",\"\",VLOOKUP(F1827,Tabelas!$B$7:$C$96,2))","v":""},null,{"$f":"IF(H1827=\"\",\"\",ROUND(H1827/SUM(H1826:H1833),4))","v":""},null,null,null,null,null,null,{"$f":"+IF(O1827=\"\",\"\",IF(N1826=\"Transporte Marítimo\",VLOOKUP(O1827,Tabelas!$F$7:$G$12,2),IF(N1826=\"Transporte Aéreo\",VLOOKUP(O1827,Tabelas!$F$16:$G$21,2),\"\")))","v":""},null,null,null,null,null,null,null,null,null,null,null,null,null,null,null,"",{"$f":"+IF(AF1827=\"\",\"\",VLOOKUP(AF1827,Tabelas!$J$27:$K$30,2))","v":""}]
[null,null,null,null,null,null,{"$f":"+IF(F1828=\"\",\"\",VLOOKUP(F1828,Tabelas!$B$7:$C$96,2))","v":""},null,{"$f":"IF(H1828=\"\",\"\",ROUND(H1828/SUM(H1826:H1833),4))","v":""},null,null,null,null,null,null,{"$f":"+IF(O1828=\"\",\"\",IF(N1826=\"Transporte Marítimo\",VLOOKUP(O1828,Tabelas!$F$7:$G$12,2),IF(N1826=\"Transporte Aéreo\",VLOOKUP(O1828,Tabelas!$F$16:$G$21,2),\"\")))","v":""},null,null,null,null,null,null,null,null,null,null,null,null,null,null,null,"",{"$f":"+IF(AF1828=\"\",\"\",VLOOKUP(AF1828,Tabelas!$J$27:$K$30,2))","v":""}]
[null,null,null,null,null,null,{"$f":"+IF(F1831=\"\",\"\",VLOOKUP(F1831,Tabelas!$B$7:$C$96,2))","v":""},null,{"$f":"IF(H1831=\"\",\"\",ROUND(H1831/SUM(H1826:H1833),4))","v":""},null,null,null,null,null,null,{"$f":"+IF(O1831=\"\",\"\",IF(N1826=\"Transporte Marítimo\",VLOOKUP(O1831,Tabelas!$F$7:$G$12,2),IF(N1826=\"Transporte Aéreo\",VLOOKUP(O1831,Tabelas!$F$16:$G$21,2),\"\")))","v":""},null,null,null,null,null,null,null,null,null,null,null,null,null,null,null,"",{"$f":"+IF(AF1831=\"\",\"\",VLOOKUP(AF1831,Tabelas!$J$27:$K$30,2))","v":""}]
[null,{"$f":"+B1826+1","v":228},null,null,null,null,{"$f":"+IF(F1834=\"\",\"\",VLOOKUP(F1834,Tabelas!$B$7:$C$96,2))","v":""},null,{"$f":"IF(H1834=\"\",\"\",1-SUM(I1835:I1841))","v":""},null,null,null,null,null,null,{"$f":"+IF(O1834=\"\",\"\",IF(N1834=\"Transporte Marítimo\",VLOOKUP(O1834,Tabelas!$F$7:$G$12,2),IF(N1834=\"Transporte Aéreo\",VLOOKUP(O1834,Tabelas!$F$16:$G$21,2),\"\")))","v":""},null,null,null,null,null,null,null,null,null,null,null,null,null,null,null,"",{"$f":"+IF(AF1834=\"\",\"\",VLOOKUP(AF1834,Tabelas!$J$27:$K$30,2))","v":""},null,null,null,null,null,null,null,null,null,null,null,null,null,null,null," "]
[null,null,null,null,null,null,{"$f":"+IF(F1836=\"\",\"\",VLOOKUP(F1836,Tabelas!$B$7:$C$96,2))","v":""},null,{"$f":"IF(H1836=\"\",\"\",ROUND(H1836/SUM(H1834:H1841),4))","v":""},null,null,null,null,null,null,{"$f":"+IF(O1836=\"\",\"\",IF(N1834=\"Transporte Marítimo\",VLOOKUP(O1836,Tabelas!$F$7:$G$12,2),IF(N1834=\"Transporte Aéreo\",VLOOKUP(O1836,Tabelas!$F$16:$G$21,2),\"\")))","v":""},null,null,null,null,null,null,null,null,null,null,null,null,null,null,null,"",{"$f":"+IF(AF1836=\"\",\"\",VLOOKUP(AF1836,Tabelas!$J$27:$K$30,2))","v":""}]
[null,null,null,null,null,null,{"$f":"+IF(F1837=\"\",\"\",VLOOKUP(F1837,Tabelas!$B$7:$C$96,2))","v":""},null,{"$f":"IF(H1837=\"\",\"\",ROUND(H1837/SUM(H1834:H1841),4))","v":""},null,null,null,null,null,null,{"$f":"+IF(O1837=\"\",\"\",IF(N1834=\"Transporte Marítimo\",VLOOKUP(O1837,Tabelas!$F$7:$G$12,2),IF(N1834=\"Transporte Aéreo\",VLOOKUP(O1837,Tabelas!$F$16:$G$21,2),\"\")))","v":""},null,null,null,null,null,null,null,null,null,null,null,null,null,null,null,"",{"$f":"+IF(AF1837=\"\",\"\",VLOOKUP(AF1837,Tabelas!$J$27:$K$30,2))","v":""}]
[null,null,null,null,null,null,{"$f":"+IF(F1840=\"\",\"\",VLOOKUP(F1840,Tabelas!$B$7:$C$96,2))","v":""},null,{"$f":"IF(H1840=\"\",\"\",ROUND(H1840/SUM(H1834:H1841),4))","v":""},null,null,null,null,null,null,{"$f":"+IF(O1840=\"\",\"\",IF(N1834=\"Transporte Marítimo\",VLOOKUP(O1840,Tabelas!$F$7:$G$12,2),IF(N1834=\"Transporte Aéreo\",VLOOKUP(O1840,Tabelas!$F$16:$G$21,2),\"\")))","v":""},null,null,null,null,null,null,null,null,null,null,null,null,null,null,null,"",{"$f":"+IF(AF1840=\"\",\"\",VLOOKUP(AF1840,Tabelas!$J$27:$K$30,2))","v":""}]
[null,null,null,null,null,null,{"$f":"+IF(F1841=\"\",\"\",VLOOKUP(F1841,Tabelas!$B$7:$C$96,2))","v":""},null,{"$f":"IF(H1841=\"\",\"\",ROUND(H1841/SUM(H1834:H1841),4))","v":""},null,null,null,null,null,null,{"$f":"+IF(O1841=\"\",\"\",IF(N1834=\"Transporte Marítimo\",VLOOKUP(O1841,Tabelas!$F$7:$G$12,2),IF(N1834=\"Transporte Aéreo\",VLOOKUP(O1841,Tabelas!$F$16:$G$21,2),\"\")))","v":""},null,null,null,null,null,null,null,null,null,null,null,null,null,null,null,"",{"$f":"+IF(AF1841=\"\",\"\",VLOOKUP(AF1841,Tabelas!$J$27:$K$30,2))","v":""}]
[null,null,null,null,null,null,{"$f":"+IF(F1844=\"\",\"\",VLOOKUP(F1844,Tabelas!$B$7:$C$96,2))","v":""},null,{"$f":"IF(H1844=\"\",\"\",ROUND(H1844/SUM(H1842:H1849),4))","v":""},null,null,null,null,null,null,{"$f":"+IF(O1844=\"\",\"\",IF(N1842=\"Transporte Marítimo\",VLOOKUP(O1844,Tabelas!$F$7:$G$12,2),IF(N1842=\"Transporte Aéreo\",VLOOKUP(O1844,Tabelas!$F$16:$G$21,2),\"\")))","v":""},null,null,null,null,null,null,null,null,null,null,null,null,null,null,null,"",{"$f":"+IF(AF1844=\"\",\"\",VLOOKUP(AF1844,Tabelas!$J$27:$K$30,2))","v":""}]
[null,null,null,null,null,null,{"$f":"+IF(F1846=\"\",\"\",VLOOKUP(F1846,Tabelas!$B$7:$C$96,2))","v":""},null,{"$f":"IF(H1846=\"\",\"\",ROUND(H1846/SUM(H1842:H1849),4))","v":""},null,null,null,null,null,null,{"$f":"+IF(O1846=\"\",\"\",IF(N1842=\"Transporte Marítimo\",VLOOKUP(O1846,Tabelas!$F$7:$G$12,2),IF(N1842=\"Transporte Aéreo\",VLOOKUP(O1846,Tabelas!$F$16:$G$21,2),\"\")))","v":""},null,null,null,null,null,null,null,null,null,null,null,null,null,null,null,"",{"$f":"+IF(AF1846=\"\",\"\",VLOOKUP(AF1846,Tabelas!$J$27:$K$30,2))","v":""}]
[null,null,null,null,null,null,{"$f":"+IF(F1849=\"\",\"\",VLOOKUP(F1849,Tabelas!$B$7:$C$96,2))","v":""},null,{"$f":"IF(H1849=\"\",\"\",ROUND(H1849/SUM(H1842:H1849),4))","v":""},null,null,null,null,null,null,{"$f":"+IF(O1849=\"\",\"\",IF(N1842=\"Transporte Marítimo\",VLOOKUP(O1849,Tabelas!$F$7:$G$12,2),IF(N1842=\"Transporte Aéreo\",VLOOKUP(O1849,Tabelas!$F$16:$G$21,2),\"\")))","v":""},null,null,null,null,null,null,null,null,null,null,null,null,null,null,null,"",{"$f":"+IF(AF1849=\"\",\"\",VLOOKUP(AF1849,Tabelas!$J$27:$K$30,2))","v":""}]
[null,{"$f":"+B1842+1","v":230},null,null,null,null,{"$f":"+IF(F1850=\"\",\"\",VLOOKUP(F1850,Tabelas!$B$7:$C$96,2))","v":""},null,{"$f":"IF(H1850=\"\",\"\",1-SUM(I1851:I1857))","v":""},null,null,null,null,null,null,{"$f":"+IF(O1850=\"\",\"\",IF(N1850=\"Transporte Marítimo\",VLOOKUP(O1850,Tabelas!$F$7:$G$12,2),IF(N1850=\"Transporte Aéreo\",VLOOKUP(O1850,Tabelas!$F$16:$G$21,2),\"\")))","v":""},null,null,null,null,null,null,null,null,null,null,null,null,null,null,null,"",{"$f":"+IF(AF1850=\"\",\"\",VLOOKUP(AF1850,Tabelas!$J$27:$K$30,2))","v":""},null,null,null,null,null,null,null,null,null,null,null,null,null,null,null," "]
[null,null,null,null,null,null,{"$f":"+IF(F1854=\"\",\"\",VLOOKUP(F1854,Tabelas!$B$7:$C$96,2))","v":""},null,{"$f":"IF(H1854=\"\",\"\",ROUND(H1854/SUM(H1850:H1857),4))","v":""},null,null,null,null,null,null,{"$f":"+IF(O1854=\"\",\"\",IF(N1850=\"Transporte Marítimo\",VLOOKUP(O1854,Tabelas!$F$7:$G$12,2),IF(N1850=\"Transporte Aéreo\",VLOOKUP(O1854,Tabelas!$F$16:$G$21,2),\"\")))","v":""},null,null,null,null,null,null,null,null,null,null,null,null,null,null,null,"",{"$f":"+IF(AF1854=\"\",\"\",VLOOKUP(AF1854,Tabelas!$J$27:$K$30,2))","v":""}]
[null,null,null,null,null,null,{"$f":"+IF(F1855=\"\",\"\",VLOOKUP(F1855,Tabelas!$B$7:$C$96,2))","v":""},null,{"$f":"IF(H1855=\"\",\"\",ROUND(H1855/SUM(H1850:H1857),4))","v":""},null,null,null,null,null,null,{"$f":"+IF(O1855=\"\",\"\",IF(N1850=\"Transporte Marítimo\",VLOOKUP(O1855,Tabelas!$F$7:$G$12,2),IF(N1850=\"Transporte Aéreo\",VLOOKUP(O1855,Tabelas!$F$16:$G$21,2),\"\")))","v":""},null,null,null,null,null,null,null,null,null,null,null,null,null,null,null,"",{"$f":"+IF(AF1855=\"\",\"\",VLOOKUP(AF1855,Tabelas!$J$27:$K$30,2))","v":""}]
[null,{"$f":"+B1850+1","v":231},null,null,null,null,{"$f":"+IF(F1858=\"\",\"\",VLOOKUP(F1858,Tabelas!$B$7:$C$96,2))","v":""},null,{"$f":"IF(H1858=\"\",\"\",1-SUM(I1859:I1865))","v":""},null,null,null,null,null,null,{"$f":"+IF(O1858=\"\",\"\",IF(N1858=\"Transporte Marítimo\",VLOOKUP(O1858,Tabelas!$F$7:$G$12,2),IF(N1858=\"Transporte Aéreo\",VLOOKUP(O1858,Tabelas!$F$16:$G$21,2),\"\")))","v":""},null,null,null,null,null,null,null,null,null,null,null,null,null,null,null,"",{"$f":"+IF(AF1858=\"\",\"\",VLOOKUP(AF1858,Tabelas!$J$27:$K$30,2))","v":""},null,null,null,null,null,null,null,null,null,null,null,null,null,null,null," "]
[null,null,null,null,null,null,{"$f":"+IF(F1859=\"\",\"\",VLOOKUP(F1859,Tabelas!$B$7:$C$96,2))","v":""},null,{"$f":"IF(H1859=\"\",\"\",ROUND(H1859/SUM(H1858:H1865),4))","v":""},null,null,null,null,null,null,{"$f":"+IF(O1859=\"\",\"\",IF(N1858=\"Transporte Marítimo\",VLOOKUP(O1859,Tabelas!$F$7:$G$12,2),IF(N1858=\"Transporte Aéreo\",VLOOKUP(O1859,Tabelas!$F$16:$G$21,2),\"\")))","v":""},null,null,null,null,null,null,null,null,null,null,null,null,null,null,null,"",{"$f":"+IF(AF1859=\"\",\"\",VLOOKUP(AF1859,Tabelas!$J$27:$K$30,2))","v":""}]
[null,null,null,null,null,null,{"$f":"+IF(F1862=\"\",\"\",VLOOKUP(F1862,Tabelas!$B$7:$C$96,2))","v":""},null,{"$f":"IF(H1862=\"\",\"\",ROUND(H1862/SUM(H1858:H1865),4))","v":""},null,null,null,null,null,null,{"$f":"+IF(O1862=\"\",\"\",IF(N1858=\"Transporte Marítimo\",VLOOKUP(O1862,Tabelas!$F$7:$G$12,2),IF(N1858=\"Transporte Aéreo\",VLOOKUP(O1862,Tabelas!$F$16:$G$21,2),\"\")))","v":""},null,null,null,null,null,null,null,null,null,null,null,null,null,null,null,"",{"$f":"+IF(AF1862=\"\",\"\",VLOOKUP(AF1862,Tabelas!$J$27:$K$30,2))","v":""}]
[null,null,null,null,null,null,{"$f":"+IF(F1864=\"\",\"\",VLOOKUP(F1864,Tabelas!$B$7:$C$96,2))","v":""},null,{"$f":"IF(H1864=\"\",\"\",ROUND(H1864/SUM(H1858:H1865),4))","v":""},null,null,null,null,null,null,{"$f":"+IF(O1864=\"\",\"\",IF(N1858=\"Transporte Marítimo\",VLOOKUP(O1864,Tabelas!$F$7:$G$12,2),IF(N1858=\"Transporte Aéreo\",VLOOKUP(O1864,Tabelas!$F$16:$G$21,2),\"\")))","v":""},null,null,null,null,null,null,null,null,null,null,null,null,null,null,null,"",{"$f":"+IF(AF1864=\"\",\"\",VLOOKUP(AF1864,Tabelas!$J$27:$K$30,2))","v":""}]
[null,null,null,null,null,null,{"$f":"+IF(F1867=\"\",\"\",VLOOKUP(F1867,Tabelas!$B$7:$C$96,2))","v":""},null,{"$f":"IF(H1867=\"\",\"\",ROUND(H1867/SUM(H1866:H1873),4))","v":""},null,null,null,null,null,null,{"$f":"+IF(O1867=\"\",\"\",IF(N1866=\"Transporte Marítimo\",VLOOKUP(O1867,Tabelas!$F$7:$G$12,2),IF(N1866=\"Transporte Aéreo\",VLOOKUP(O1867,Tabelas!$F$16:$G$21,2),\"\")))","v":""},null,null,null,null,null,null,null,null,null,null,null,null,null,null,null,"",{"$f":"+IF(AF1867=\"\",\"\",VLOOKUP(AF1867,Tabelas!$J$27:$K$30,2))","v":""}]
[null,null,null,null,null,null,{"$f":"+IF(F1868=\"\",\"\",VLOOKUP(F1868,Tabelas!$B$7:$C$96,2))","v":""},null,{"$f":"IF(H1868=\"\",\"\",ROUND(H1868/SUM(H1866:H1873),4))","v":""},null,null,null,null,null,null,{"$f":"+IF(O1868=\"\",\"\",IF(N1866=\"Transporte Marítimo\",VLOOKUP(O1868,Tabelas!$F$7:$G$12,2),IF(N1866=\"Transporte Aéreo\",VLOOKUP(O1868,Tabelas!$F$16:$G$21,2),\"\")))","v":""},null,null,null,null,null,null,null,null,null,null,null,null,null,null,null,"",{"$f":"+IF(AF1868=\"\",\"\",VLOOKUP(AF1868,Tabelas!$J$27:$K$30,2))","v":""}]
[null,null,null,null,null,null,{"$f":"+IF(F1871=\"\",\"\",VLOOKUP(F1871,Tabelas!$B$7:$C$96,2))","v":""},null,{"$f":"IF(H1871=\"\",\"\",ROUND(H1871/SUM(H1866:H1873),4))","v":""},null,null,null,null,null,null,{"$f":"+IF(O1871=\"\",\"\",IF(N1866=\"Transporte Marítimo\",VLOOKUP(O1871,Tabelas!$F$7:$G$12,2),IF(N1866=\"Transporte Aéreo\",VLOOKUP(O1871,Tabelas!$F$16:$G$21,2),\"\")))","v":""},null,null,null,null,null,null,null,null,null,null,null,null,null,null,null,"",{"$f":"+IF(AF1871=\"\",\"\",VLOOKUP(AF1871,Tabelas!$J$27:$K$30,2))","v":""}]
[null,null,null,null,null,null,{"$f":"+IF(F1872=\"\",\"\",VLOOKUP(F1872,Tabelas!$B$7:$C$96,2))","v":""},null,{"$f":"IF(H1872=\"\",\"\",ROUND(H1872/SUM(H1866:H1873),4))","v":""},null,null,null,null,null,null,{"$f":"+IF(O1872=\"\",\"\",IF(N1866=\"Transporte Marítimo\",VLOOKUP(O1872,Tabelas!$F$7:$G$12,2),IF(N1866=\"Transporte Aéreo\",VLOOKUP(O1872,Tabelas!$F$16:$G$21,2),\"\")))","v":""},null,null,null,null,null,null,null,null,null,null,null,null,null,null,null,"",{"$f":"+IF(AF1872=\"\",\"\",VLOOKUP(AF1872,Tabelas!$J$27:$K$30,2))","v":""}]
[null,null,null,null,null,null,{"$f":"+IF(F1876=\"\",\"\",VLOOKUP(F1876,Tabelas!$B$7:$C$96,2))","v":""},null,{"$f":"IF(H1876=\"\",\"\",ROUND(H1876/SUM(H1874:H1881),4))","v":""},null,null,null,null,null,null,{"$f":"+IF(O1876=\"\",\"\",IF(N1874=\"Transporte Marítimo\",VLOOKUP(O1876,Tabelas!$F$7:$G$12,2),IF(N1874=\"Transporte Aéreo\",VLOOKUP(O1876,Tabelas!$F$16:$G$21,2),\"\")))","v":""},null,null,null,null,null,null,null,null,null,null,null,null,null,null,null,"",{"$f":"+IF(AF1876=\"\",\"\",VLOOKUP(AF1876,Tabelas!$J$27:$K$30,2))","v":""}]
[null,null,null,null,null,null,{"$f":"+IF(F1877=\"\",\"\",VLOOKUP(F1877,Tabelas!$B$7:$C$96,2))","v":""},null,{"$f":"IF(H1877=\"\",\"\",ROUND(H1877/SUM(H1874:H1881),4))","v":""},null,null,null,null,null,null,{"$f":"+IF(O1877=\"\",\"\",IF(N1874=\"Transporte Marítimo\",VLOOKUP(O1877,Tabelas!$F$7:$G$12,2),IF(N1874=\"Transporte Aéreo\",VLOOKUP(O1877,Tabelas!$F$16:$G$21,2),\"\")))","v":""},null,null,null,null,null,null,null,null,null,null,null,null,null,null,null,"",{"$f":"+IF(AF1877=\"\",\"\",VLOOKUP(AF1877,Tabelas!$J$27:$K$30,2))","v":""}]
[null,null,null,null,null,null,{"$f":"+IF(F1880=\"\",\"\",VLOOKUP(F1880,Tabelas!$B$7:$C$96,2))","v":""},null,{"$f":"IF(H1880=\"\",\"\",ROUND(H1880/SUM(H1874:H1881),4))","v":""},null,null,null,null,null,null,{"$f":"+IF(O1880=\"\",\"\",IF(N1874=\"Transporte Marítimo\",VLOOKUP(O1880,Tabelas!$F$7:$G$12,2),IF(N1874=\"Transporte Aéreo\",VLOOKUP(O1880,Tabelas!$F$16:$G$21,2),\"\")))","v":""},null,null,null,null,null,null,null,null,null,null,null,null,null,null,null,"",{"$f":"+IF(AF1880=\"\",\"\",VLOOKUP(AF1880,Tabelas!$J$27:$K$30,2))","v":""}]
[null,{"$f":"+B1874+1","v":234},null,null,null,null,{"$f":"+IF(F1882=\"\",\"\",VLOOKUP(F1882,Tabelas!$B$7:$C$96,2))","v":""},null,{"$f":"IF(H1882=\"\",\"\",1-SUM(I1883:I1889))","v":""},null,null,null,null,null,null,{"$f":"+IF(O1882=\"\",\"\",IF(N1882=\"Transporte Marítimo\",VLOOKUP(O1882,Tabelas!$F$7:$G$12,2),IF(N1882=\"Transporte Aéreo\",VLOOKUP(O1882,Tabelas!$F$16:$G$21,2),\"\")))","v":""},null,null,null,null,null,null,null,null,null,null,null,null,null,null,null,"",{"$f":"+IF(AF1882=\"\",\"\",VLOOKUP(AF1882,Tabelas!$J$27:$K$30,2))","v":""},null,null,null,null,null,null,null,null,null,null,null,null,null,null,null," "]
[null,null,null,null,null,null,{"$f":"+IF(F1885=\"\",\"\",VLOOKUP(F1885,Tabelas!$B$7:$C$96,2))","v":""},null,{"$f":"IF(H1885=\"\",\"\",ROUND(H1885/SUM(H1882:H1889),4))","v":""},null,null,null,null,null,null,{"$f":"+IF(O1885=\"\",\"\",IF(N1882=\"Transporte Marítimo\",VLOOKUP(O1885,Tabelas!$F$7:$G$12,2),IF(N1882=\"Transporte Aéreo\",VLOOKUP(O1885,Tabelas!$F$16:$G$21,2),\"\")))","v":""},null,null,null,null,null,null,null,null,null,null,null,null,null,null,null,"",{"$f":"+IF(AF1885=\"\",\"\",VLOOKUP(AF1885,Tabelas!$J$27:$K$30,2))","v":""}]
[null,null,null,null,null,null,{"$f":"+IF(F1886=\"\",\"\",VLOOKUP(F1886,Tabelas!$B$7:$C$96,2))","v":""},null,{"$f":"IF(H1886=\"\",\"\",ROUND(H1886/SUM(H1882:H1889),4))","v":""},null,null,null,null,null,null,{"$f":"+IF(O1886=\"\",\"\",IF(N1882=\"Transporte Marítimo\",VLOOKUP(O1886,Tabelas!$F$7:$G$12,2),IF(N1882=\"Transporte Aéreo\",VLOOKUP(O1886,Tabelas!$F$16:$G$21,2),\"\")))","v":""},null,null,null,null,null,null,null,null,null,null,null,null,null,null,null,"",{"$f":"+IF(AF1886=\"\",\"\",VLOOKUP(AF1886,Tabelas!$J$27:$K$30,2))","v":""}]
[null,null,null,null,null,null,{"$f":"+IF(F1889=\"\",\"\",VLOOKUP(F1889,Tabelas!$B$7:$C$96,2))","v":""},null,{"$f":"IF(H1889=\"\",\"\",ROUND(H1889/SUM(H1882:H1889),4))","v":""},null,null,null,null,null,null,{"$f":"+IF(O1889=\"\",\"\",IF(N1882=\"Transporte Marítimo\",VLOOKUP(O1889,Tabelas!$F$7:$G$12,2),IF(N1882=\"Transporte Aéreo\",VLOOKUP(O1889,Tabelas!$F$16:$G$21,2),\"\")))","v":""},null,null,null,null,null,null,null,null,null,null,null,null,null,null,null,"",{"$f":"+IF(AF1889=\"\",\"\",VLOOKUP(AF1889,Tabelas!$J$27:$K$30,2))","v":""}]
[null,{"$f":"+B1882+1","v":235},null,null,null,null,{"$f":"+IF(F1890=\"\",\"\",VLOOKUP(F1890,Tabelas!$B$7:$C$96,2))","v":""},null,{"$f":"IF(H1890=\"\",\"\",1-SUM(I1891:I1897))","v":""},null,null,null,null,null,null,{"$f":"+IF(O1890=\"\",\"\",IF(N1890=\"Transporte Marítimo\",VLOOKUP(O1890,Tabelas!$F$7:$G$12,2),IF(N1890=\"Transporte Aéreo\",VLOOKUP(O1890,Tabelas!$F$16:$G$21,2),\"\")))","v":""},null,null,null,null,null,null,null,null,null,null,null,null,null,null,null,"",{"$f":"+IF(AF1890=\"\",\"\",VLOOKUP(AF1890,Tabelas!$J$27:$K$30,2))","v":""},null,null,null,null,null,null,null,null,null,null,null,null,null,null,null," "]
[null,null,null,null,null,null,{"$f":"+IF(F1894=\"\",\"\",VLOOKUP(F1894,Tabelas!$B$7:$C$96,2))","v":""},null,{"$f":"IF(H1894=\"\",\"\",ROUND(H1894/SUM(H1890:H1897),4))","v":""},null,null,null,null,null,null,{"$f":"+IF(O1894=\"\",\"\",IF(N1890=\"Transporte Marítimo\",VLOOKUP(O1894,Tabelas!$F$7:$G$12,2),IF(N1890=\"Transporte Aéreo\",VLOOKUP(O1894,Tabelas!$F$16:$G$21,2),\"\")))","v":""},null,null,null,null,null,null,null,null,null,null,null,null,null,null,null,"",{"$f":"+IF(AF1894=\"\",\"\",VLOOKUP(AF1894,Tabelas!$J$27:$K$30,2))","v":""}]
[null,null,null,null,null,null,{"$f":"+IF(F1895=\"\",\"\",VLOOKUP(F1895,Tabelas!$B$7:$C$96,2))","v":""},null,{"$f":"IF(H1895=\"\",\"\",ROUND(H1895/SUM(H1890:H1897),4))","v":""},null,null,null,null,null,null,{"$f":"+IF(O1895=\"\",\"\",IF(N1890=\"Transporte Marítimo\",VLOOKUP(O1895,Tabelas!$F$7:$G$12,2),IF(N1890=\"Transporte Aéreo\",VLOOKUP(O1895,Tabelas!$F$16:$G$21,2),\"\")))","v":""},null,null,null,null,null,null,null,null,null,null,null,null,null,null,null,"",{"$f":"+IF(AF1895=\"\",\"\",VLOOKUP(AF1895,Tabelas!$J$27:$K$30,2))","v":""}]
[null,{"$f":"+B1890+1","v":236},null,null,null,null,{"$f":"+IF(F1898=\"\",\"\",VLOOKUP(F1898,Tabelas!$B$7:$C$96,2))","v":""},null,{"$f":"IF(H1898=\"\",\"\",1-SUM(I1899:I1905))","v":""},null,null,null,null,null,null,{"$f":"+IF(O1898=\"\",\"\",IF(N1898=\"Transporte Marítimo\",VLOOKUP(O1898,Tabelas!$F$7:$G$12,2),IF(N1898=\"Transporte Aéreo\",VLOOKUP(O1898,Tabelas!$F$16:$G$21,2),\"\")))","v":""},null,null,null,null,null,null,null,null,null,null,null,null,null,null,null,"",{"$f":"+IF(AF1898=\"\",\"\",VLOOKUP(AF1898,Tabelas!$J$27:$K$30,2))","v":""},null,null,null,null,null,null,null,null,null,null,null,null,null,null,null," "]
[null,null,null,null,null,null,{"$f":"+IF(F1899=\"\",\"\",VLOOKUP(F1899,Tabelas!$B$7:$C$96,2))","v":""},null,{"$f":"IF(H1899=\"\",\"\",ROUND(H1899/SUM(H1898:H1905),4))","v":""},null,null,null,null,null,null,{"$f":"+IF(O1899=\"\",\"\",IF(N1898=\"Transporte Marítimo\",VLOOKUP(O1899,Tabelas!$F$7:$G$12,2),IF(N1898=\"Transporte Aéreo\",VLOOKUP(O1899,Tabelas!$F$16:$G$21,2),\"\")))","v":""},null,null,null,null,null,null,null,null,null,null,null,null,null,null,null,"",{"$f":"+IF(AF1899=\"\",\"\",VLOOKUP(AF1899,Tabelas!$J$27:$K$30,2))","v":""}]
[null,null,null,null,null,null,{"$f":"+IF(F1903=\"\",\"\",VLOOKUP(F1903,Tabelas!$B$7:$C$96,2))","v":""},null,{"$f":"IF(H1903=\"\",\"\",ROUND(H1903/SUM(H1898:H1905),4))","v":""},null,null,null,null,null,null,{"$f":"+IF(O1903=\"\",\"\",IF(N1898=\"Transporte Marítimo\",VLOOKUP(O1903,Tabelas!$F$7:$G$12,2),IF(N1898=\"Transporte Aéreo\",VLOOKUP(O1903,Tabelas!$F$16:$G$21,2),\"\")))","v":""},null,null,null,null,null,null,null,null,null,null,null,null,null,null,null,"",{"$f":"+IF(AF1903=\"\",\"\",VLOOKUP(AF1903,Tabelas!$J$27:$K$30,2))","v":""}]
[null,null,null,null,null,null,{"$f":"+IF(F1904=\"\",\"\",VLOOKUP(F1904,Tabelas!$B$7:$C$96,2))","v":""},null,{"$f":"IF(H1904=\"\",\"\",ROUND(H1904/SUM(H1898:H1905),4))","v":""},null,null,null,null,null,null,{"$f":"+IF(O1904=\"\",\"\",IF(N1898=\"Transporte Marítimo\",VLOOKUP(O1904,Tabelas!$F$7:$G$12,2),IF(N1898=\"Transporte Aéreo\",VLOOKUP(O1904,Tabelas!$F$16:$G$21,2),\"\")))","v":""},null,null,null,null,null,null,null,null,null,null,null,null,null,null,null,"",{"$f":"+IF(AF1904=\"\",\"\",VLOOKUP(AF1904,Tabelas!$J$27:$K$30,2))","v":""}]
[null,null,null,null,null,null,{"$f":"+IF(F1907=\"\",\"\",VLOOKUP(F1907,Tabelas!$B$7:$C$96,2))","v":""},null,{"$f":"IF(H1907=\"\",\"\",ROUND(H1907/SUM(H1906:H1913),4))","v":""},null,null,null,null,null,null,{"$f":"+IF(O1907=\"\",\"\",IF(N1906=\"Transporte Marítimo\",VLOOKUP(O1907,Tabelas!$F$7:$G$12,2),IF(N1906=\"Transporte Aéreo\",VLOOKUP(O1907,Tabelas!$F$16:$G$21,2),\"\")))","v":""},null,null,null,null,null,null,null,null,null,null,null,null,null,null,null,"",{"$f":"+IF(AF1907=\"\",\"\",VLOOKUP(AF1907,Tabelas!$J$27:$K$30,2))","v":""}]
[null,null,null,null,null,null,{"$f":"+IF(F1908=\"\",\"\",VLOOKUP(F1908,Tabelas!$B$7:$C$96,2))","v":""},null,{"$f":"IF(H1908=\"\",\"\",ROUND(H1908/SUM(H1906:H1913),4))","v":""},null,null,null,null,null,null,{"$f":"+IF(O1908=\"\",\"\",IF(N1906=\"Transporte Marítimo\",VLOOKUP(O1908,Tabelas!$F$7:$G$12,2),IF(N1906=\"Transporte Aéreo\",VLOOKUP(O1908,Tabelas!$F$16:$G$21,2),\"\")))","v":""},null,null,null,null,null,null,null,null,null,null,null,null,null,null,null,"",{"$f":"+IF(AF1908=\"\",\"\",VLOOKUP(AF1908,Tabelas!$J$27:$K$30,2))","v":""}]
[null,null,null,null,null,null,{"$f":"+IF(F1910=\"\",\"\",VLOOKUP(F1910,Tabelas!$B$7:$C$96,2))","v":""},null,{"$f":"IF(H1910=\"\",\"\",ROUND(H1910/SUM(H1906:H1913),4))","v":""},null,null,null,null,null,null,{"$f":"+IF(O1910=\"\",\"\",IF(N1906=\"Transporte Marítimo\",VLOOKUP(O1910,Tabelas!$F$7:$G$12,2),IF(N1906=\"Transporte Aéreo\",VLOOKUP(O1910,Tabelas!$F$16:$G$21,2),\"\")))","v":""},null,null,null,null,null,null,null,null,null,null,null,null,null,null,null,"",{"$f":"+IF(AF1910=\"\",\"\",VLOOKUP(AF1910,Tabelas!$J$27:$K$30,2))","v":""}]
[null,null,null,null,null,null,{"$f":"+IF(F1913=\"\",\"\",VLOOKUP(F1913,Tabelas!$B$7:$C$96,2))","v":""},null,{"$f":"IF(H1913=\"\",\"\",ROUND(H1913/SUM(H1906:H1913),4))","v":""},null,null,null,null,null,null,{"$f":"+IF(O1913=\"\",\"\",IF(N1906=\"Transporte Marítimo\",VLOOKUP(O1913,Tabelas!$F$7:$G$12,2),IF(N1906=\"Transporte Aéreo\",VLOOKUP(O1913,Tabelas!$F$16:$G$21,2),\"\")))","v":""},null,null,null,null,null,null,null,null,null,null,null,null,null,null,null,"",{"$f":"+IF(AF1913=\"\",\"\",VLOOKUP(AF1913,Tabelas!$J$27:$K$30,2))","v":""}]
[null,null,null,null,null,null,{"$f":"+IF(F1916=\"\",\"\",VLOOKUP(F1916,Tabelas!$B$7:$C$96,2))","v":""},null,{"$f":"IF(H1916=\"\",\"\",ROUND(H1916/SUM(H1914:H1921),4))","v":""},null,null,null,null,null,null,{"$f":"+IF(O1916=\"\",\"\",IF(N1914=\"Transporte Marítimo\",VLOOKUP(O1916,Tabelas!$F$7:$G$12,2),IF(N1914=\"Transporte Aéreo\",VLOOKUP(O1916,Tabelas!$F$16:$G$21,2),\"\")))","v":""},null,null,null,null,null,null,null,null,null,null,null,null,null,null,null,"",{"$f":"+IF(AF1916=\"\",\"\",VLOOKUP(AF1916,Tabelas!$J$27:$K$30,2))","v":""}]
[null,null,null,null,null,null,{"$f":"+IF(F1917=\"\",\"\",VLOOKUP(F1917,Tabelas!$B$7:$C$96,2))","v":""},null,{"$f":"IF(H1917=\"\",\"\",ROUND(H1917/SUM(H1914:H1921),4))","v":""},null,null,null,null,null,null,{"$f":"+IF(O1917=\"\",\"\",IF(N1914=\"Transporte Marítimo\",VLOOKUP(O1917,Tabelas!$F$7:$G$12,2),IF(N1914=\"Transporte Aéreo\",VLOOKUP(O1917,Tabelas!$F$16:$G$21,2),\"\")))","v":""},null,null,null,null,null,null,null,null,null,null,null,null,null,null,null,"",{"$f":"+IF(AF1917=\"\",\"\",VLOOKUP(AF1917,Tabelas!$J$27:$K$30,2))","v":""}]
[null,null,null,null,null,null,{"$f":"+IF(F1920=\"\",\"\",VLOOKUP(F1920,Tabelas!$B$7:$C$96,2))","v":""},null,{"$f":"IF(H1920=\"\",\"\",ROUND(H1920/SUM(H1914:H1921),4))","v":""},null,null,null,null,null,null,{"$f":"+IF(O1920=\"\",\"\",IF(N1914=\"Transporte Marítimo\",VLOOKUP(O1920,Tabelas!$F$7:$G$12,2),IF(N1914=\"Transporte Aéreo\",VLOOKUP(O1920,Tabelas!$F$16:$G$21,2),\"\")))","v":""},null,null,null,null,null,null,null,null,null,null,null,null,null,null,null,"",{"$f":"+IF(AF1920=\"\",\"\",VLOOKUP(AF1920,Tabelas!$J$27:$K$30,2))","v":""}]
[null,null,null,null,null,null,{"$f":"+IF(F1923=\"\",\"\",VLOOKUP(F1923,Tabelas!$B$7:$C$96,2))","v":""},null,{"$f":"IF(H1923=\"\",\"\",ROUND(H1923/SUM(H1922:H1929),4))","v":""},null,null,null,null,null,null,{"$f":"+IF(O1923=\"\",\"\",IF(N1922=\"Transporte Marítimo\",VLOOKUP(O1923,Tabelas!$F$7:$G$12,2),IF(N1922=\"Transporte Aéreo\",VLOOKUP(O1923,Tabelas!$F$16:$G$21,2),\"\")))","v":""},null,null,null,null,null,null,null,null,null,null,null,null,null,null,null,"",{"$f":"+IF(AF1923=\"\",\"\",VLOOKUP(AF1923,Tabelas!$J$27:$K$30,2))","v":""}]
[null,null,null,null,null,null,{"$f":"+IF(F1925=\"\",\"\",VLOOKUP(F1925,Tabelas!$B$7:$C$96,2))","v":""},null,{"$f":"IF(H1925=\"\",\"\",ROUND(H1925/SUM(H1922:H1929),4))","v":""},null,null,null,null,null,null,{"$f":"+IF(O1925=\"\",\"\",IF(N1922=\"Transporte Marítimo\",VLOOKUP(O1925,Tabelas!$F$7:$G$12,2),IF(N1922=\"Transporte Aéreo\",VLOOKUP(O1925,Tabelas!$F$16:$G$21,2),\"\")))","v":""},null,null,null,null,null,null,null,null,null,null,null,null,null,null,null,"",{"$f":"+IF(AF1925=\"\",\"\",VLOOKUP(AF1925,Tabelas!$J$27:$K$30,2))","v":""}]
[null,null,null,null,null,null,{"$f":"+IF(F1926=\"\",\"\",VLOOKUP(F1926,Tabelas!$B$7:$C$96,2))","v":""},null,{"$f":"IF(H1926=\"\",\"\",ROUND(H1926/SUM(H1922:H1929),4))","v":""},null,null,null,null,null,null,{"$f":"+IF(O1926=\"\",\"\",IF(N1922=\"Transporte Marítimo\",VLOOKUP(O1926,Tabelas!$F$7:$G$12,2),IF(N1922=\"Transporte Aéreo\",VLOOKUP(O1926,Tabelas!$F$16:$G$21,2),\"\")))","v":""},null,null,null,null,null,null,null,null,null,null,null,null,null,null,null,"",{"$f":"+IF(AF1926=\"\",\"\",VLOOKUP(AF1926,Tabelas!$J$27:$K$30,2))","v":""}]
[null,null,null,null,null,null,{"$f":"+IF(F1929=\"\",\"\",VLOOKUP(F1929,Tabelas!$B$7:$C$96,2))","v":""},null,{"$f":"IF(H1929=\"\",\"\",ROUND(H1929/SUM(H1922:H1929),4))","v":""},null,null,null,null,null,null,{"$f":"+IF(O1929=\"\",\"\",IF(N1922=\"Transporte Marítimo\",VLOOKUP(O1929,Tabelas!$F$7:$G$12,2),IF(N1922=\"Transporte Aéreo\",VLOOKUP(O1929,Tabelas!$F$16:$G$21,2),\"\")))","v":""},null,null,null,null,null,null,null,null,null,null,null,null,null,null,null,"",{"$f":"+IF(AF1929=\"\",\"\",VLOOKUP(AF1929,Tabelas!$J$27:$K$30,2))","v":""}]
[null,null,null,null,null,null,{"$f":"+IF(F1931=\"\",\"\",VLOOKUP(F1931,Tabelas!$B$7:$C$96,2))","v":""},null,{"$f":"IF(H1931=\"\",\"\",ROUND(H1931/SUM(H1930:H1937),4))","v":""},null,null,null,null,null,null,{"$f":"+IF(O1931=\"\",\"\",IF(N1930=\"Transporte Marítimo\",VLOOKUP(O1931,Tabelas!$F$7:$G$12,2),IF(N1930=\"Transporte Aéreo\",VLOOKUP(O1931,Tabelas!$F$16:$G$21,2),\"\")))","v":""},null,null,null,null,null,null,null,null,null,null,null,null,null,null,null,"",{"$f":"+IF(AF1931=\"\",\"\",VLOOKUP(AF1931,Tabelas!$J$27:$K$30,2))","v":""}]
[null,null,null,null,null,null,{"$f":"+IF(F1934=\"\",\"\",VLOOKUP(F1934,Tabelas!$B$7:$C$96,2))","v":""},null,{"$f":"IF(H1934=\"\",\"\",ROUND(H1934/SUM(H1930:H1937),4))","v":""},null,null,null,null,null,null,{"$f":"+IF(O1934=\"\",\"\",IF(N1930=\"Transporte Marítimo\",VLOOKUP(O1934,Tabelas!$F$7:$G$12,2),IF(N1930=\"Transporte Aéreo\",VLOOKUP(O1934,Tabelas!$F$16:$G$21,2),\"\")))","v":""},null,null,null,null,null,null,null,null,null,null,null,null,null,null,null,"",{"$f":"+IF(AF1934=\"\",\"\",VLOOKUP(AF1934,Tabelas!$J$27:$K$30,2))","v":""}]
[null,null,null,null,null,null,{"$f":"+IF(F1935=\"\",\"\",VLOOKUP(F1935,Tabelas!$B$7:$C$96,2))","v":""},null,{"$f":"IF(H1935=\"\",\"\",ROUND(H1935/SUM(H1930:H1937),4))","v":""},null,null,null,null,null,null,{"$f":"+IF(O1935=\"\",\"\",IF(N1930=\"Transporte Marítimo\",VLOOKUP(O1935,Tabelas!$F$7:$G$12,2),IF(N1930=\"Transporte Aéreo\",VLOOKUP(O1935,Tabelas!$F$16:$G$21,2),\"\")))","v":""},null,null,null,null,null,null,null,null,null,null,null,null,null,null,null,"",{"$f":"+IF(AF1935=\"\",\"\",VLOOKUP(AF1935,Tabelas!$J$27:$K$30,2))","v":""}]
[null,{"$f":"+B1930+1","v":241},null,null,null,null,{"$f":"+IF(F1938=\"\",\"\",VLOOKUP(F1938,Tabelas!$B$7:$C$96,2))","v":""},null,{"$f":"IF(H1938=\"\",\"\",1-SUM(I1939:I1945))","v":""},null,null,null,null,null,null,{"$f":"+IF(O1938=\"\",\"\",IF(N1938=\"Transporte Marítimo\",VLOOKUP(O1938,Tabelas!$F$7:$G$12,2),IF(N1938=\"Transporte Aéreo\",VLOOKUP(O1938,Tabelas!$F$16:$G$21,2),\"\")))","v":""},null,null,null,null,null,null,null,null,null,null,null,null,null,null,null,"",{"$f":"+IF(AF1938=\"\",\"\",VLOOKUP(AF1938,Tabelas!$J$27:$K$30,2))","v":""},null,null,null,null,null,null,null,null,null,null,null,null,null,null,null," "]
[null,null,null,null,null,null,{"$f":"+IF(F1941=\"\",\"\",VLOOKUP(F1941,Tabelas!$B$7:$C$96,2))","v":""},null,{"$f":"IF(H1941=\"\",\"\",ROUND(H1941/SUM(H1938:H1945),4))","v":""},null,null,null,null,null,null,{"$f":"+IF(O1941=\"\",\"\",IF(N1938=\"Transporte Marítimo\",VLOOKUP(O1941,Tabelas!$F$7:$G$12,2),IF(N1938=\"Transporte Aéreo\",VLOOKUP(O1941,Tabelas!$F$16:$G$21,2),\"\")))","v":""},null,null,null,null,null,null,null,null,null,null,null,null,null,null,null,"",{"$f":"+IF(AF1941=\"\",\"\",VLOOKUP(AF1941,Tabelas!$J$27:$K$30,2))","v":""}]
[null,null,null,null,null,null,{"$f":"+IF(F1943=\"\",\"\",VLOOKUP(F1943,Tabelas!$B$7:$C$96,2))","v":""},null,{"$f":"IF(H1943=\"\",\"\",ROUND(H1943/SUM(H1938:H1945),4))","v":""},null,null,null,null,null,null,{"$f":"+IF(O1943=\"\",\"\",IF(N1938=\"Transporte Marítimo\",VLOOKUP(O1943,Tabelas!$F$7:$G$12,2),IF(N1938=\"Transporte Aéreo\",VLOOKUP(O1943,Tabelas!$F$16:$G$21,2),\"\")))","v":""},null,null,null,null,null,null,null,null,null,null,null,null,null,null,null,"",{"$f":"+IF(AF1943=\"\",\"\",VLOOKUP(AF1943,Tabelas!$J$27:$K$30,2))","v":""}]
[null,null,null,null,null,null,{"$f":"+IF(F1944=\"\",\"\",VLOOKUP(F1944,Tabelas!$B$7:$C$96,2))","v":""},null,{"$f":"IF(H1944=\"\",\"\",ROUND(H1944/SUM(H1938:H1945),4))","v":""},null,null,null,null,null,null,{"$f":"+IF(O1944=\"\",\"\",IF(N1938=\"Transporte Marítimo\",VLOOKUP(O1944,Tabelas!$F$7:$G$12,2),IF(N1938=\"Transporte Aéreo\",VLOOKUP(O1944,Tabelas!$F$16:$G$21,2),\"\")))","v":""},null,null,null,null,null,null,null,null,null,null,null,null,null,null,null,"",{"$f":"+IF(AF1944=\"\",\"\",VLOOKUP(AF1944,Tabelas!$J$27:$K$30,2))","v":""}]
[null,null,null,null,null,null,{"$f":"+IF(F1947=\"\",\"\",VLOOKUP(F1947,Tabelas!$B$7:$C$96,2))","v":""},null,{"$f":"IF(H1947=\"\",\"\",ROUND(H1947/SUM(H1946:H1953),4))","v":""},null,null,null,null,null,null,{"$f":"+IF(O1947=\"\",\"\",IF(N1946=\"Transporte Marítimo\",VLOOKUP(O1947,Tabelas!$F$7:$G$12,2),IF(N1946=\"Transporte Aéreo\",VLOOKUP(O1947,Tabelas!$F$16:$G$21,2),\"\")))","v":""},null,null,null,null,null,null,null,null,null,null,null,null,null,null,null,"",{"$f":"+IF(AF1947=\"\",\"\",VLOOKUP(AF1947,Tabelas!$J$27:$K$30,2))","v":""}]
[null,null,null,null,null,null,{"$f":"+IF(F1948=\"\",\"\",VLOOKUP(F1948,Tabelas!$B$7:$C$96,2))","v":""},null,{"$f":"IF(H1948=\"\",\"\",ROUND(H1948/SUM(H1946:H1953),4))","v":""},null,null,null,null,null,null,{"$f":"+IF(O1948=\"\",\"\",IF(N1946=\"Transporte Marítimo\",VLOOKUP(O1948,Tabelas!$F$7:$G$12,2),IF(N1946=\"Transporte Aéreo\",VLOOKUP(O1948,Tabelas!$F$16:$G$21,2),\"\")))","v":""},null,null,null,null,null,null,null,null,null,null,null,null,null,null,null,"",{"$f":"+IF(AF1948=\"\",\"\",VLOOKUP(AF1948,Tabelas!$J$27:$K$30,2))","v":""}]
[null,null,null,null,null,null,{"$f":"+IF(F1951=\"\",\"\",VLOOKUP(F1951,Tabelas!$B$7:$C$96,2))","v":""},null,{"$f":"IF(H1951=\"\",\"\",ROUND(H1951/SUM(H1946:H1953),4))","v":""},null,null,null,null,null,null,{"$f":"+IF(O1951=\"\",\"\",IF(N1946=\"Transporte Marítimo\",VLOOKUP(O1951,Tabelas!$F$7:$G$12,2),IF(N1946=\"Transporte Aéreo\",VLOOKUP(O1951,Tabelas!$F$16:$G$21,2),\"\")))","v":""},null,null,null,null,null,null,null,null,null,null,null,null,null,null,null,"",{"$f":"+IF(AF1951=\"\",\"\",VLOOKUP(AF1951,Tabelas!$J$27:$K$30,2))","v":""}]
[null,null,null,null,null,null,{"$f":"+IF(F1953=\"\",\"\",VLOOKUP(F1953,Tabelas!$B$7:$C$96,2))","v":""},null,{"$f":"IF(H1953=\"\",\"\",ROUND(H1953/SUM(H1946:H1953),4))","v":""},null,null,null,null,null,null,{"$f":"+IF(O1953=\"\",\"\",IF(N1946=\"Transporte Marítimo\",VLOOKUP(O1953,Tabelas!$F$7:$G$12,2),IF(N1946=\"Transporte Aéreo\",VLOOKUP(O1953,Tabelas!$F$16:$G$21,2),\"\")))","v":""},null,null,null,null,null,null,null,null,null,null,null,null,null,null,null,"",{"$f":"+IF(AF1953=\"\",\"\",VLOOKUP(AF1953,Tabelas!$J$27:$K$30,2))","v":""}]
[null,null,null,null,null,null,{"$f":"+IF(F1956=\"\",\"\",VLOOKUP(F1956,Tabelas!$B$7:$C$96,2))","v":""},null,{"$f":"IF(H1956=\"\",\"\",ROUND(H1956/SUM(H1954:H1961),4))","v":""},null,null,null,null,null,null,{"$f":"+IF(O1956=\"\",\"\",IF(N1954=\"Transporte Marítimo\",VLOOKUP(O1956,Tabelas!$F$7:$G$12,2),IF(N1954=\"Transporte Aéreo\",VLOOKUP(O1956,Tabelas!$F$16:$G$21,2),\"\")))","v":""},null,null,null,null,null,null,null,null,null,null,null,null,null,null,null,"",{"$f":"+IF(AF1956=\"\",\"\",VLOOKUP(AF1956,Tabelas!$J$27:$K$30,2))","v":""}]
[null,null,null,null,null,null,{"$f":"+IF(F1957=\"\",\"\",VLOOKUP(F1957,Tabelas!$B$7:$C$96,2))","v":""},null,{"$f":"IF(H1957=\"\",\"\",ROUND(H1957/SUM(H1954:H1961),4))","v":""},null,null,null,null,null,null,{"$f":"+IF(O1957=\"\",\"\",IF(N1954=\"Transporte Marítimo\",VLOOKUP(O1957,Tabelas!$F$7:$G$12,2),IF(N1954=\"Transporte Aéreo\",VLOOKUP(O1957,Tabelas!$F$16:$G$21,2),\"\")))","v":""},null,null,null,null,null,null,null,null,null,null,null,null,null,null,null,"",{"$f":"+IF(AF1957=\"\",\"\",VLOOKUP(AF1957,Tabelas!$J$27:$K$30,2))","v":""}]
[null,null,null,null,null,null,{"$f":"+IF(F1959=\"\",\"\",VLOOKUP(F1959,Tabelas!$B$7:$C$96,2))","v":""},null,{"$f":"IF(H1959=\"\",\"\",ROUND(H1959/SUM(H1954:H1961),4))","v":""},null,null,null,null,null,null,{"$f":"+IF(O1959=\"\",\"\",IF(N1954=\"Transporte Marítimo\",VLOOKUP(O1959,Tabelas!$F$7:$G$12,2),IF(N1954=\"Transporte Aéreo\",VLOOKUP(O1959,Tabelas!$F$16:$G$21,2),\"\")))","v":""},null,null,null,null,null,null,null,null,null,null,null,null,null,null,null,"",{"$f":"+IF(AF1959=\"\",\"\",VLOOKUP(AF1959,Tabelas!$J$27:$K$30,2))","v":""}]
[null,{"$f":"+B1954+1","v":244},null,null,null,null,{"$f":"+IF(F1962=\"\",\"\",VLOOKUP(F1962,Tabelas!$B$7:$C$96,2))","v":""},null,{"$f":"IF(H1962=\"\",\"\",1-SUM(I1963:I1969))","v":""},null,null,null,null,null,null,{"$f":"+IF(O1962=\"\",\"\",IF(N1962=\"Transporte Marítimo\",VLOOKUP(O1962,Tabelas!$F$7:$G$12,2),IF(N1962=\"Transporte Aéreo\",VLOOKUP(O1962,Tabelas!$F$16:$G$21,2),\"\")))","v":""},null,null,null,null,null,null,null,null,null,null,null,null,null,null,null,"",{"$f":"+IF(AF1962=\"\",\"\",VLOOKUP(AF1962,Tabelas!$J$27:$K$30,2))","v":""},null,null,null,null,null,null,null,null,null,null,null,null,null,null,null," "]
[null,null,null,null,null,null,{"$f":"+IF(F1965=\"\",\"\",VLOOKUP(F1965,Tabelas!$B$7:$C$96,2))","v":""},null,{"$f":"IF(H1965=\"\",\"\",ROUND(H1965/SUM(H1962:H1969),4))","v":""},null,null,null,null,null,null,{"$f":"+IF(O1965=\"\",\"\",IF(N1962=\"Transporte Marítimo\",VLOOKUP(O1965,Tabelas!$F$7:$G$12,2),IF(N1962=\"Transporte Aéreo\",VLOOKUP(O1965,Tabelas!$F$16:$G$21,2),\"\")))","v":""},null,null,null,null,null,null,null,null,null,null,null,null,null,null,null,"",{"$f":"+IF(AF1965=\"\",\"\",VLOOKUP(AF1965,Tabelas!$J$27:$K$30,2))","v":""}]
[null,null,null,null,null,null,{"$f":"+IF(F1966=\"\",\"\",VLOOKUP(F1966,Tabelas!$B$7:$C$96,2))","v":""},null,{"$f":"IF(H1966=\"\",\"\",ROUND(H1966/SUM(H1962:H1969),4))","v":""},null,null,null,null,null,null,{"$f":"+IF(O1966=\"\",\"\",IF(N1962=\"Transporte Marítimo\",VLOOKUP(O1966,Tabelas!$F$7:$G$12,2),IF(N1962=\"Transporte Aéreo\",VLOOKUP(O1966,Tabelas!$F$16:$G$21,2),\"\")))","v":""},null,null,null,null,null,null,null,null,null,null,null,null,null,null,null,"",{"$f":"+IF(AF1966=\"\",\"\",VLOOKUP(AF1966,Tabelas!$J$27:$K$30,2))","v":""}]
[null,null,null,null,null,null,{"$f":"+IF(F1969=\"\",\"\",VLOOKUP(F1969,Tabelas!$B$7:$C$96,2))","v":""},null,{"$f":"IF(H1969=\"\",\"\",ROUND(H1969/SUM(H1962:H1969),4))","v":""},null,null,null,null,null,null,{"$f":"+IF(O1969=\"\",\"\",IF(N1962=\"Transporte Marítimo\",VLOOKUP(O1969,Tabelas!$F$7:$G$12,2),IF(N1962=\"Transporte Aéreo\",VLOOKUP(O1969,Tabelas!$F$16:$G$21,2),\"\")))","v":""},null,null,null,null,null,null,null,null,null,null,null,null,null,null,null,"",{"$f":"+IF(AF1969=\"\",\"\",VLOOKUP(AF1969,Tabelas!$J$27:$K$30,2))","v":""}]
[null,null,null,null,null,null,{"$f":"+IF(F1971=\"\",\"\",VLOOKUP(F1971,Tabelas!$B$7:$C$96,2))","v":""},null,{"$f":"IF(H1971=\"\",\"\",ROUND(H1971/SUM(H1970:H1977),4))","v":""},null,null,null,null,null,null,{"$f":"+IF(O1971=\"\",\"\",IF(N1970=\"Transporte Marítimo\",VLOOKUP(O1971,Tabelas!$F$7:$G$12,2),IF(N1970=\"Transporte Aéreo\",VLOOKUP(O1971,Tabelas!$F$16:$G$21,2),\"\")))","v":""},null,null,null,null,null,null,null,null,null,null,null,null,null,null,null,"",{"$f":"+IF(AF1971=\"\",\"\",VLOOKUP(AF1971,Tabelas!$J$27:$K$30,2))","v":""}]
[null,null,null,null,null,null,{"$f":"+IF(F1974=\"\",\"\",VLOOKUP(F1974,Tabelas!$B$7:$C$96,2))","v":""},null,{"$f":"IF(H1974=\"\",\"\",ROUND(H1974/SUM(H1970:H1977),4))","v":""},null,null,null,null,null,null,{"$f":"+IF(O1974=\"\",\"\",IF(N1970=\"Transporte Marítimo\",VLOOKUP(O1974,Tabelas!$F$7:$G$12,2),IF(N1970=\"Transporte Aéreo\",VLOOKUP(O1974,Tabelas!$F$16:$G$21,2),\"\")))","v":""},null,null,null,null,null,null,null,null,null,null,null,null,null,null,null,"",{"$f":"+IF(AF1974=\"\",\"\",VLOOKUP(AF1974,Tabelas!$J$27:$K$30,2))","v":""}]
[null,null,null,null,null,null,{"$f":"+IF(F1975=\"\",\"\",VLOOKUP(F1975,Tabelas!$B$7:$C$96,2))","v":""},null,{"$f":"IF(H1975=\"\",\"\",ROUND(H1975/SUM(H1970:H1977),4))","v":""},null,null,null,null,null,null,{"$f":"+IF(O1975=\"\",\"\",IF(N1970=\"Transporte Marítimo\",VLOOKUP(O1975,Tabelas!$F$7:$G$12,2),IF(N1970=\"Transporte Aéreo\",VLOOKUP(O1975,Tabelas!$F$16:$G$21,2),\"\")))","v":""},null,null,null,null,null,null,null,null,null,null,null,null,null,null,null,"",{"$f":"+IF(AF1975=\"\",\"\",VLOOKUP(AF1975,Tabelas!$J$27:$K$30,2))","v":""}]
[null,{"$f":"+B1970+1","v":246},null,null,null,null,{"$f":"+IF(F1978=\"\",\"\",VLOOKUP(F1978,Tabelas!$B$7:$C$96,2))","v":""},null,{"$f":"IF(H1978=\"\",\"\",1-SUM(I1979:I1985))","v":""},null,null,null,null,null,null,{"$f":"+IF(O1978=\"\",\"\",IF(N1978=\"Transporte Marítimo\",VLOOKUP(O1978,Tabelas!$F$7:$G$12,2),IF(N1978=\"Transporte Aéreo\",VLOOKUP(O1978,Tabelas!$F$16:$G$21,2),\"\")))","v":""},null,null,null,null,null,null,null,null,null,null,null,null,null,null,null,"",{"$f":"+IF(AF1978=\"\",\"\",VLOOKUP(AF1978,Tabelas!$J$27:$K$30,2))","v":""},null,null,null,null,null,null,null,null,null,null,null,null,null,null,null," "]
[null,null,null,null,null,null,{"$f":"+IF(F1979=\"\",\"\",VLOOKUP(F1979,Tabelas!$B$7:$C$96,2))","v":""},null,{"$f":"IF(H1979=\"\",\"\",ROUND(H1979/SUM(H1978:H1985),4))","v":""},null,null,null,null,null,null,{"$f":"+IF(O1979=\"\",\"\",IF(N1978=\"Transporte Marítimo\",VLOOKUP(O1979,Tabelas!$F$7:$G$12,2),IF(N1978=\"Transporte Aéreo\",VLOOKUP(O1979,Tabelas!$F$16:$G$21,2),\"\")))","v":""},null,null,null,null,null,null,null,null,null,null,null,null,null,null,null,"",{"$f":"+IF(AF1979=\"\",\"\",VLOOKUP(AF1979,Tabelas!$J$27:$K$30,2))","v":""}]
[null,null,null,null,null,null,{"$f":"+IF(F1983=\"\",\"\",VLOOKUP(F1983,Tabelas!$B$7:$C$96,2))","v":""},null,{"$f":"IF(H1983=\"\",\"\",ROUND(H1983/SUM(H1978:H1985),4))","v":""},null,null,null,null,null,null,{"$f":"+IF(O1983=\"\",\"\",IF(N1978=\"Transporte Marítimo\",VLOOKUP(O1983,Tabelas!$F$7:$G$12,2),IF(N1978=\"Transporte Aéreo\",VLOOKUP(O1983,Tabelas!$F$16:$G$21,2),\"\")))","v":""},null,null,null,null,null,null,null,null,null,null,null,null,null,null,null,"",{"$f":"+IF(AF1983=\"\",\"\",VLOOKUP(AF1983,Tabelas!$J$27:$K$30,2))","v":""}]
[null,null,null,null,null,null,{"$f":"+IF(F1984=\"\",\"\",VLOOKUP(F1984,Tabelas!$B$7:$C$96,2))","v":""},null,{"$f":"IF(H1984=\"\",\"\",ROUND(H1984/SUM(H1978:H1985),4))","v":""},null,null,null,null,null,null,{"$f":"+IF(O1984=\"\",\"\",IF(N1978=\"Transporte Marítimo\",VLOOKUP(O1984,Tabelas!$F$7:$G$12,2),IF(N1978=\"Transporte Aéreo\",VLOOKUP(O1984,Tabelas!$F$16:$G$21,2),\"\")))","v":""},null,null,null,null,null,null,null,null,null,null,null,null,null,null,null,"",{"$f":"+IF(AF1984=\"\",\"\",VLOOKUP(AF1984,Tabelas!$J$27:$K$30,2))","v":""}]
[null,null,null,null,null,null,{"$f":"+IF(F1987=\"\",\"\",VLOOKUP(F1987,Tabelas!$B$7:$C$96,2))","v":""},null,{"$f":"IF(H1987=\"\",\"\",ROUND(H1987/SUM(H1986:H1993),4))","v":""},null,null,null,null,null,null,{"$f":"+IF(O1987=\"\",\"\",IF(N1986=\"Transporte Marítimo\",VLOOKUP(O1987,Tabelas!$F$7:$G$12,2),IF(N1986=\"Transporte Aéreo\",VLOOKUP(O1987,Tabelas!$F$16:$G$21,2),\"\")))","v":""},null,null,null,null,null,null,null,null,null,null,null,null,null,null,null,"",{"$f":"+IF(AF1987=\"\",\"\",VLOOKUP(AF1987,Tabelas!$J$27:$K$30,2))","v":""}]
[null,null,null,null,null,null,{"$f":"+IF(F1990=\"\",\"\",VLOOKUP(F1990,Tabelas!$B$7:$C$96,2))","v":""},null,{"$f":"IF(H1990=\"\",\"\",ROUND(H1990/SUM(H1986:H1993),4))","v":""},null,null,null,null,null,null,{"$f":"+IF(O1990=\"\",\"\",IF(N1986=\"Transporte Marítimo\",VLOOKUP(O1990,Tabelas!$F$7:$G$12,2),IF(N1986=\"Transporte Aéreo\",VLOOKUP(O1990,Tabelas!$F$16:$G$21,2),\"\")))","v":""},null,null,null,null,null,null,null,null,null,null,null,null,null,null,null,"",{"$f":"+IF(AF1990=\"\",\"\",VLOOKUP(AF1990,Tabelas!$J$27:$K$30,2))","v":""}]
[null,null,null,null,null,null,{"$f":"+IF(F1992=\"\",\"\",VLOOKUP(F1992,Tabelas!$B$7:$C$96,2))","v":""},null,{"$f":"IF(H1992=\"\",\"\",ROUND(H1992/SUM(H1986:H1993),4))","v":""},null,null,null,null,null,null,{"$f":"+IF(O1992=\"\",\"\",IF(N1986=\"Transporte Marítimo\",VLOOKUP(O1992,Tabelas!$F$7:$G$12,2),IF(N1986=\"Transporte Aéreo\",VLOOKUP(O1992,Tabelas!$F$16:$G$21,2),\"\")))","v":""},null,null,null,null,null,null,null,null,null,null,null,null,null,null,null,"",{"$f":"+IF(AF1992=\"\",\"\",VLOOKUP(AF1992,Tabelas!$J$27:$K$30,2))","v":""}]
[null,null,null,null,null,null,{"$f":"+IF(F1993=\"\",\"\",VLOOKUP(F1993,Tabelas!$B$7:$C$96,2))","v":""},null,{"$f":"IF(H1993=\"\",\"\",ROUND(H1993/SUM(H1986:H1993),4))","v":""},null,null,null,null,null,null,{"$f":"+IF(O1993=\"\",\"\",IF(N1986=\"Transporte Marítimo\",VLOOKUP(O1993,Tabelas!$F$7:$G$12,2),IF(N1986=\"Transporte Aéreo\",VLOOKUP(O1993,Tabelas!$F$16:$G$21,2),\"\")))","v":""},null,null,null,null,null,null,null,null,null,null,null,null,null,null,null,"",{"$f":"+IF(AF1993=\"\",\"\",VLOOKUP(AF1993,Tabelas!$J$27:$K$30,2))","v":""}]
[null,null,null,null,null,null,{"$f":"+IF(F1996=\"\",\"\",VLOOKUP(F1996,Tabelas!$B$7:$C$96,2))","v":""},null,{"$f":"IF(H1996=\"\",\"\",ROUND(H1996/SUM(H1994:H2001),4))","v":""},null,null,null,null,null,null,{"$f":"+IF(O1996=\"\",\"\",IF(N1994=\"Transporte Marítimo\",VLOOKUP(O1996,Tabelas!$F$7:$G$12,2),IF(N1994=\"Transporte Aéreo\",VLOOKUP(O1996,Tabelas!$F$16:$G$21,2),\"\")))","v":""},null,null,null,null,null,null,null,null,null,null,null,null,null,null,null,"",{"$f":"+IF(AF1996=\"\",\"\",VLOOKUP(AF1996,Tabelas!$J$27:$K$30,2))","v":""}]
[null,null,null,null,null,null,{"$f":"+IF(F1997=\"\",\"\",VLOOKUP(F1997,Tabelas!$B$7:$C$96,2))","v":""},null,{"$f":"IF(H1997=\"\",\"\",ROUND(H1997/SUM(H1994:H2001),4))","v":""},null,null,null,null,null,null,{"$f":"+IF(O1997=\"\",\"\",IF(N1994=\"Transporte Marítimo\",VLOOKUP(O1997,Tabelas!$F$7:$G$12,2),IF(N1994=\"Transporte Aéreo\",VLOOKUP(O1997,Tabelas!$F$16:$G$21,2),\"\")))","v":""},null,null,null,null,null,null,null,null,null,null,null,null,null,null,null,"",{"$f":"+IF(AF1997=\"\",\"\",VLOOKUP(AF1997,Tabelas!$J$27:$K$30,2))","v":""}]
[null,null,null,null,null,null,{"$f":"+IF(F2001=\"\",\"\",VLOOKUP(F2001,Tabelas!$B$7:$C$96,2))","v":""},null,{"$f":"IF(H2001=\"\",\"\",ROUND(H2001/SUM(H1994:H2001),4))","v":""},null,null,null,null,null,null,{"$f":"+IF(O2001=\"\",\"\",IF(N1994=\"Transporte Marítimo\",VLOOKUP(O2001,Tabelas!$F$7:$G$12,2),IF(N1994=\"Transporte Aéreo\",VLOOKUP(O2001,Tabelas!$F$16:$G$21,2),\"\")))","v":""},null,null,null,null,null,null,null,null,null,null,null,null,null,null,null,"",{"$f":"+IF(AF2001=\"\",\"\",VLOOKUP(AF2001,Tabelas!$J$27:$K$30,2))","v":""}]
[null,{"$f":"+B1994+1","v":249},null,null,null,null,{"$f":"+IF(F2002=\"\",\"\",VLOOKUP(F2002,Tabelas!$B$7:$C$96,2))","v":""},null,{"$f":"IF(H2002=\"\",\"\",1-SUM(I2003:I2009))","v":""},null,null,null,null,null,null,{"$f":"+IF(O2002=\"\",\"\",IF(N2002=\"Transporte Marítimo\",VLOOKUP(O2002,Tabelas!$F$7:$G$12,2),IF(N2002=\"Transporte Aéreo\",VLOOKUP(O2002,Tabelas!$F$16:$G$21,2),\"\")))","v":""},null,null,null,null,null,null,null,null,null,null,null,null,null,null,null,"",{"$f":"+IF(AF2002=\"\",\"\",VLOOKUP(AF2002,Tabelas!$J$27:$K$30,2))","v":""},null,null,null,null,null,null,null,null,null,null,null,null,null,null,null," "]
[null,null,null,null,null,null,{"$f":"+IF(F2005=\"\",\"\",VLOOKUP(F2005,Tabelas!$B$7:$C$96,2))","v":""},null,{"$f":"IF(H2005=\"\",\"\",ROUND(H2005/SUM(H2002:H2009),4))","v":""},null,null,null,null,null,null,{"$f":"+IF(O2005=\"\",\"\",IF(N2002=\"Transporte Marítimo\",VLOOKUP(O2005,Tabelas!$F$7:$G$12,2),IF(N2002=\"Transporte Aéreo\",VLOOKUP(O2005,Tabelas!$F$16:$G$21,2),\"\")))","v":""},null,null,null,null,null,null,null,null,null,null,null,null,null,null,null,"",{"$f":"+IF(AF2005=\"\",\"\",VLOOKUP(AF2005,Tabelas!$J$27:$K$30,2))","v":""}]
[null,null,null,null,null,null,{"$f":"+IF(F2006=\"\",\"\",VLOOKUP(F2006,Tabelas!$B$7:$C$96,2))","v":""},null,{"$f":"IF(H2006=\"\",\"\",ROUND(H2006/SUM(H2002:H2009),4))","v":""},null,null,null,null,null,null,{"$f":"+IF(O2006=\"\",\"\",IF(N2002=\"Transporte Marítimo\",VLOOKUP(O2006,Tabelas!$F$7:$G$12,2),IF(N2002=\"Transporte Aéreo\",VLOOKUP(O2006,Tabelas!$F$16:$G$21,2),\"\")))","v":""},null,null,null,null,null,null,null,null,null,null,null,null,null,null,null,"",{"$f":"+IF(AF2006=\"\",\"\",VLOOKUP(AF2006,Tabelas!$J$27:$K$30,2))","v":""}]
[null,{"$f":"+B2002+1","v":250},null,null,null,null,{"$f":"+IF(F2010=\"\",\"\",VLOOKUP(F2010,Tabelas!$B$7:$C$96,2))","v":""},null,{"$f":"IF(H2010=\"\",\"\",1-SUM(I2011:I2017))","v":""},null,null,null,null,null,null,{"$f":"+IF(O2010=\"\",\"\",IF(N2010=\"Transporte Marítimo\",VLOOKUP(O2010,Tabelas!$F$7:$G$12,2),IF(N2010=\"Transporte Aéreo\",VLOOKUP(O2010,Tabelas!$F$16:$G$21,2),\"\")))","v":""},null,null,null,null,null,null,null,null,null,null,null,null,null,null,null,"",{"$f":"+IF(AF2010=\"\",\"\",VLOOKUP(AF2010,Tabelas!$J$27:$K$30,2))","v":""},null,null,null,null,null,null,null,null,null,null,null,null,null,null,null," "]
[null,null,null,null,null,null,{"$f":"+IF(F2011=\"\",\"\",VLOOKUP(F2011,Tabelas!$B$7:$C$96,2))","v":""},null,{"$f":"IF(H2011=\"\",\"\",ROUND(H2011/SUM(H2010:H2017),4))","v":""},null,null,null,null,null,null,{"$f":"+IF(O2011=\"\",\"\",IF(N2010=\"Transporte Marítimo\",VLOOKUP(O2011,Tabelas!$F$7:$G$12,2),IF(N2010=\"Transporte Aéreo\",VLOOKUP(O2011,Tabelas!$F$16:$G$21,2),\"\")))","v":""},null,null,null,null,null,null,null,null,null,null,null,null,null,null,null,"",{"$f":"+IF(AF2011=\"\",\"\",VLOOKUP(AF2011,Tabelas!$J$27:$K$30,2))","v":""}]
[null,null,null,null,null,null,{"$f":"+IF(F2014=\"\",\"\",VLOOKUP(F2014,Tabelas!$B$7:$C$96,2))","v":""},null,{"$f":"IF(H2014=\"\",\"\",ROUND(H2014/SUM(H2010:H2017),4))","v":""},null,null,null,null,null,null,{"$f":"+IF(O2014=\"\",\"\",IF(N2010=\"Transporte Marítimo\",VLOOKUP(O2014,Tabelas!$F$7:$G$12,2),IF(N2010=\"Transporte Aéreo\",VLOOKUP(O2014,Tabelas!$F$16:$G$21,2),\"\")))","v":""},null,null,null,null,null,null,null,null,null,null,null,null,null,null,null,"",{"$f":"+IF(AF2014=\"\",\"\",VLOOKUP(AF2014,Tabelas!$J$27:$K$30,2))","v":""}]
[null,null,null,null,null,null,{"$f":"+IF(F2015=\"\",\"\",VLOOKUP(F2015,Tabelas!$B$7:$C$96,2))","v":""},null,{"$f":"IF(H2015=\"\",\"\",ROUND(H2015/SUM(H2010:H2017),4))","v":""},null,null,null,null,null,null,{"$f":"+IF(O2015=\"\",\"\",IF(N2010=\"Transporte Marítimo\",VLOOKUP(O2015,Tabelas!$F$7:$G$12,2),IF(N2010=\"Transporte Aéreo\",VLOOKUP(O2015,Tabelas!$F$16:$G$21,2),\"\")))","v":""},null,null,null,null,null,null,null,null,null,null,null,null,null,null,null,"",{"$f":"+IF(AF2015=\"\",\"\",VLOOKUP(AF2015,Tabelas!$J$27:$K$30,2))","v":""}]
[null,{"$f":"+B2010+1","v":251},null,null,null,null,{"$f":"+IF(F2018=\"\",\"\",VLOOKUP(F2018,Tabelas!$B$7:$C$96,2))","v":""},null,{"$f":"IF(H2018=\"\",\"\",1-SUM(I2019:I2025))","v":""},null,null,null,null,null,null,{"$f":"+IF(O2018=\"\",\"\",IF(N2018=\"Transporte Marítimo\",VLOOKUP(O2018,Tabelas!$F$7:$G$12,2),IF(N2018=\"Transporte Aéreo\",VLOOKUP(O2018,Tabelas!$F$16:$G$21,2),\"\")))","v":""},null,null,null,null,null,null,null,null,null,null,null,null,null,null,null,"",{"$f":"+IF(AF2018=\"\",\"\",VLOOKUP(AF2018,Tabelas!$J$27:$K$30,2))","v":""},null,null,null,null,null,null,null,null,null,null,null,null,null,null,null," "]
[null,null,null,null,null,null,{"$f":"+IF(F2020=\"\",\"\",VLOOKUP(F2020,Tabelas!$B$7:$C$96,2))","v":""},null,{"$f":"IF(H2020=\"\",\"\",ROUND(H2020/SUM(H2018:H2025),4))","v":""},null,null,null,null,null,null,{"$f":"+IF(O2020=\"\",\"\",IF(N2018=\"Transporte Marítimo\",VLOOKUP(O2020,Tabelas!$F$7:$G$12,2),IF(N2018=\"Transporte Aéreo\",VLOOKUP(O2020,Tabelas!$F$16:$G$21,2),\"\")))","v":""},null,null,null,null,null,null,null,null,null,null,null,null,null,null,null,"",{"$f":"+IF(AF2020=\"\",\"\",VLOOKUP(AF2020,Tabelas!$J$27:$K$30,2))","v":""}]
[null,null,null,null,null,null,{"$f":"+IF(F2023=\"\",\"\",VLOOKUP(F2023,Tabelas!$B$7:$C$96,2))","v":""},null,{"$f":"IF(H2023=\"\",\"\",ROUND(H2023/SUM(H2018:H2025),4))","v":""},null,null,null,null,null,null,{"$f":"+IF(O2023=\"\",\"\",IF(N2018=\"Transporte Marítimo\",VLOOKUP(O2023,Tabelas!$F$7:$G$12,2),IF(N2018=\"Transporte Aéreo\",VLOOKUP(O2023,Tabelas!$F$16:$G$21,2),\"\")))","v":""},null,null,null,null,null,null,null,null,null,null,null,null,null,null,null,"",{"$f":"+IF(AF2023=\"\",\"\",VLOOKUP(AF2023,Tabelas!$J$27:$K$30,2))","v":""}]
[null,null,null,null,null,null,{"$f":"+IF(F2024=\"\",\"\",VLOOKUP(F2024,Tabelas!$B$7:$C$96,2))","v":""},null,{"$f":"IF(H2024=\"\",\"\",ROUND(H2024/SUM(H2018:H2025),4))","v":""},null,null,null,null,null,null,{"$f":"+IF(O2024=\"\",\"\",IF(N2018=\"Transporte Marítimo\",VLOOKUP(O2024,Tabelas!$F$7:$G$12,2),IF(N2018=\"Transporte Aéreo\",VLOOKUP(O2024,Tabelas!$F$16:$G$21,2),\"\")))","v":""},null,null,null,null,null,null,null,null,null,null,null,null,null,null,null,"",{"$f":"+IF(AF2024=\"\",\"\",VLOOKUP(AF2024,Tabelas!$J$27:$K$30,2))","v":""}]
[null,null,null,null,null,null,{"$f":"+IF(F2028=\"\",\"\",VLOOKUP(F2028,Tabelas!$B$7:$C$96,2))","v":""},null,{"$f":"IF(H2028=\"\",\"\",ROUND(H2028/SUM(H2026:H2033),4))","v":""},null,null,null,null,null,null,{"$f":"+IF(O2028=\"\",\"\",IF(N2026=\"Transporte Marítimo\",VLOOKUP(O2028,Tabelas!$F$7:$G$12,2),IF(N2026=\"Transporte Aéreo\",VLOOKUP(O2028,Tabelas!$F$16:$G$21,2),\"\")))","v":""},null,null,null,null,null,null,null,null,null,null,null,null,null,null,null,"",{"$f":"+IF(AF2028=\"\",\"\",VLOOKUP(AF2028,Tabelas!$J$27:$K$30,2))","v":""}]
[null,null,null,null,null,null,{"$f":"+IF(F2029=\"\",\"\",VLOOKUP(F2029,Tabelas!$B$7:$C$96,2))","v":""},null,{"$f":"IF(H2029=\"\",\"\",ROUND(H2029/SUM(H2026:H2033),4))","v":""},null,null,null,null,null,null,{"$f":"+IF(O2029=\"\",\"\",IF(N2026=\"Transporte Marítimo\",VLOOKUP(O2029,Tabelas!$F$7:$G$12,2),IF(N2026=\"Transporte Aéreo\",VLOOKUP(O2029,Tabelas!$F$16:$G$21,2),\"\")))","v":""},null,null,null,null,null,null,null,null,null,null,null,null,null,null,null,"",{"$f":"+IF(AF2029=\"\",\"\",VLOOKUP(AF2029,Tabelas!$J$27:$K$30,2))","v":""}]
[null,null,null,null,null,null,{"$f":"+IF(F2032=\"\",\"\",VLOOKUP(F2032,Tabelas!$B$7:$C$96,2))","v":""},null,{"$f":"IF(H2032=\"\",\"\",ROUND(H2032/SUM(H2026:H2033),4))","v":""},null,null,null,null,null,null,{"$f":"+IF(O2032=\"\",\"\",IF(N2026=\"Transporte Marítimo\",VLOOKUP(O2032,Tabelas!$F$7:$G$12,2),IF(N2026=\"Transporte Aéreo\",VLOOKUP(O2032,Tabelas!$F$16:$G$21,2),\"\")))","v":""},null,null,null,null,null,null,null,null,null,null,null,null,null,null,null,"",{"$f":"+IF(AF2032=\"\",\"\",VLOOKUP(AF2032,Tabelas!$J$27:$K$30,2))","v":""}]
[null,null,null,null,null,null,{"$f":"+IF(F2033=\"\",\"\",VLOOKUP(F2033,Tabelas!$B$7:$C$96,2))","v":""},null,{"$f":"IF(H2033=\"\",\"\",ROUND(H2033/SUM(H2026:H2033),4))","v":""},null,null,null,null,null,null,{"$f":"+IF(O2033=\"\",\"\",IF(N2026=\"Transporte Marítimo\",VLOOKUP(O2033,Tabelas!$F$7:$G$12,2),IF(N2026=\"Transporte Aéreo\",VLOOKUP(O2033,Tabelas!$F$16:$G$21,2),\"\")))","v":""},null,null,null,null,null,null,null,null,null,null,null,null,null,null,null,"",{"$f":"+IF(AF2033=\"\",\"\",VLOOKUP(AF2033,Tabelas!$J$27:$K$30,2))","v":""}]
[null,null,null,null,null,null,{"$f":"+IF(F2036=\"\",\"\",VLOOKUP(F2036,Tabelas!$B$7:$C$96,2))","v":""},null,{"$f":"IF(H2036=\"\",\"\",ROUND(H2036/SUM(H2034:H2041),4))","v":""},null,null,null,null,null,null,{"$f":"+IF(O2036=\"\",\"\",IF(N2034=\"Transporte Marítimo\",VLOOKUP(O2036,Tabelas!$F$7:$G$12,2),IF(N2034=\"Transporte Aéreo\",VLOOKUP(O2036,Tabelas!$F$16:$G$21,2),\"\")))","v":""},null,null,null,null,null,null,null,null,null,null,null,null,null,null,null,"",{"$f":"+IF(AF2036=\"\",\"\",VLOOKUP(AF2036,Tabelas!$J$27:$K$30,2))","v":""}]
[null,null,null,null,null,null,{"$f":"+IF(F2038=\"\",\"\",VLOOKUP(F2038,Tabelas!$B$7:$C$96,2))","v":""},null,{"$f":"IF(H2038=\"\",\"\",ROUND(H2038/SUM(H2034:H2041),4))","v":""},null,null,null,null,null,null,{"$f":"+IF(O2038=\"\",\"\",IF(N2034=\"Transporte Marítimo\",VLOOKUP(O2038,Tabelas!$F$7:$G$12,2),IF(N2034=\"Transporte Aéreo\",VLOOKUP(O2038,Tabelas!$F$16:$G$21,2),\"\")))","v":""},null,null,null,null,null,null,null,null,null,null,null,null,null,null,null,"",{"$f":"+IF(AF2038=\"\",\"\",VLOOKUP(AF2038,Tabelas!$J$27:$K$30,2))","v":""}]
[null,null,null,null,null,null,{"$f":"+IF(F2041=\"\",\"\",VLOOKUP(F2041,Tabelas!$B$7:$C$96,2))","v":""},null,{"$f":"IF(H2041=\"\",\"\",ROUND(H2041/SUM(H2034:H2041),4))","v":""},null,null,null,null,null,null,{"$f":"+IF(O2041=\"\",\"\",IF(N2034=\"Transporte Marítimo\",VLOOKUP(O2041,Tabelas!$F$7:$G$12,2),IF(N2034=\"Transporte Aéreo\",VLOOKUP(O2041,Tabelas!$F$16:$G$21,2),\"\")))","v":""},null,null,null,null,null,null,null,null,null,null,null,null,null,null,null,"",{"$f":"+IF(AF2041=\"\",\"\",VLOOKUP(AF2041,Tabelas!$J$27:$K$30,2))","v":""}]
[null,{"$f":"+B2034+1","v":254},null,null,null,null,{"$f":"+IF(F2042=\"\",\"\",VLOOKUP(F2042,Tabelas!$B$7:$C$96,2))","v":""},null,{"$f":"IF(H2042=\"\",\"\",1-SUM(I2043:I2049))","v":""},null,null,null,null,null,null,{"$f":"+IF(O2042=\"\",\"\",IF(N2042=\"Transporte Marítimo\",VLOOKUP(O2042,Tabelas!$F$7:$G$12,2),IF(N2042=\"Transporte Aéreo\",VLOOKUP(O2042,Tabelas!$F$16:$G$21,2),\"\")))","v":""},null,null,null,null,null,null,null,null,null,null,null,null,null,null,null,"",{"$f":"+IF(AF2042=\"\",\"\",VLOOKUP(AF2042,Tabelas!$J$27:$K$30,2))","v":""},null,null,null,null,null,null,null,null,null,null,null,null,null,null,null," "]
[null,null,null,null,null,null,{"$f":"+IF(F2045=\"\",\"\",VLOOKUP(F2045,Tabelas!$B$7:$C$96,2))","v":""},null,{"$f":"IF(H2045=\"\",\"\",ROUND(H2045/SUM(H2042:H2049),4))","v":""},null,null,null,null,null,null,{"$f":"+IF(O2045=\"\",\"\",IF(N2042=\"Transporte Marítimo\",VLOOKUP(O2045,Tabelas!$F$7:$G$12,2),IF(N2042=\"Transporte Aéreo\",VLOOKUP(O2045,Tabelas!$F$16:$G$21,2),\"\")))","v":""},null,null,null,null,null,null,null,null,null,null,null,null,null,null,null,"",{"$f":"+IF(AF2045=\"\",\"\",VLOOKUP(AF2045,Tabelas!$J$27:$K$30,2))","v":""}]
[null,null,null,null,null,null,{"$f":"+IF(F2046=\"\",\"\",VLOOKUP(F2046,Tabelas!$B$7:$C$96,2))","v":""},null,{"$f":"IF(H2046=\"\",\"\",ROUND(H2046/SUM(H2042:H2049),4))","v":""},null,null,null,null,null,null,{"$f":"+IF(O2046=\"\",\"\",IF(N2042=\"Transporte Marítimo\",VLOOKUP(O2046,Tabelas!$F$7:$G$12,2),IF(N2042=\"Transporte Aéreo\",VLOOKUP(O2046,Tabelas!$F$16:$G$21,2),\"\")))","v":""},null,null,null,null,null,null,null,null,null,null,null,null,null,null,null,"",{"$f":"+IF(AF2046=\"\",\"\",VLOOKUP(AF2046,Tabelas!$J$27:$K$30,2))","v":""}]
[null,{"$f":"+B2042+1","v":255},null,null,null,null,{"$f":"+IF(F2050=\"\",\"\",VLOOKUP(F2050,Tabelas!$B$7:$C$96,2))","v":""},null,{"$f":"IF(H2050=\"\",\"\",1-SUM(I2051:I2057))","v":""},null,null,null,null,null,null,{"$f":"+IF(O2050=\"\",\"\",IF(N2050=\"Transporte Marítimo\",VLOOKUP(O2050,Tabelas!$F$7:$G$12,2),IF(N2050=\"Transporte Aéreo\",VLOOKUP(O2050,Tabelas!$F$16:$G$21,2),\"\")))","v":""},null,null,null,null,null,null,null,null,null,null,null,null,null,null,null,"",{"$f":"+IF(AF2050=\"\",\"\",VLOOKUP(AF2050,Tabelas!$J$27:$K$30,2))","v":""},null,null,null,null,null,null,null,null,null,null,null,null,null,null,null," "]
[null,null,null,null,null,null,{"$f":"+IF(F2051=\"\",\"\",VLOOKUP(F2051,Tabelas!$B$7:$C$96,2))","v":""},null,{"$f":"IF(H2051=\"\",\"\",ROUND(H2051/SUM(H2050:H2057),4))","v":""},null,null,null,null,null,null,{"$f":"+IF(O2051=\"\",\"\",IF(N2050=\"Transporte Marítimo\",VLOOKUP(O2051,Tabelas!$F$7:$G$12,2),IF(N2050=\"Transporte Aéreo\",VLOOKUP(O2051,Tabelas!$F$16:$G$21,2),\"\")))","v":""},null,null,null,null,null,null,null,null,null,null,null,null,null,null,null,"",{"$f":"+IF(AF2051=\"\",\"\",VLOOKUP(AF2051,Tabelas!$J$27:$K$30,2))","v":""}]
[null,null,null,null,null,null,{"$f":"+IF(F2054=\"\",\"\",VLOOKUP(F2054,Tabelas!$B$7:$C$96,2))","v":""},null,{"$f":"IF(H2054=\"\",\"\",ROUND(H2054/SUM(H2050:H2057),4))","v":""},null,null,null,null,null,null,{"$f":"+IF(O2054=\"\",\"\",IF(N2050=\"Transporte Marítimo\",VLOOKUP(O2054,Tabelas!$F$7:$G$12,2),IF(N2050=\"Transporte Aéreo\",VLOOKUP(O2054,Tabelas!$F$16:$G$21,2),\"\")))","v":""},null,null,null,null,null,null,null,null,null,null,null,null,null,null,null,"",{"$f":"+IF(AF2054=\"\",\"\",VLOOKUP(AF2054,Tabelas!$J$27:$K$30,2))","v":""}]
[null,null,null,null,null,null,{"$f":"+IF(F2056=\"\",\"\",VLOOKUP(F2056,Tabelas!$B$7:$C$96,2))","v":""},null,{"$f":"IF(H2056=\"\",\"\",ROUND(H2056/SUM(H2050:H2057),4))","v":""},null,null,null,null,null,null,{"$f":"+IF(O2056=\"\",\"\",IF(N2050=\"Transporte Marítimo\",VLOOKUP(O2056,Tabelas!$F$7:$G$12,2),IF(N2050=\"Transporte Aéreo\",VLOOKUP(O2056,Tabelas!$F$16:$G$21,2),\"\")))","v":""},null,null,null,null,null,null,null,null,null,null,null,null,null,null,null,"",{"$f":"+IF(AF2056=\"\",\"\",VLOOKUP(AF2056,Tabelas!$J$27:$K$30,2))","v":""}]
[null,null,null,null,null,null,{"$f":"+IF(F2059=\"\",\"\",VLOOKUP(F2059,Tabelas!$B$7:$C$96,2))","v":""},null,{"$f":"IF(H2059=\"\",\"\",ROUND(H2059/SUM(H2058:H2065),4))","v":""},null,null,null,null,null,null,{"$f":"+IF(O2059=\"\",\"\",IF(N2058=\"Transporte Marítimo\",VLOOKUP(O2059,Tabelas!$F$7:$G$12,2),IF(N2058=\"Transporte Aéreo\",VLOOKUP(O2059,Tabelas!$F$16:$G$21,2),\"\")))","v":""},null,null,null,null,null,null,null,null,null,null,null,null,null,null,null,"",{"$f":"+IF(AF2059=\"\",\"\",VLOOKUP(AF2059,Tabelas!$J$27:$K$30,2))","v":""}]
[null,null,null,null,null,null,{"$f":"+IF(F2060=\"\",\"\",VLOOKUP(F2060,Tabelas!$B$7:$C$96,2))","v":""},null,{"$f":"IF(H2060=\"\",\"\",ROUND(H2060/SUM(H2058:H2065),4))","v":""},null,null,null,null,null,null,{"$f":"+IF(O2060=\"\",\"\",IF(N2058=\"Transporte Marítimo\",VLOOKUP(O2060,Tabelas!$F$7:$G$12,2),IF(N2058=\"Transporte Aéreo\",VLOOKUP(O2060,Tabelas!$F$16:$G$21,2),\"\")))","v":""},null,null,null,null,null,null,null,null,null,null,null,null,null,null,null,"",{"$f":"+IF(AF2060=\"\",\"\",VLOOKUP(AF2060,Tabelas!$J$27:$K$30,2))","v":""}]
[null,null,null,null,null,null,{"$f":"+IF(F2063=\"\",\"\",VLOOKUP(F2063,Tabelas!$B$7:$C$96,2))","v":""},null,{"$f":"IF(H2063=\"\",\"\",ROUND(H2063/SUM(H2058:H2065),4))","v":""},null,null,null,null,null,null,{"$f":"+IF(O2063=\"\",\"\",IF(N2058=\"Transporte Marítimo\",VLOOKUP(O2063,Tabelas!$F$7:$G$12,2),IF(N2058=\"Transporte Aéreo\",VLOOKUP(O2063,Tabelas!$F$16:$G$21,2),\"\")))","v":""},null,null,null,null,null,null,null,null,null,null,null,null,null,null,null,"",{"$f":"+IF(AF2063=\"\",\"\",VLOOKUP(AF2063,Tabelas!$J$27:$K$30,2))","v":""}]
[null,null,null,null,null,null,{"$f":"+IF(F2064=\"\",\"\",VLOOKUP(F2064,Tabelas!$B$7:$C$96,2))","v":""},null,{"$f":"IF(H2064=\"\",\"\",ROUND(H2064/SUM(H2058:H2065),4))","v":""},null,null,null,null,null,null,{"$f":"+IF(O2064=\"\",\"\",IF(N2058=\"Transporte Marítimo\",VLOOKUP(O2064,Tabelas!$F$7:$G$12,2),IF(N2058=\"Transporte Aéreo\",VLOOKUP(O2064,Tabelas!$F$16:$G$21,2),\"\")))","v":""},null,null,null,null,null,null,null,null,null,null,null,null,null,null,null,"",{"$f":"+IF(AF2064=\"\",\"\",VLOOKUP(AF2064,Tabelas!$J$27:$K$30,2))","v":""}]
[null,{"$f":"+B2058+1","v":257},null,null,null,null,{"$f":"+IF(F2066=\"\",\"\",VLOOKUP(F2066,Tabelas!$B$7:$C$96,2))","v":""},null,{"$f":"IF(H2066=\"\",\"\",1-SUM(I2067:I2073))","v":""},null,null,null,null,null,null,{"$f":"+IF(O2066=\"\",\"\",IF(N2066=\"Transporte Marítimo\",VLOOKUP(O2066,Tabelas!$F$7:$G$12,2),IF(N2066=\"Transporte Aéreo\",VLOOKUP(O2066,Tabelas!$F$16:$G$21,2),\"\")))","v":""},null,null,null,null,null,null,null,null,null,null,null,null,null,null,null,"",{"$f":"+IF(AF2066=\"\",\"\",VLOOKUP(AF2066,Tabelas!$J$27:$K$30,2))","v":""},null,null,null,null,null,null,null,null,null,null,null,null,null,null,null," "]
[null,null,null,null,null,null,{"$f":"+IF(F2069=\"\",\"\",VLOOKUP(F2069,Tabelas!$B$7:$C$96,2))","v":""},null,{"$f":"IF(H2069=\"\",\"\",ROUND(H2069/SUM(H2066:H2073),4))","v":""},null,null,null,null,null,null,{"$f":"+IF(O2069=\"\",\"\",IF(N2066=\"Transporte Marítimo\",VLOOKUP(O2069,Tabelas!$F$7:$G$12,2),IF(N2066=\"Transporte Aéreo\",VLOOKUP(O2069,Tabelas!$F$16:$G$21,2),\"\")))","v":""},null,null,null,null,null,null,null,null,null,null,null,null,null,null,null,"",{"$f":"+IF(AF2069=\"\",\"\",VLOOKUP(AF2069,Tabelas!$J$27:$K$30,2))","v":""}]
[null,null,null,null,null,null,{"$f":"+IF(F2072=\"\",\"\",VLOOKUP(F2072,Tabelas!$B$7:$C$96,2))","v":""},null,{"$f":"IF(H2072=\"\",\"\",ROUND(H2072/SUM(H2066:H2073),4))","v":""},null,null,null,null,null,null,{"$f":"+IF(O2072=\"\",\"\",IF(N2066=\"Transporte Marítimo\",VLOOKUP(O2072,Tabelas!$F$7:$G$12,2),IF(N2066=\"Transporte Aéreo\",VLOOKUP(O2072,Tabelas!$F$16:$G$21,2),\"\")))","v":""},null,null,null,null,null,null,null,null,null,null,null,null,null,null,null,"",{"$f":"+IF(AF2072=\"\",\"\",VLOOKUP(AF2072,Tabelas!$J$27:$K$30,2))","v":""}]
[null,null,null,null,null,null,{"$f":"+IF(F2073=\"\",\"\",VLOOKUP(F2073,Tabelas!$B$7:$C$96,2))","v":""},null,{"$f":"IF(H2073=\"\",\"\",ROUND(H2073/SUM(H2066:H2073),4))","v":""},null,null,null,null,null,null,{"$f":"+IF(O2073=\"\",\"\",IF(N2066=\"Transporte Marítimo\",VLOOKUP(O2073,Tabelas!$F$7:$G$12,2),IF(N2066=\"Transporte Aéreo\",VLOOKUP(O2073,Tabelas!$F$16:$G$21,2),\"\")))","v":""},null,null,null,null,null,null,null,null,null,null,null,null,null,null,null,"",{"$f":"+IF(AF2073=\"\",\"\",VLOOKUP(AF2073,Tabelas!$J$27:$K$30,2))","v":""}]
[null,null,null,null,null,null,{"$f":"+IF(F2077=\"\",\"\",VLOOKUP(F2077,Tabelas!$B$7:$C$96,2))","v":""},null,{"$f":"IF(H2077=\"\",\"\",ROUND(H2077/SUM(H2074:H2081),4))","v":""},null,null,null,null,null,null,{"$f":"+IF(O2077=\"\",\"\",IF(N2074=\"Transporte Marítimo\",VLOOKUP(O2077,Tabelas!$F$7:$G$12,2),IF(N2074=\"Transporte Aéreo\",VLOOKUP(O2077,Tabelas!$F$16:$G$21,2),\"\")))","v":""},null,null,null,null,null,null,null,null,null,null,null,null,null,null,null,"",{"$f":"+IF(AF2077=\"\",\"\",VLOOKUP(AF2077,Tabelas!$J$27:$K$30,2))","v":""}]
[null,null,null,null,null,null,{"$f":"+IF(F2078=\"\",\"\",VLOOKUP(F2078,Tabelas!$B$7:$C$96,2))","v":""},null,{"$f":"IF(H2078=\"\",\"\",ROUND(H2078/SUM(H2074:H2081),4))","v":""},null,null,null,null,null,null,{"$f":"+IF(O2078=\"\",\"\",IF(N2074=\"Transporte Marítimo\",VLOOKUP(O2078,Tabelas!$F$7:$G$12,2),IF(N2074=\"Transporte Aéreo\",VLOOKUP(O2078,Tabelas!$F$16:$G$21,2),\"\")))","v":""},null,null,null,null,null,null,null,null,null,null,null,null,null,null,null,"",{"$f":"+IF(AF2078=\"\",\"\",VLOOKUP(AF2078,Tabelas!$J$27:$K$30,2))","v":""}]
[null,null,null,null,null,null,{"$f":"+IF(F2081=\"\",\"\",VLOOKUP(F2081,Tabelas!$B$7:$C$96,2))","v":""},null,{"$f":"IF(H2081=\"\",\"\",ROUND(H2081/SUM(H2074:H2081),4))","v":""},null,null,null,null,null,null,{"$f":"+IF(O2081=\"\",\"\",IF(N2074=\"Transporte Marítimo\",VLOOKUP(O2081,Tabelas!$F$7:$G$12,2),IF(N2074=\"Transporte Aéreo\",VLOOKUP(O2081,Tabelas!$F$16:$G$21,2),\"\")))","v":""},null,null,null,null,null,null,null,null,null,null,null,null,null,null,null,"",{"$f":"+IF(AF2081=\"\",\"\",VLOOKUP(AF2081,Tabelas!$J$27:$K$30,2))","v":""}]
[null,{"$f":"+B2074+1","v":259},null,null,null,null,{"$f":"+IF(F2082=\"\",\"\",VLOOKUP(F2082,Tabelas!$B$7:$C$96,2))","v":""},null,{"$f":"IF(H2082=\"\",\"\",1-SUM(I2083:I2089))","v":""},null,null,null,null,null,null,{"$f":"+IF(O2082=\"\",\"\",IF(N2082=\"Transporte Marítimo\",VLOOKUP(O2082,Tabelas!$F$7:$G$12,2),IF(N2082=\"Transporte Aéreo\",VLOOKUP(O2082,Tabelas!$F$16:$G$21,2),\"\")))","v":""},null,null,null,null,null,null,null,null,null,null,null,null,null,null,null,"",{"$f":"+IF(AF2082=\"\",\"\",VLOOKUP(AF2082,Tabelas!$J$27:$K$30,2))","v":""},null,null,null,null,null,null,null,null,null,null,null,null,null,null,null," "]
[null,null,null,null,null,null,{"$f":"+IF(F2084=\"\",\"\",VLOOKUP(F2084,Tabelas!$B$7:$C$96,2))","v":""},null,{"$f":"IF(H2084=\"\",\"\",ROUND(H2084/SUM(H2082:H2089),4))","v":""},null,null,null,null,null,null,{"$f":"+IF(O2084=\"\",\"\",IF(N2082=\"Transporte Marítimo\",VLOOKUP(O2084,Tabelas!$F$7:$G$12,2),IF(N2082=\"Transporte Aéreo\",VLOOKUP(O2084,Tabelas!$F$16:$G$21,2),\"\")))","v":""},null,null,null,null,null,null,null,null,null,null,null,null,null,null,null,"",{"$f":"+IF(AF2084=\"\",\"\",VLOOKUP(AF2084,Tabelas!$J$27:$K$30,2))","v":""}]
[null,null,null,null,null,null,{"$f":"+IF(F2087=\"\",\"\",VLOOKUP(F2087,Tabelas!$B$7:$C$96,2))","v":""},null,{"$f":"IF(H2087=\"\",\"\",ROUND(H2087/SUM(H2082:H2089),4))","v":""},null,null,null,null,null,null,{"$f":"+IF(O2087=\"\",\"\",IF(N2082=\"Transporte Marítimo\",VLOOKUP(O2087,Tabelas!$F$7:$G$12,2),IF(N2082=\"Transporte Aéreo\",VLOOKUP(O2087,Tabelas!$F$16:$G$21,2),\"\")))","v":""},null,null,null,null,null,null,null,null,null,null,null,null,null,null,null,"",{"$f":"+IF(AF2087=\"\",\"\",VLOOKUP(AF2087,Tabelas!$J$27:$K$30,2))","v":""}]
[null,{"$f":"+B2082+1","v":260},null,null,null,null,{"$f":"+IF(F2090=\"\",\"\",VLOOKUP(F2090,Tabelas!$B$7:$C$96,2))","v":""},null,{"$f":"IF(H2090=\"\",\"\",1-SUM(I2091:I2097))","v":""},null,null,null,null,null,null,{"$f":"+IF(O2090=\"\",\"\",IF(N2090=\"Transporte Marítimo\",VLOOKUP(O2090,Tabelas!$F$7:$G$12,2),IF(N2090=\"Transporte Aéreo\",VLOOKUP(O2090,Tabelas!$F$16:$G$21,2),\"\")))","v":""},null,null,null,null,null,null,null,null,null,null,null,null,null,null,null,"",{"$f":"+IF(AF2090=\"\",\"\",VLOOKUP(AF2090,Tabelas!$J$27:$K$30,2))","v":""},null,null,null,null,null,null,null,null,null,null,null,null,null,null,null," "]
[null,null,null,null,null,null,{"$f":"+IF(F2091=\"\",\"\",VLOOKUP(F2091,Tabelas!$B$7:$C$96,2))","v":""},null,{"$f":"IF(H2091=\"\",\"\",ROUND(H2091/SUM(H2090:H2097),4))","v":""},null,null,null,null,null,null,{"$f":"+IF(O2091=\"\",\"\",IF(N2090=\"Transporte Marítimo\",VLOOKUP(O2091,Tabelas!$F$7:$G$12,2),IF(N2090=\"Transporte Aéreo\",VLOOKUP(O2091,Tabelas!$F$16:$G$21,2),\"\")))","v":""},null,null,null,null,null,null,null,null,null,null,null,null,null,null,null,"",{"$f":"+IF(AF2091=\"\",\"\",VLOOKUP(AF2091,Tabelas!$J$27:$K$30,2))","v":""}]
[null,null,null,null,null,null,{"$f":"+IF(F2094=\"\",\"\",VLOOKUP(F2094,Tabelas!$B$7:$C$96,2))","v":""},null,{"$f":"IF(H2094=\"\",\"\",ROUND(H2094/SUM(H2090:H2097),4))","v":""},null,null,null,null,null,null,{"$f":"+IF(O2094=\"\",\"\",IF(N2090=\"Transporte Marítimo\",VLOOKUP(O2094,Tabelas!$F$7:$G$12,2),IF(N2090=\"Transporte Aéreo\",VLOOKUP(O2094,Tabelas!$F$16:$G$21,2),\"\")))","v":""},null,null,null,null,null,null,null,null,null,null,null,null,null,null,null,"",{"$f":"+IF(AF2094=\"\",\"\",VLOOKUP(AF2094,Tabelas!$J$27:$K$30,2))","v":""}]
[null,null,null,null,null,null,{"$f":"+IF(F2097=\"\",\"\",VLOOKUP(F2097,Tabelas!$B$7:$C$96,2))","v":""},null,{"$f":"IF(H2097=\"\",\"\",ROUND(H2097/SUM(H2090:H2097),4))","v":""},null,null,null,null,null,null,{"$f":"+IF(O2097=\"\",\"\",IF(N2090=\"Transporte Marítimo\",VLOOKUP(O2097,Tabelas!$F$7:$G$12,2),IF(N2090=\"Transporte Aéreo\",VLOOKUP(O2097,Tabelas!$F$16:$G$21,2),\"\")))","v":""},null,null,null,null,null,null,null,null,null,null,null,null,null,null,null,"",{"$f":"+IF(AF2097=\"\",\"\",VLOOKUP(AF2097,Tabelas!$J$27:$K$30,2))","v":""}]
[null,null,null,null,null,null,{"$f":"+IF(F2099=\"\",\"\",VLOOKUP(F2099,Tabelas!$B$7:$C$96,2))","v":""},null,{"$f":"IF(H2099=\"\",\"\",ROUND(H2099/SUM(H2098:H2105),4))","v":""},null,null,null,null,null,null,{"$f":"+IF(O2099=\"\",\"\",IF(N2098=\"Transporte Marítimo\",VLOOKUP(O2099,Tabelas!$F$7:$G$12,2),IF(N2098=\"Transporte Aéreo\",VLOOKUP(O2099,Tabelas!$F$16:$G$21,2),\"\")))","v":""},null,null,null,null,null,null,null,null,null,null,null,null,null,null,null,"",{"$f":"+IF(AF2099=\"\",\"\",VLOOKUP(AF2099,Tabelas!$J$27:$K$30,2))","v":""}]
[null,null,null,null,null,null,{"$f":"+IF(F2100=\"\",\"\",VLOOKUP(F2100,Tabelas!$B$7:$C$96,2))","v":""},null,{"$f":"IF(H2100=\"\",\"\",ROUND(H2100/SUM(H2098:H2105),4))","v":""},null,null,null,null,null,null,{"$f":"+IF(O2100=\"\",\"\",IF(N2098=\"Transporte Marítimo\",VLOOKUP(O2100,Tabelas!$F$7:$G$12,2),IF(N2098=\"Transporte Aéreo\",VLOOKUP(O2100,Tabelas!$F$16:$G$21,2),\"\")))","v":""},null,null,null,null,null,null,null,null,null,null,null,null,null,null,null,"",{"$f":"+IF(AF2100=\"\",\"\",VLOOKUP(AF2100,Tabelas!$J$27:$K$30,2))","v":""}]
[null,null,null,null,null,null,{"$f":"+IF(F2103=\"\",\"\",VLOOKUP(F2103,Tabelas!$B$7:$C$96,2))","v":""},null,{"$f":"IF(H2103=\"\",\"\",ROUND(H2103/SUM(H2098:H2105),4))","v":""},null,null,null,null,null,null,{"$f":"+IF(O2103=\"\",\"\",IF(N2098=\"Transporte Marítimo\",VLOOKUP(O2103,Tabelas!$F$7:$G$12,2),IF(N2098=\"Transporte Aéreo\",VLOOKUP(O2103,Tabelas!$F$16:$G$21,2),\"\")))","v":""},null,null,null,null,null,null,null,null,null,null,null,null,null,null,null,"",{"$f":"+IF(AF2103=\"\",\"\",VLOOKUP(AF2103,Tabelas!$J$27:$K$30,2))","v":""}]
[null,null,null,null,null,null,{"$f":"+IF(F2105=\"\",\"\",VLOOKUP(F2105,Tabelas!$B$7:$C$96,2))","v":""},null,{"$f":"IF(H2105=\"\",\"\",ROUND(H2105/SUM(H2098:H2105),4))","v":""},null,null,null,null,null,null,{"$f":"+IF(O2105=\"\",\"\",IF(N2098=\"Transporte Marítimo\",VLOOKUP(O2105,Tabelas!$F$7:$G$12,2),IF(N2098=\"Transporte Aéreo\",VLOOKUP(O2105,Tabelas!$F$16:$G$21,2),\"\")))","v":""},null,null,null,null,null,null,null,null,null,null,null,null,null,null,null,"",{"$f":"+IF(AF2105=\"\",\"\",VLOOKUP(AF2105,Tabelas!$J$27:$K$30,2))","v":""}]
[null,null,null,null,null,null,{"$f":"+IF(F2108=\"\",\"\",VLOOKUP(F2108,Tabelas!$B$7:$C$96,2))","v":""},null,{"$f":"IF(H2108=\"\",\"\",ROUND(H2108/SUM(H2106:H2113),4))","v":""},null,null,null,null,null,null,{"$f":"+IF(O2108=\"\",\"\",IF(N2106=\"Transporte Marítimo\",VLOOKUP(O2108,Tabelas!$F$7:$G$12,2),IF(N2106=\"Transporte Aéreo\",VLOOKUP(O2108,Tabelas!$F$16:$G$21,2),\"\")))","v":""},null,null,null,null,null,null,null,null,null,null,null,null,null,null,null,"",{"$f":"+IF(AF2108=\"\",\"\",VLOOKUP(AF2108,Tabelas!$J$27:$K$30,2))","v":""}]
[null,null,null,null,null,null,{"$f":"+IF(F2109=\"\",\"\",VLOOKUP(F2109,Tabelas!$B$7:$C$96,2))","v":""},null,{"$f":"IF(H2109=\"\",\"\",ROUND(H2109/SUM(H2106:H2113),4))","v":""},null,null,null,null,null,null,{"$f":"+IF(O2109=\"\",\"\",IF(N2106=\"Transporte Marítimo\",VLOOKUP(O2109,Tabelas!$F$7:$G$12,2),IF(N2106=\"Transporte Aéreo\",VLOOKUP(O2109,Tabelas!$F$16:$G$21,2),\"\")))","v":""},null,null,null,null,null,null,null,null,null,null,null,null,null,null,null,"",{"$f":"+IF(AF2109=\"\",\"\",VLOOKUP(AF2109,Tabelas!$J$27:$K$30,2))","v":""}]
[null,null,null,null,null,null,{"$f":"+IF(F2112=\"\",\"\",VLOOKUP(F2112,Tabelas!$B$7:$C$96,2))","v":""},null,{"$f":"IF(H2112=\"\",\"\",ROUND(H2112/SUM(H2106:H2113),4))","v":""},null,null,null,null,null,null,{"$f":"+IF(O2112=\"\",\"\",IF(N2106=\"Transporte Marítimo\",VLOOKUP(O2112,Tabelas!$F$7:$G$12,2),IF(N2106=\"Transporte Aéreo\",VLOOKUP(O2112,Tabelas!$F$16:$G$21,2),\"\")))","v":""},null,null,null,null,null,null,null,null,null,null,null,null,null,null,null,"",{"$f":"+IF(AF2112=\"\",\"\",VLOOKUP(AF2112,Tabelas!$J$27:$K$30,2))","v":""}]
[null,null,null,null,null,null,{"$f":"+IF(F2115=\"\",\"\",VLOOKUP(F2115,Tabelas!$B$7:$C$96,2))","v":""},null,{"$f":"IF(H2115=\"\",\"\",ROUND(H2115/SUM(H2114:H2121),4))","v":""},null,null,null,null,null,null,{"$f":"+IF(O2115=\"\",\"\",IF(N2114=\"Transporte Marítimo\",VLOOKUP(O2115,Tabelas!$F$7:$G$12,2),IF(N2114=\"Transporte Aéreo\",VLOOKUP(O2115,Tabelas!$F$16:$G$21,2),\"\")))","v":""},null,null,null,null,null,null,null,null,null,null,null,null,null,null,null,"",{"$f":"+IF(AF2115=\"\",\"\",VLOOKUP(AF2115,Tabelas!$J$27:$K$30,2))","v":""}]
[null,null,null,null,null,null,{"$f":"+IF(F2117=\"\",\"\",VLOOKUP(F2117,Tabelas!$B$7:$C$96,2))","v":""},null,{"$f":"IF(H2117=\"\",\"\",ROUND(H2117/SUM(H2114:H2121),4))","v":""},null,null,null,null,null,null,{"$f":"+IF(O2117=\"\",\"\",IF(N2114=\"Transporte Marítimo\",VLOOKUP(O2117,Tabelas!$F$7:$G$12,2),IF(N2114=\"Transporte Aéreo\",VLOOKUP(O2117,Tabelas!$F$16:$G$21,2),\"\")))","v":""},null,null,null,null,null,null,null,null,null,null,null,null,null,null,null,"",{"$f":"+IF(AF2117=\"\",\"\",VLOOKUP(AF2117,Tabelas!$J$27:$K$30,2))","v":""}]
[null,null,null,null,null,null,{"$f":"+IF(F2118=\"\",\"\",VLOOKUP(F2118,Tabelas!$B$7:$C$96,2))","v":""},null,{"$f":"IF(H2118=\"\",\"\",ROUND(H2118/SUM(H2114:H2121),4))","v":""},null,null,null,null,null,null,{"$f":"+IF(O2118=\"\",\"\",IF(N2114=\"Transporte Marítimo\",VLOOKUP(O2118,Tabelas!$F$7:$G$12,2),IF(N2114=\"Transporte Aéreo\",VLOOKUP(O2118,Tabelas!$F$16:$G$21,2),\"\")))","v":""},null,null,null,null,null,null,null,null,null,null,null,null,null,null,null,"",{"$f":"+IF(AF2118=\"\",\"\",VLOOKUP(AF2118,Tabelas!$J$27:$K$30,2))","v":""}]
[null,null,null,null,null,null,{"$f":"+IF(F2121=\"\",\"\",VLOOKUP(F2121,Tabelas!$B$7:$C$96,2))","v":""},null,{"$f":"IF(H2121=\"\",\"\",ROUND(H2121/SUM(H2114:H2121),4))","v":""},null,null,null,null,null,null,{"$f":"+IF(O2121=\"\",\"\",IF(N2114=\"Transporte Marítimo\",VLOOKUP(O2121,Tabelas!$F$7:$G$12,2),IF(N2114=\"Transporte Aéreo\",VLOOKUP(O2121,Tabelas!$F$16:$G$21,2),\"\")))","v":""},null,null,null,null,null,null,null,null,null,null,null,null,null,null,null,"",{"$f":"+IF(AF2121=\"\",\"\",VLOOKUP(AF2121,Tabelas!$J$27:$K$30,2))","v":""}]
[null,{"$f":"+B2114+1","v":264},null,null,null,null,{"$f":"+IF(F2122=\"\",\"\",VLOOKUP(F2122,Tabelas!$B$7:$C$96,2))","v":""},null,{"$f":"IF(H2122=\"\",\"\",1-SUM(I2123:I2129))","v":""},null,null,null,null,null,null,{"$f":"+IF(O2122=\"\",\"\",IF(N2122=\"Transporte Marítimo\",VLOOKUP(O2122,Tabelas!$F$7:$G$12,2),IF(N2122=\"Transporte Aéreo\",VLOOKUP(O2122,Tabelas!$F$16:$G$21,2),\"\")))","v":""},null,null,null,null,null,null,null,null,null,null,null,null,null,null,null,"",{"$f":"+IF(AF2122=\"\",\"\",VLOOKUP(AF2122,Tabelas!$J$27:$K$30,2))","v":""},null,null,null,null,null,null,null,null,null,null,null,null,null,null,null," "]
[null,null,null,null,null,null,{"$f":"+IF(F2125=\"\",\"\",VLOOKUP(F2125,Tabelas!$B$7:$C$96,2))","v":""},null,{"$f":"IF(H2125=\"\",\"\",ROUND(H2125/SUM(H2122:H2129),4))","v":""},null,null,null,null,null,null,{"$f":"+IF(O2125=\"\",\"\",IF(N2122=\"Transporte Marítimo\",VLOOKUP(O2125,Tabelas!$F$7:$G$12,2),IF(N2122=\"Transporte Aéreo\",VLOOKUP(O2125,Tabelas!$F$16:$G$21,2),\"\")))","v":""},null,null,null,null,null,null,null,null,null,null,null,null,null,null,null,"",{"$f":"+IF(AF2125=\"\",\"\",VLOOKUP(AF2125,Tabelas!$J$27:$K$30,2))","v":""}]
[null,null,null,null,null,null,{"$f":"+IF(F2127=\"\",\"\",VLOOKUP(F2127,Tabelas!$B$7:$C$96,2))","v":""},null,{"$f":"IF(H2127=\"\",\"\",ROUND(H2127/SUM(H2122:H2129),4))","v":""},null,null,null,null,null,null,{"$f":"+IF(O2127=\"\",\"\",IF(N2122=\"Transporte Marítimo\",VLOOKUP(O2127,Tabelas!$F$7:$G$12,2),IF(N2122=\"Transporte Aéreo\",VLOOKUP(O2127,Tabelas!$F$16:$G$21,2),\"\")))","v":""},null,null,null,null,null,null,null,null,null,null,null,null,null,null,null,"",{"$f":"+IF(AF2127=\"\",\"\",VLOOKUP(AF2127,Tabelas!$J$27:$K$30,2))","v":""}]
[null,{"$f":"+B2122+1","v":265},null,null,null,null,{"$f":"+IF(F2130=\"\",\"\",VLOOKUP(F2130,Tabelas!$B$7:$C$96,2))","v":""},null,{"$f":"IF(H2130=\"\",\"\",1-SUM(I2131:I2137))","v":""},null,null,null,null,null,null,{"$f":"+IF(O2130=\"\",\"\",IF(N2130=\"Transporte Marítimo\",VLOOKUP(O2130,Tabelas!$F$7:$G$12,2),IF(N2130=\"Transporte Aéreo\",VLOOKUP(O2130,Tabelas!$F$16:$G$21,2),\"\")))","v":""},null,null,null,null,null,null,null,null,null,null,null,null,null,null,null,"",{"$f":"+IF(AF2130=\"\",\"\",VLOOKUP(AF2130,Tabelas!$J$27:$K$30,2))","v":""},null,null,null,null,null,null,null,null,null,null,null,null,null,null,null," "]
[null,null,null,null,null,null,{"$f":"+IF(F2131=\"\",\"\",VLOOKUP(F2131,Tabelas!$B$7:$C$96,2))","v":""},null,{"$f":"IF(H2131=\"\",\"\",ROUND(H2131/SUM(H2130:H2137),4))","v":""},null,null,null,null,null,null,{"$f":"+IF(O2131=\"\",\"\",IF(N2130=\"Transporte Marítimo\",VLOOKUP(O2131,Tabelas!$F$7:$G$12,2),IF(N2130=\"Transporte Aéreo\",VLOOKUP(O2131,Tabelas!$F$16:$G$21,2),\"\")))","v":""},null,null,null,null,null,null,null,null,null,null,null,null,null,null,null,{"$f":"+IF(AE2131=\"20NL\",1,IF(AE2131=\"40NL\",2,IF(AE2131=\"20RF\",3,IF(AE2131=\"40RF\",4,\"\"))))","v":""},{"$f":"+IF(AF2131=\"\",\"\",VLOOKUP(AF2131,Tabelas!$J$27:$K$30,2))","v":""}]
[null,null,null,null,null,null,{"$f":"+IF(F2133=\"\",\"\",VLOOKUP(F2133,Tabelas!$B$7:$C$96,2))","v":""},null,{"$f":"IF(H2133=\"\",\"\",ROUND(H2133/SUM(H2130:H2137),4))","v":""},null,null,null,null,null,null,{"$f":"+IF(O2133=\"\",\"\",IF(N2130=\"Transporte Marítimo\",VLOOKUP(O2133,Tabelas!$F$7:$G$12,2),IF(N2130=\"Transporte Aéreo\",VLOOKUP(O2133,Tabelas!$F$16:$G$21,2),\"\")))","v":""},null,null,null,null,null,null,null,null,null,null,null,null,null,null,null,"",{"$f":"+IF(AF2133=\"\",\"\",VLOOKUP(AF2133,Tabelas!$J$27:$K$30,2))","v":""}]
[null,null,null,null,null,null,{"$f":"+IF(F2136=\"\",\"\",VLOOKUP(F2136,Tabelas!$B$7:$C$96,2))","v":""},null,{"$f":"IF(H2136=\"\",\"\",ROUND(H2136/SUM(H2130:H2137),4))","v":""},null,null,null,null,null,null,{"$f":"+IF(O2136=\"\",\"\",IF(N2130=\"Transporte Marítimo\",VLOOKUP(O2136,Tabelas!$F$7:$G$12,2),IF(N2130=\"Transporte Aéreo\",VLOOKUP(O2136,Tabelas!$F$16:$G$21,2),\"\")))","v":""},null,null,null,null,null,null,null,null,null,null,null,null,null,null,null,"",{"$f":"+IF(AF2136=\"\",\"\",VLOOKUP(AF2136,Tabelas!$J$27:$K$30,2))","v":""}]
[null,null,null,null,null,null,{"$f":"+IF(F2139=\"\",\"\",VLOOKUP(F2139,Tabelas!$B$7:$C$96,2))","v":""},null,{"$f":"IF(H2139=\"\",\"\",ROUND(H2139/SUM(H2138:H2145),4))","v":""},null,null,null,null,null,null,{"$f":"+IF(O2139=\"\",\"\",IF(N2138=\"Transporte Marítimo\",VLOOKUP(O2139,Tabelas!$F$7:$G$12,2),IF(N2138=\"Transporte Aéreo\",VLOOKUP(O2139,Tabelas!$F$16:$G$21,2),\"\")))","v":""},null,null,null,null,null,null,null,null,null,null,null,null,null,null,null,"",{"$f":"+IF(AF2139=\"\",\"\",VLOOKUP(AF2139,Tabelas!$J$27:$K$30,2))","v":""}]
[null,null,null,null,null,null,{"$f":"+IF(F2140=\"\",\"\",VLOOKUP(F2140,Tabelas!$B$7:$C$96,2))","v":""},null,{"$f":"IF(H2140=\"\",\"\",ROUND(H2140/SUM(H2138:H2145),4))","v":""},null,null,null,null,null,null,{"$f":"+IF(O2140=\"\",\"\",IF(N2138=\"Transporte Marítimo\",VLOOKUP(O2140,Tabelas!$F$7:$G$12,2),IF(N2138=\"Transporte Aéreo\",VLOOKUP(O2140,Tabelas!$F$16:$G$21,2),\"\")))","v":""},null,null,null,null,null,null,null,null,null,null,null,null,null,null,null,"",{"$f":"+IF(AF2140=\"\",\"\",VLOOKUP(AF2140,Tabelas!$J$27:$K$30,2))","v":""}]
[null,null,null,null,null,null,{"$f":"+IF(F2143=\"\",\"\",VLOOKUP(F2143,Tabelas!$B$7:$C$96,2))","v":""},null,{"$f":"IF(H2143=\"\",\"\",ROUND(H2143/SUM(H2138:H2145),4))","v":""},null,null,null,null,null,null,{"$f":"+IF(O2143=\"\",\"\",IF(N2138=\"Transporte Marítimo\",VLOOKUP(O2143,Tabelas!$F$7:$G$12,2),IF(N2138=\"Transporte Aéreo\",VLOOKUP(O2143,Tabelas!$F$16:$G$21,2),\"\")))","v":""},null,null,null,null,null,null,null,null,null,null,null,null,null,null,null,"",{"$f":"+IF(AF2143=\"\",\"\",VLOOKUP(AF2143,Tabelas!$J$27:$K$30,2))","v":""}]
[null,null,null,null,null,null,{"$f":"+IF(F2145=\"\",\"\",VLOOKUP(F2145,Tabelas!$B$7:$C$96,2))","v":""},null,{"$f":"IF(H2145=\"\",\"\",ROUND(H2145/SUM(H2138:H2145),4))","v":""},null,null,null,null,null,null,{"$f":"+IF(O2145=\"\",\"\",IF(N2138=\"Transporte Marítimo\",VLOOKUP(O2145,Tabelas!$F$7:$G$12,2),IF(N2138=\"Transporte Aéreo\",VLOOKUP(O2145,Tabelas!$F$16:$G$21,2),\"\")))","v":""},null,null,null,null,null,null,null,null,null,null,null,null,null,null,null,"",{"$f":"+IF(AF2145=\"\",\"\",VLOOKUP(AF2145,Tabelas!$J$27:$K$30,2))","v":""}]
[null,null,null,null,null,null,{"$f":"+IF(F2148=\"\",\"\",VLOOKUP(F2148,Tabelas!$B$7:$C$96,2))","v":""},null,{"$f":"IF(H2148=\"\",\"\",ROUND(H2148/SUM(H2146:H2153),4))","v":""},null,null,null,null,null,null,{"$f":"+IF(O2148=\"\",\"\",IF(N2146=\"Transporte Marítimo\",VLOOKUP(O2148,Tabelas!$F$7:$G$12,2),IF(N2146=\"Transporte Aéreo\",VLOOKUP(O2148,Tabelas!$F$16:$G$21,2),\"\")))","v":""},null,null,null,null,null,null,null,null,null,null,null,null,null,null,null,"",{"$f":"+IF(AF2148=\"\",\"\",VLOOKUP(AF2148,Tabelas!$J$27:$K$30,2))","v":""}]
[null,null,null,null,null,null,{"$f":"+IF(F2149=\"\",\"\",VLOOKUP(F2149,Tabelas!$B$7:$C$96,2))","v":""},null,{"$f":"IF(H2149=\"\",\"\",ROUND(H2149/SUM(H2146:H2153),4))","v":""},null,null,null,null,null,null,{"$f":"+IF(O2149=\"\",\"\",IF(N2146=\"Transporte Marítimo\",VLOOKUP(O2149,Tabelas!$F$7:$G$12,2),IF(N2146=\"Transporte Aéreo\",VLOOKUP(O2149,Tabelas!$F$16:$G$21,2),\"\")))","v":""},null,null,null,null,null,null,null,null,null,null,null,null,null,null,null,"",{"$f":"+IF(AF2149=\"\",\"\",VLOOKUP(AF2149,Tabelas!$J$27:$K$30,2))","v":""}]
[null,null,null,null,null,null,{"$f":"+IF(F2152=\"\",\"\",VLOOKUP(F2152,Tabelas!$B$7:$C$96,2))","v":""},null,{"$f":"IF(H2152=\"\",\"\",ROUND(H2152/SUM(H2146:H2153),4))","v":""},null,null,null,null,null,null,{"$f":"+IF(O2152=\"\",\"\",IF(N2146=\"Transporte Marítimo\",VLOOKUP(O2152,Tabelas!$F$7:$G$12,2),IF(N2146=\"Transporte Aéreo\",VLOOKUP(O2152,Tabelas!$F$16:$G$21,2),\"\")))","v":""},null,null,null,null,null,null,null,null,null,null,null,null,null,null,null,"",{"$f":"+IF(AF2152=\"\",\"\",VLOOKUP(AF2152,Tabelas!$J$27:$K$30,2))","v":""}]
[null,null,null,null,null,null,{"$f":"+IF(F2153=\"\",\"\",VLOOKUP(F2153,Tabelas!$B$7:$C$96,2))","v":""},null,{"$f":"IF(H2153=\"\",\"\",ROUND(H2153/SUM(H2146:H2153),4))","v":""},null,null,null,null,null,null,{"$f":"+IF(O2153=\"\",\"\",IF(N2146=\"Transporte Marítimo\",VLOOKUP(O2153,Tabelas!$F$7:$G$12,2),IF(N2146=\"Transporte Aéreo\",VLOOKUP(O2153,Tabelas!$F$16:$G$21,2),\"\")))","v":""},null,null,null,null,null,null,null,null,null,null,null,null,null,null,null,"",{"$f":"+IF(AF2153=\"\",\"\",VLOOKUP(AF2153,Tabelas!$J$27:$K$30,2))","v":""}]
[null,null,null,null,null,null,{"$f":"+IF(F2157=\"\",\"\",VLOOKUP(F2157,Tabelas!$B$7:$C$96,2))","v":""},null,{"$f":"IF(H2157=\"\",\"\",ROUND(H2157/SUM(H2154:H2161),4))","v":""},null,null,null,null,null,null,{"$f":"+IF(O2157=\"\",\"\",IF(N2154=\"Transporte Marítimo\",VLOOKUP(O2157,Tabelas!$F$7:$G$12,2),IF(N2154=\"Transporte Aéreo\",VLOOKUP(O2157,Tabelas!$F$16:$G$21,2),\"\")))","v":""},null,null,null,null,null,null,null,null,null,null,null,null,null,null,null,"",{"$f":"+IF(AF2157=\"\",\"\",VLOOKUP(AF2157,Tabelas!$J$27:$K$30,2))","v":""}]
[null,null,null,null,null,null,{"$f":"+IF(F2158=\"\",\"\",VLOOKUP(F2158,Tabelas!$B$7:$C$96,2))","v":""},null,{"$f":"IF(H2158=\"\",\"\",ROUND(H2158/SUM(H2154:H2161),4))","v":""},null,null,null,null,null,null,{"$f":"+IF(O2158=\"\",\"\",IF(N2154=\"Transporte Marítimo\",VLOOKUP(O2158,Tabelas!$F$7:$G$12,2),IF(N2154=\"Transporte Aéreo\",VLOOKUP(O2158,Tabelas!$F$16:$G$21,2),\"\")))","v":""},null,null,null,null,null,null,null,null,null,null,null,null,null,null,null,"",{"$f":"+IF(AF2158=\"\",\"\",VLOOKUP(AF2158,Tabelas!$J$27:$K$30,2))","v":""}]
[null,null,null,null,null,null,{"$f":"+IF(F2161=\"\",\"\",VLOOKUP(F2161,Tabelas!$B$7:$C$96,2))","v":""},null,{"$f":"IF(H2161=\"\",\"\",ROUND(H2161/SUM(H2154:H2161),4))","v":""},null,null,null,null,null,null,{"$f":"+IF(O2161=\"\",\"\",IF(N2154=\"Transporte Marítimo\",VLOOKUP(O2161,Tabelas!$F$7:$G$12,2),IF(N2154=\"Transporte Aéreo\",VLOOKUP(O2161,Tabelas!$F$16:$G$21,2),\"\")))","v":""},null,null,null,null,null,null,null,null,null,null,null,null,null,null,null,"",{"$f":"+IF(AF2161=\"\",\"\",VLOOKUP(AF2161,Tabelas!$J$27:$K$30,2))","v":""}]
[null,null,null,null,null,null,{"$f":"+IF(F2164=\"\",\"\",VLOOKUP(F2164,Tabelas!$B$7:$C$96,2))","v":""},null,{"$f":"IF(H2164=\"\",\"\",ROUND(H2164/SUM(H2162:H2169),4))","v":""},null,null,null,null,null,null,{"$f":"+IF(O2164=\"\",\"\",IF(N2162=\"Transporte Marítimo\",VLOOKUP(O2164,Tabelas!$F$7:$G$12,2),IF(N2162=\"Transporte Aéreo\",VLOOKUP(O2164,Tabelas!$F$16:$G$21,2),\"\")))","v":""},null,null,null,null,null,null,null,null,null,null,null,null,null,null,null,"",{"$f":"+IF(AF2164=\"\",\"\",VLOOKUP(AF2164,Tabelas!$J$27:$K$30,2))","v":""}]
[null,null,null,null,null,null,{"$f":"+IF(F2166=\"\",\"\",VLOOKUP(F2166,Tabelas!$B$7:$C$96,2))","v":""},null,{"$f":"IF(H2166=\"\",\"\",ROUND(H2166/SUM(H2162:H2169),4))","v":""},null,null,null,null,null,null,{"$f":"+IF(O2166=\"\",\"\",IF(N2162=\"Transporte Marítimo\",VLOOKUP(O2166,Tabelas!$F$7:$G$12,2),IF(N2162=\"Transporte Aéreo\",VLOOKUP(O2166,Tabelas!$F$16:$G$21,2),\"\")))","v":""},null,null,null,null,null,null,null,null,null,null,null,null,null,null,null,"",{"$f":"+IF(AF2166=\"\",\"\",VLOOKUP(AF2166,Tabelas!$J$27:$K$30,2))","v":""}]
[null,null,null,null,null,null,{"$f":"+IF(F2167=\"\",\"\",VLOOKUP(F2167,Tabelas!$B$7:$C$96,2))","v":""},null,{"$f":"IF(H2167=\"\",\"\",ROUND(H2167/SUM(H2162:H2169),4))","v":""},null,null,null,null,null,null,{"$f":"+IF(O2167=\"\",\"\",IF(N2162=\"Transporte Marítimo\",VLOOKUP(O2167,Tabelas!$F$7:$G$12,2),IF(N2162=\"Transporte Aéreo\",VLOOKUP(O2167,Tabelas!$F$16:$G$21,2),\"\")))","v":""},null,null,null,null,null,null,null,null,null,null,null,null,null,null,null,"",{"$f":"+IF(AF2167=\"\",\"\",VLOOKUP(AF2167,Tabelas!$J$27:$K$30,2))","v":""}]
[null,{"$f":"+B2162+1","v":270},null,null,null,null,{"$f":"+IF(F2170=\"\",\"\",VLOOKUP(F2170,Tabelas!$B$7:$C$96,2))","v":""},null,{"$f":"IF(H2170=\"\",\"\",1-SUM(I2171:I2177))","v":""},null,null,null,null,null,null,{"$f":"+IF(O2170=\"\",\"\",IF(N2170=\"Transporte Marítimo\",VLOOKUP(O2170,Tabelas!$F$7:$G$12,2),IF(N2170=\"Transporte Aéreo\",VLOOKUP(O2170,Tabelas!$F$16:$G$21,2),\"\")))","v":""},null,null,null,null,null,null,null,null,null,null,null,null,null,null,null,"",{"$f":"+IF(AF2170=\"\",\"\",VLOOKUP(AF2170,Tabelas!$J$27:$K$30,2))","v":""},null,null,null,null,null,null,null,null,null,null,null,null,null,null,null," "]
[null,null,null,null,null,null,{"$f":"+IF(F2171=\"\",\"\",VLOOKUP(F2171,Tabelas!$B$7:$C$96,2))","v":""},null,{"$f":"IF(H2171=\"\",\"\",ROUND(H2171/SUM(H2170:H2177),4))","v":""},null,null,null,null,null,null,{"$f":"+IF(O2171=\"\",\"\",IF(N2170=\"Transporte Marítimo\",VLOOKUP(O2171,Tabelas!$F$7:$G$12,2),IF(N2170=\"Transporte Aéreo\",VLOOKUP(O2171,Tabelas!$F$16:$G$21,2),\"\")))","v":""},null,null,null,null,null,null,null,null,null,null,null,null,null,null,null,"",{"$f":"+IF(AF2171=\"\",\"\",VLOOKUP(AF2171,Tabelas!$J$27:$K$30,2))","v":""}]
[null,null,null,null,null,null,{"$f":"+IF(F2173=\"\",\"\",VLOOKUP(F2173,Tabelas!$B$7:$C$96,2))","v":""},null,{"$f":"IF(H2173=\"\",\"\",ROUND(H2173/SUM(H2170:H2177),4))","v":""},null,null,null,null,null,null,{"$f":"+IF(O2173=\"\",\"\",IF(N2170=\"Transporte Marítimo\",VLOOKUP(O2173,Tabelas!$F$7:$G$12,2),IF(N2170=\"Transporte Aéreo\",VLOOKUP(O2173,Tabelas!$F$16:$G$21,2),\"\")))","v":""},null,null,null,null,null,null,null,null,null,null,null,null,null,null,null,"",{"$f":"+IF(AF2173=\"\",\"\",VLOOKUP(AF2173,Tabelas!$J$27:$K$30,2))","v":""}]
[null,null,null,null,null,null,{"$f":"+IF(F2176=\"\",\"\",VLOOKUP(F2176,Tabelas!$B$7:$C$96,2))","v":""},null,{"$f":"IF(H2176=\"\",\"\",ROUND(H2176/SUM(H2170:H2177),4))","v":""},null,null,null,null,null,null,{"$f":"+IF(O2176=\"\",\"\",IF(N2170=\"Transporte Marítimo\",VLOOKUP(O2176,Tabelas!$F$7:$G$12,2),IF(N2170=\"Transporte Aéreo\",VLOOKUP(O2176,Tabelas!$F$16:$G$21,2),\"\")))","v":""},null,null,null,null,null,null,null,null,null,null,null,null,null,null,null,"",{"$f":"+IF(AF2176=\"\",\"\",VLOOKUP(AF2176,Tabelas!$J$27:$K$30,2))","v":""}]
[null,null,null,null,null,null,{"$f":"+IF(F2179=\"\",\"\",VLOOKUP(F2179,Tabelas!$B$7:$C$96,2))","v":""},null,{"$f":"IF(H2179=\"\",\"\",ROUND(H2179/SUM(H2178:H2185),4))","v":""},null,null,null,null,null,null,{"$f":"+IF(O2179=\"\",\"\",IF(N2178=\"Transporte Marítimo\",VLOOKUP(O2179,Tabelas!$F$7:$G$12,2),IF(N2178=\"Transporte Aéreo\",VLOOKUP(O2179,Tabelas!$F$16:$G$21,2),\"\")))","v":""},null,null,null,null,null,null,null,null,null,null,null,null,null,null,null,"",{"$f":"+IF(AF2179=\"\",\"\",VLOOKUP(AF2179,Tabelas!$J$27:$K$30,2))","v":""}]
[null,null,null,null,null,null,{"$f":"+IF(F2180=\"\",\"\",VLOOKUP(F2180,Tabelas!$B$7:$C$96,2))","v":""},null,{"$f":"IF(H2180=\"\",\"\",ROUND(H2180/SUM(H2178:H2185),4))","v":""},null,null,null,null,null,null,{"$f":"+IF(O2180=\"\",\"\",IF(N2178=\"Transporte Marítimo\",VLOOKUP(O2180,Tabelas!$F$7:$G$12,2),IF(N2178=\"Transporte Aéreo\",VLOOKUP(O2180,Tabelas!$F$16:$G$21,2),\"\")))","v":""},null,null,null,null,null,null,null,null,null,null,null,null,null,null,null,"",{"$f":"+IF(AF2180=\"\",\"\",VLOOKUP(AF2180,Tabelas!$J$27:$K$30,2))","v":""}]
[null,null,null,null,null,null,{"$f":"+IF(F2184=\"\",\"\",VLOOKUP(F2184,Tabelas!$B$7:$C$96,2))","v":""},null,{"$f":"IF(H2184=\"\",\"\",ROUND(H2184/SUM(H2178:H2185),4))","v":""},null,null,null,null,null,null,{"$f":"+IF(O2184=\"\",\"\",IF(N2178=\"Transporte Marítimo\",VLOOKUP(O2184,Tabelas!$F$7:$G$12,2),IF(N2178=\"Transporte Aéreo\",VLOOKUP(O2184,Tabelas!$F$16:$G$21,2),\"\")))","v":""},null,null,null,null,null,null,null,null,null,null,null,null,null,null,null,"",{"$f":"+IF(AF2184=\"\",\"\",VLOOKUP(AF2184,Tabelas!$J$27:$K$30,2))","v":""}]
[null,null,null,null,null,null,{"$f":"+IF(F2185=\"\",\"\",VLOOKUP(F2185,Tabelas!$B$7:$C$96,2))","v":""},null,{"$f":"IF(H2185=\"\",\"\",ROUND(H2185/SUM(H2178:H2185),4))","v":""},null,null,null,null,null,null,{"$f":"+IF(O2185=\"\",\"\",IF(N2178=\"Transporte Marítimo\",VLOOKUP(O2185,Tabelas!$F$7:$G$12,2),IF(N2178=\"Transporte Aéreo\",VLOOKUP(O2185,Tabelas!$F$16:$G$21,2),\"\")))","v":""},null,null,null,null,null,null,null,null,null,null,null,null,null,null,null,"",{"$f":"+IF(AF2185=\"\",\"\",VLOOKUP(AF2185,Tabelas!$J$27:$K$30,2))","v":""}]
[null,null,null,null,null,null,{"$f":"+IF(F2188=\"\",\"\",VLOOKUP(F2188,Tabelas!$B$7:$C$96,2))","v":""},null,{"$f":"IF(H2188=\"\",\"\",ROUND(H2188/SUM(H2186:H2193),4))","v":""},null,null,null,null,null,null,{"$f":"+IF(O2188=\"\",\"\",IF(N2186=\"Transporte Marítimo\",VLOOKUP(O2188,Tabelas!$F$7:$G$12,2),IF(N2186=\"Transporte Aéreo\",VLOOKUP(O2188,Tabelas!$F$16:$G$21,2),\"\")))","v":""},null,null,null,null,null,null,null,null,null,null,null,null,null,null,null,"",{"$f":"+IF(AF2188=\"\",\"\",VLOOKUP(AF2188,Tabelas!$J$27:$K$30,2))","v":""}]
[null,null,null,null,null,null,{"$f":"+IF(F2189=\"\",\"\",VLOOKUP(F2189,Tabelas!$B$7:$C$96,2))","v":""},null,{"$f":"IF(H2189=\"\",\"\",ROUND(H2189/SUM(H2186:H2193),4))","v":""},null,null,null,null,null,null,{"$f":"+IF(O2189=\"\",\"\",IF(N2186=\"Transporte Marítimo\",VLOOKUP(O2189,Tabelas!$F$7:$G$12,2),IF(N2186=\"Transporte Aéreo\",VLOOKUP(O2189,Tabelas!$F$16:$G$21,2),\"\")))","v":""},null,null,null,null,null,null,null,null,null,null,null,null,null,null,null,"",{"$f":"+IF(AF2189=\"\",\"\",VLOOKUP(AF2189,Tabelas!$J$27:$K$30,2))","v":""}]
[null,null,null,null,null,null,{"$f":"+IF(F2191=\"\",\"\",VLOOKUP(F2191,Tabelas!$B$7:$C$96,2))","v":""},null,{"$f":"IF(H2191=\"\",\"\",ROUND(H2191/SUM(H2186:H2193),4))","v":""},null,null,null,null,null,null,{"$f":"+IF(O2191=\"\",\"\",IF(N2186=\"Transporte Marítimo\",VLOOKUP(O2191,Tabelas!$F$7:$G$12,2),IF(N2186=\"Transporte Aéreo\",VLOOKUP(O2191,Tabelas!$F$16:$G$21,2),\"\")))","v":""},null,null,null,null,null,null,null,null,null,null,null,null,null,null,null,"",{"$f":"+IF(AF2191=\"\",\"\",VLOOKUP(AF2191,Tabelas!$J$27:$K$30,2))","v":""}]
[null,{"$f":"+B2186+1","v":273},null,null,null,null,{"$f":"+IF(F2194=\"\",\"\",VLOOKUP(F2194,Tabelas!$B$7:$C$96,2))","v":""},null,{"$f":"IF(H2194=\"\",\"\",1-SUM(I2195:I2201))","v":""},null,null,null,null,null,null,{"$f":"+IF(O2194=\"\",\"\",IF(N2194=\"Transporte Marítimo\",VLOOKUP(O2194,Tabelas!$F$7:$G$12,2),IF(N2194=\"Transporte Aéreo\",VLOOKUP(O2194,Tabelas!$F$16:$G$21,2),\"\")))","v":""},null,null,null,null,null,null,null,null,null,null,null,null,null,null,null,"",{"$f":"+IF(AF2194=\"\",\"\",VLOOKUP(AF2194,Tabelas!$J$27:$K$30,2))","v":""},null,null,null,null,null,null,null,null,null,null,null,null,null,null,null," "]
[null,null,null,null,null,null,{"$f":"+IF(F2197=\"\",\"\",VLOOKUP(F2197,Tabelas!$B$7:$C$96,2))","v":""},null,{"$f":"IF(H2197=\"\",\"\",ROUND(H2197/SUM(H2194:H2201),4))","v":""},null,null,null,null,null,null,{"$f":"+IF(O2197=\"\",\"\",IF(N2194=\"Transporte Marítimo\",VLOOKUP(O2197,Tabelas!$F$7:$G$12,2),IF(N2194=\"Transporte Aéreo\",VLOOKUP(O2197,Tabelas!$F$16:$G$21,2),\"\")))","v":""},null,null,null,null,null,null,null,null,null,null,null,null,null,null,null,"",{"$f":"+IF(AF2197=\"\",\"\",VLOOKUP(AF2197,Tabelas!$J$27:$K$30,2))","v":""}]
[null,null,null,null,null,null,{"$f":"+IF(F2198=\"\",\"\",VLOOKUP(F2198,Tabelas!$B$7:$C$96,2))","v":""},null,{"$f":"IF(H2198=\"\",\"\",ROUND(H2198/SUM(H2194:H2201),4))","v":""},null,null,null,null,null,null,{"$f":"+IF(O2198=\"\",\"\",IF(N2194=\"Transporte Marítimo\",VLOOKUP(O2198,Tabelas!$F$7:$G$12,2),IF(N2194=\"Transporte Aéreo\",VLOOKUP(O2198,Tabelas!$F$16:$G$21,2),\"\")))","v":""},null,null,null,null,null,null,null,null,null,null,null,null,null,null,null,"",{"$f":"+IF(AF2198=\"\",\"\",VLOOKUP(AF2198,Tabelas!$J$27:$K$30,2))","v":""}]
[null,null,null,null,null,null,{"$f":"+IF(F2201=\"\",\"\",VLOOKUP(F2201,Tabelas!$B$7:$C$96,2))","v":""},null,{"$f":"IF(H2201=\"\",\"\",ROUND(H2201/SUM(H2194:H2201),4))","v":""},null,null,null,null,null,null,{"$f":"+IF(O2201=\"\",\"\",IF(N2194=\"Transporte Marítimo\",VLOOKUP(O2201,Tabelas!$F$7:$G$12,2),IF(N2194=\"Transporte Aéreo\",VLOOKUP(O2201,Tabelas!$F$16:$G$21,2),\"\")))","v":""},null,null,null,null,null,null,null,null,null,null,null,null,null,null,null,"",{"$f":"+IF(AF2201=\"\",\"\",VLOOKUP(AF2201,Tabelas!$J$27:$K$30,2))","v":""}]
[null,null,null,null,null,null,{"$f":"+IF(F2204=\"\",\"\",VLOOKUP(F2204,Tabelas!$B$7:$C$96,2))","v":""},null,{"$f":"IF(H2204=\"\",\"\",ROUND(H2204/SUM(H2202:H2209),4))","v":""},null,null,null,null,null,null,{"$f":"+IF(O2204=\"\",\"\",IF(N2202=\"Transporte Marítimo\",VLOOKUP(O2204,Tabelas!$F$7:$G$12,2),IF(N2202=\"Transporte Aéreo\",VLOOKUP(O2204,Tabelas!$F$16:$G$21,2),\"\")))","v":""},null,null,null,null,null,null,null,null,null,null,null,null,null,null,null,"",{"$f":"+IF(AF2204=\"\",\"\",VLOOKUP(AF2204,Tabelas!$J$27:$K$30,2))","v":""}]
[null,null,null,null,null,null,{"$f":"+IF(F2206=\"\",\"\",VLOOKUP(F2206,Tabelas!$B$7:$C$96,2))","v":""},null,{"$f":"IF(H2206=\"\",\"\",ROUND(H2206/SUM(H2202:H2209),4))","v":""},null,null,null,null,null,null,{"$f":"+IF(O2206=\"\",\"\",IF(N2202=\"Transporte Marítimo\",VLOOKUP(O2206,Tabelas!$F$7:$G$12,2),IF(N2202=\"Transporte Aéreo\",VLOOKUP(O2206,Tabelas!$F$16:$G$21,2),\"\")))","v":""},null,null,null,null,null,null,null,null,null,null,null,null,null,null,null,"",{"$f":"+IF(AF2206=\"\",\"\",VLOOKUP(AF2206,Tabelas!$J$27:$K$30,2))","v":""}]
[null,null,null,null,null,null,{"$f":"+IF(F2207=\"\",\"\",VLOOKUP(F2207,Tabelas!$B$7:$C$96,2))","v":""},null,{"$f":"IF(H2207=\"\",\"\",ROUND(H2207/SUM(H2202:H2209),4))","v":""},null,null,null,null,null,null,{"$f":"+IF(O2207=\"\",\"\",IF(N2202=\"Transporte Marítimo\",VLOOKUP(O2207,Tabelas!$F$7:$G$12,2),IF(N2202=\"Transporte Aéreo\",VLOOKUP(O2207,Tabelas!$F$16:$G$21,2),\"\")))","v":""},null,null,null,null,null,null,null,null,null,null,null,null,null,null,null,"",{"$f":"+IF(AF2207=\"\",\"\",VLOOKUP(AF2207,Tabelas!$J$27:$K$30,2))","v":""}]
[null,{"$f":"+B2202+1","v":275},null,null,null,null,{"$f":"+IF(F2210=\"\",\"\",VLOOKUP(F2210,Tabelas!$B$7:$C$96,2))","v":""},null,{"$f":"IF(H2210=\"\",\"\",1-SUM(I2211:I2217))","v":""},null,null,null,null,null,null,{"$f":"+IF(O2210=\"\",\"\",IF(N2210=\"Transporte Marítimo\",VLOOKUP(O2210,Tabelas!$F$7:$G$12,2),IF(N2210=\"Transporte Aéreo\",VLOOKUP(O2210,Tabelas!$F$16:$G$21,2),\"\")))","v":""},null,null,null,null,null,null,null,null,null,null,null,null,null,null,null,"",{"$f":"+IF(AF2210=\"\",\"\",VLOOKUP(AF2210,Tabelas!$J$27:$K$30,2))","v":""},null,null,null,null,null,null,null,null,null,null,null,null,null,null,null," "]
[null,null,null,null,null,null,{"$f":"+IF(F2212=\"\",\"\",VLOOKUP(F2212,Tabelas!$B$7:$C$96,2))","v":""},null,{"$f":"IF(H2212=\"\",\"\",ROUND(H2212/SUM(H2210:H2217),4))","v":""},null,null,null,null,null,null,{"$f":"+IF(O2212=\"\",\"\",IF(N2210=\"Transporte Marítimo\",VLOOKUP(O2212,Tabelas!$F$7:$G$12,2),IF(N2210=\"Transporte Aéreo\",VLOOKUP(O2212,Tabelas!$F$16:$G$21,2),\"\")))","v":""},null,null,null,null,null,null,null,null,null,null,null,null,null,null,null,"",{"$f":"+IF(AF2212=\"\",\"\",VLOOKUP(AF2212,Tabelas!$J$27:$K$30,2))","v":""}]
[null,null,null,null,null,null,{"$f":"+IF(F2215=\"\",\"\",VLOOKUP(F2215,Tabelas!$B$7:$C$96,2))","v":""},null,{"$f":"IF(H2215=\"\",\"\",ROUND(H2215/SUM(H2210:H2217),4))","v":""},null,null,null,null,null,null,{"$f":"+IF(O2215=\"\",\"\",IF(N2210=\"Transporte Marítimo\",VLOOKUP(O2215,Tabelas!$F$7:$G$12,2),IF(N2210=\"Transporte Aéreo\",VLOOKUP(O2215,Tabelas!$F$16:$G$21,2),\"\")))","v":""},null,null,null,null,null,null,null,null,null,null,null,null,null,null,null,"",{"$f":"+IF(AF2215=\"\",\"\",VLOOKUP(AF2215,Tabelas!$J$27:$K$30,2))","v":""}]
[null,null,null,null,null,null,{"$f":"+IF(F2216=\"\",\"\",VLOOKUP(F2216,Tabelas!$B$7:$C$96,2))","v":""},null,{"$f":"IF(H2216=\"\",\"\",ROUND(H2216/SUM(H2210:H2217),4))","v":""},null,null,null,null,null,null,{"$f":"+IF(O2216=\"\",\"\",IF(N2210=\"Transporte Marítimo\",VLOOKUP(O2216,Tabelas!$F$7:$G$12,2),IF(N2210=\"Transporte Aéreo\",VLOOKUP(O2216,Tabelas!$F$16:$G$21,2),\"\")))","v":""},null,null,null,null,null,null,null,null,null,null,null,null,null,null,null,"",{"$f":"+IF(AF2216=\"\",\"\",VLOOKUP(AF2216,Tabelas!$J$27:$K$30,2))","v":""}]
[null,null,null,null,null,null,{"$f":"+IF(F2219=\"\",\"\",VLOOKUP(F2219,Tabelas!$B$7:$C$96,2))","v":""},null,{"$f":"IF(H2219=\"\",\"\",ROUND(H2219/SUM(H2218:H2225),4))","v":""},null,null,null,null,null,null,{"$f":"+IF(O2219=\"\",\"\",IF(N2218=\"Transporte Marítimo\",VLOOKUP(O2219,Tabelas!$F$7:$G$12,2),IF(N2218=\"Transporte Aéreo\",VLOOKUP(O2219,Tabelas!$F$16:$G$21,2),\"\")))","v":""},null,null,null,null,null,null,null,null,null,null,null,null,null,null,null,"",{"$f":"+IF(AF2219=\"\",\"\",VLOOKUP(AF2219,Tabelas!$J$27:$K$30,2))","v":""}]
[null,null,null,null,null,null,{"$f":"+IF(F2222=\"\",\"\",VLOOKUP(F2222,Tabelas!$B$7:$C$96,2))","v":""},null,{"$f":"IF(H2222=\"\",\"\",ROUND(H2222/SUM(H2218:H2225),4))","v":""},null,null,null,null,null,null,{"$f":"+IF(O2222=\"\",\"\",IF(N2218=\"Transporte Marítimo\",VLOOKUP(O2222,Tabelas!$F$7:$G$12,2),IF(N2218=\"Transporte Aéreo\",VLOOKUP(O2222,Tabelas!$F$16:$G$21,2),\"\")))","v":""},null,null,null,null,null,null,null,null,null,null,null,null,null,null,null,"",{"$f":"+IF(AF2222=\"\",\"\",VLOOKUP(AF2222,Tabelas!$J$27:$K$30,2))","v":""}]
[null,null,null,null,null,null,{"$f":"+IF(F2224=\"\",\"\",VLOOKUP(F2224,Tabelas!$B$7:$C$96,2))","v":""},null,{"$f":"IF(H2224=\"\",\"\",ROUND(H2224/SUM(H2218:H2225),4))","v":""},null,null,null,null,null,null,{"$f":"+IF(O2224=\"\",\"\",IF(N2218=\"Transporte Marítimo\",VLOOKUP(O2224,Tabelas!$F$7:$G$12,2),IF(N2218=\"Transporte Aéreo\",VLOOKUP(O2224,Tabelas!$F$16:$G$21,2),\"\")))","v":""},null,null,null,null,null,null,null,null,null,null,null,null,null,null,null,"",{"$f":"+IF(AF2224=\"\",\"\",VLOOKUP(AF2224,Tabelas!$J$27:$K$30,2))","v":""}]
[null,null,null,null,null,null,{"$f":"+IF(F2225=\"\",\"\",VLOOKUP(F2225,Tabelas!$B$7:$C$96,2))","v":""},null,{"$f":"IF(H2225=\"\",\"\",ROUND(H2225/SUM(H2218:H2225),4))","v":""},null,null,null,null,null,null,{"$f":"+IF(O2225=\"\",\"\",IF(N2218=\"Transporte Marítimo\",VLOOKUP(O2225,Tabelas!$F$7:$G$12,2),IF(N2218=\"Transporte Aéreo\",VLOOKUP(O2225,Tabelas!$F$16:$G$21,2),\"\")))","v":""},null,null,null,null,null,null,null,null,null,null,null,null,null,null,null,"",{"$f":"+IF(AF2225=\"\",\"\",VLOOKUP(AF2225,Tabelas!$J$27:$K$30,2))","v":""}]
[null,null,null,null,null,null,{"$f":"+IF(F2228=\"\",\"\",VLOOKUP(F2228,Tabelas!$B$7:$C$96,2))","v":""},null,{"$f":"IF(H2228=\"\",\"\",ROUND(H2228/SUM(H2226:H2233),4))","v":""},null,null,null,null,null,null,{"$f":"+IF(O2228=\"\",\"\",IF(N2226=\"Transporte Marítimo\",VLOOKUP(O2228,Tabelas!$F$7:$G$12,2),IF(N2226=\"Transporte Aéreo\",VLOOKUP(O2228,Tabelas!$F$16:$G$21,2),\"\")))","v":""},null,null,null,null,null,null,null,null,null,null,null,null,null,null,null,"",{"$f":"+IF(AF2228=\"\",\"\",VLOOKUP(AF2228,Tabelas!$J$27:$K$30,2))","v":""}]
[null,null,null,null,null,null,{"$f":"+IF(F2229=\"\",\"\",VLOOKUP(F2229,Tabelas!$B$7:$C$96,2))","v":""},null,{"$f":"IF(H2229=\"\",\"\",ROUND(H2229/SUM(H2226:H2233),4))","v":""},null,null,null,null,null,null,{"$f":"+IF(O2229=\"\",\"\",IF(N2226=\"Transporte Marítimo\",VLOOKUP(O2229,Tabelas!$F$7:$G$12,2),IF(N2226=\"Transporte Aéreo\",VLOOKUP(O2229,Tabelas!$F$16:$G$21,2),\"\")))","v":""},null,null,null,null,null,null,null,null,null,null,null,null,null,null,null,"",{"$f":"+IF(AF2229=\"\",\"\",VLOOKUP(AF2229,Tabelas!$J$27:$K$30,2))","v":""}]
[null,null,null,null,null,null,{"$f":"+IF(F2232=\"\",\"\",VLOOKUP(F2232,Tabelas!$B$7:$C$96,2))","v":""},null,{"$f":"IF(H2232=\"\",\"\",ROUND(H2232/SUM(H2226:H2233),4))","v":""},null,null,null,null,null,null,{"$f":"+IF(O2232=\"\",\"\",IF(N2226=\"Transporte Marítimo\",VLOOKUP(O2232,Tabelas!$F$7:$G$12,2),IF(N2226=\"Transporte Aéreo\",VLOOKUP(O2232,Tabelas!$F$16:$G$21,2),\"\")))","v":""},null,null,null,null,null,null,null,null,null,null,null,null,null,null,null,"",{"$f":"+IF(AF2232=\"\",\"\",VLOOKUP(AF2232,Tabelas!$J$27:$K$30,2))","v":""}]
[null,{"$f":"+B2226+1","v":278},null,null,null,null,{"$f":"+IF(F2234=\"\",\"\",VLOOKUP(F2234,Tabelas!$B$7:$C$96,2))","v":""},null,{"$f":"IF(H2234=\"\",\"\",1-SUM(I2235:I2241))","v":""},null,null,null,null,null,null,{"$f":"+IF(O2234=\"\",\"\",IF(N2234=\"Transporte Marítimo\",VLOOKUP(O2234,Tabelas!$F$7:$G$12,2),IF(N2234=\"Transporte Aéreo\",VLOOKUP(O2234,Tabelas!$F$16:$G$21,2),\"\")))","v":""},null,null,null,null,null,null,null,null,null,null,null,null,null,null,null,"",{"$f":"+IF(AF2234=\"\",\"\",VLOOKUP(AF2234,Tabelas!$J$27:$K$30,2))","v":""},null,null,null,null,null,null,null,null,null,null,null,null,null,null,null," "]
[null,null,null,null,null,null,{"$f":"+IF(F2237=\"\",\"\",VLOOKUP(F2237,Tabelas!$B$7:$C$96,2))","v":""},null,{"$f":"IF(H2237=\"\",\"\",ROUND(H2237/SUM(H2234:H2241),4))","v":""},null,null,null,null,null,null,{"$f":"+IF(O2237=\"\",\"\",IF(N2234=\"Transporte Marítimo\",VLOOKUP(O2237,Tabelas!$F$7:$G$12,2),IF(N2234=\"Transporte Aéreo\",VLOOKUP(O2237,Tabelas!$F$16:$G$21,2),\"\")))","v":""},null,null,null,null,null,null,null,null,null,null,null,null,null,null,null,"",{"$f":"+IF(AF2237=\"\",\"\",VLOOKUP(AF2237,Tabelas!$J$27:$K$30,2))","v":""}]
[null,null,null,null,null,null,{"$f":"+IF(F2238=\"\",\"\",VLOOKUP(F2238,Tabelas!$B$7:$C$96,2))","v":""},null,{"$f":"IF(H2238=\"\",\"\",ROUND(H2238/SUM(H2234:H2241),4))","v":""},null,null,null,null,null,null,{"$f":"+IF(O2238=\"\",\"\",IF(N2234=\"Transporte Marítimo\",VLOOKUP(O2238,Tabelas!$F$7:$G$12,2),IF(N2234=\"Transporte Aéreo\",VLOOKUP(O2238,Tabelas!$F$16:$G$21,2),\"\")))","v":""},null,null,null,null,null,null,null,null,null,null,null,null,null,null,null,"",{"$f":"+IF(AF2238=\"\",\"\",VLOOKUP(AF2238,Tabelas!$J$27:$K$30,2))","v":""}]
[null,null,null,null,null,null,{"$f":"+IF(F2240=\"\",\"\",VLOOKUP(F2240,Tabelas!$B$7:$C$96,2))","v":""},null,{"$f":"IF(H2240=\"\",\"\",ROUND(H2240/SUM(H2234:H2241),4))","v":""},null,null,null,null,null,null,{"$f":"+IF(O2240=\"\",\"\",IF(N2234=\"Transporte Marítimo\",VLOOKUP(O2240,Tabelas!$F$7:$G$12,2),IF(N2234=\"Transporte Aéreo\",VLOOKUP(O2240,Tabelas!$F$16:$G$21,2),\"\")))","v":""},null,null,null,null,null,null,null,null,null,null,null,null,null,null,null,"",{"$f":"+IF(AF2240=\"\",\"\",VLOOKUP(AF2240,Tabelas!$J$27:$K$30,2))","v":""}]
[null,null,null,null,null,null,{"$f":"+IF(F2243=\"\",\"\",VLOOKUP(F2243,Tabelas!$B$7:$C$96,2))","v":""},null,{"$f":"IF(H2243=\"\",\"\",ROUND(H2243/SUM(H2242:H2249),4))","v":""},null,null,null,null,null,null,{"$f":"+IF(O2243=\"\",\"\",IF(N2242=\"Transporte Marítimo\",VLOOKUP(O2243,Tabelas!$F$7:$G$12,2),IF(N2242=\"Transporte Aéreo\",VLOOKUP(O2243,Tabelas!$F$16:$G$21,2),\"\")))","v":""},null,null,null,null,null,null,null,null,null,null,null,null,null,null,null,"",{"$f":"+IF(AF2243=\"\",\"\",VLOOKUP(AF2243,Tabelas!$J$27:$K$30,2))","v":""}]
[null,null,null,null,null,null,{"$f":"+IF(F2246=\"\",\"\",VLOOKUP(F2246,Tabelas!$B$7:$C$96,2))","v":""},null,{"$f":"IF(H2246=\"\",\"\",ROUND(H2246/SUM(H2242:H2249),4))","v":""},null,null,null,null,null,null,{"$f":"+IF(O2246=\"\",\"\",IF(N2242=\"Transporte Marítimo\",VLOOKUP(O2246,Tabelas!$F$7:$G$12,2),IF(N2242=\"Transporte Aéreo\",VLOOKUP(O2246,Tabelas!$F$16:$G$21,2),\"\")))","v":""},null,null,null,null,null,null,null,null,null,null,null,null,null,null,null,"",{"$f":"+IF(AF2246=\"\",\"\",VLOOKUP(AF2246,Tabelas!$J$27:$K$30,2))","v":""}]
[null,null,null,null,null,null,{"$f":"+IF(F2247=\"\",\"\",VLOOKUP(F2247,Tabelas!$B$7:$C$96,2))","v":""},null,{"$f":"IF(H2247=\"\",\"\",ROUND(H2247/SUM(H2242:H2249),4))","v":""},null,null,null,null,null,null,{"$f":"+IF(O2247=\"\",\"\",IF(N2242=\"Transporte Marítimo\",VLOOKUP(O2247,Tabelas!$F$7:$G$12,2),IF(N2242=\"Transporte Aéreo\",VLOOKUP(O2247,Tabelas!$F$16:$G$21,2),\"\")))","v":""},null,null,null,null,null,null,null,null,null,null,null,null,null,null,null,"",{"$f":"+IF(AF2247=\"\",\"\",VLOOKUP(AF2247,Tabelas!$J$27:$K$30,2))","v":""}]
[null,{"$f":"+B2242+1","v":280},null,null,null,null,{"$f":"+IF(F2250=\"\",\"\",VLOOKUP(F2250,Tabelas!$B$7:$C$96,2))","v":""},null,{"$f":"IF(H2250=\"\",\"\",1-SUM(I2251:I2257))","v":""},null,null,null,null,null,null,{"$f":"+IF(O2250=\"\",\"\",IF(N2250=\"Transporte Marítimo\",VLOOKUP(O2250,Tabelas!$F$7:$G$12,2),IF(N2250=\"Transporte Aéreo\",VLOOKUP(O2250,Tabelas!$F$16:$G$21,2),\"\")))","v":""},null,null,null,null,null,null,null,null,null,null,null,null,null,null,null,"",{"$f":"+IF(AF2250=\"\",\"\",VLOOKUP(AF2250,Tabelas!$J$27:$K$30,2))","v":""},null,null,null,null,null,null,null,null,null,null,null,null,null,null,null," "]
[null,null,null,null,null,null,{"$f":"+IF(F2252=\"\",\"\",VLOOKUP(F2252,Tabelas!$B$7:$C$96,2))","v":""},null,{"$f":"IF(H2252=\"\",\"\",ROUND(H2252/SUM(H2250:H2257),4))","v":""},null,null,null,null,null,null,{"$f":"+IF(O2252=\"\",\"\",IF(N2250=\"Transporte Marítimo\",VLOOKUP(O2252,Tabelas!$F$7:$G$12,2),IF(N2250=\"Transporte Aéreo\",VLOOKUP(O2252,Tabelas!$F$16:$G$21,2),\"\")))","v":""},null,null,null,null,null,null,null,null,null,null,null,null,null,null,null,"",{"$f":"+IF(AF2252=\"\",\"\",VLOOKUP(AF2252,Tabelas!$J$27:$K$30,2))","v":""}]
[null,null,null,null,null,null,{"$f":"+IF(F2255=\"\",\"\",VLOOKUP(F2255,Tabelas!$B$7:$C$96,2))","v":""},null,{"$f":"IF(H2255=\"\",\"\",ROUND(H2255/SUM(H2250:H2257),4))","v":""},null,null,null,null,null,null,{"$f":"+IF(O2255=\"\",\"\",IF(N2250=\"Transporte Marítimo\",VLOOKUP(O2255,Tabelas!$F$7:$G$12,2),IF(N2250=\"Transporte Aéreo\",VLOOKUP(O2255,Tabelas!$F$16:$G$21,2),\"\")))","v":""},null,null,null,null,null,null,null,null,null,null,null,null,null,null,null,"",{"$f":"+IF(AF2255=\"\",\"\",VLOOKUP(AF2255,Tabelas!$J$27:$K$30,2))","v":""}]
[null,null,null,null,null,null,{"$f":"+IF(F2256=\"\",\"\",VLOOKUP(F2256,Tabelas!$B$7:$C$96,2))","v":""},null,{"$f":"IF(H2256=\"\",\"\",ROUND(H2256/SUM(H2250:H2257),4))","v":""},null,null,null,null,null,null,{"$f":"+IF(O2256=\"\",\"\",IF(N2250=\"Transporte Marítimo\",VLOOKUP(O2256,Tabelas!$F$7:$G$12,2),IF(N2250=\"Transporte Aéreo\",VLOOKUP(O2256,Tabelas!$F$16:$G$21,2),\"\")))","v":""},null,null,null,null,null,null,null,null,null,null,null,null,null,null,null,"",{"$f":"+IF(AF2256=\"\",\"\",VLOOKUP(AF2256,Tabelas!$J$27:$K$30,2))","v":""}]
[null,null,null,null,null,null,{"$f":"+IF(F2259=\"\",\"\",VLOOKUP(F2259,Tabelas!$B$7:$C$96,2))","v":""},null,{"$f":"IF(H2259=\"\",\"\",ROUND(H2259/SUM(H2258:H2265),4))","v":""},null,null,null,null,null,null,{"$f":"+IF(O2259=\"\",\"\",IF(N2258=\"Transporte Marítimo\",VLOOKUP(O2259,Tabelas!$F$7:$G$12,2),IF(N2258=\"Transporte Aéreo\",VLOOKUP(O2259,Tabelas!$F$16:$G$21,2),\"\")))","v":""},null,null,null,null,null,null,null,null,null,null,null,null,null,null,null,{"$f":"+IF(AE2259=\"20NL\",1,IF(AE2259=\"40NL\",2,IF(AE2259=\"20RF\",3,IF(AE2259=\"40RF\",4,\"\"))))","v":""},{"$f":"+IF(AF2259=\"\",\"\",VLOOKUP(AF2259,Tabelas!$J$27:$K$30,2))","v":""}]
[null,null,null,null,null,null,{"$f":"+IF(F2260=\"\",\"\",VLOOKUP(F2260,Tabelas!$B$7:$C$96,2))","v":""},null,{"$f":"IF(H2260=\"\",\"\",ROUND(H2260/SUM(H2258:H2265),4))","v":""},null,null,null,null,null,null,{"$f":"+IF(O2260=\"\",\"\",IF(N2258=\"Transporte Marítimo\",VLOOKUP(O2260,Tabelas!$F$7:$G$12,2),IF(N2258=\"Transporte Aéreo\",VLOOKUP(O2260,Tabelas!$F$16:$G$21,2),\"\")))","v":""},null,null,null,null,null,null,null,null,null,null,null,null,null,null,null,"",{"$f":"+IF(AF2260=\"\",\"\",VLOOKUP(AF2260,Tabelas!$J$27:$K$30,2))","v":""}]
[null,null,null,null,null,null,{"$f":"+IF(F2264=\"\",\"\",VLOOKUP(F2264,Tabelas!$B$7:$C$96,2))","v":""},null,{"$f":"IF(H2264=\"\",\"\",ROUND(H2264/SUM(H2258:H2265),4))","v":""},null,null,null,null,null,null,{"$f":"+IF(O2264=\"\",\"\",IF(N2258=\"Transporte Marítimo\",VLOOKUP(O2264,Tabelas!$F$7:$G$12,2),IF(N2258=\"Transporte Aéreo\",VLOOKUP(O2264,Tabelas!$F$16:$G$21,2),\"\")))","v":""},null,null,null,null,null,null,null,null,null,null,null,null,null,null,null,"",{"$f":"+IF(AF2264=\"\",\"\",VLOOKUP(AF2264,Tabelas!$J$27:$K$30,2))","v":""}]
[null,null,null,null,null,null,{"$f":"+IF(F2265=\"\",\"\",VLOOKUP(F2265,Tabelas!$B$7:$C$96,2))","v":""},null,{"$f":"IF(H2265=\"\",\"\",ROUND(H2265/SUM(H2258:H2265),4))","v":""},null,null,null,null,null,null,{"$f":"+IF(O2265=\"\",\"\",IF(N2258=\"Transporte Marítimo\",VLOOKUP(O2265,Tabelas!$F$7:$G$12,2),IF(N2258=\"Transporte Aéreo\",VLOOKUP(O2265,Tabelas!$F$16:$G$21,2),\"\")))","v":""},null,null,null,null,null,null,null,null,null,null,null,null,null,null,null,"",{"$f":"+IF(AF2265=\"\",\"\",VLOOKUP(AF2265,Tabelas!$J$27:$K$30,2))","v":""}]
[null,null,null,null,null,null,{"$f":"+IF(F2268=\"\",\"\",VLOOKUP(F2268,Tabelas!$B$7:$C$96,2))","v":""},null,{"$f":"IF(H2268=\"\",\"\",ROUND(H2268/SUM(H2266:H2273),4))","v":""},null,null,null,null,null,null,{"$f":"+IF(O2268=\"\",\"\",IF(N2266=\"Transporte Marítimo\",VLOOKUP(O2268,Tabelas!$F$7:$G$12,2),IF(N2266=\"Transporte Aéreo\",VLOOKUP(O2268,Tabelas!$F$16:$G$21,2),\"\")))","v":""},null,null,null,null,null,null,null,null,null,null,null,null,null,null,null,"",{"$f":"+IF(AF2268=\"\",\"\",VLOOKUP(AF2268,Tabelas!$J$27:$K$30,2))","v":""}]
[null,null,null,null,null,null,{"$f":"+IF(F2271=\"\",\"\",VLOOKUP(F2271,Tabelas!$B$7:$C$96,2))","v":""},null,{"$f":"IF(H2271=\"\",\"\",ROUND(H2271/SUM(H2266:H2273),4))","v":""},null,null,null,null,null,null,{"$f":"+IF(O2271=\"\",\"\",IF(N2266=\"Transporte Marítimo\",VLOOKUP(O2271,Tabelas!$F$7:$G$12,2),IF(N2266=\"Transporte Aéreo\",VLOOKUP(O2271,Tabelas!$F$16:$G$21,2),\"\")))","v":""},null,null,null,null,null,null,null,null,null,null,null,null,null,null,null,"",{"$f":"+IF(AF2271=\"\",\"\",VLOOKUP(AF2271,Tabelas!$J$27:$K$30,2))","v":""}]
[null,null,null,null,null,null,{"$f":"+IF(F2273=\"\",\"\",VLOOKUP(F2273,Tabelas!$B$7:$C$96,2))","v":""},null,{"$f":"IF(H2273=\"\",\"\",ROUND(H2273/SUM(H2266:H2273),4))","v":""},null,null,null,null,null,null,{"$f":"+IF(O2273=\"\",\"\",IF(N2266=\"Transporte Marítimo\",VLOOKUP(O2273,Tabelas!$F$7:$G$12,2),IF(N2266=\"Transporte Aéreo\",VLOOKUP(O2273,Tabelas!$F$16:$G$21,2),\"\")))","v":""},null,null,null,null,null,null,null,null,null,null,null,null,null,null,null,"",{"$f":"+IF(AF2273=\"\",\"\",VLOOKUP(AF2273,Tabelas!$J$27:$K$30,2))","v":""}]
[null,{"$f":"+B2266+1","v":283},null,null,null,null,{"$f":"+IF(F2274=\"\",\"\",VLOOKUP(F2274,Tabelas!$B$7:$C$96,2))","v":""},null,{"$f":"IF(H2274=\"\",\"\",1-SUM(I2275:I2281))","v":""},null,null,null,null,null,null,{"$f":"+IF(O2274=\"\",\"\",IF(N2274=\"Transporte Marítimo\",VLOOKUP(O2274,Tabelas!$F$7:$G$12,2),IF(N2274=\"Transporte Aéreo\",VLOOKUP(O2274,Tabelas!$F$16:$G$21,2),\"\")))","v":""},null,null,null,null,null,null,null,null,null,null,null,null,null,null,null,"",{"$f":"+IF(AF2274=\"\",\"\",VLOOKUP(AF2274,Tabelas!$J$27:$K$30,2))","v":""},null,null,null,null,null,null,null,null,null,null,null,null,null,null,null," "]
[null,null,null,null,null,null,{"$f":"+IF(F2277=\"\",\"\",VLOOKUP(F2277,Tabelas!$B$7:$C$96,2))","v":""},null,{"$f":"IF(H2277=\"\",\"\",ROUND(H2277/SUM(H2274:H2281),4))","v":""},null,null,null,null,null,null,{"$f":"+IF(O2277=\"\",\"\",IF(N2274=\"Transporte Marítimo\",VLOOKUP(O2277,Tabelas!$F$7:$G$12,2),IF(N2274=\"Transporte Aéreo\",VLOOKUP(O2277,Tabelas!$F$16:$G$21,2),\"\")))","v":""},null,null,null,null,null,null,null,null,null,null,null,null,null,null,null,"",{"$f":"+IF(AF2277=\"\",\"\",VLOOKUP(AF2277,Tabelas!$J$27:$K$30,2))","v":""}]
[null,null,null,null,null,null,{"$f":"+IF(F2278=\"\",\"\",VLOOKUP(F2278,Tabelas!$B$7:$C$96,2))","v":""},null,{"$f":"IF(H2278=\"\",\"\",ROUND(H2278/SUM(H2274:H2281),4))","v":""},null,null,null,null,null,null,{"$f":"+IF(O2278=\"\",\"\",IF(N2274=\"Transporte Marítimo\",VLOOKUP(O2278,Tabelas!$F$7:$G$12,2),IF(N2274=\"Transporte Aéreo\",VLOOKUP(O2278,Tabelas!$F$16:$G$21,2),\"\")))","v":""},null,null,null,null,null,null,null,null,null,null,null,null,null,null,null,"",{"$f":"+IF(AF2278=\"\",\"\",VLOOKUP(AF2278,Tabelas!$J$27:$K$30,2))","v":""}]
[null,{"$f":"+B2274+1","v":284},null,null,null,null,{"$f":"+IF(F2282=\"\",\"\",VLOOKUP(F2282,Tabelas!$B$7:$C$96,2))","v":""},null,{"$f":"IF(H2282=\"\",\"\",1-SUM(I2283:I2289))","v":""},null,null,null,null,null,null,{"$f":"+IF(O2282=\"\",\"\",IF(N2282=\"Transporte Marítimo\",VLOOKUP(O2282,Tabelas!$F$7:$G$12,2),IF(N2282=\"Transporte Aéreo\",VLOOKUP(O2282,Tabelas!$F$16:$G$21,2),\"\")))","v":""},null,null,null,null,null,null,null,null,null,null,null,null,null,null,null,"",{"$f":"+IF(AF2282=\"\",\"\",VLOOKUP(AF2282,Tabelas!$J$27:$K$30,2))","v":""},null,null,null,null,null,null,null,null,null,null,null,null,null,null,null," "]
[null,null,null,null,null,null,{"$f":"+IF(F2283=\"\",\"\",VLOOKUP(F2283,Tabelas!$B$7:$C$96,2))","v":""},null,{"$f":"IF(H2283=\"\",\"\",ROUND(H2283/SUM(H2282:H2289),4))","v":""},null,null,null,null,null,null,{"$f":"+IF(O2283=\"\",\"\",IF(N2282=\"Transporte Marítimo\",VLOOKUP(O2283,Tabelas!$F$7:$G$12,2),IF(N2282=\"Transporte Aéreo\",VLOOKUP(O2283,Tabelas!$F$16:$G$21,2),\"\")))","v":""},null,null,null,null,null,null,null,null,null,null,null,null,null,null,null,"",{"$f":"+IF(AF2283=\"\",\"\",VLOOKUP(AF2283,Tabelas!$J$27:$K$30,2))","v":""}]
[null,null,null,null,null,null,{"$f":"+IF(F2286=\"\",\"\",VLOOKUP(F2286,Tabelas!$B$7:$C$96,2))","v":""},null,{"$f":"IF(H2286=\"\",\"\",ROUND(H2286/SUM(H2282:H2289),4))","v":""},null,null,null,null,null,null,{"$f":"+IF(O2286=\"\",\"\",IF(N2282=\"Transporte Marítimo\",VLOOKUP(O2286,Tabelas!$F$7:$G$12,2),IF(N2282=\"Transporte Aéreo\",VLOOKUP(O2286,Tabelas!$F$16:$G$21,2),\"\")))","v":""},null,null,null,null,null,null,null,null,null,null,null,null,null,null,null,"",{"$f":"+IF(AF2286=\"\",\"\",VLOOKUP(AF2286,Tabelas!$J$27:$K$30,2))","v":""}]
[null,null,null,null,null,null,{"$f":"+IF(F2287=\"\",\"\",VLOOKUP(F2287,Tabelas!$B$7:$C$96,2))","v":""},null,{"$f":"IF(H2287=\"\",\"\",ROUND(H2287/SUM(H2282:H2289),4))","v":""},null,null,null,null,null,null,{"$f":"+IF(O2287=\"\",\"\",IF(N2282=\"Transporte Marítimo\",VLOOKUP(O2287,Tabelas!$F$7:$G$12,2),IF(N2282=\"Transporte Aéreo\",VLOOKUP(O2287,Tabelas!$F$16:$G$21,2),\"\")))","v":""},null,null,null,null,null,null,null,null,null,null,null,null,null,null,null,"",{"$f":"+IF(AF2287=\"\",\"\",VLOOKUP(AF2287,Tabelas!$J$27:$K$30,2))","v":""}]
[null,null,null,null,null,null,{"$f":"+IF(F2291=\"\",\"\",VLOOKUP(F2291,Tabelas!$B$7:$C$96,2))","v":""},null,{"$f":"IF(H2291=\"\",\"\",ROUND(H2291/SUM(H2290:H2297),4))","v":""},null,null,null,null,null,null,{"$f":"+IF(O2291=\"\",\"\",IF(N2290=\"Transporte Marítimo\",VLOOKUP(O2291,Tabelas!$F$7:$G$12,2),IF(N2290=\"Transporte Aéreo\",VLOOKUP(O2291,Tabelas!$F$16:$G$21,2),\"\")))","v":""},null,null,null,null,null,null,null,null,null,null,null,null,null,null,null,"",{"$f":"+IF(AF2291=\"\",\"\",VLOOKUP(AF2291,Tabelas!$J$27:$K$30,2))","v":""}]
[null,null,null,null,null,null,{"$f":"+IF(F2292=\"\",\"\",VLOOKUP(F2292,Tabelas!$B$7:$C$96,2))","v":""},null,{"$f":"IF(H2292=\"\",\"\",ROUND(H2292/SUM(H2290:H2297),4))","v":""},null,null,null,null,null,null,{"$f":"+IF(O2292=\"\",\"\",IF(N2290=\"Transporte Marítimo\",VLOOKUP(O2292,Tabelas!$F$7:$G$12,2),IF(N2290=\"Transporte Aéreo\",VLOOKUP(O2292,Tabelas!$F$16:$G$21,2),\"\")))","v":""},null,null,null,null,null,null,null,null,null,null,null,null,null,null,null,"",{"$f":"+IF(AF2292=\"\",\"\",VLOOKUP(AF2292,Tabelas!$J$27:$K$30,2))","v":""}]
[null,null,null,null,null,null,{"$f":"+IF(F2295=\"\",\"\",VLOOKUP(F2295,Tabelas!$B$7:$C$96,2))","v":""},null,{"$f":"IF(H2295=\"\",\"\",ROUND(H2295/SUM(H2290:H2297),4))","v":""},null,null,null,null,null,null,{"$f":"+IF(O2295=\"\",\"\",IF(N2290=\"Transporte Marítimo\",VLOOKUP(O2295,Tabelas!$F$7:$G$12,2),IF(N2290=\"Transporte Aéreo\",VLOOKUP(O2295,Tabelas!$F$16:$G$21,2),\"\")))","v":""},null,null,null,null,null,null,null,null,null,null,null,null,null,null,null,"",{"$f":"+IF(AF2295=\"\",\"\",VLOOKUP(AF2295,Tabelas!$J$27:$K$30,2))","v":""}]
[null,null,null,null,null,null,{"$f":"+IF(F2296=\"\",\"\",VLOOKUP(F2296,Tabelas!$B$7:$C$96,2))","v":""},null,{"$f":"IF(H2296=\"\",\"\",ROUND(H2296/SUM(H2290:H2297),4))","v":""},null,null,null,null,null,null,{"$f":"+IF(O2296=\"\",\"\",IF(N2290=\"Transporte Marítimo\",VLOOKUP(O2296,Tabelas!$F$7:$G$12,2),IF(N2290=\"Transporte Aéreo\",VLOOKUP(O2296,Tabelas!$F$16:$G$21,2),\"\")))","v":""},null,null,null,null,null,null,null,null,null,null,null,null,null,null,null,"",{"$f":"+IF(AF2296=\"\",\"\",VLOOKUP(AF2296,Tabelas!$J$27:$K$30,2))","v":""}]
[null,null,null,null,null,null,{"$f":"+IF(F2299=\"\",\"\",VLOOKUP(F2299,Tabelas!$B$7:$C$96,2))","v":""},null,{"$f":"IF(H2299=\"\",\"\",ROUND(H2299/SUM(H2298:H2305),4))","v":""},null,null,null,null,null,null,{"$f":"+IF(O2299=\"\",\"\",IF(N2298=\"Transporte Marítimo\",VLOOKUP(O2299,Tabelas!$F$7:$G$12,2),IF(N2298=\"Transporte Aéreo\",VLOOKUP(O2299,Tabelas!$F$16:$G$21,2),\"\")))","v":""},null,null,null,null,null,null,null,null,null,null,null,null,null,null,null,"",{"$f":"+IF(AF2299=\"\",\"\",VLOOKUP(AF2299,Tabelas!$J$27:$K$30,2))","v":""}]
[null,null,null,null,null,null,{"$f":"+IF(F2301=\"\",\"\",VLOOKUP(F2301,Tabelas!$B$7:$C$96,2))","v":""},null,{"$f":"IF(H2301=\"\",\"\",ROUND(H2301/SUM(H2298:H2305),4))","v":""},null,null,null,null,null,null,{"$f":"+IF(O2301=\"\",\"\",IF(N2298=\"Transporte Marítimo\",VLOOKUP(O2301,Tabelas!$F$7:$G$12,2),IF(N2298=\"Transporte Aéreo\",VLOOKUP(O2301,Tabelas!$F$16:$G$21,2),\"\")))","v":""},null,null,null,null,null,null,null,null,null,null,null,null,null,null,null,"",{"$f":"+IF(AF2301=\"\",\"\",VLOOKUP(AF2301,Tabelas!$J$27:$K$30,2))","v":""}]
[null,null,null,null,null,null,{"$f":"+IF(F2304=\"\",\"\",VLOOKUP(F2304,Tabelas!$B$7:$C$96,2))","v":""},null,{"$f":"IF(H2304=\"\",\"\",ROUND(H2304/SUM(H2298:H2305),4))","v":""},null,null,null,null,null,null,{"$f":"+IF(O2304=\"\",\"\",IF(N2298=\"Transporte Marítimo\",VLOOKUP(O2304,Tabelas!$F$7:$G$12,2),IF(N2298=\"Transporte Aéreo\",VLOOKUP(O2304,Tabelas!$F$16:$G$21,2),\"\")))","v":""},null,null,null,null,null,null,null,null,null,null,null,null,null,null,null,"",{"$f":"+IF(AF2304=\"\",\"\",VLOOKUP(AF2304,Tabelas!$J$27:$K$30,2))","v":""}]
[null,null,null,null,null,null,{"$f":"+IF(F2305=\"\",\"\",VLOOKUP(F2305,Tabelas!$B$7:$C$96,2))","v":""},null,{"$f":"IF(H2305=\"\",\"\",ROUND(H2305/SUM(H2298:H2305),4))","v":""},null,null,null,null,null,null,{"$f":"+IF(O2305=\"\",\"\",IF(N2298=\"Transporte Marítimo\",VLOOKUP(O2305,Tabelas!$F$7:$G$12,2),IF(N2298=\"Transporte Aéreo\",VLOOKUP(O2305,Tabelas!$F$16:$G$21,2),\"\")))","v":""},null,null,null,null,null,null,null,null,null,null,null,null,null,null,null,"",{"$f":"+IF(AF2305=\"\",\"\",VLOOKUP(AF2305,Tabelas!$J$27:$K$30,2))","v":""}]
[null,null,null,null,null,null,{"$f":"+IF(F2309=\"\",\"\",VLOOKUP(F2309,Tabelas!$B$7:$C$96,2))","v":""},null,{"$f":"IF(H2309=\"\",\"\",ROUND(H2309/SUM(H2306:H2313),4))","v":""},null,null,null,null,null,null,{"$f":"+IF(O2309=\"\",\"\",IF(N2306=\"Transporte Marítimo\",VLOOKUP(O2309,Tabelas!$F$7:$G$12,2),IF(N2306=\"Transporte Aéreo\",VLOOKUP(O2309,Tabelas!$F$16:$G$21,2),\"\")))","v":""},null,null,null,null,null,null,null,null,null,null,null,null,null,null,null,"",{"$f":"+IF(AF2309=\"\",\"\",VLOOKUP(AF2309,Tabelas!$J$27:$K$30,2))","v":""}]
[null,null,null,null,null,null,{"$f":"+IF(F2310=\"\",\"\",VLOOKUP(F2310,Tabelas!$B$7:$C$96,2))","v":""},null,{"$f":"IF(H2310=\"\",\"\",ROUND(H2310/SUM(H2306:H2313),4))","v":""},null,null,null,null,null,null,{"$f":"+IF(O2310=\"\",\"\",IF(N2306=\"Transporte Marítimo\",VLOOKUP(O2310,Tabelas!$F$7:$G$12,2),IF(N2306=\"Transporte Aéreo\",VLOOKUP(O2310,Tabelas!$F$16:$G$21,2),\"\")))","v":""},null,null,null,null,null,null,null,null,null,null,null,null,null,null,null,"",{"$f":"+IF(AF2310=\"\",\"\",VLOOKUP(AF2310,Tabelas!$J$27:$K$30,2))","v":""}]
[null,null,null,null,null,null,{"$f":"+IF(F2313=\"\",\"\",VLOOKUP(F2313,Tabelas!$B$7:$C$96,2))","v":""},null,{"$f":"IF(H2313=\"\",\"\",ROUND(H2313/SUM(H2306:H2313),4))","v":""},null,null,null,null,null,null,{"$f":"+IF(O2313=\"\",\"\",IF(N2306=\"Transporte Marítimo\",VLOOKUP(O2313,Tabelas!$F$7:$G$12,2),IF(N2306=\"Transporte Aéreo\",VLOOKUP(O2313,Tabelas!$F$16:$G$21,2),\"\")))","v":""},null,null,null,null,null,null,null,null,null,null,null,null,null,null,null,"",{"$f":"+IF(AF2313=\"\",\"\",VLOOKUP(AF2313,Tabelas!$J$27:$K$30,2))","v":""}]
[null,{"$f":"+B2306+1","v":288},null,null,null,null,{"$f":"+IF(F2314=\"\",\"\",VLOOKUP(F2314,Tabelas!$B$7:$C$96,2))","v":""},null,{"$f":"IF(H2314=\"\",\"\",1-SUM(I2315:I2321))","v":""},null,null,null,null,null,null,{"$f":"+IF(O2314=\"\",\"\",IF(N2314=\"Transporte Marítimo\",VLOOKUP(O2314,Tabelas!$F$7:$G$12,2),IF(N2314=\"Transporte Aéreo\",VLOOKUP(O2314,Tabelas!$F$16:$G$21,2),\"\")))","v":""},null,null,null,null,null,null,null,null,null,null,null,null,null,null,null,"",{"$f":"+IF(AF2314=\"\",\"\",VLOOKUP(AF2314,Tabelas!$J$27:$K$30,2))","v":""},null,null,null,null,null,null,null,null,null,null,null,null,null,null,null," "]
[null,null,null,null,null,null,{"$f":"+IF(F2317=\"\",\"\",VLOOKUP(F2317,Tabelas!$B$7:$C$96,2))","v":""},null,{"$f":"IF(H2317=\"\",\"\",ROUND(H2317/SUM(H2314:H2321),4))","v":""},null,null,null,null,null,null,{"$f":"+IF(O2317=\"\",\"\",IF(N2314=\"Transporte Marítimo\",VLOOKUP(O2317,Tabelas!$F$7:$G$12,2),IF(N2314=\"Transporte Aéreo\",VLOOKUP(O2317,Tabelas!$F$16:$G$21,2),\"\")))","v":""},null,null,null,null,null,null,null,null,null,null,null,null,null,null,null,"",{"$f":"+IF(AF2317=\"\",\"\",VLOOKUP(AF2317,Tabelas!$J$27:$K$30,2))","v":""}]
[null,null,null,null,null,null,{"$f":"+IF(F2319=\"\",\"\",VLOOKUP(F2319,Tabelas!$B$7:$C$96,2))","v":""},null,{"$f":"IF(H2319=\"\",\"\",ROUND(H2319/SUM(H2314:H2321),4))","v":""},null,null,null,null,null,null,{"$f":"+IF(O2319=\"\",\"\",IF(N2314=\"Transporte Marítimo\",VLOOKUP(O2319,Tabelas!$F$7:$G$12,2),IF(N2314=\"Transporte Aéreo\",VLOOKUP(O2319,Tabelas!$F$16:$G$21,2),\"\")))","v":""},null,null,null,null,null,null,null,null,null,null,null,null,null,null,null,"",{"$f":"+IF(AF2319=\"\",\"\",VLOOKUP(AF2319,Tabelas!$J$27:$K$30,2))","v":""}]
[null,{"$f":"+B2314+1","v":289},null,null,null,null,{"$f":"+IF(F2322=\"\",\"\",VLOOKUP(F2322,Tabelas!$B$7:$C$96,2))","v":""},null,{"$f":"IF(H2322=\"\",\"\",1-SUM(I2323:I2329))","v":""},null,null,null,null,null,null,{"$f":"+IF(O2322=\"\",\"\",IF(N2322=\"Transporte Marítimo\",VLOOKUP(O2322,Tabelas!$F$7:$G$12,2),IF(N2322=\"Transporte Aéreo\",VLOOKUP(O2322,Tabelas!$F$16:$G$21,2),\"\")))","v":""},null,null,null,null,null,null,null,null,null,null,null,null,null,null,null,"",{"$f":"+IF(AF2322=\"\",\"\",VLOOKUP(AF2322,Tabelas!$J$27:$K$30,2))","v":""},null,null,null,null,null,null,null,null,null,null,null,null,null,null,null," "]
[null,null,null,null,null,null,{"$f":"+IF(F2323=\"\",\"\",VLOOKUP(F2323,Tabelas!$B$7:$C$96,2))","v":""},null,{"$f":"IF(H2323=\"\",\"\",ROUND(H2323/SUM(H2322:H2329),4))","v":""},null,null,null,null,null,null,{"$f":"+IF(O2323=\"\",\"\",IF(N2322=\"Transporte Marítimo\",VLOOKUP(O2323,Tabelas!$F$7:$G$12,2),IF(N2322=\"Transporte Aéreo\",VLOOKUP(O2323,Tabelas!$F$16:$G$21,2),\"\")))","v":""},null,null,null,null,null,null,null,null,null,null,null,null,null,null,null,{"$f":"+IF(AE2323=\"20NL\",1,IF(AE2323=\"40NL\",2,IF(AE2323=\"20RF\",3,IF(AE2323=\"40RF\",4,\"\"))))","v":""},{"$f":"+IF(AF2323=\"\",\"\",VLOOKUP(AF2323,Tabelas!$J$27:$K$30,2))","v":""}]
[null,null,null,null,null,null,{"$f":"+IF(F2326=\"\",\"\",VLOOKUP(F2326,Tabelas!$B$7:$C$96,2))","v":""},null,{"$f":"IF(H2326=\"\",\"\",ROUND(H2326/SUM(H2322:H2329),4))","v":""},null,null,null,null,null,null,{"$f":"+IF(O2326=\"\",\"\",IF(N2322=\"Transporte Marítimo\",VLOOKUP(O2326,Tabelas!$F$7:$G$12,2),IF(N2322=\"Transporte Aéreo\",VLOOKUP(O2326,Tabelas!$F$16:$G$21,2),\"\")))","v":""},null,null,null,null,null,null,null,null,null,null,null,null,null,null,null,"",{"$f":"+IF(AF2326=\"\",\"\",VLOOKUP(AF2326,Tabelas!$J$27:$K$30,2))","v":""}]
[null,null,null,null,null,null,{"$f":"+IF(F2327=\"\",\"\",VLOOKUP(F2327,Tabelas!$B$7:$C$96,2))","v":""},null,{"$f":"IF(H2327=\"\",\"\",ROUND(H2327/SUM(H2322:H2329),4))","v":""},null,null,null,null,null,null,{"$f":"+IF(O2327=\"\",\"\",IF(N2322=\"Transporte Marítimo\",VLOOKUP(O2327,Tabelas!$F$7:$G$12,2),IF(N2322=\"Transporte Aéreo\",VLOOKUP(O2327,Tabelas!$F$16:$G$21,2),\"\")))","v":""},null,null,null,null,null,null,null,null,null,null,null,null,null,null,null,"",{"$f":"+IF(AF2327=\"\",\"\",VLOOKUP(AF2327,Tabelas!$J$27:$K$30,2))","v":""}]
[null,null,null,null,null,null,{"$f":"+IF(F2331=\"\",\"\",VLOOKUP(F2331,Tabelas!$B$7:$C$96,2))","v":""},null,{"$f":"IF(H2331=\"\",\"\",ROUND(H2331/SUM(H2330:H2337),4))","v":""},null,null,null,null,null,null,{"$f":"+IF(O2331=\"\",\"\",IF(N2330=\"Transporte Marítimo\",VLOOKUP(O2331,Tabelas!$F$7:$G$12,2),IF(N2330=\"Transporte Aéreo\",VLOOKUP(O2331,Tabelas!$F$16:$G$21,2),\"\")))","v":""},null,null,null,null,null,null,null,null,null,null,null,null,null,null,null,"",{"$f":"+IF(AF2331=\"\",\"\",VLOOKUP(AF2331,Tabelas!$J$27:$K$30,2))","v":""}]
[null,null,null,null,null,null,{"$f":"+IF(F2332=\"\",\"\",VLOOKUP(F2332,Tabelas!$B$7:$C$96,2))","v":""},null,{"$f":"IF(H2332=\"\",\"\",ROUND(H2332/SUM(H2330:H2337),4))","v":""},null,null,null,null,null,null,{"$f":"+IF(O2332=\"\",\"\",IF(N2330=\"Transporte Marítimo\",VLOOKUP(O2332,Tabelas!$F$7:$G$12,2),IF(N2330=\"Transporte Aéreo\",VLOOKUP(O2332,Tabelas!$F$16:$G$21,2),\"\")))","v":""},null,null,null,null,null,null,null,null,null,null,null,null,null,null,null,"",{"$f":"+IF(AF2332=\"\",\"\",VLOOKUP(AF2332,Tabelas!$J$27:$K$30,2))","v":""}]
[null,null,null,null,null,null,{"$f":"+IF(F2335=\"\",\"\",VLOOKUP(F2335,Tabelas!$B$7:$C$96,2))","v":""},null,{"$f":"IF(H2335=\"\",\"\",ROUND(H2335/SUM(H2330:H2337),4))","v":""},null,null,null,null,null,null,{"$f":"+IF(O2335=\"\",\"\",IF(N2330=\"Transporte Marítimo\",VLOOKUP(O2335,Tabelas!$F$7:$G$12,2),IF(N2330=\"Transporte Aéreo\",VLOOKUP(O2335,Tabelas!$F$16:$G$21,2),\"\")))","v":""},null,null,null,null,null,null,null,null,null,null,null,null,null,null,null,"",{"$f":"+IF(AF2335=\"\",\"\",VLOOKUP(AF2335,Tabelas!$J$27:$K$30,2))","v":""}]
[null,null,null,null,null,null,{"$f":"+IF(F2337=\"\",\"\",VLOOKUP(F2337,Tabelas!$B$7:$C$96,2))","v":""},null,{"$f":"IF(H2337=\"\",\"\",ROUND(H2337/SUM(H2330:H2337),4))","v":""},null,null,null,null,null,null,{"$f":"+IF(O2337=\"\",\"\",IF(N2330=\"Transporte Marítimo\",VLOOKUP(O2337,Tabelas!$F$7:$G$12,2),IF(N2330=\"Transporte Aéreo\",VLOOKUP(O2337,Tabelas!$F$16:$G$21,2),\"\")))","v":""},null,null,null,null,null,null,null,null,null,null,null,null,null,null,null,"",{"$f":"+IF(AF2337=\"\",\"\",VLOOKUP(AF2337,Tabelas!$J$27:$K$30,2))","v":""}]
[null,null,null,null,null,null,{"$f":"+IF(F2340=\"\",\"\",VLOOKUP(F2340,Tabelas!$B$7:$C$96,2))","v":""},null,{"$f":"IF(H2340=\"\",\"\",ROUND(H2340/SUM(H2338:H2345),4))","v":""},null,null,null,null,null,null,{"$f":"+IF(O2340=\"\",\"\",IF(N2338=\"Transporte Marítimo\",VLOOKUP(O2340,Tabelas!$F$7:$G$12,2),IF(N2338=\"Transporte Aéreo\",VLOOKUP(O2340,Tabelas!$F$16:$G$21,2),\"\")))","v":""},null,null,null,null,null,null,null,null,null,null,null,null,null,null,null,"",{"$f":"+IF(AF2340=\"\",\"\",VLOOKUP(AF2340,Tabelas!$J$27:$K$30,2))","v":""}]
[null,null,null,null,null,null,{"$f":"+IF(F2341=\"\",\"\",VLOOKUP(F2341,Tabelas!$B$7:$C$96,2))","v":""},null,{"$f":"IF(H2341=\"\",\"\",ROUND(H2341/SUM(H2338:H2345),4))","v":""},null,null,null,null,null,null,{"$f":"+IF(O2341=\"\",\"\",IF(N2338=\"Transporte Marítimo\",VLOOKUP(O2341,Tabelas!$F$7:$G$12,2),IF(N2338=\"Transporte Aéreo\",VLOOKUP(O2341,Tabelas!$F$16:$G$21,2),\"\")))","v":""},null,null,null,null,null,null,null,null,null,null,null,null,null,null,null,"",{"$f":"+IF(AF2341=\"\",\"\",VLOOKUP(AF2341,Tabelas!$J$27:$K$30,2))","v":""}]
[null,null,null,null,null,null,{"$f":"+IF(F2344=\"\",\"\",VLOOKUP(F2344,Tabelas!$B$7:$C$96,2))","v":""},null,{"$f":"IF(H2344=\"\",\"\",ROUND(H2344/SUM(H2338:H2345),4))","v":""},null,null,null,null,null,null,{"$f":"+IF(O2344=\"\",\"\",IF(N2338=\"Transporte Marítimo\",VLOOKUP(O2344,Tabelas!$F$7:$G$12,2),IF(N2338=\"Transporte Aéreo\",VLOOKUP(O2344,Tabelas!$F$16:$G$21,2),\"\")))","v":""},null,null,null,null,null,null,null,null,null,null,null,null,null,null,null,"",{"$f":"+IF(AF2344=\"\",\"\",VLOOKUP(AF2344,Tabelas!$J$27:$K$30,2))","v":""}]
[null,null,null,null,null,null,{"$f":"+IF(F2345=\"\",\"\",VLOOKUP(F2345,Tabelas!$B$7:$C$96,2))","v":""},null,{"$f":"IF(H2345=\"\",\"\",ROUND(H2345/SUM(H2338:H2345),4))","v":""},null,null,null,null,null,null,{"$f":"+IF(O2345=\"\",\"\",IF(N2338=\"Transporte Marítimo\",VLOOKUP(O2345,Tabelas!$F$7:$G$12,2),IF(N2338=\"Transporte Aéreo\",VLOOKUP(O2345,Tabelas!$F$16:$G$21,2),\"\")))","v":""},null,null,null,null,null,null,null,null,null,null,null,null,null,null,null,"",{"$f":"+IF(AF2345=\"\",\"\",VLOOKUP(AF2345,Tabelas!$J$27:$K$30,2))","v":""}]
[null,null,null,null,null,null,{"$f":"+IF(F2347=\"\",\"\",VLOOKUP(F2347,Tabelas!$B$7:$C$96,2))","v":""},null,{"$f":"IF(H2347=\"\",\"\",ROUND(H2347/SUM(H2346:H2353),4))","v":""},null,null,null,null,null,null,{"$f":"+IF(O2347=\"\",\"\",IF(N2346=\"Transporte Marítimo\",VLOOKUP(O2347,Tabelas!$F$7:$G$12,2),IF(N2346=\"Transporte Aéreo\",VLOOKUP(O2347,Tabelas!$F$16:$G$21,2),\"\")))","v":""},null,null,null,null,null,null,null,null,null,null,null,null,null,null,null,"",{"$f":"+IF(AF2347=\"\",\"\",VLOOKUP(AF2347,Tabelas!$J$27:$K$30,2))","v":""}]
[null,null,null,null,null,null,{"$f":"+IF(F2350=\"\",\"\",VLOOKUP(F2350,Tabelas!$B$7:$C$96,2))","v":""},null,{"$f":"IF(H2350=\"\",\"\",ROUND(H2350/SUM(H2346:H2353),4))","v":""},null,null,null,null,null,null,{"$f":"+IF(O2350=\"\",\"\",IF(N2346=\"Transporte Marítimo\",VLOOKUP(O2350,Tabelas!$F$7:$G$12,2),IF(N2346=\"Transporte Aéreo\",VLOOKUP(O2350,Tabelas!$F$16:$G$21,2),\"\")))","v":""},null,null,null,null,null,null,null,null,null,null,null,null,null,null,null,"",{"$f":"+IF(AF2350=\"\",\"\",VLOOKUP(AF2350,Tabelas!$J$27:$K$30,2))","v":""}]
[null,null,null,null,null,null,{"$f":"+IF(F2353=\"\",\"\",VLOOKUP(F2353,Tabelas!$B$7:$C$96,2))","v":""},null,{"$f":"IF(H2353=\"\",\"\",ROUND(H2353/SUM(H2346:H2353),4))","v":""},null,null,null,null,null,null,{"$f":"+IF(O2353=\"\",\"\",IF(N2346=\"Transporte Marítimo\",VLOOKUP(O2353,Tabelas!$F$7:$G$12,2),IF(N2346=\"Transporte Aéreo\",VLOOKUP(O2353,Tabelas!$F$16:$G$21,2),\"\")))","v":""},null,null,null,null,null,null,null,null,null,null,null,null,null,null,null,"",{"$f":"+IF(AF2353=\"\",\"\",VLOOKUP(AF2353,Tabelas!$J$27:$K$30,2))","v":""}]
[null,{"$f":"+B2346+1","v":293},null,null,null,null,{"$f":"+IF(F2354=\"\",\"\",VLOOKUP(F2354,Tabelas!$B$7:$C$96,2))","v":""},null,{"$f":"IF(H2354=\"\",\"\",1-SUM(I2355:I2361))","v":""},null,null,null,null,null,null,{"$f":"+IF(O2354=\"\",\"\",IF(N2354=\"Transporte Marítimo\",VLOOKUP(O2354,Tabelas!$F$7:$G$12,2),IF(N2354=\"Transporte Aéreo\",VLOOKUP(O2354,Tabelas!$F$16:$G$21,2),\"\")))","v":""},null,null,null,null,null,null,null,null,null,null,null,null,null,null,null,"",{"$f":"+IF(AF2354=\"\",\"\",VLOOKUP(AF2354,Tabelas!$J$27:$K$30,2))","v":""},null,null,null,null,null,null,null,null,null,null,null,null,null,null,null," "]
[null,null,null,null,null,null,{"$f":"+IF(F2358=\"\",\"\",VLOOKUP(F2358,Tabelas!$B$7:$C$96,2))","v":""},null,{"$f":"IF(H2358=\"\",\"\",ROUND(H2358/SUM(H2354:H2361),4))","v":""},null,null,null,null,null,null,{"$f":"+IF(O2358=\"\",\"\",IF(N2354=\"Transporte Marítimo\",VLOOKUP(O2358,Tabelas!$F$7:$G$12,2),IF(N2354=\"Transporte Aéreo\",VLOOKUP(O2358,Tabelas!$F$16:$G$21,2),\"\")))","v":""},null,null,null,null,null,null,null,null,null,null,null,null,null,null,null,"",{"$f":"+IF(AF2358=\"\",\"\",VLOOKUP(AF2358,Tabelas!$J$27:$K$30,2))","v":""}]
[null,null,null,null,null,null,{"$f":"+IF(F2359=\"\",\"\",VLOOKUP(F2359,Tabelas!$B$7:$C$96,2))","v":""},null,{"$f":"IF(H2359=\"\",\"\",ROUND(H2359/SUM(H2354:H2361),4))","v":""},null,null,null,null,null,null,{"$f":"+IF(O2359=\"\",\"\",IF(N2354=\"Transporte Marítimo\",VLOOKUP(O2359,Tabelas!$F$7:$G$12,2),IF(N2354=\"Transporte Aéreo\",VLOOKUP(O2359,Tabelas!$F$16:$G$21,2),\"\")))","v":""},null,null,null,null,null,null,null,null,null,null,null,null,null,null,null,"",{"$f":"+IF(AF2359=\"\",\"\",VLOOKUP(AF2359,Tabelas!$J$27:$K$30,2))","v":""}]
[null,{"$f":"+B2354+1","v":294},null,null,null,null,{"$f":"+IF(F2362=\"\",\"\",VLOOKUP(F2362,Tabelas!$B$7:$C$96,2))","v":""},null,{"$f":"IF(H2362=\"\",\"\",1-SUM(I2363:I2369))","v":""},null,null,null,null,null,null,{"$f":"+IF(O2362=\"\",\"\",IF(N2362=\"Transporte Marítimo\",VLOOKUP(O2362,Tabelas!$F$7:$G$12,2),IF(N2362=\"Transporte Aéreo\",VLOOKUP(O2362,Tabelas!$F$16:$G$21,2),\"\")))","v":""},null,null,null,null,null,null,null,null,null,null,null,null,null,null,null,"",{"$f":"+IF(AF2362=\"\",\"\",VLOOKUP(AF2362,Tabelas!$J$27:$K$30,2))","v":""},null,null,null,null,null,null,null,null,null,null,null,null,null,null,null," "]
[null,null,null,null,null,null,{"$f":"+IF(F2363=\"\",\"\",VLOOKUP(F2363,Tabelas!$B$7:$C$96,2))","v":""},null,{"$f":"IF(H2363=\"\",\"\",ROUND(H2363/SUM(H2362:H2369),4))","v":""},null,null,null,null,null,null,{"$f":"+IF(O2363=\"\",\"\",IF(N2362=\"Transporte Marítimo\",VLOOKUP(O2363,Tabelas!$F$7:$G$12,2),IF(N2362=\"Transporte Aéreo\",VLOOKUP(O2363,Tabelas!$F$16:$G$21,2),\"\")))","v":""},null,null,null,null,null,null,null,null,null,null,null,null,null,null,null,"",{"$f":"+IF(AF2363=\"\",\"\",VLOOKUP(AF2363,Tabelas!$J$27:$K$30,2))","v":""}]
[null,null,null,null,null,null,{"$f":"+IF(F2366=\"\",\"\",VLOOKUP(F2366,Tabelas!$B$7:$C$96,2))","v":""},null,{"$f":"IF(H2366=\"\",\"\",ROUND(H2366/SUM(H2362:H2369),4))","v":""},null,null,null,null,null,null,{"$f":"+IF(O2366=\"\",\"\",IF(N2362=\"Transporte Marítimo\",VLOOKUP(O2366,Tabelas!$F$7:$G$12,2),IF(N2362=\"Transporte Aéreo\",VLOOKUP(O2366,Tabelas!$F$16:$G$21,2),\"\")))","v":""},null,null,null,null,null,null,null,null,null,null,null,null,null,null,null,"",{"$f":"+IF(AF2366=\"\",\"\",VLOOKUP(AF2366,Tabelas!$J$27:$K$30,2))","v":""}]
[null,null,null,null,null,null,{"$f":"+IF(F2368=\"\",\"\",VLOOKUP(F2368,Tabelas!$B$7:$C$96,2))","v":""},null,{"$f":"IF(H2368=\"\",\"\",ROUND(H2368/SUM(H2362:H2369),4))","v":""},null,null,null,null,null,null,{"$f":"+IF(O2368=\"\",\"\",IF(N2362=\"Transporte Marítimo\",VLOOKUP(O2368,Tabelas!$F$7:$G$12,2),IF(N2362=\"Transporte Aéreo\",VLOOKUP(O2368,Tabelas!$F$16:$G$21,2),\"\")))","v":""},null,null,null,null,null,null,null,null,null,null,null,null,null,null,null,"",{"$f":"+IF(AF2368=\"\",\"\",VLOOKUP(AF2368,Tabelas!$J$27:$K$30,2))","v":""}]
[null,null,null,null,null,null,{"$f":"+IF(F2371=\"\",\"\",VLOOKUP(F2371,Tabelas!$B$7:$C$96,2))","v":""},null,{"$f":"IF(H2371=\"\",\"\",ROUND(H2371/SUM(H2370:H2377),4))","v":""},null,null,null,null,null,null,{"$f":"+IF(O2371=\"\",\"\",IF(N2370=\"Transporte Marítimo\",VLOOKUP(O2371,Tabelas!$F$7:$G$12,2),IF(N2370=\"Transporte Aéreo\",VLOOKUP(O2371,Tabelas!$F$16:$G$21,2),\"\")))","v":""},null,null,null,null,null,null,null,null,null,null,null,null,null,null,null,"",{"$f":"+IF(AF2371=\"\",\"\",VLOOKUP(AF2371,Tabelas!$J$27:$K$30,2))","v":""}]
[null,null,null,null,null,null,{"$f":"+IF(F2372=\"\",\"\",VLOOKUP(F2372,Tabelas!$B$7:$C$96,2))","v":""},null,{"$f":"IF(H2372=\"\",\"\",ROUND(H2372/SUM(H2370:H2377),4))","v":""},null,null,null,null,null,null,{"$f":"+IF(O2372=\"\",\"\",IF(N2370=\"Transporte Marítimo\",VLOOKUP(O2372,Tabelas!$F$7:$G$12,2),IF(N2370=\"Transporte Aéreo\",VLOOKUP(O2372,Tabelas!$F$16:$G$21,2),\"\")))","v":""},null,null,null,null,null,null,null,null,null,null,null,null,null,null,null,"",{"$f":"+IF(AF2372=\"\",\"\",VLOOKUP(AF2372,Tabelas!$J$27:$K$30,2))","v":""}]
[null,null,null,null,null,null,{"$f":"+IF(F2375=\"\",\"\",VLOOKUP(F2375,Tabelas!$B$7:$C$96,2))","v":""},null,{"$f":"IF(H2375=\"\",\"\",ROUND(H2375/SUM(H2370:H2377),4))","v":""},null,null,null,null,null,null,{"$f":"+IF(O2375=\"\",\"\",IF(N2370=\"Transporte Marítimo\",VLOOKUP(O2375,Tabelas!$F$7:$G$12,2),IF(N2370=\"Transporte Aéreo\",VLOOKUP(O2375,Tabelas!$F$16:$G$21,2),\"\")))","v":""},null,null,null,null,null,null,null,null,null,null,null,null,null,null,null,"",{"$f":"+IF(AF2375=\"\",\"\",VLOOKUP(AF2375,Tabelas!$J$27:$K$30,2))","v":""}]
[null,{"$f":"+B2370+1","v":296},null,null,null,null,{"$f":"+IF(F2378=\"\",\"\",VLOOKUP(F2378,Tabelas!$B$7:$C$96,2))","v":""},null,{"$f":"IF(H2378=\"\",\"\",1-SUM(I2379:I2385))","v":""},null,null,null,null,null,null,{"$f":"+IF(O2378=\"\",\"\",IF(N2378=\"Transporte Marítimo\",VLOOKUP(O2378,Tabelas!$F$7:$G$12,2),IF(N2378=\"Transporte Aéreo\",VLOOKUP(O2378,Tabelas!$F$16:$G$21,2),\"\")))","v":""},null,null,null,null,null,null,null,null,null,null,null,null,null,null,null,"",{"$f":"+IF(AF2378=\"\",\"\",VLOOKUP(AF2378,Tabelas!$J$27:$K$30,2))","v":""},null,null,null,null,null,null,null,null,null,null,null,null,null,null,null," "]
[null,null,null,null,null,null,{"$f":"+IF(F2380=\"\",\"\",VLOOKUP(F2380,Tabelas!$B$7:$C$96,2))","v":""},null,{"$f":"IF(H2380=\"\",\"\",ROUND(H2380/SUM(H2378:H2385),4))","v":""},null,null,null,null,null,null,{"$f":"+IF(O2380=\"\",\"\",IF(N2378=\"Transporte Marítimo\",VLOOKUP(O2380,Tabelas!$F$7:$G$12,2),IF(N2378=\"Transporte Aéreo\",VLOOKUP(O2380,Tabelas!$F$16:$G$21,2),\"\")))","v":""},null,null,null,null,null,null,null,null,null,null,null,null,null,null,null,"",{"$f":"+IF(AF2380=\"\",\"\",VLOOKUP(AF2380,Tabelas!$J$27:$K$30,2))","v":""}]
[null,null,null,null,null,null,{"$f":"+IF(F2381=\"\",\"\",VLOOKUP(F2381,Tabelas!$B$7:$C$96,2))","v":""},null,{"$f":"IF(H2381=\"\",\"\",ROUND(H2381/SUM(H2378:H2385),4))","v":""},null,null,null,null,null,null,{"$f":"+IF(O2381=\"\",\"\",IF(N2378=\"Transporte Marítimo\",VLOOKUP(O2381,Tabelas!$F$7:$G$12,2),IF(N2378=\"Transporte Aéreo\",VLOOKUP(O2381,Tabelas!$F$16:$G$21,2),\"\")))","v":""},null,null,null,null,null,null,null,null,null,null,null,null,null,null,null,"",{"$f":"+IF(AF2381=\"\",\"\",VLOOKUP(AF2381,Tabelas!$J$27:$K$30,2))","v":""}]
[null,null,null,null,null,null,{"$f":"+IF(F2384=\"\",\"\",VLOOKUP(F2384,Tabelas!$B$7:$C$96,2))","v":""},null,{"$f":"IF(H2384=\"\",\"\",ROUND(H2384/SUM(H2378:H2385),4))","v":""},null,null,null,null,null,null,{"$f":"+IF(O2384=\"\",\"\",IF(N2378=\"Transporte Marítimo\",VLOOKUP(O2384,Tabelas!$F$7:$G$12,2),IF(N2378=\"Transporte Aéreo\",VLOOKUP(O2384,Tabelas!$F$16:$G$21,2),\"\")))","v":""},null,null,null,null,null,null,null,null,null,null,null,null,null,null,null,"",{"$f":"+IF(AF2384=\"\",\"\",VLOOKUP(AF2384,Tabelas!$J$27:$K$30,2))","v":""}]
[null,{"$f":"+B2378+1","v":297},null,null,null,null,{"$f":"+IF(F2386=\"\",\"\",VLOOKUP(F2386,Tabelas!$B$7:$C$96,2))","v":""},null,{"$f":"IF(H2386=\"\",\"\",1-SUM(I2387:I2393))","v":""},null,null,null,null,null,null,{"$f":"+IF(O2386=\"\",\"\",IF(N2386=\"Transporte Marítimo\",VLOOKUP(O2386,Tabelas!$F$7:$G$12,2),IF(N2386=\"Transporte Aéreo\",VLOOKUP(O2386,Tabelas!$F$16:$G$21,2),\"\")))","v":""},null,null,null,null,null,null,null,null,null,null,null,null,null,null,null,"",{"$f":"+IF(AF2386=\"\",\"\",VLOOKUP(AF2386,Tabelas!$J$27:$K$30,2))","v":""},null,null,null,null,null,null,null,null,null,null,null,null,null,null,null," "]
[null,null,null,null,null,null,{"$f":"+IF(F2389=\"\",\"\",VLOOKUP(F2389,Tabelas!$B$7:$C$96,2))","v":""},null,{"$f":"IF(H2389=\"\",\"\",ROUND(H2389/SUM(H2386:H2393),4))","v":""},null,null,null,null,null,null,{"$f":"+IF(O2389=\"\",\"\",IF(N2386=\"Transporte Marítimo\",VLOOKUP(O2389,Tabelas!$F$7:$G$12,2),IF(N2386=\"Transporte Aéreo\",VLOOKUP(O2389,Tabelas!$F$16:$G$21,2),\"\")))","v":""},null,null,null,null,null,null,null,null,null,null,null,null,null,null,null,"",{"$f":"+IF(AF2389=\"\",\"\",VLOOKUP(AF2389,Tabelas!$J$27:$K$30,2))","v":""}]
[null,null,null,null,null,null,{"$f":"+IF(F2390=\"\",\"\",VLOOKUP(F2390,Tabelas!$B$7:$C$96,2))","v":""},null,{"$f":"IF(H2390=\"\",\"\",ROUND(H2390/SUM(H2386:H2393),4))","v":""},null,null,null,null,null,null,{"$f":"+IF(O2390=\"\",\"\",IF(N2386=\"Transporte Marítimo\",VLOOKUP(O2390,Tabelas!$F$7:$G$12,2),IF(N2386=\"Transporte Aéreo\",VLOOKUP(O2390,Tabelas!$F$16:$G$21,2),\"\")))","v":""},null,null,null,null,null,null,null,null,null,null,null,null,null,null,null,"",{"$f":"+IF(AF2390=\"\",\"\",VLOOKUP(AF2390,Tabelas!$J$27:$K$30,2))","v":""}]
[null,null,null,null,null,null,{"$f":"+IF(F2393=\"\",\"\",VLOOKUP(F2393,Tabelas!$B$7:$C$96,2))","v":""},null,{"$f":"IF(H2393=\"\",\"\",ROUND(H2393/SUM(H2386:H2393),4))","v":""},null,null,null,null,null,null,{"$f":"+IF(O2393=\"\",\"\",IF(N2386=\"Transporte Marítimo\",VLOOKUP(O2393,Tabelas!$F$7:$G$12,2),IF(N2386=\"Transporte Aéreo\",VLOOKUP(O2393,Tabelas!$F$16:$G$21,2),\"\")))","v":""},null,null,null,null,null,null,null,null,null,null,null,null,null,null,null,"",{"$f":"+IF(AF2393=\"\",\"\",VLOOKUP(AF2393,Tabelas!$J$27:$K$30,2))","v":""}]
[null,{"$f":"+B2386+1","v":298},null,null,null,null,{"$f":"+IF(F2394=\"\",\"\",VLOOKUP(F2394,Tabelas!$B$7:$C$96,2))","v":""},null,{"$f":"IF(H2394=\"\",\"\",1-SUM(I2395:I2401))","v":""},null,null,null,null,null,null,{"$f":"+IF(O2394=\"\",\"\",IF(N2394=\"Transporte Marítimo\",VLOOKUP(O2394,Tabelas!$F$7:$G$12,2),IF(N2394=\"Transporte Aéreo\",VLOOKUP(O2394,Tabelas!$F$16:$G$21,2),\"\")))","v":""},null,null,null,null,null,null,null,null,null,null,null,null,null,null,null,"",{"$f":"+IF(AF2394=\"\",\"\",VLOOKUP(AF2394,Tabelas!$J$27:$K$30,2))","v":""},null,null,null,null,null,null,null,null,null,null,null,null,null,null,null," "]
[null,null,null,null,null,null,{"$f":"+IF(F2396=\"\",\"\",VLOOKUP(F2396,Tabelas!$B$7:$C$96,2))","v":""},null,{"$f":"IF(H2396=\"\",\"\",ROUND(H2396/SUM(H2394:H2401),4))","v":""},null,null,null,null,null,null,{"$f":"+IF(O2396=\"\",\"\",IF(N2394=\"Transporte Marítimo\",VLOOKUP(O2396,Tabelas!$F$7:$G$12,2),IF(N2394=\"Transporte Aéreo\",VLOOKUP(O2396,Tabelas!$F$16:$G$21,2),\"\")))","v":""},null,null,null,null,null,null,null,null,null,null,null,null,null,null,null,"",{"$f":"+IF(AF2396=\"\",\"\",VLOOKUP(AF2396,Tabelas!$J$27:$K$30,2))","v":""}]
[null,null,null,null,null,null,{"$f":"+IF(F2399=\"\",\"\",VLOOKUP(F2399,Tabelas!$B$7:$C$96,2))","v":""},null,{"$f":"IF(H2399=\"\",\"\",ROUND(H2399/SUM(H2394:H2401),4))","v":""},null,null,null,null,null,null,{"$f":"+IF(O2399=\"\",\"\",IF(N2394=\"Transporte Marítimo\",VLOOKUP(O2399,Tabelas!$F$7:$G$12,2),IF(N2394=\"Transporte Aéreo\",VLOOKUP(O2399,Tabelas!$F$16:$G$21,2),\"\")))","v":""},null,null,null,null,null,null,null,null,null,null,null,null,null,null,null,"",{"$f":"+IF(AF2399=\"\",\"\",VLOOKUP(AF2399,Tabelas!$J$27:$K$30,2))","v":""}]
[null,{"$f":"+B2394+1","v":299},null,null,null,null,{"$f":"+IF(F2402=\"\",\"\",VLOOKUP(F2402,Tabelas!$B$7:$C$96,2))","v":""},null,{"$f":"IF(H2402=\"\",\"\",1-SUM(I2403:I2409))","v":""},null,null,null,null,null,null,{"$f":"+IF(O2402=\"\",\"\",IF(N2402=\"Transporte Marítimo\",VLOOKUP(O2402,Tabelas!$F$7:$G$12,2),IF(N2402=\"Transporte Aéreo\",VLOOKUP(O2402,Tabelas!$F$16:$G$21,2),\"\")))","v":""},null,null,null,null,null,null,null,null,null,null,null,null,null,null,null,"",{"$f":"+IF(AF2402=\"\",\"\",VLOOKUP(AF2402,Tabelas!$J$27:$K$30,2))","v":""},null,null,null,null,null,null,null,null,null,null,null,null,null,null,null," "]
[null,null,null,null,null,null,{"$f":"+IF(F2403=\"\",\"\",VLOOKUP(F2403,Tabelas!$B$7:$C$96,2))","v":""},null,{"$f":"IF(H2403=\"\",\"\",ROUND(H2403/SUM(H2402:H2409),4))","v":""},null,null,null,null,null,null,{"$f":"+IF(O2403=\"\",\"\",IF(N2402=\"Transporte Marítimo\",VLOOKUP(O2403,Tabelas!$F$7:$G$12,2),IF(N2402=\"Transporte Aéreo\",VLOOKUP(O2403,Tabelas!$F$16:$G$21,2),\"\")))","v":""},null,null,null,null,null,null,null,null,null,null,null,null,null,null,null,"",{"$f":"+IF(AF2403=\"\",\"\",VLOOKUP(AF2403,Tabelas!$J$27:$K$30,2))","v":""}]
[null,null,null,null,null,null,{"$f":"+IF(F2406=\"\",\"\",VLOOKUP(F2406,Tabelas!$B$7:$C$96,2))","v":""},null,{"$f":"IF(H2406=\"\",\"\",ROUND(H2406/SUM(H2402:H2409),4))","v":""},null,null,null,null,null,null,{"$f":"+IF(O2406=\"\",\"\",IF(N2402=\"Transporte Marítimo\",VLOOKUP(O2406,Tabelas!$F$7:$G$12,2),IF(N2402=\"Transporte Aéreo\",VLOOKUP(O2406,Tabelas!$F$16:$G$21,2),\"\")))","v":""},null,null,null,null,null,null,null,null,null,null,null,null,null,null,null,"",{"$f":"+IF(AF2406=\"\",\"\",VLOOKUP(AF2406,Tabelas!$J$27:$K$30,2))","v":""}]
[null,null,null,null,null,null,{"$f":"+IF(F2408=\"\",\"\",VLOOKUP(F2408,Tabelas!$B$7:$C$96,2))","v":""},null,{"$f":"IF(H2408=\"\",\"\",ROUND(H2408/SUM(H2402:H2409),4))","v":""},null,null,null,null,null,null,{"$f":"+IF(O2408=\"\",\"\",IF(N2402=\"Transporte Marítimo\",VLOOKUP(O2408,Tabelas!$F$7:$G$12,2),IF(N2402=\"Transporte Aéreo\",VLOOKUP(O2408,Tabelas!$F$16:$G$21,2),\"\")))","v":""},null,null,null,null,null,null,null,null,null,null,null,null,null,null,null,"",{"$f":"+IF(AF2408=\"\",\"\",VLOOKUP(AF2408,Tabelas!$J$27:$K$30,2))","v":""}]
[null,null,null,null,null,null,{"$f":"+IF(F2411=\"\",\"\",VLOOKUP(F2411,Tabelas!$B$7:$C$96,2))","v":""},null,{"$f":"IF(H2411=\"\",\"\",ROUND(H2411/SUM(H2410:H2417),4))","v":""},null,null,null,null,null,null,{"$f":"+IF(O2411=\"\",\"\",IF(N2410=\"Transporte Marítimo\",VLOOKUP(O2411,Tabelas!$F$7:$G$12,2),IF(N2410=\"Transporte Aéreo\",VLOOKUP(O2411,Tabelas!$F$16:$G$21,2),\"\")))","v":""},null,null,null,null,null,null,null,null,null,null,null,null,null,null,null,"",{"$f":"+IF(AF2411=\"\",\"\",VLOOKUP(AF2411,Tabelas!$J$27:$K$30,2))","v":""}]
[null,null,null,null,null,null,{"$f":"+IF(F2412=\"\",\"\",VLOOKUP(F2412,Tabelas!$B$7:$C$96,2))","v":""},null,{"$f":"IF(H2412=\"\",\"\",ROUND(H2412/SUM(H2410:H2417),4))","v":""},null,null,null,null,null,null,{"$f":"+IF(O2412=\"\",\"\",IF(N2410=\"Transporte Marítimo\",VLOOKUP(O2412,Tabelas!$F$7:$G$12,2),IF(N2410=\"Transporte Aéreo\",VLOOKUP(O2412,Tabelas!$F$16:$G$21,2),\"\")))","v":""},null,null,null,null,null,null,null,null,null,null,null,null,null,null,null,"",{"$f":"+IF(AF2412=\"\",\"\",VLOOKUP(AF2412,Tabelas!$J$27:$K$30,2))","v":""}]
[null,null,null,null,null,null,{"$f":"+IF(F2414=\"\",\"\",VLOOKUP(F2414,Tabelas!$B$7:$C$96,2))","v":""},null,{"$f":"IF(H2414=\"\",\"\",ROUND(H2414/SUM(H2410:H2417),4))","v":""},null,null,null,null,null,null,{"$f":"+IF(O2414=\"\",\"\",IF(N2410=\"Transporte Marítimo\",VLOOKUP(O2414,Tabelas!$F$7:$G$12,2),IF(N2410=\"Transporte Aéreo\",VLOOKUP(O2414,Tabelas!$F$16:$G$21,2),\"\")))","v":""},null,null,null,null,null,null,null,null,null,null,null,null,null,null,null,"",{"$f":"+IF(AF2414=\"\",\"\",VLOOKUP(AF2414,Tabelas!$J$27:$K$30,2))","v":""}]
[null,null,null,null,null,null,{"$f":"+IF(F2417=\"\",\"\",VLOOKUP(F2417,Tabelas!$B$7:$C$96,2))","v":""},null,{"$f":"IF(H2417=\"\",\"\",ROUND(H2417/SUM(H2410:H2417),4))","v":""},null,null,null,null,null,null,{"$f":"+IF(O2417=\"\",\"\",IF(N2410=\"Transporte Marítimo\",VLOOKUP(O2417,Tabelas!$F$7:$G$12,2),IF(N2410=\"Transporte Aéreo\",VLOOKUP(O2417,Tabelas!$F$16:$G$21,2),\"\")))","v":""},null,null,null,null,null,null,null,null,null,null,null,null,null,null,null,"",{"$f":"+IF(AF2417=\"\",\"\",VLOOKUP(AF2417,Tabelas!$J$27:$K$30,2))","v":""}]
[null,null,null,null,null,null,{"$f":"+IF(F2420=\"\",\"\",VLOOKUP(F2420,Tabelas!$B$7:$C$96,2))","v":""},null,{"$f":"IF(H2420=\"\",\"\",ROUND(H2420/SUM(H2418:H2425),4))","v":""},null,null,null,null,null,null,{"$f":"+IF(O2420=\"\",\"\",IF(N2418=\"Transporte Marítimo\",VLOOKUP(O2420,Tabelas!$F$7:$G$12,2),IF(N2418=\"Transporte Aéreo\",VLOOKUP(O2420,Tabelas!$F$16:$G$21,2),\"\")))","v":""},null,null,null,null,null,null,null,null,null,null,null,null,null,null,null,"",{"$f":"+IF(AF2420=\"\",\"\",VLOOKUP(AF2420,Tabelas!$J$27:$K$30,2))","v":""}]
[null,null,null,null,null,null,{"$f":"+IF(F2421=\"\",\"\",VLOOKUP(F2421,Tabelas!$B$7:$C$96,2))","v":""},null,{"$f":"IF(H2421=\"\",\"\",ROUND(H2421/SUM(H2418:H2425),4))","v":""},null,null,null,null,null,null,{"$f":"+IF(O2421=\"\",\"\",IF(N2418=\"Transporte Marítimo\",VLOOKUP(O2421,Tabelas!$F$7:$G$12,2),IF(N2418=\"Transporte Aéreo\",VLOOKUP(O2421,Tabelas!$F$16:$G$21,2),\"\")))","v":""},null,null,null,null,null,null,null,null,null,null,null,null,null,null,null,"",{"$f":"+IF(AF2421=\"\",\"\",VLOOKUP(AF2421,Tabelas!$J$27:$K$30,2))","v":""}]
[null,null,null,null,null,null,{"$f":"+IF(F2424=\"\",\"\",VLOOKUP(F2424,Tabelas!$B$7:$C$96,2))","v":""},null,{"$f":"IF(H2424=\"\",\"\",ROUND(H2424/SUM(H2418:H2425),4))","v":""},null,null,null,null,null,null,{"$f":"+IF(O2424=\"\",\"\",IF(N2418=\"Transporte Marítimo\",VLOOKUP(O2424,Tabelas!$F$7:$G$12,2),IF(N2418=\"Transporte Aéreo\",VLOOKUP(O2424,Tabelas!$F$16:$G$21,2),\"\")))","v":""},null,null,null,null,null,null,null,null,null,null,null,null,null,null,null,"",{"$f":"+IF(AF2424=\"\",\"\",VLOOKUP(AF2424,Tabelas!$J$27:$K$30,2))","v":""}]
[null,null,null,null,null,null,{"$f":"+IF(F2427=\"\",\"\",VLOOKUP(F2427,Tabelas!$B$7:$C$96,2))","v":""},null,{"$f":"IF(H2427=\"\",\"\",ROUND(H2427/SUM(H2426:H2433),4))","v":""},null,null,null,null,null,null,{"$f":"+IF(O2427=\"\",\"\",IF(N2426=\"Transporte Marítimo\",VLOOKUP(O2427,Tabelas!$F$7:$G$12,2),IF(N2426=\"Transporte Aéreo\",VLOOKUP(O2427,Tabelas!$F$16:$G$21,2),\"\")))","v":""},null,null,null,null,null,null,null,null,null,null,null,null,null,null,null,"",{"$f":"+IF(AF2427=\"\",\"\",VLOOKUP(AF2427,Tabelas!$J$27:$K$30,2))","v":""}]
[null,null,null,null,null,null,{"$f":"+IF(F2429=\"\",\"\",VLOOKUP(F2429,Tabelas!$B$7:$C$96,2))","v":""},null,{"$f":"IF(H2429=\"\",\"\",ROUND(H2429/SUM(H2426:H2433),4))","v":""},null,null,null,null,null,null,{"$f":"+IF(O2429=\"\",\"\",IF(N2426=\"Transporte Marítimo\",VLOOKUP(O2429,Tabelas!$F$7:$G$12,2),IF(N2426=\"Transporte Aéreo\",VLOOKUP(O2429,Tabelas!$F$16:$G$21,2),\"\")))","v":""},null,null,null,null,null,null,null,null,null,null,null,null,null,null,null,"",{"$f":"+IF(AF2429=\"\",\"\",VLOOKUP(AF2429,Tabelas!$J$27:$K$30,2))","v":""}]
[null,null,null,null,null,null,{"$f":"+IF(F2430=\"\",\"\",VLOOKUP(F2430,Tabelas!$B$7:$C$96,2))","v":""},null,{"$f":"IF(H2430=\"\",\"\",ROUND(H2430/SUM(H2426:H2433),4))","v":""},null,null,null,null,null,null,{"$f":"+IF(O2430=\"\",\"\",IF(N2426=\"Transporte Marítimo\",VLOOKUP(O2430,Tabelas!$F$7:$G$12,2),IF(N2426=\"Transporte Aéreo\",VLOOKUP(O2430,Tabelas!$F$16:$G$21,2),\"\")))","v":""},null,null,null,null,null,null,null,null,null,null,null,null,null,null,null,"",{"$f":"+IF(AF2430=\"\",\"\",VLOOKUP(AF2430,Tabelas!$J$27:$K$30,2))","v":""}]
[null,null,null,null,null,null,{"$f":"+IF(F2433=\"\",\"\",VLOOKUP(F2433,Tabelas!$B$7:$C$96,2))","v":""},null,{"$f":"IF(H2433=\"\",\"\",ROUND(H2433/SUM(H2426:H2433),4))","v":""},null,null,null,null,null,null,{"$f":"+IF(O2433=\"\",\"\",IF(N2426=\"Transporte Marítimo\",VLOOKUP(O2433,Tabelas!$F$7:$G$12,2),IF(N2426=\"Transporte Aéreo\",VLOOKUP(O2433,Tabelas!$F$16:$G$21,2),\"\")))","v":""},null,null,null,null,null,null,null,null,null,null,null,null,null,null,null,"",{"$f":"+IF(AF2433=\"\",\"\",VLOOKUP(AF2433,Tabelas!$J$27:$K$30,2))","v":""}]
[null,{"$f":"+B2426+1","v":303},null,null,null,null,{"$f":"+IF(F2434=\"\",\"\",VLOOKUP(F2434,Tabelas!$B$7:$C$96,2))","v":""},null,{"$f":"IF(H2434=\"\",\"\",1-SUM(I2435:I2441))","v":""},null,null,null,null,null,null,{"$f":"+IF(O2434=\"\",\"\",IF(N2434=\"Transporte Marítimo\",VLOOKUP(O2434,Tabelas!$F$7:$G$12,2),IF(N2434=\"Transporte Aéreo\",VLOOKUP(O2434,Tabelas!$F$16:$G$21,2),\"\")))","v":""},null,null,null,null,null,null,null,null,null,null,null,null,null,null,null,"",{"$f":"+IF(AF2434=\"\",\"\",VLOOKUP(AF2434,Tabelas!$J$27:$K$30,2))","v":""},null,null,null,null,null,null,null,null,null,null,null,null,null,null,null," "]
[null,null,null,null,null,null,{"$f":"+IF(F2438=\"\",\"\",VLOOKUP(F2438,Tabelas!$B$7:$C$96,2))","v":""},null,{"$f":"IF(H2438=\"\",\"\",ROUND(H2438/SUM(H2434:H2441),4))","v":""},null,null,null,null,null,null,{"$f":"+IF(O2438=\"\",\"\",IF(N2434=\"Transporte Marítimo\",VLOOKUP(O2438,Tabelas!$F$7:$G$12,2),IF(N2434=\"Transporte Aéreo\",VLOOKUP(O2438,Tabelas!$F$16:$G$21,2),\"\")))","v":""},null,null,null,null,null,null,null,null,null,null,null,null,null,null,null,"",{"$f":"+IF(AF2438=\"\",\"\",VLOOKUP(AF2438,Tabelas!$J$27:$K$30,2))","v":""}]
[null,null,null,null,null,null,{"$f":"+IF(F2439=\"\",\"\",VLOOKUP(F2439,Tabelas!$B$7:$C$96,2))","v":""},null,{"$f":"IF(H2439=\"\",\"\",ROUND(H2439/SUM(H2434:H2441),4))","v":""},null,null,null,null,null,null,{"$f":"+IF(O2439=\"\",\"\",IF(N2434=\"Transporte Marítimo\",VLOOKUP(O2439,Tabelas!$F$7:$G$12,2),IF(N2434=\"Transporte Aéreo\",VLOOKUP(O2439,Tabelas!$F$16:$G$21,2),\"\")))","v":""},null,null,null,null,null,null,null,null,null,null,null,null,null,null,null,"",{"$f":"+IF(AF2439=\"\",\"\",VLOOKUP(AF2439,Tabelas!$J$27:$K$30,2))","v":""}]
[null,{"$f":"+B2434+1","v":304},null,null,null,null,{"$f":"+IF(F2442=\"\",\"\",VLOOKUP(F2442,Tabelas!$B$7:$C$96,2))","v":""},null,{"$f":"IF(H2442=\"\",\"\",1-SUM(I2443:I2449))","v":""},null,null,null,null,null,null,{"$f":"+IF(O2442=\"\",\"\",IF(N2442=\"Transporte Marítimo\",VLOOKUP(O2442,Tabelas!$F$7:$G$12,2),IF(N2442=\"Transporte Aéreo\",VLOOKUP(O2442,Tabelas!$F$16:$G$21,2),\"\")))","v":""},null,null,null,null,null,null,null,null,null,null,null,null,null,null,null,"",{"$f":"+IF(AF2442=\"\",\"\",VLOOKUP(AF2442,Tabelas!$J$27:$K$30,2))","v":""},null,null,null,null,null,null,null,null,null,null,null,null,null,null,null," "]
[null,null,null,null,null,null,{"$f":"+IF(F2445=\"\",\"\",VLOOKUP(F2445,Tabelas!$B$7:$C$96,2))","v":""},null,{"$f":"IF(H2445=\"\",\"\",ROUND(H2445/SUM(H2442:H2449),4))","v":""},null,null,null,null,null,null,{"$f":"+IF(O2445=\"\",\"\",IF(N2442=\"Transporte Marítimo\",VLOOKUP(O2445,Tabelas!$F$7:$G$12,2),IF(N2442=\"Transporte Aéreo\",VLOOKUP(O2445,Tabelas!$F$16:$G$21,2),\"\")))","v":""},null,null,null,null,null,null,null,null,null,null,null,null,null,null,null,"",{"$f":"+IF(AF2445=\"\",\"\",VLOOKUP(AF2445,Tabelas!$J$27:$K$30,2))","v":""}]
[null,null,null,null,null,null,{"$f":"+IF(F2447=\"\",\"\",VLOOKUP(F2447,Tabelas!$B$7:$C$96,2))","v":""},null,{"$f":"IF(H2447=\"\",\"\",ROUND(H2447/SUM(H2442:H2449),4))","v":""},null,null,null,null,null,null,{"$f":"+IF(O2447=\"\",\"\",IF(N2442=\"Transporte Marítimo\",VLOOKUP(O2447,Tabelas!$F$7:$G$12,2),IF(N2442=\"Transporte Aéreo\",VLOOKUP(O2447,Tabelas!$F$16:$G$21,2),\"\")))","v":""},null,null,null,null,null,null,null,null,null,null,null,null,null,null,null,"",{"$f":"+IF(AF2447=\"\",\"\",VLOOKUP(AF2447,Tabelas!$J$27:$K$30,2))","v":""}]
[null,null,null,null,null,null,{"$f":"+IF(F2448=\"\",\"\",VLOOKUP(F2448,Tabelas!$B$7:$C$96,2))","v":""},null,{"$f":"IF(H2448=\"\",\"\",ROUND(H2448/SUM(H2442:H2449),4))","v":""},null,null,null,null,null,null,{"$f":"+IF(O2448=\"\",\"\",IF(N2442=\"Transporte Marítimo\",VLOOKUP(O2448,Tabelas!$F$7:$G$12,2),IF(N2442=\"Transporte Aéreo\",VLOOKUP(O2448,Tabelas!$F$16:$G$21,2),\"\")))","v":""},null,null,null,null,null,null,null,null,null,null,null,null,null,null,null,"",{"$f":"+IF(AF2448=\"\",\"\",VLOOKUP(AF2448,Tabelas!$J$27:$K$30,2))","v":""}]
[null,null,null,null,null,null,{"$f":"+IF(F2451=\"\",\"\",VLOOKUP(F2451,Tabelas!$B$7:$C$96,2))","v":""},null,{"$f":"IF(H2451=\"\",\"\",ROUND(H2451/SUM(H2450:H2457),4))","v":""},null,null,null,null,null,null,{"$f":"+IF(O2451=\"\",\"\",IF(N2450=\"Transporte Marítimo\",VLOOKUP(O2451,Tabelas!$F$7:$G$12,2),IF(N2450=\"Transporte Aéreo\",VLOOKUP(O2451,Tabelas!$F$16:$G$21,2),\"\")))","v":""},null,null,null,null,null,null,null,null,null,null,null,null,null,null,null,{"$f":"+IF(AE2451=\"20NL\",1,IF(AE2451=\"40NL\",2,IF(AE2451=\"20RF\",3,IF(AE2451=\"40RF\",4,\"\"))))","v":""},{"$f":"+IF(AF2451=\"\",\"\",VLOOKUP(AF2451,Tabelas!$J$27:$K$30,2))","v":""}]
[null,null,null,null,null,null,{"$f":"+IF(F2452=\"\",\"\",VLOOKUP(F2452,Tabelas!$B$7:$C$96,2))","v":""},null,{"$f":"IF(H2452=\"\",\"\",ROUND(H2452/SUM(H2450:H2457),4))","v":""},null,null,null,null,null,null,{"$f":"+IF(O2452=\"\",\"\",IF(N2450=\"Transporte Marítimo\",VLOOKUP(O2452,Tabelas!$F$7:$G$12,2),IF(N2450=\"Transporte Aéreo\",VLOOKUP(O2452,Tabelas!$F$16:$G$21,2),\"\")))","v":""},null,null,null,null,null,null,null,null,null,null,null,null,null,null,null,"",{"$f":"+IF(AF2452=\"\",\"\",VLOOKUP(AF2452,Tabelas!$J$27:$K$30,2))","v":""}]
[null,null,null,null,null,null,{"$f":"+IF(F2455=\"\",\"\",VLOOKUP(F2455,Tabelas!$B$7:$C$96,2))","v":""},null,{"$f":"IF(H2455=\"\",\"\",ROUND(H2455/SUM(H2450:H2457),4))","v":""},null,null,null,null,null,null,{"$f":"+IF(O2455=\"\",\"\",IF(N2450=\"Transporte Marítimo\",VLOOKUP(O2455,Tabelas!$F$7:$G$12,2),IF(N2450=\"Transporte Aéreo\",VLOOKUP(O2455,Tabelas!$F$16:$G$21,2),\"\")))","v":""},null,null,null,null,null,null,null,null,null,null,null,null,null,null,null,"",{"$f":"+IF(AF2455=\"\",\"\",VLOOKUP(AF2455,Tabelas!$J$27:$K$30,2))","v":""}]
[null,null,null,null,null,null,{"$f":"+IF(F2457=\"\",\"\",VLOOKUP(F2457,Tabelas!$B$7:$C$96,2))","v":""},null,{"$f":"IF(H2457=\"\",\"\",ROUND(H2457/SUM(H2450:H2457),4))","v":""},null,null,null,null,null,null,{"$f":"+IF(O2457=\"\",\"\",IF(N2450=\"Transporte Marítimo\",VLOOKUP(O2457,Tabelas!$F$7:$G$12,2),IF(N2450=\"Transporte Aéreo\",VLOOKUP(O2457,Tabelas!$F$16:$G$21,2),\"\")))","v":""},null,null,null,null,null,null,null,null,null,null,null,null,null,null,null,"",{"$f":"+IF(AF2457=\"\",\"\",VLOOKUP(AF2457,Tabelas!$J$27:$K$30,2))","v":""}]
[null,null,null,null,null,null,{"$f":"+IF(F2460=\"\",\"\",VLOOKUP(F2460,Tabelas!$B$7:$C$96,2))","v":""},null,{"$f":"IF(H2460=\"\",\"\",ROUND(H2460/SUM(H2458:H2465),4))","v":""},null,null,null,null,null,null,{"$f":"+IF(O2460=\"\",\"\",IF(N2458=\"Transporte Marítimo\",VLOOKUP(O2460,Tabelas!$F$7:$G$12,2),IF(N2458=\"Transporte Aéreo\",VLOOKUP(O2460,Tabelas!$F$16:$G$21,2),\"\")))","v":""},null,null,null,null,null,null,null,null,null,null,null,null,null,null,null,"",{"$f":"+IF(AF2460=\"\",\"\",VLOOKUP(AF2460,Tabelas!$J$27:$K$30,2))","v":""}]
[null,null,null,null,null,null,{"$f":"+IF(F2461=\"\",\"\",VLOOKUP(F2461,Tabelas!$B$7:$C$96,2))","v":""},null,{"$f":"IF(H2461=\"\",\"\",ROUND(H2461/SUM(H2458:H2465),4))","v":""},null,null,null,null,null,null,{"$f":"+IF(O2461=\"\",\"\",IF(N2458=\"Transporte Marítimo\",VLOOKUP(O2461,Tabelas!$F$7:$G$12,2),IF(N2458=\"Transporte Aéreo\",VLOOKUP(O2461,Tabelas!$F$16:$G$21,2),\"\")))","v":""},null,null,null,null,null,null,null,null,null,null,null,null,null,null,null,"",{"$f":"+IF(AF2461=\"\",\"\",VLOOKUP(AF2461,Tabelas!$J$27:$K$30,2))","v":""}]
[null,null,null,null,null,null,{"$f":"+IF(F2465=\"\",\"\",VLOOKUP(F2465,Tabelas!$B$7:$C$96,2))","v":""},null,{"$f":"IF(H2465=\"\",\"\",ROUND(H2465/SUM(H2458:H2465),4))","v":""},null,null,null,null,null,null,{"$f":"+IF(O2465=\"\",\"\",IF(N2458=\"Transporte Marítimo\",VLOOKUP(O2465,Tabelas!$F$7:$G$12,2),IF(N2458=\"Transporte Aéreo\",VLOOKUP(O2465,Tabelas!$F$16:$G$21,2),\"\")))","v":""},null,null,null,null,null,null,null,null,null,null,null,null,null,null,null,"",{"$f":"+IF(AF2465=\"\",\"\",VLOOKUP(AF2465,Tabelas!$J$27:$K$30,2))","v":""}]
[null,{"$f":"+B2458+1","v":307},null,null,null,null,{"$f":"+IF(F2466=\"\",\"\",VLOOKUP(F2466,Tabelas!$B$7:$C$96,2))","v":""},null,{"$f":"IF(H2466=\"\",\"\",1-SUM(I2467:I2473))","v":""},null,null,null,null,null,null,{"$f":"+IF(O2466=\"\",\"\",IF(N2466=\"Transporte Marítimo\",VLOOKUP(O2466,Tabelas!$F$7:$G$12,2),IF(N2466=\"Transporte Aéreo\",VLOOKUP(O2466,Tabelas!$F$16:$G$21,2),\"\")))","v":""},null,null,null,null,null,null,null,null,null,null,null,null,null,null,null,"",{"$f":"+IF(AF2466=\"\",\"\",VLOOKUP(AF2466,Tabelas!$J$27:$K$30,2))","v":""},null,null,null,null,null,null,null,null,null,null,null,null,null,null,null," "]
[null,null,null,null,null,null,{"$f":"+IF(F2469=\"\",\"\",VLOOKUP(F2469,Tabelas!$B$7:$C$96,2))","v":""},null,{"$f":"IF(H2469=\"\",\"\",ROUND(H2469/SUM(H2466:H2473),4))","v":""},null,null,null,null,null,null,{"$f":"+IF(O2469=\"\",\"\",IF(N2466=\"Transporte Marítimo\",VLOOKUP(O2469,Tabelas!$F$7:$G$12,2),IF(N2466=\"Transporte Aéreo\",VLOOKUP(O2469,Tabelas!$F$16:$G$21,2),\"\")))","v":""},null,null,null,null,null,null,null,null,null,null,null,null,null,null,null,"",{"$f":"+IF(AF2469=\"\",\"\",VLOOKUP(AF2469,Tabelas!$J$27:$K$30,2))","v":""}]
[null,null,null,null,null,null,{"$f":"+IF(F2470=\"\",\"\",VLOOKUP(F2470,Tabelas!$B$7:$C$96,2))","v":""},null,{"$f":"IF(H2470=\"\",\"\",ROUND(H2470/SUM(H2466:H2473),4))","v":""},null,null,null,null,null,null,{"$f":"+IF(O2470=\"\",\"\",IF(N2466=\"Transporte Marítimo\",VLOOKUP(O2470,Tabelas!$F$7:$G$12,2),IF(N2466=\"Transporte Aéreo\",VLOOKUP(O2470,Tabelas!$F$16:$G$21,2),\"\")))","v":""},null,null,null,null,null,null,null,null,null,null,null,null,null,null,null,"",{"$f":"+IF(AF2470=\"\",\"\",VLOOKUP(AF2470,Tabelas!$J$27:$K$30,2))","v":""}]
[null,null,null,null,null,null,{"$f":"+IF(F2473=\"\",\"\",VLOOKUP(F2473,Tabelas!$B$7:$C$96,2))","v":""},null,{"$f":"IF(H2473=\"\",\"\",ROUND(H2473/SUM(H2466:H2473),4))","v":""},null,null,null,null,null,null,{"$f":"+IF(O2473=\"\",\"\",IF(N2466=\"Transporte Marítimo\",VLOOKUP(O2473,Tabelas!$F$7:$G$12,2),IF(N2466=\"Transporte Aéreo\",VLOOKUP(O2473,Tabelas!$F$16:$G$21,2),\"\")))","v":""},null,null,null,null,null,null,null,null,null,null,null,null,null,null,null,"",{"$f":"+IF(AF2473=\"\",\"\",VLOOKUP(AF2473,Tabelas!$J$27:$K$30,2))","v":""}]
[null,null,null,null,null,null,{"$f":"+IF(F2475=\"\",\"\",VLOOKUP(F2475,Tabelas!$B$7:$C$96,2))","v":""},null,{"$f":"IF(H2475=\"\",\"\",ROUND(H2475/SUM(H2474:H2481),4))","v":""},null,null,null,null,null,null,{"$f":"+IF(O2475=\"\",\"\",IF(N2474=\"Transporte Marítimo\",VLOOKUP(O2475,Tabelas!$F$7:$G$12,2),IF(N2474=\"Transporte Aéreo\",VLOOKUP(O2475,Tabelas!$F$16:$G$21,2),\"\")))","v":""},null,null,null,null,null,null,null,null,null,null,null,null,null,null,null,"",{"$f":"+IF(AF2475=\"\",\"\",VLOOKUP(AF2475,Tabelas!$J$27:$K$30,2))","v":""}]
[null,null,null,null,null,null,{"$f":"+IF(F2478=\"\",\"\",VLOOKUP(F2478,Tabelas!$B$7:$C$96,2))","v":""},null,{"$f":"IF(H2478=\"\",\"\",ROUND(H2478/SUM(H2474:H2481),4))","v":""},null,null,null,null,null,null,{"$f":"+IF(O2478=\"\",\"\",IF(N2474=\"Transporte Marítimo\",VLOOKUP(O2478,Tabelas!$F$7:$G$12,2),IF(N2474=\"Transporte Aéreo\",VLOOKUP(O2478,Tabelas!$F$16:$G$21,2),\"\")))","v":""},null,null,null,null,null,null,null,null,null,null,null,null,null,null,null,"",{"$f":"+IF(AF2478=\"\",\"\",VLOOKUP(AF2478,Tabelas!$J$27:$K$30,2))","v":""}]
[null,null,null,null,null,null,{"$f":"+IF(F2479=\"\",\"\",VLOOKUP(F2479,Tabelas!$B$7:$C$96,2))","v":""},null,{"$f":"IF(H2479=\"\",\"\",ROUND(H2479/SUM(H2474:H2481),4))","v":""},null,null,null,null,null,null,{"$f":"+IF(O2479=\"\",\"\",IF(N2474=\"Transporte Marítimo\",VLOOKUP(O2479,Tabelas!$F$7:$G$12,2),IF(N2474=\"Transporte Aéreo\",VLOOKUP(O2479,Tabelas!$F$16:$G$21,2),\"\")))","v":""},null,null,null,null,null,null,null,null,null,null,null,null,null,null,null,"",{"$f":"+IF(AF2479=\"\",\"\",VLOOKUP(AF2479,Tabelas!$J$27:$K$30,2))","v":""}]
[null,{"$f":"+B2474+1","v":309},null,null,null,null,{"$f":"+IF(F2482=\"\",\"\",VLOOKUP(F2482,Tabelas!$B$7:$C$96,2))","v":""},null,{"$f":"IF(H2482=\"\",\"\",1-SUM(I2483:I2489))","v":""},null,null,null,null,null,null,{"$f":"+IF(O2482=\"\",\"\",IF(N2482=\"Transporte Marítimo\",VLOOKUP(O2482,Tabelas!$F$7:$G$12,2),IF(N2482=\"Transporte Aéreo\",VLOOKUP(O2482,Tabelas!$F$16:$G$21,2),\"\")))","v":""},null,null,null,null,null,null,null,null,null,null,null,null,null,null,null,"",{"$f":"+IF(AF2482=\"\",\"\",VLOOKUP(AF2482,Tabelas!$J$27:$K$30,2))","v":""},null,null,null,null,null,null,null,null,null,null,null,null,null,null,null," "]
[null,null,null,null,null,null,{"$f":"+IF(F2483=\"\",\"\",VLOOKUP(F2483,Tabelas!$B$7:$C$96,2))","v":""},null,{"$f":"IF(H2483=\"\",\"\",ROUND(H2483/SUM(H2482:H2489),4))","v":""},null,null,null,null,null,null,{"$f":"+IF(O2483=\"\",\"\",IF(N2482=\"Transporte Marítimo\",VLOOKUP(O2483,Tabelas!$F$7:$G$12,2),IF(N2482=\"Transporte Aéreo\",VLOOKUP(O2483,Tabelas!$F$16:$G$21,2),\"\")))","v":""},null,null,null,null,null,null,null,null,null,null,null,null,null,null,null,"",{"$f":"+IF(AF2483=\"\",\"\",VLOOKUP(AF2483,Tabelas!$J$27:$K$30,2))","v":""}]
[null,null,null,null,null,null,{"$f":"+IF(F2487=\"\",\"\",VLOOKUP(F2487,Tabelas!$B$7:$C$96,2))","v":""},null,{"$f":"IF(H2487=\"\",\"\",ROUND(H2487/SUM(H2482:H2489),4))","v":""},null,null,null,null,null,null,{"$f":"+IF(O2487=\"\",\"\",IF(N2482=\"Transporte Marítimo\",VLOOKUP(O2487,Tabelas!$F$7:$G$12,2),IF(N2482=\"Transporte Aéreo\",VLOOKUP(O2487,Tabelas!$F$16:$G$21,2),\"\")))","v":""},null,null,null,null,null,null,null,null,null,null,null,null,null,null,null,"",{"$f":"+IF(AF2487=\"\",\"\",VLOOKUP(AF2487,Tabelas!$J$27:$K$30,2))","v":""}]
[null,null,null,null,null,null,{"$f":"+IF(F2488=\"\",\"\",VLOOKUP(F2488,Tabelas!$B$7:$C$96,2))","v":""},null,{"$f":"IF(H2488=\"\",\"\",ROUND(H2488/SUM(H2482:H2489),4))","v":""},null,null,null,null,null,null,{"$f":"+IF(O2488=\"\",\"\",IF(N2482=\"Transporte Marítimo\",VLOOKUP(O2488,Tabelas!$F$7:$G$12,2),IF(N2482=\"Transporte Aéreo\",VLOOKUP(O2488,Tabelas!$F$16:$G$21,2),\"\")))","v":""},null,null,null,null,null,null,null,null,null,null,null,null,null,null,null,"",{"$f":"+IF(AF2488=\"\",\"\",VLOOKUP(AF2488,Tabelas!$J$27:$K$30,2))","v":""}]
[null,null,null,null,null,null,{"$f":"+IF(F2491=\"\",\"\",VLOOKUP(F2491,Tabelas!$B$7:$C$96,2))","v":""},null,{"$f":"IF(H2491=\"\",\"\",ROUND(H2491/SUM(H2490:H2497),4))","v":""},null,null,null,null,null,null,{"$f":"+IF(O2491=\"\",\"\",IF(N2490=\"Transporte Marítimo\",VLOOKUP(O2491,Tabelas!$F$7:$G$12,2),IF(N2490=\"Transporte Aéreo\",VLOOKUP(O2491,Tabelas!$F$16:$G$21,2),\"\")))","v":""},null,null,null,null,null,null,null,null,null,null,null,null,null,null,null,"",{"$f":"+IF(AF2491=\"\",\"\",VLOOKUP(AF2491,Tabelas!$J$27:$K$30,2))","v":""}]
[null,null,null,null,null,null,{"$f":"+IF(F2493=\"\",\"\",VLOOKUP(F2493,Tabelas!$B$7:$C$96,2))","v":""},null,{"$f":"IF(H2493=\"\",\"\",ROUND(H2493/SUM(H2490:H2497),4))","v":""},null,null,null,null,null,null,{"$f":"+IF(O2493=\"\",\"\",IF(N2490=\"Transporte Marítimo\",VLOOKUP(O2493,Tabelas!$F$7:$G$12,2),IF(N2490=\"Transporte Aéreo\",VLOOKUP(O2493,Tabelas!$F$16:$G$21,2),\"\")))","v":""},null,null,null,null,null,null,null,null,null,null,null,null,null,null,null,"",{"$f":"+IF(AF2493=\"\",\"\",VLOOKUP(AF2493,Tabelas!$J$27:$K$30,2))","v":""}]
[null,null,null,null,null,null,{"$f":"+IF(F2496=\"\",\"\",VLOOKUP(F2496,Tabelas!$B$7:$C$96,2))","v":""},null,{"$f":"IF(H2496=\"\",\"\",ROUND(H2496/SUM(H2490:H2497),4))","v":""},null,null,null,null,null,null,{"$f":"+IF(O2496=\"\",\"\",IF(N2490=\"Transporte Marítimo\",VLOOKUP(O2496,Tabelas!$F$7:$G$12,2),IF(N2490=\"Transporte Aéreo\",VLOOKUP(O2496,Tabelas!$F$16:$G$21,2),\"\")))","v":""},null,null,null,null,null,null,null,null,null,null,null,null,null,null,null,"",{"$f":"+IF(AF2496=\"\",\"\",VLOOKUP(AF2496,Tabelas!$J$27:$K$30,2))","v":""}]
[null,null,null,null,null,null,{"$f":"+IF(F2497=\"\",\"\",VLOOKUP(F2497,Tabelas!$B$7:$C$96,2))","v":""},null,{"$f":"IF(H2497=\"\",\"\",ROUND(H2497/SUM(H2490:H2497),4))","v":""},null,null,null,null,null,null,{"$f":"+IF(O2497=\"\",\"\",IF(N2490=\"Transporte Marítimo\",VLOOKUP(O2497,Tabelas!$F$7:$G$12,2),IF(N2490=\"Transporte Aéreo\",VLOOKUP(O2497,Tabelas!$F$16:$G$21,2),\"\")))","v":""},null,null,null,null,null,null,null,null,null,null,null,null,null,null,null,"",{"$f":"+IF(AF2497=\"\",\"\",VLOOKUP(AF2497,Tabelas!$J$27:$K$30,2))","v":""}]
[null,null,null,null,null,null,{"$f":"+IF(F2500=\"\",\"\",VLOOKUP(F2500,Tabelas!$B$7:$C$96,2))","v":""},null,{"$f":"IF(H2500=\"\",\"\",ROUND(H2500/SUM(H2498:H2505),4))","v":""},null,null,null,null,null,null,{"$f":"+IF(O2500=\"\",\"\",IF(N2498=\"Transporte Marítimo\",VLOOKUP(O2500,Tabelas!$F$7:$G$12,2),IF(N2498=\"Transporte Aéreo\",VLOOKUP(O2500,Tabelas!$F$16:$G$21,2),\"\")))","v":""},null,null,null,null,null,null,null,null,null,null,null,null,null,null,null,"",{"$f":"+IF(AF2500=\"\",\"\",VLOOKUP(AF2500,Tabelas!$J$27:$K$30,2))","v":""}]
[null,null,null,null,null,null,{"$f":"+IF(F2501=\"\",\"\",VLOOKUP(F2501,Tabelas!$B$7:$C$96,2))","v":""},null,{"$f":"IF(H2501=\"\",\"\",ROUND(H2501/SUM(H2498:H2505),4))","v":""},null,null,null,null,null,null,{"$f":"+IF(O2501=\"\",\"\",IF(N2498=\"Transporte Marítimo\",VLOOKUP(O2501,Tabelas!$F$7:$G$12,2),IF(N2498=\"Transporte Aéreo\",VLOOKUP(O2501,Tabelas!$F$16:$G$21,2),\"\")))","v":""},null,null,null,null,null,null,null,null,null,null,null,null,null,null,null,"",{"$f":"+IF(AF2501=\"\",\"\",VLOOKUP(AF2501,Tabelas!$J$27:$K$30,2))","v":""}]
[null,null,null,null,null,null,{"$f":"+IF(F2505=\"\",\"\",VLOOKUP(F2505,Tabelas!$B$7:$C$96,2))","v":""},null,{"$f":"IF(H2505=\"\",\"\",ROUND(H2505/SUM(H2498:H2505),4))","v":""},null,null,null,null,null,null,{"$f":"+IF(O2505=\"\",\"\",IF(N2498=\"Transporte Marítimo\",VLOOKUP(O2505,Tabelas!$F$7:$G$12,2),IF(N2498=\"Transporte Aéreo\",VLOOKUP(O2505,Tabelas!$F$16:$G$21,2),\"\")))","v":""},null,null,null,null,null,null,null,null,null,null,null,null,null,null,null,"",{"$f":"+IF(AF2505=\"\",\"\",VLOOKUP(AF2505,Tabelas!$J$27:$K$30,2))","v":""}]
[null,{"$f":"+B2498+1","v":312},null,null,null,null,{"$f":"+IF(F2506=\"\",\"\",VLOOKUP(F2506,Tabelas!$B$7:$C$96,2))","v":""},null,{"$f":"IF(H2506=\"\",\"\",1-SUM(I2507:I2513))","v":""},null,null,null,null,null,null,{"$f":"+IF(O2506=\"\",\"\",IF(N2506=\"Transporte Marítimo\",VLOOKUP(O2506,Tabelas!$F$7:$G$12,2),IF(N2506=\"Transporte Aéreo\",VLOOKUP(O2506,Tabelas!$F$16:$G$21,2),\"\")))","v":""},null,null,null,null,null,null,null,null,null,null,null,null,null,null,null,"",{"$f":"+IF(AF2506=\"\",\"\",VLOOKUP(AF2506,Tabelas!$J$27:$K$30,2))","v":""},null,null,null,null,null,null,null,null,null,null,null,null,null,null,null," "]
[null,null,null,null,null,null,{"$f":"+IF(F2509=\"\",\"\",VLOOKUP(F2509,Tabelas!$B$7:$C$96,2))","v":""},null,{"$f":"IF(H2509=\"\",\"\",ROUND(H2509/SUM(H2506:H2513),4))","v":""},null,null,null,null,null,null,{"$f":"+IF(O2509=\"\",\"\",IF(N2506=\"Transporte Marítimo\",VLOOKUP(O2509,Tabelas!$F$7:$G$12,2),IF(N2506=\"Transporte Aéreo\",VLOOKUP(O2509,Tabelas!$F$16:$G$21,2),\"\")))","v":""},null,null,null,null,null,null,null,null,null,null,null,null,null,null,null,"",{"$f":"+IF(AF2509=\"\",\"\",VLOOKUP(AF2509,Tabelas!$J$27:$K$30,2))","v":""}]
[null,null,null,null,null,null,{"$f":"+IF(F2510=\"\",\"\",VLOOKUP(F2510,Tabelas!$B$7:$C$96,2))","v":""},null,{"$f":"IF(H2510=\"\",\"\",ROUND(H2510/SUM(H2506:H2513),4))","v":""},null,null,null,null,null,null,{"$f":"+IF(O2510=\"\",\"\",IF(N2506=\"Transporte Marítimo\",VLOOKUP(O2510,Tabelas!$F$7:$G$12,2),IF(N2506=\"Transporte Aéreo\",VLOOKUP(O2510,Tabelas!$F$16:$G$21,2),\"\")))","v":""},null,null,null,null,null,null,null,null,null,null,null,null,null,null,null,"",{"$f":"+IF(AF2510=\"\",\"\",VLOOKUP(AF2510,Tabelas!$J$27:$K$30,2))","v":""}]
[null,null,null,null,null,null,{"$f":"+IF(F2513=\"\",\"\",VLOOKUP(F2513,Tabelas!$B$7:$C$96,2))","v":""},null,{"$f":"IF(H2513=\"\",\"\",ROUND(H2513/SUM(H2506:H2513),4))","v":""},null,null,null,null,null,null,{"$f":"+IF(O2513=\"\",\"\",IF(N2506=\"Transporte Marítimo\",VLOOKUP(O2513,Tabelas!$F$7:$G$12,2),IF(N2506=\"Transporte Aéreo\",VLOOKUP(O2513,Tabelas!$F$16:$G$21,2),\"\")))","v":""},null,null,null,null,null,null,null,null,null,null,null,null,null,null,null,"",{"$f":"+IF(AF2513=\"\",\"\",VLOOKUP(AF2513,Tabelas!$J$27:$K$30,2))","v":""}]
[null,null,null,null,null,null,{"$f":"+IF(F2515=\"\",\"\",VLOOKUP(F2515,Tabelas!$B$7:$C$96,2))","v":""},null,{"$f":"IF(H2515=\"\",\"\",ROUND(H2515/SUM(H2514:H2521),4))","v":""},null,null,null,null,null,null,{"$f":"+IF(O2515=\"\",\"\",IF(N2514=\"Transporte Marítimo\",VLOOKUP(O2515,Tabelas!$F$7:$G$12,2),IF(N2514=\"Transporte Aéreo\",VLOOKUP(O2515,Tabelas!$F$16:$G$21,2),\"\")))","v":""},null,null,null,null,null,null,null,null,null,null,null,null,null,null,null,{"$f":"+IF(AE2515=\"20NL\",1,IF(AE2515=\"40NL\",2,IF(AE2515=\"20RF\",3,IF(AE2515=\"40RF\",4,\"\"))))","v":""},{"$f":"+IF(AF2515=\"\",\"\",VLOOKUP(AF2515,Tabelas!$J$27:$K$30,2))","v":""}]
[null,null,null,null,null,null,{"$f":"+IF(F2518=\"\",\"\",VLOOKUP(F2518,Tabelas!$B$7:$C$96,2))","v":""},null,{"$f":"IF(H2518=\"\",\"\",ROUND(H2518/SUM(H2514:H2521),4))","v":""},null,null,null,null,null,null,{"$f":"+IF(O2518=\"\",\"\",IF(N2514=\"Transporte Marítimo\",VLOOKUP(O2518,Tabelas!$F$7:$G$12,2),IF(N2514=\"Transporte Aéreo\",VLOOKUP(O2518,Tabelas!$F$16:$G$21,2),\"\")))","v":""},null,null,null,null,null,null,null,null,null,null,null,null,null,null,null,"",{"$f":"+IF(AF2518=\"\",\"\",VLOOKUP(AF2518,Tabelas!$J$27:$K$30,2))","v":""}]
[null,null,null,null,null,null,{"$f":"+IF(F2519=\"\",\"\",VLOOKUP(F2519,Tabelas!$B$7:$C$96,2))","v":""},null,{"$f":"IF(H2519=\"\",\"\",ROUND(H2519/SUM(H2514:H2521),4))","v":""},null,null,null,null,null,null,{"$f":"+IF(O2519=\"\",\"\",IF(N2514=\"Transporte Marítimo\",VLOOKUP(O2519,Tabelas!$F$7:$G$12,2),IF(N2514=\"Transporte Aéreo\",VLOOKUP(O2519,Tabelas!$F$16:$G$21,2),\"\")))","v":""},null,null,null,null,null,null,null,null,null,null,null,null,null,null,null,"",{"$f":"+IF(AF2519=\"\",\"\",VLOOKUP(AF2519,Tabelas!$J$27:$K$30,2))","v":""}]
[null,null,null,null,null,null,{"$f":"+IF(F2521=\"\",\"\",VLOOKUP(F2521,Tabelas!$B$7:$C$96,2))","v":""},null,{"$f":"IF(H2521=\"\",\"\",ROUND(H2521/SUM(H2514:H2521),4))","v":""},null,null,null,null,null,null,{"$f":"+IF(O2521=\"\",\"\",IF(N2514=\"Transporte Marítimo\",VLOOKUP(O2521,Tabelas!$F$7:$G$12,2),IF(N2514=\"Transporte Aéreo\",VLOOKUP(O2521,Tabelas!$F$16:$G$21,2),\"\")))","v":""},null,null,null,null,null,null,null,null,null,null,null,null,null,null,null,"",{"$f":"+IF(AF2521=\"\",\"\",VLOOKUP(AF2521,Tabelas!$J$27:$K$30,2))","v":""}]
[null,null,null,null,null,null,{"$f":"+IF(F2524=\"\",\"\",VLOOKUP(F2524,Tabelas!$B$7:$C$96,2))","v":""},null,{"$f":"IF(H2524=\"\",\"\",ROUND(H2524/SUM(H2522:H2529),4))","v":""},null,null,null,null,null,null,{"$f":"+IF(O2524=\"\",\"\",IF(N2522=\"Transporte Marítimo\",VLOOKUP(O2524,Tabelas!$F$7:$G$12,2),IF(N2522=\"Transporte Aéreo\",VLOOKUP(O2524,Tabelas!$F$16:$G$21,2),\"\")))","v":""},null,null,null,null,null,null,null,null,null,null,null,null,null,null,null,"",{"$f":"+IF(AF2524=\"\",\"\",VLOOKUP(AF2524,Tabelas!$J$27:$K$30,2))","v":""}]
[null,null,null,null,null,null,{"$f":"+IF(F2527=\"\",\"\",VLOOKUP(F2527,Tabelas!$B$7:$C$96,2))","v":""},null,{"$f":"IF(H2527=\"\",\"\",ROUND(H2527/SUM(H2522:H2529),4))","v":""},null,null,null,null,null,null,{"$f":"+IF(O2527=\"\",\"\",IF(N2522=\"Transporte Marítimo\",VLOOKUP(O2527,Tabelas!$F$7:$G$12,2),IF(N2522=\"Transporte Aéreo\",VLOOKUP(O2527,Tabelas!$F$16:$G$21,2),\"\")))","v":""},null,null,null,null,null,null,null,null,null,null,null,null,null,null,null,"",{"$f":"+IF(AF2527=\"\",\"\",VLOOKUP(AF2527,Tabelas!$J$27:$K$30,2))","v":""}]
[null,null,null,null,null,null,{"$f":"+IF(F2528=\"\",\"\",VLOOKUP(F2528,Tabelas!$B$7:$C$96,2))","v":""},null,{"$f":"IF(H2528=\"\",\"\",ROUND(H2528/SUM(H2522:H2529),4))","v":""},null,null,null,null,null,null,{"$f":"+IF(O2528=\"\",\"\",IF(N2522=\"Transporte Marítimo\",VLOOKUP(O2528,Tabelas!$F$7:$G$12,2),IF(N2522=\"Transporte Aéreo\",VLOOKUP(O2528,Tabelas!$F$16:$G$21,2),\"\")))","v":""},null,null,null,null,null,null,null,null,null,null,null,null,null,null,null,"",{"$f":"+IF(AF2528=\"\",\"\",VLOOKUP(AF2528,Tabelas!$J$27:$K$30,2))","v":""}]
[null,null,null,null,null,null,{"$f":"+IF(F2532=\"\",\"\",VLOOKUP(F2532,Tabelas!$B$7:$C$96,2))","v":""},null,{"$f":"IF(H2532=\"\",\"\",ROUND(H2532/SUM(H2530:H2537),4))","v":""},null,null,null,null,null,null,{"$f":"+IF(O2532=\"\",\"\",IF(N2530=\"Transporte Marítimo\",VLOOKUP(O2532,Tabelas!$F$7:$G$12,2),IF(N2530=\"Transporte Aéreo\",VLOOKUP(O2532,Tabelas!$F$16:$G$21,2),\"\")))","v":""},null,null,null,null,null,null,null,null,null,null,null,null,null,null,null,"",{"$f":"+IF(AF2532=\"\",\"\",VLOOKUP(AF2532,Tabelas!$J$27:$K$30,2))","v":""}]
[null,null,null,null,null,null,{"$f":"+IF(F2533=\"\",\"\",VLOOKUP(F2533,Tabelas!$B$7:$C$96,2))","v":""},null,{"$f":"IF(H2533=\"\",\"\",ROUND(H2533/SUM(H2530:H2537),4))","v":""},null,null,null,null,null,null,{"$f":"+IF(O2533=\"\",\"\",IF(N2530=\"Transporte Marítimo\",VLOOKUP(O2533,Tabelas!$F$7:$G$12,2),IF(N2530=\"Transporte Aéreo\",VLOOKUP(O2533,Tabelas!$F$16:$G$21,2),\"\")))","v":""},null,null,null,null,null,null,null,null,null,null,null,null,null,null,null,"",{"$f":"+IF(AF2533=\"\",\"\",VLOOKUP(AF2533,Tabelas!$J$27:$K$30,2))","v":""}]
[null,null,null,null,null,null,{"$f":"+IF(F2536=\"\",\"\",VLOOKUP(F2536,Tabelas!$B$7:$C$96,2))","v":""},null,{"$f":"IF(H2536=\"\",\"\",ROUND(H2536/SUM(H2530:H2537),4))","v":""},null,null,null,null,null,null,{"$f":"+IF(O2536=\"\",\"\",IF(N2530=\"Transporte Marítimo\",VLOOKUP(O2536,Tabelas!$F$7:$G$12,2),IF(N2530=\"Transporte Aéreo\",VLOOKUP(O2536,Tabelas!$F$16:$G$21,2),\"\")))","v":""},null,null,null,null,null,null,null,null,null,null,null,null,null,null,null,"",{"$f":"+IF(AF2536=\"\",\"\",VLOOKUP(AF2536,Tabelas!$J$27:$K$30,2))","v":""}]
[null,null,null,null,null,null,{"$f":"+IF(F2537=\"\",\"\",VLOOKUP(F2537,Tabelas!$B$7:$C$96,2))","v":""},null,{"$f":"IF(H2537=\"\",\"\",ROUND(H2537/SUM(H2530:H2537),4))","v":""},null,null,null,null,null,null,{"$f":"+IF(O2537=\"\",\"\",IF(N2530=\"Transporte Marítimo\",VLOOKUP(O2537,Tabelas!$F$7:$G$12,2),IF(N2530=\"Transporte Aéreo\",VLOOKUP(O2537,Tabelas!$F$16:$G$21,2),\"\")))","v":""},null,null,null,null,null,null,null,null,null,null,null,null,null,null,null,"",{"$f":"+IF(AF2537=\"\",\"\",VLOOKUP(AF2537,Tabelas!$J$27:$K$30,2))","v":""}]
[null,null,null,null,null,null,{"$f":"+IF(F2540=\"\",\"\",VLOOKUP(F2540,Tabelas!$B$7:$C$96,2))","v":""},null,{"$f":"IF(H2540=\"\",\"\",ROUND(H2540/SUM(H2538:H2545),4))","v":""},null,null,null,null,null,null,{"$f":"+IF(O2540=\"\",\"\",IF(N2538=\"Transporte Marítimo\",VLOOKUP(O2540,Tabelas!$F$7:$G$12,2),IF(N2538=\"Transporte Aéreo\",VLOOKUP(O2540,Tabelas!$F$16:$G$21,2),\"\")))","v":""},null,null,null,null,null,null,null,null,null,null,null,null,null,null,null,"",{"$f":"+IF(AF2540=\"\",\"\",VLOOKUP(AF2540,Tabelas!$J$27:$K$30,2))","v":""}]
[null,null,null,null,null,null,{"$f":"+IF(F2541=\"\",\"\",VLOOKUP(F2541,Tabelas!$B$7:$C$96,2))","v":""},null,{"$f":"IF(H2541=\"\",\"\",ROUND(H2541/SUM(H2538:H2545),4))","v":""},null,null,null,null,null,null,{"$f":"+IF(O2541=\"\",\"\",IF(N2538=\"Transporte Marítimo\",VLOOKUP(O2541,Tabelas!$F$7:$G$12,2),IF(N2538=\"Transporte Aéreo\",VLOOKUP(O2541,Tabelas!$F$16:$G$21,2),\"\")))","v":""},null,null,null,null,null,null,null,null,null,null,null,null,null,null,null,"",{"$f":"+IF(AF2541=\"\",\"\",VLOOKUP(AF2541,Tabelas!$J$27:$K$30,2))","v":""}]
[null,null,null,null,null,null,{"$f":"+IF(F2545=\"\",\"\",VLOOKUP(F2545,Tabelas!$B$7:$C$96,2))","v":""},null,{"$f":"IF(H2545=\"\",\"\",ROUND(H2545/SUM(H2538:H2545),4))","v":""},null,null,null,null,null,null,{"$f":"+IF(O2545=\"\",\"\",IF(N2538=\"Transporte Marítimo\",VLOOKUP(O2545,Tabelas!$F$7:$G$12,2),IF(N2538=\"Transporte Aéreo\",VLOOKUP(O2545,Tabelas!$F$16:$G$21,2),\"\")))","v":""},null,null,null,null,null,null,null,null,null,null,null,null,null,null,null,"",{"$f":"+IF(AF2545=\"\",\"\",VLOOKUP(AF2545,Tabelas!$J$27:$K$30,2))","v":""}]
[null,{"$f":"+B2538+1","v":317},null,null,null,null,{"$f":"+IF(F2546=\"\",\"\",VLOOKUP(F2546,Tabelas!$B$7:$C$96,2))","v":""},null,{"$f":"IF(H2546=\"\",\"\",1-SUM(I2547:I2553))","v":""},null,null,null,null,null,null,{"$f":"+IF(O2546=\"\",\"\",IF(N2546=\"Transporte Marítimo\",VLOOKUP(O2546,Tabelas!$F$7:$G$12,2),IF(N2546=\"Transporte Aéreo\",VLOOKUP(O2546,Tabelas!$F$16:$G$21,2),\"\")))","v":""},null,null,null,null,null,null,null,null,null,null,null,null,null,null,null,"",{"$f":"+IF(AF2546=\"\",\"\",VLOOKUP(AF2546,Tabelas!$J$27:$K$30,2))","v":""},null,null,null,null,null,null,null,null,null,null,null,null,null,null,null," "]
[null,null,null,null,null,null,{"$f":"+IF(F2549=\"\",\"\",VLOOKUP(F2549,Tabelas!$B$7:$C$96,2))","v":""},null,{"$f":"IF(H2549=\"\",\"\",ROUND(H2549/SUM(H2546:H2553),4))","v":""},null,null,null,null,null,null,{"$f":"+IF(O2549=\"\",\"\",IF(N2546=\"Transporte Marítimo\",VLOOKUP(O2549,Tabelas!$F$7:$G$12,2),IF(N2546=\"Transporte Aéreo\",VLOOKUP(O2549,Tabelas!$F$16:$G$21,2),\"\")))","v":""},null,null,null,null,null,null,null,null,null,null,null,null,null,null,null,"",{"$f":"+IF(AF2549=\"\",\"\",VLOOKUP(AF2549,Tabelas!$J$27:$K$30,2))","v":""}]
[null,null,null,null,null,null,{"$f":"+IF(F2552=\"\",\"\",VLOOKUP(F2552,Tabelas!$B$7:$C$96,2))","v":""},null,{"$f":"IF(H2552=\"\",\"\",ROUND(H2552/SUM(H2546:H2553),4))","v":""},null,null,null,null,null,null,{"$f":"+IF(O2552=\"\",\"\",IF(N2546=\"Transporte Marítimo\",VLOOKUP(O2552,Tabelas!$F$7:$G$12,2),IF(N2546=\"Transporte Aéreo\",VLOOKUP(O2552,Tabelas!$F$16:$G$21,2),\"\")))","v":""},null,null,null,null,null,null,null,null,null,null,null,null,null,null,null,"",{"$f":"+IF(AF2552=\"\",\"\",VLOOKUP(AF2552,Tabelas!$J$27:$K$30,2))","v":""}]
[null,{"$f":"+B2546+1","v":318},null,null,null,null,{"$f":"+IF(F2554=\"\",\"\",VLOOKUP(F2554,Tabelas!$B$7:$C$96,2))","v":""},null,{"$f":"IF(H2554=\"\",\"\",1-SUM(I2555:I2561))","v":""},null,null,null,null,null,null,{"$f":"+IF(O2554=\"\",\"\",IF(N2554=\"Transporte Marítimo\",VLOOKUP(O2554,Tabelas!$F$7:$G$12,2),IF(N2554=\"Transporte Aéreo\",VLOOKUP(O2554,Tabelas!$F$16:$G$21,2),\"\")))","v":""},null,null,null,null,null,null,null,null,null,null,null,null,null,null,null,"",{"$f":"+IF(AF2554=\"\",\"\",VLOOKUP(AF2554,Tabelas!$J$27:$K$30,2))","v":""},null,null,null,null,null,null,null,null,null,null,null,null,null,null,null," "]
[null,null,null,null,null,null,{"$f":"+IF(F2555=\"\",\"\",VLOOKUP(F2555,Tabelas!$B$7:$C$96,2))","v":""},null,{"$f":"IF(H2555=\"\",\"\",ROUND(H2555/SUM(H2554:H2561),4))","v":""},null,null,null,null,null,null,{"$f":"+IF(O2555=\"\",\"\",IF(N2554=\"Transporte Marítimo\",VLOOKUP(O2555,Tabelas!$F$7:$G$12,2),IF(N2554=\"Transporte Aéreo\",VLOOKUP(O2555,Tabelas!$F$16:$G$21,2),\"\")))","v":""},null,null,null,null,null,null,null,null,null,null,null,null,null,null,null,"",{"$f":"+IF(AF2555=\"\",\"\",VLOOKUP(AF2555,Tabelas!$J$27:$K$30,2))","v":""}]
[null,null,null,null,null,null,{"$f":"+IF(F2558=\"\",\"\",VLOOKUP(F2558,Tabelas!$B$7:$C$96,2))","v":""},null,{"$f":"IF(H2558=\"\",\"\",ROUND(H2558/SUM(H2554:H2561),4))","v":""},null,null,null,null,null,null,{"$f":"+IF(O2558=\"\",\"\",IF(N2554=\"Transporte Marítimo\",VLOOKUP(O2558,Tabelas!$F$7:$G$12,2),IF(N2554=\"Transporte Aéreo\",VLOOKUP(O2558,Tabelas!$F$16:$G$21,2),\"\")))","v":""},null,null,null,null,null,null,null,null,null,null,null,null,null,null,null,"",{"$f":"+IF(AF2558=\"\",\"\",VLOOKUP(AF2558,Tabelas!$J$27:$K$30,2))","v":""}]
[null,null,null,null,null,null,{"$f":"+IF(F2559=\"\",\"\",VLOOKUP(F2559,Tabelas!$B$7:$C$96,2))","v":""},null,{"$f":"IF(H2559=\"\",\"\",ROUND(H2559/SUM(H2554:H2561),4))","v":""},null,null,null,null,null,null,{"$f":"+IF(O2559=\"\",\"\",IF(N2554=\"Transporte Marítimo\",VLOOKUP(O2559,Tabelas!$F$7:$G$12,2),IF(N2554=\"Transporte Aéreo\",VLOOKUP(O2559,Tabelas!$F$16:$G$21,2),\"\")))","v":""},null,null,null,null,null,null,null,null,null,null,null,null,null,null,null,"",{"$f":"+IF(AF2559=\"\",\"\",VLOOKUP(AF2559,Tabelas!$J$27:$K$30,2))","v":""}]
[null,null,null,null,null,null,{"$f":"+IF(F2563=\"\",\"\",VLOOKUP(F2563,Tabelas!$B$7:$C$96,2))","v":""},null,{"$f":"IF(H2563=\"\",\"\",ROUND(H2563/SUM(H2562:H2569),4))","v":""},null,null,null,null,null,null,{"$f":"+IF(O2563=\"\",\"\",IF(N2562=\"Transporte Marítimo\",VLOOKUP(O2563,Tabelas!$F$7:$G$12,2),IF(N2562=\"Transporte Aéreo\",VLOOKUP(O2563,Tabelas!$F$16:$G$21,2),\"\")))","v":""},null,null,null,null,null,null,null,null,null,null,null,null,null,null,null,"",{"$f":"+IF(AF2563=\"\",\"\",VLOOKUP(AF2563,Tabelas!$J$27:$K$30,2))","v":""}]
[null,null,null,null,null,null,{"$f":"+IF(F2564=\"\",\"\",VLOOKUP(F2564,Tabelas!$B$7:$C$96,2))","v":""},null,{"$f":"IF(H2564=\"\",\"\",ROUND(H2564/SUM(H2562:H2569),4))","v":""},null,null,null,null,null,null,{"$f":"+IF(O2564=\"\",\"\",IF(N2562=\"Transporte Marítimo\",VLOOKUP(O2564,Tabelas!$F$7:$G$12,2),IF(N2562=\"Transporte Aéreo\",VLOOKUP(O2564,Tabelas!$F$16:$G$21,2),\"\")))","v":""},null,null,null,null,null,null,null,null,null,null,null,null,null,null,null,"",{"$f":"+IF(AF2564=\"\",\"\",VLOOKUP(AF2564,Tabelas!$J$27:$K$30,2))","v":""}]
[null,null,null,null,null,null,{"$f":"+IF(F2567=\"\",\"\",VLOOKUP(F2567,Tabelas!$B$7:$C$96,2))","v":""},null,{"$f":"IF(H2567=\"\",\"\",ROUND(H2567/SUM(H2562:H2569),4))","v":""},null,null,null,null,null,null,{"$f":"+IF(O2567=\"\",\"\",IF(N2562=\"Transporte Marítimo\",VLOOKUP(O2567,Tabelas!$F$7:$G$12,2),IF(N2562=\"Transporte Aéreo\",VLOOKUP(O2567,Tabelas!$F$16:$G$21,2),\"\")))","v":""},null,null,null,null,null,null,null,null,null,null,null,null,null,null,null,"",{"$f":"+IF(AF2567=\"\",\"\",VLOOKUP(AF2567,Tabelas!$J$27:$K$30,2))","v":""}]
[null,null,null,null,null,null,{"$f":"+IF(F2568=\"\",\"\",VLOOKUP(F2568,Tabelas!$B$7:$C$96,2))","v":""},null,{"$f":"IF(H2568=\"\",\"\",ROUND(H2568/SUM(H2562:H2569),4))","v":""},null,null,null,null,null,null,{"$f":"+IF(O2568=\"\",\"\",IF(N2562=\"Transporte Marítimo\",VLOOKUP(O2568,Tabelas!$F$7:$G$12,2),IF(N2562=\"Transporte Aéreo\",VLOOKUP(O2568,Tabelas!$F$16:$G$21,2),\"\")))","v":""},null,null,null,null,null,null,null,null,null,null,null,null,null,null,null,"",{"$f":"+IF(AF2568=\"\",\"\",VLOOKUP(AF2568,Tabelas!$J$27:$K$30,2))","v":""}]
[null,null,null,null,null,null,{"$f":"+IF(F2572=\"\",\"\",VLOOKUP(F2572,Tabelas!$B$7:$C$96,2))","v":""},null,{"$f":"IF(H2572=\"\",\"\",ROUND(H2572/SUM(H2570:H2577),4))","v":""},null,null,null,null,null,null,{"$f":"+IF(O2572=\"\",\"\",IF(N2570=\"Transporte Marítimo\",VLOOKUP(O2572,Tabelas!$F$7:$G$12,2),IF(N2570=\"Transporte Aéreo\",VLOOKUP(O2572,Tabelas!$F$16:$G$21,2),\"\")))","v":""},null,null,null,null,null,null,null,null,null,null,null,null,null,null,null,"",{"$f":"+IF(AF2572=\"\",\"\",VLOOKUP(AF2572,Tabelas!$J$27:$K$30,2))","v":""}]
[null,null,null,null,null,null,{"$f":"+IF(F2573=\"\",\"\",VLOOKUP(F2573,Tabelas!$B$7:$C$96,2))","v":""},null,{"$f":"IF(H2573=\"\",\"\",ROUND(H2573/SUM(H2570:H2577),4))","v":""},null,null,null,null,null,null,{"$f":"+IF(O2573=\"\",\"\",IF(N2570=\"Transporte Marítimo\",VLOOKUP(O2573,Tabelas!$F$7:$G$12,2),IF(N2570=\"Transporte Aéreo\",VLOOKUP(O2573,Tabelas!$F$16:$G$21,2),\"\")))","v":""},null,null,null,null,null,null,null,null,null,null,null,null,null,null,null,"",{"$f":"+IF(AF2573=\"\",\"\",VLOOKUP(AF2573,Tabelas!$J$27:$K$30,2))","v":""}]
[null,null,null,null,null,null,{"$f":"+IF(F2576=\"\",\"\",VLOOKUP(F2576,Tabelas!$B$7:$C$96,2))","v":""},null,{"$f":"IF(H2576=\"\",\"\",ROUND(H2576/SUM(H2570:H2577),4))","v":""},null,null,null,null,null,null,{"$f":"+IF(O2576=\"\",\"\",IF(N2570=\"Transporte Marítimo\",VLOOKUP(O2576,Tabelas!$F$7:$G$12,2),IF(N2570=\"Transporte Aéreo\",VLOOKUP(O2576,Tabelas!$F$16:$G$21,2),\"\")))","v":""},null,null,null,null,null,null,null,null,null,null,null,null,null,null,null,"",{"$f":"+IF(AF2576=\"\",\"\",VLOOKUP(AF2576,Tabelas!$J$27:$K$30,2))","v":""}]
[null,null,null,null,null,null,{"$f":"+IF(F2577=\"\",\"\",VLOOKUP(F2577,Tabelas!$B$7:$C$96,2))","v":""},null,{"$f":"IF(H2577=\"\",\"\",ROUND(H2577/SUM(H2570:H2577),4))","v":""},null,null,null,null,null,null,{"$f":"+IF(O2577=\"\",\"\",IF(N2570=\"Transporte Marítimo\",VLOOKUP(O2577,Tabelas!$F$7:$G$12,2),IF(N2570=\"Transporte Aéreo\",VLOOKUP(O2577,Tabelas!$F$16:$G$21,2),\"\")))","v":""},null,null,null,null,null,null,null,null,null,null,null,null,null,null,null,"",{"$f":"+IF(AF2577=\"\",\"\",VLOOKUP(AF2577,Tabelas!$J$27:$K$30,2))","v":""}]
[null,null,null,null,null,null,{"$f":"+IF(F2580=\"\",\"\",VLOOKUP(F2580,Tabelas!$B$7:$C$96,2))","v":""},null,{"$f":"IF(H2580=\"\",\"\",ROUND(H2580/SUM(H2578:H2585),4))","v":""},null,null,null,null,null,null,{"$f":"+IF(O2580=\"\",\"\",IF(N2578=\"Transporte Marítimo\",VLOOKUP(O2580,Tabelas!$F$7:$G$12,2),IF(N2578=\"Transporte Aéreo\",VLOOKUP(O2580,Tabelas!$F$16:$G$21,2),\"\")))","v":""},null,null,null,null,null,null,null,null,null,null,null,null,null,null,null,"",{"$f":"+IF(AF2580=\"\",\"\",VLOOKUP(AF2580,Tabelas!$J$27:$K$30,2))","v":""}]
[null,null,null,null,null,null,{"$f":"+IF(F2582=\"\",\"\",VLOOKUP(F2582,Tabelas!$B$7:$C$96,2))","v":""},null,{"$f":"IF(H2582=\"\",\"\",ROUND(H2582/SUM(H2578:H2585),4))","v":""},null,null,null,null,null,null,{"$f":"+IF(O2582=\"\",\"\",IF(N2578=\"Transporte Marítimo\",VLOOKUP(O2582,Tabelas!$F$7:$G$12,2),IF(N2578=\"Transporte Aéreo\",VLOOKUP(O2582,Tabelas!$F$16:$G$21,2),\"\")))","v":""},null,null,null,null,null,null,null,null,null,null,null,null,null,null,null,"",{"$f":"+IF(AF2582=\"\",\"\",VLOOKUP(AF2582,Tabelas!$J$27:$K$30,2))","v":""}]
[null,null,null,null,null,null,{"$f":"+IF(F2585=\"\",\"\",VLOOKUP(F2585,Tabelas!$B$7:$C$96,2))","v":""},null,{"$f":"IF(H2585=\"\",\"\",ROUND(H2585/SUM(H2578:H2585),4))","v":""},null,null,null,null,null,null,{"$f":"+IF(O2585=\"\",\"\",IF(N2578=\"Transporte Marítimo\",VLOOKUP(O2585,Tabelas!$F$7:$G$12,2),IF(N2578=\"Transporte Aéreo\",VLOOKUP(O2585,Tabelas!$F$16:$G$21,2),\"\")))","v":""},null,null,null,null,null,null,null,null,null,null,null,null,null,null,null,"",{"$f":"+IF(AF2585=\"\",\"\",VLOOKUP(AF2585,Tabelas!$J$27:$K$30,2))","v":""}]
[null,{"$f":"+B2578+1","v":322},null,null,null,null,{"$f":"+IF(F2586=\"\",\"\",VLOOKUP(F2586,Tabelas!$B$7:$C$96,2))","v":""},null,{"$f":"IF(H2586=\"\",\"\",1-SUM(I2587:I2593))","v":""},null,null,null,null,null,null,{"$f":"+IF(O2586=\"\",\"\",IF(N2586=\"Transporte Marítimo\",VLOOKUP(O2586,Tabelas!$F$7:$G$12,2),IF(N2586=\"Transporte Aéreo\",VLOOKUP(O2586,Tabelas!$F$16:$G$21,2),\"\")))","v":""},null,null,null,null,null,null,null,null,null,null,null,null,null,null,null,"",{"$f":"+IF(AF2586=\"\",\"\",VLOOKUP(AF2586,Tabelas!$J$27:$K$30,2))","v":""},null,null,null,null,null,null,null,null,null,null,null,null,null,null,null," "]
[null,null,null,null,null,null,{"$f":"+IF(F2589=\"\",\"\",VLOOKUP(F2589,Tabelas!$B$7:$C$96,2))","v":""},null,{"$f":"IF(H2589=\"\",\"\",ROUND(H2589/SUM(H2586:H2593),4))","v":""},null,null,null,null,null,null,{"$f":"+IF(O2589=\"\",\"\",IF(N2586=\"Transporte Marítimo\",VLOOKUP(O2589,Tabelas!$F$7:$G$12,2),IF(N2586=\"Transporte Aéreo\",VLOOKUP(O2589,Tabelas!$F$16:$G$21,2),\"\")))","v":""},null,null,null,null,null,null,null,null,null,null,null,null,null,null,null,"",{"$f":"+IF(AF2589=\"\",\"\",VLOOKUP(AF2589,Tabelas!$J$27:$K$30,2))","v":""}]
[null,null,null,null,null,null,{"$f":"+IF(F2590=\"\",\"\",VLOOKUP(F2590,Tabelas!$B$7:$C$96,2))","v":""},null,{"$f":"IF(H2590=\"\",\"\",ROUND(H2590/SUM(H2586:H2593),4))","v":""},null,null,null,null,null,null,{"$f":"+IF(O2590=\"\",\"\",IF(N2586=\"Transporte Marítimo\",VLOOKUP(O2590,Tabelas!$F$7:$G$12,2),IF(N2586=\"Transporte Aéreo\",VLOOKUP(O2590,Tabelas!$F$16:$G$21,2),\"\")))","v":""},null,null,null,null,null,null,null,null,null,null,null,null,null,null,null,"",{"$f":"+IF(AF2590=\"\",\"\",VLOOKUP(AF2590,Tabelas!$J$27:$K$30,2))","v":""}]
[null,{"$f":"+B2586+1","v":323},null,null,null,null,{"$f":"+IF(F2594=\"\",\"\",VLOOKUP(F2594,Tabelas!$B$7:$C$96,2))","v":""},null,{"$f":"IF(H2594=\"\",\"\",1-SUM(I2595:I2601))","v":""},null,null,null,null,null,null,{"$f":"+IF(O2594=\"\",\"\",IF(N2594=\"Transporte Marítimo\",VLOOKUP(O2594,Tabelas!$F$7:$G$12,2),IF(N2594=\"Transporte Aéreo\",VLOOKUP(O2594,Tabelas!$F$16:$G$21,2),\"\")))","v":""},null,null,null,null,null,null,null,null,null,null,null,null,null,null,null,"",{"$f":"+IF(AF2594=\"\",\"\",VLOOKUP(AF2594,Tabelas!$J$27:$K$30,2))","v":""},null,null,null,null,null,null,null,null,null,null,null,null,null,null,null," "]
[null,null,null,null,null,null,{"$f":"+IF(F2595=\"\",\"\",VLOOKUP(F2595,Tabelas!$B$7:$C$96,2))","v":""},null,{"$f":"IF(H2595=\"\",\"\",ROUND(H2595/SUM(H2594:H2601),4))","v":""},null,null,null,null,null,null,{"$f":"+IF(O2595=\"\",\"\",IF(N2594=\"Transporte Marítimo\",VLOOKUP(O2595,Tabelas!$F$7:$G$12,2),IF(N2594=\"Transporte Aéreo\",VLOOKUP(O2595,Tabelas!$F$16:$G$21,2),\"\")))","v":""},null,null,null,null,null,null,null,null,null,null,null,null,null,null,null,"",{"$f":"+IF(AF2595=\"\",\"\",VLOOKUP(AF2595,Tabelas!$J$27:$K$30,2))","v":""}]
[null,null,null,null,null,null,{"$f":"+IF(F2598=\"\",\"\",VLOOKUP(F2598,Tabelas!$B$7:$C$96,2))","v":""},null,{"$f":"IF(H2598=\"\",\"\",ROUND(H2598/SUM(H2594:H2601),4))","v":""},null,null,null,null,null,null,{"$f":"+IF(O2598=\"\",\"\",IF(N2594=\"Transporte Marítimo\",VLOOKUP(O2598,Tabelas!$F$7:$G$12,2),IF(N2594=\"Transporte Aéreo\",VLOOKUP(O2598,Tabelas!$F$16:$G$21,2),\"\")))","v":""},null,null,null,null,null,null,null,null,null,null,null,null,null,null,null,"",{"$f":"+IF(AF2598=\"\",\"\",VLOOKUP(AF2598,Tabelas!$J$27:$K$30,2))","v":""}]
[null,null,null,null,null,null,{"$f":"+IF(F2600=\"\",\"\",VLOOKUP(F2600,Tabelas!$B$7:$C$96,2))","v":""},null,{"$f":"IF(H2600=\"\",\"\",ROUND(H2600/SUM(H2594:H2601),4))","v":""},null,null,null,null,null,null,{"$f":"+IF(O2600=\"\",\"\",IF(N2594=\"Transporte Marítimo\",VLOOKUP(O2600,Tabelas!$F$7:$G$12,2),IF(N2594=\"Transporte Aéreo\",VLOOKUP(O2600,Tabelas!$F$16:$G$21,2),\"\")))","v":""},null,null,null,null,null,null,null,null,null,null,null,null,null,null,null,"",{"$f":"+IF(AF2600=\"\",\"\",VLOOKUP(AF2600,Tabelas!$J$27:$K$30,2))","v":""}]
[null,null,null,null,null,null,{"$f":"+IF(F2603=\"\",\"\",VLOOKUP(F2603,Tabelas!$B$7:$C$96,2))","v":""},null,{"$f":"IF(H2603=\"\",\"\",ROUND(H2603/SUM(H2602:H2609),4))","v":""},null,null,null,null,null,null,{"$f":"+IF(O2603=\"\",\"\",IF(N2602=\"Transporte Marítimo\",VLOOKUP(O2603,Tabelas!$F$7:$G$12,2),IF(N2602=\"Transporte Aéreo\",VLOOKUP(O2603,Tabelas!$F$16:$G$21,2),\"\")))","v":""},null,null,null,null,null,null,null,null,null,null,null,null,null,null,null,"",{"$f":"+IF(AF2603=\"\",\"\",VLOOKUP(AF2603,Tabelas!$J$27:$K$30,2))","v":""}]
[null,null,null,null,null,null,{"$f":"+IF(F2604=\"\",\"\",VLOOKUP(F2604,Tabelas!$B$7:$C$96,2))","v":""},null,{"$f":"IF(H2604=\"\",\"\",ROUND(H2604/SUM(H2602:H2609),4))","v":""},null,null,null,null,null,null,{"$f":"+IF(O2604=\"\",\"\",IF(N2602=\"Transporte Marítimo\",VLOOKUP(O2604,Tabelas!$F$7:$G$12,2),IF(N2602=\"Transporte Aéreo\",VLOOKUP(O2604,Tabelas!$F$16:$G$21,2),\"\")))","v":""},null,null,null,null,null,null,null,null,null,null,null,null,null,null,null,"",{"$f":"+IF(AF2604=\"\",\"\",VLOOKUP(AF2604,Tabelas!$J$27:$K$30,2))","v":""}]
[null,null,null,null,null,null,{"$f":"+IF(F2607=\"\",\"\",VLOOKUP(F2607,Tabelas!$B$7:$C$96,2))","v":""},null,{"$f":"IF(H2607=\"\",\"\",ROUND(H2607/SUM(H2602:H2609),4))","v":""},null,null,null,null,null,null,{"$f":"+IF(O2607=\"\",\"\",IF(N2602=\"Transporte Marítimo\",VLOOKUP(O2607,Tabelas!$F$7:$G$12,2),IF(N2602=\"Transporte Aéreo\",VLOOKUP(O2607,Tabelas!$F$16:$G$21,2),\"\")))","v":""},null,null,null,null,null,null,null,null,null,null,null,null,null,null,null,"",{"$f":"+IF(AF2607=\"\",\"\",VLOOKUP(AF2607,Tabelas!$J$27:$K$30,2))","v":""}]
[null,null,null,null,null,null,{"$f":"+IF(F2608=\"\",\"\",VLOOKUP(F2608,Tabelas!$B$7:$C$96,2))","v":""},null,{"$f":"IF(H2608=\"\",\"\",ROUND(H2608/SUM(H2602:H2609),4))","v":""},null,null,null,null,null,null,{"$f":"+IF(O2608=\"\",\"\",IF(N2602=\"Transporte Marítimo\",VLOOKUP(O2608,Tabelas!$F$7:$G$12,2),IF(N2602=\"Transporte Aéreo\",VLOOKUP(O2608,Tabelas!$F$16:$G$21,2),\"\")))","v":""},null,null,null,null,null,null,null,null,null,null,null,null,null,null,null,"",{"$f":"+IF(AF2608=\"\",\"\",VLOOKUP(AF2608,Tabelas!$J$27:$K$30,2))","v":""}]
[null,null,null,null,null,null,{"$f":"+IF(F2612=\"\",\"\",VLOOKUP(F2612,Tabelas!$B$7:$C$96,2))","v":""},null,{"$f":"IF(H2612=\"\",\"\",ROUND(H2612/SUM(H2610:H2617),4))","v":""},null,null,null,null,null,null,{"$f":"+IF(O2612=\"\",\"\",IF(N2610=\"Transporte Marítimo\",VLOOKUP(O2612,Tabelas!$F$7:$G$12,2),IF(N2610=\"Transporte Aéreo\",VLOOKUP(O2612,Tabelas!$F$16:$G$21,2),\"\")))","v":""},null,null,null,null,null,null,null,null,null,null,null,null,null,null,null,"",{"$f":"+IF(AF2612=\"\",\"\",VLOOKUP(AF2612,Tabelas!$J$27:$K$30,2))","v":""}]
[null,null,null,null,null,null,{"$f":"+IF(F2613=\"\",\"\",VLOOKUP(F2613,Tabelas!$B$7:$C$96,2))","v":""},null,{"$f":"IF(H2613=\"\",\"\",ROUND(H2613/SUM(H2610:H2617),4))","v":""},null,null,null,null,null,null,{"$f":"+IF(O2613=\"\",\"\",IF(N2610=\"Transporte Marítimo\",VLOOKUP(O2613,Tabelas!$F$7:$G$12,2),IF(N2610=\"Transporte Aéreo\",VLOOKUP(O2613,Tabelas!$F$16:$G$21,2),\"\")))","v":""},null,null,null,null,null,null,null,null,null,null,null,null,null,null,null,"",{"$f":"+IF(AF2613=\"\",\"\",VLOOKUP(AF2613,Tabelas!$J$27:$K$30,2))","v":""}]
[null,null,null,null,null,null,{"$f":"+IF(F2616=\"\",\"\",VLOOKUP(F2616,Tabelas!$B$7:$C$96,2))","v":""},null,{"$f":"IF(H2616=\"\",\"\",ROUND(H2616/SUM(H2610:H2617),4))","v":""},null,null,null,null,null,null,{"$f":"+IF(O2616=\"\",\"\",IF(N2610=\"Transporte Marítimo\",VLOOKUP(O2616,Tabelas!$F$7:$G$12,2),IF(N2610=\"Transporte Aéreo\",VLOOKUP(O2616,Tabelas!$F$16:$G$21,2),\"\")))","v":""},null,null,null,null,null,null,null,null,null,null,null,null,null,null,null,"",{"$f":"+IF(AF2616=\"\",\"\",VLOOKUP(AF2616,Tabelas!$J$27:$K$30,2))","v":""}]
[null,null,null,null,null,null,{"$f":"+IF(F2617=\"\",\"\",VLOOKUP(F2617,Tabelas!$B$7:$C$96,2))","v":""},null,{"$f":"IF(H2617=\"\",\"\",ROUND(H2617/SUM(H2610:H2617),4))","v":""},null,null,null,null,null,null,{"$f":"+IF(O2617=\"\",\"\",IF(N2610=\"Transporte Marítimo\",VLOOKUP(O2617,Tabelas!$F$7:$G$12,2),IF(N2610=\"Transporte Aéreo\",VLOOKUP(O2617,Tabelas!$F$16:$G$21,2),\"\")))","v":""},null,null,null,null,null,null,null,null,null,null,null,null,null,null,null,"",{"$f":"+IF(AF2617=\"\",\"\",VLOOKUP(AF2617,Tabelas!$J$27:$K$30,2))","v":""}]
[null,null,null,null,null,null,{"$f":"+IF(F2621=\"\",\"\",VLOOKUP(F2621,Tabelas!$B$7:$C$96,2))","v":""},null,{"$f":"IF(H2621=\"\",\"\",ROUND(H2621/SUM(H2618:H2625),4))","v":""},null,null,null,null,null,null,{"$f":"+IF(O2621=\"\",\"\",IF(N2618=\"Transporte Marítimo\",VLOOKUP(O2621,Tabelas!$F$7:$G$12,2),IF(N2618=\"Transporte Aéreo\",VLOOKUP(O2621,Tabelas!$F$16:$G$21,2),\"\")))","v":""},null,null,null,null,null,null,null,null,null,null,null,null,null,null,null,"",{"$f":"+IF(AF2621=\"\",\"\",VLOOKUP(AF2621,Tabelas!$J$27:$K$30,2))","v":""}]
[null,null,null,null,null,null,{"$f":"+IF(F2622=\"\",\"\",VLOOKUP(F2622,Tabelas!$B$7:$C$96,2))","v":""},null,{"$f":"IF(H2622=\"\",\"\",ROUND(H2622/SUM(H2618:H2625),4))","v":""},null,null,null,null,null,null,{"$f":"+IF(O2622=\"\",\"\",IF(N2618=\"Transporte Marítimo\",VLOOKUP(O2622,Tabelas!$F$7:$G$12,2),IF(N2618=\"Transporte Aéreo\",VLOOKUP(O2622,Tabelas!$F$16:$G$21,2),\"\")))","v":""},null,null,null,null,null,null,null,null,null,null,null,null,null,null,null,"",{"$f":"+IF(AF2622=\"\",\"\",VLOOKUP(AF2622,Tabelas!$J$27:$K$30,2))","v":""}]
[null,null,null,null,null,null,{"$f":"+IF(F2625=\"\",\"\",VLOOKUP(F2625,Tabelas!$B$7:$C$96,2))","v":""},null,{"$f":"IF(H2625=\"\",\"\",ROUND(H2625/SUM(H2618:H2625),4))","v":""},null,null,null,null,null,null,{"$f":"+IF(O2625=\"\",\"\",IF(N2618=\"Transporte Marítimo\",VLOOKUP(O2625,Tabelas!$F$7:$G$12,2),IF(N2618=\"Transporte Aéreo\",VLOOKUP(O2625,Tabelas!$F$16:$G$21,2),\"\")))","v":""},null,null,null,null,null,null,null,null,null,null,null,null,null,null,null,"",{"$f":"+IF(AF2625=\"\",\"\",VLOOKUP(AF2625,Tabelas!$J$27:$K$30,2))","v":""}]
[null,{"$f":"+B2618+1","v":327},null,null,null,null,{"$f":"+IF(F2626=\"\",\"\",VLOOKUP(F2626,Tabelas!$B$7:$C$96,2))","v":""},null,{"$f":"IF(H2626=\"\",\"\",1-SUM(I2627:I2633))","v":""},null,null,null,null,null,null,{"$f":"+IF(O2626=\"\",\"\",IF(N2626=\"Transporte Marítimo\",VLOOKUP(O2626,Tabelas!$F$7:$G$12,2),IF(N2626=\"Transporte Aéreo\",VLOOKUP(O2626,Tabelas!$F$16:$G$21,2),\"\")))","v":""},null,null,null,null,null,null,null,null,null,null,null,null,null,null,null,"",{"$f":"+IF(AF2626=\"\",\"\",VLOOKUP(AF2626,Tabelas!$J$27:$K$30,2))","v":""},null,null,null,null,null,null,null,null,null,null,null,null,null,null,null," "]
[null,null,null,null,null,null,{"$f":"+IF(F2628=\"\",\"\",VLOOKUP(F2628,Tabelas!$B$7:$C$96,2))","v":""},null,{"$f":"IF(H2628=\"\",\"\",ROUND(H2628/SUM(H2626:H2633),4))","v":""},null,null,null,null,null,null,{"$f":"+IF(O2628=\"\",\"\",IF(N2626=\"Transporte Marítimo\",VLOOKUP(O2628,Tabelas!$F$7:$G$12,2),IF(N2626=\"Transporte Aéreo\",VLOOKUP(O2628,Tabelas!$F$16:$G$21,2),\"\")))","v":""},null,null,null,null,null,null,null,null,null,null,null,null,null,null,null,"",{"$f":"+IF(AF2628=\"\",\"\",VLOOKUP(AF2628,Tabelas!$J$27:$K$30,2))","v":""}]
[null,null,null,null,null,null,{"$f":"+IF(F2631=\"\",\"\",VLOOKUP(F2631,Tabelas!$B$7:$C$96,2))","v":""},null,{"$f":"IF(H2631=\"\",\"\",ROUND(H2631/SUM(H2626:H2633),4))","v":""},null,null,null,null,null,null,{"$f":"+IF(O2631=\"\",\"\",IF(N2626=\"Transporte Marítimo\",VLOOKUP(O2631,Tabelas!$F$7:$G$12,2),IF(N2626=\"Transporte Aéreo\",VLOOKUP(O2631,Tabelas!$F$16:$G$21,2),\"\")))","v":""},null,null,null,null,null,null,null,null,null,null,null,null,null,null,null,"",{"$f":"+IF(AF2631=\"\",\"\",VLOOKUP(AF2631,Tabelas!$J$27:$K$30,2))","v":""}]
[null,{"$f":"+B2626+1","v":328},null,null,null,null,{"$f":"+IF(F2634=\"\",\"\",VLOOKUP(F2634,Tabelas!$B$7:$C$96,2))","v":""},null,{"$f":"IF(H2634=\"\",\"\",1-SUM(I2635:I2641))","v":""},null,null,null,null,null,null,{"$f":"+IF(O2634=\"\",\"\",IF(N2634=\"Transporte Marítimo\",VLOOKUP(O2634,Tabelas!$F$7:$G$12,2),IF(N2634=\"Transporte Aéreo\",VLOOKUP(O2634,Tabelas!$F$16:$G$21,2),\"\")))","v":""},null,null,null,null,null,null,null,null,null,null,null,null,null,null,null,"",{"$f":"+IF(AF2634=\"\",\"\",VLOOKUP(AF2634,Tabelas!$J$27:$K$30,2))","v":""},null,null,null,null,null,null,null,null,null,null,null,null,null,null,null," "]
[null,null,null,null,null,null,{"$f":"+IF(F2635=\"\",\"\",VLOOKUP(F2635,Tabelas!$B$7:$C$96,2))","v":""},null,{"$f":"IF(H2635=\"\",\"\",ROUND(H2635/SUM(H2634:H2641),4))","v":""},null,null,null,null,null,null,{"$f":"+IF(O2635=\"\",\"\",IF(N2634=\"Transporte Marítimo\",VLOOKUP(O2635,Tabelas!$F$7:$G$12,2),IF(N2634=\"Transporte Aéreo\",VLOOKUP(O2635,Tabelas!$F$16:$G$21,2),\"\")))","v":""},null,null,null,null,null,null,null,null,null,null,null,null,null,null,null,"",{"$f":"+IF(AF2635=\"\",\"\",VLOOKUP(AF2635,Tabelas!$J$27:$K$30,2))","v":""}]
[null,null,null,null,null,null,{"$f":"+IF(F2639=\"\",\"\",VLOOKUP(F2639,Tabelas!$B$7:$C$96,2))","v":""},null,{"$f":"IF(H2639=\"\",\"\",ROUND(H2639/SUM(H2634:H2641),4))","v":""},null,null,null,null,null,null,{"$f":"+IF(O2639=\"\",\"\",IF(N2634=\"Transporte Marítimo\",VLOOKUP(O2639,Tabelas!$F$7:$G$12,2),IF(N2634=\"Transporte Aéreo\",VLOOKUP(O2639,Tabelas!$F$16:$G$21,2),\"\")))","v":""},null,null,null,null,null,null,null,null,null,null,null,null,null,null,null,"",{"$f":"+IF(AF2639=\"\",\"\",VLOOKUP(AF2639,Tabelas!$J$27:$K$30,2))","v":""}]
[null,null,null,null,null,null,{"$f":"+IF(F2640=\"\",\"\",VLOOKUP(F2640,Tabelas!$B$7:$C$96,2))","v":""},null,{"$f":"IF(H2640=\"\",\"\",ROUND(H2640/SUM(H2634:H2641),4))","v":""},null,null,null,null,null,null,{"$f":"+IF(O2640=\"\",\"\",IF(N2634=\"Transporte Marítimo\",VLOOKUP(O2640,Tabelas!$F$7:$G$12,2),IF(N2634=\"Transporte Aéreo\",VLOOKUP(O2640,Tabelas!$F$16:$G$21,2),\"\")))","v":""},null,null,null,null,null,null,null,null,null,null,null,null,null,null,null,"",{"$f":"+IF(AF2640=\"\",\"\",VLOOKUP(AF2640,Tabelas!$J$27:$K$30,2))","v":""}]
[null,null,null,null,null,null,{"$f":"+IF(F2643=\"\",\"\",VLOOKUP(F2643,Tabelas!$B$7:$C$96,2))","v":""},null,{"$f":"IF(H2643=\"\",\"\",ROUND(H2643/SUM(H2642:H2649),4))","v":""},null,null,null,null,null,null,{"$f":"+IF(O2643=\"\",\"\",IF(N2642=\"Transporte Marítimo\",VLOOKUP(O2643,Tabelas!$F$7:$G$12,2),IF(N2642=\"Transporte Aéreo\",VLOOKUP(O2643,Tabelas!$F$16:$G$21,2),\"\")))","v":""},null,null,null,null,null,null,null,null,null,null,null,null,null,null,null,{"$f":"+IF(AE2643=\"20NL\",1,IF(AE2643=\"40NL\",2,IF(AE2643=\"20RF\",3,IF(AE2643=\"40RF\",4,\"\"))))","v":""},{"$f":"+IF(AF2643=\"\",\"\",VLOOKUP(AF2643,Tabelas!$J$27:$K$30,2))","v":""}]
[null,null,null,null,null,null,{"$f":"+IF(F2644=\"\",\"\",VLOOKUP(F2644,Tabelas!$B$7:$C$96,2))","v":""},null,{"$f":"IF(H2644=\"\",\"\",ROUND(H2644/SUM(H2642:H2649),4))","v":""},null,null,null,null,null,null,{"$f":"+IF(O2644=\"\",\"\",IF(N2642=\"Transporte Marítimo\",VLOOKUP(O2644,Tabelas!$F$7:$G$12,2),IF(N2642=\"Transporte Aéreo\",VLOOKUP(O2644,Tabelas!$F$16:$G$21,2),\"\")))","v":""},null,null,null,null,null,null,null,null,null,null,null,null,null,null,null,"",{"$f":"+IF(AF2644=\"\",\"\",VLOOKUP(AF2644,Tabelas!$J$27:$K$30,2))","v":""}]
[null,null,null,null,null,null,{"$f":"+IF(F2647=\"\",\"\",VLOOKUP(F2647,Tabelas!$B$7:$C$96,2))","v":""},null,{"$f":"IF(H2647=\"\",\"\",ROUND(H2647/SUM(H2642:H2649),4))","v":""},null,null,null,null,null,null,{"$f":"+IF(O2647=\"\",\"\",IF(N2642=\"Transporte Marítimo\",VLOOKUP(O2647,Tabelas!$F$7:$G$12,2),IF(N2642=\"Transporte Aéreo\",VLOOKUP(O2647,Tabelas!$F$16:$G$21,2),\"\")))","v":""},null,null,null,null,null,null,null,null,null,null,null,null,null,null,null,"",{"$f":"+IF(AF2647=\"\",\"\",VLOOKUP(AF2647,Tabelas!$J$27:$K$30,2))","v":""}]
[null,null,null,null,null,null,{"$f":"+IF(F2649=\"\",\"\",VLOOKUP(F2649,Tabelas!$B$7:$C$96,2))","v":""},null,{"$f":"IF(H2649=\"\",\"\",ROUND(H2649/SUM(H2642:H2649),4))","v":""},null,null,null,null,null,null,{"$f":"+IF(O2649=\"\",\"\",IF(N2642=\"Transporte Marítimo\",VLOOKUP(O2649,Tabelas!$F$7:$G$12,2),IF(N2642=\"Transporte Aéreo\",VLOOKUP(O2649,Tabelas!$F$16:$G$21,2),\"\")))","v":""},null,null,null,null,null,null,null,null,null,null,null,null,null,null,null,"",{"$f":"+IF(AF2649=\"\",\"\",VLOOKUP(AF2649,Tabelas!$J$27:$K$30,2))","v":""}]
[null,null,null,null,null,null,{"$f":"+IF(F2652=\"\",\"\",VLOOKUP(F2652,Tabelas!$B$7:$C$96,2))","v":""},null,{"$f":"IF(H2652=\"\",\"\",ROUND(H2652/SUM(H2650:H2657),4))","v":""},null,null,null,null,null,null,{"$f":"+IF(O2652=\"\",\"\",IF(N2650=\"Transporte Marítimo\",VLOOKUP(O2652,Tabelas!$F$7:$G$12,2),IF(N2650=\"Transporte Aéreo\",VLOOKUP(O2652,Tabelas!$F$16:$G$21,2),\"\")))","v":""},null,null,null,null,null,null,null,null,null,null,null,null,null,null,null,"",{"$f":"+IF(AF2652=\"\",\"\",VLOOKUP(AF2652,Tabelas!$J$27:$K$30,2))","v":""}]
[null,null,null,null,null,null,{"$f":"+IF(F2653=\"\",\"\",VLOOKUP(F2653,Tabelas!$B$7:$C$96,2))","v":""},null,{"$f":"IF(H2653=\"\",\"\",ROUND(H2653/SUM(H2650:H2657),4))","v":""},null,null,null,null,null,null,{"$f":"+IF(O2653=\"\",\"\",IF(N2650=\"Transporte Marítimo\",VLOOKUP(O2653,Tabelas!$F$7:$G$12,2),IF(N2650=\"Transporte Aéreo\",VLOOKUP(O2653,Tabelas!$F$16:$G$21,2),\"\")))","v":""},null,null,null,null,null,null,null,null,null,null,null,null,null,null,null,"",{"$f":"+IF(AF2653=\"\",\"\",VLOOKUP(AF2653,Tabelas!$J$27:$K$30,2))","v":""}]
[null,null,null,null,null,null,{"$f":"+IF(F2656=\"\",\"\",VLOOKUP(F2656,Tabelas!$B$7:$C$96,2))","v":""},null,{"$f":"IF(H2656=\"\",\"\",ROUND(H2656/SUM(H2650:H2657),4))","v":""},null,null,null,null,null,null,{"$f":"+IF(O2656=\"\",\"\",IF(N2650=\"Transporte Marítimo\",VLOOKUP(O2656,Tabelas!$F$7:$G$12,2),IF(N2650=\"Transporte Aéreo\",VLOOKUP(O2656,Tabelas!$F$16:$G$21,2),\"\")))","v":""},null,null,null,null,null,null,null,null,null,null,null,null,null,null,null,"",{"$f":"+IF(AF2656=\"\",\"\",VLOOKUP(AF2656,Tabelas!$J$27:$K$30,2))","v":""}]
[null,null,null,null,null,null,{"$f":"+IF(F2659=\"\",\"\",VLOOKUP(F2659,Tabelas!$B$7:$C$96,2))","v":""},null,{"$f":"IF(H2659=\"\",\"\",ROUND(H2659/SUM(H2658:H2665),4))","v":""},null,null,null,null,null,null,{"$f":"+IF(O2659=\"\",\"\",IF(N2658=\"Transporte Marítimo\",VLOOKUP(O2659,Tabelas!$F$7:$G$12,2),IF(N2658=\"Transporte Aéreo\",VLOOKUP(O2659,Tabelas!$F$16:$G$21,2),\"\")))","v":""},null,null,null,null,null,null,null,null,null,null,null,null,null,null,null,"",{"$f":"+IF(AF2659=\"\",\"\",VLOOKUP(AF2659,Tabelas!$J$27:$K$30,2))","v":""}]
[null,null,null,null,null,null,{"$f":"+IF(F2661=\"\",\"\",VLOOKUP(F2661,Tabelas!$B$7:$C$96,2))","v":""},null,{"$f":"IF(H2661=\"\",\"\",ROUND(H2661/SUM(H2658:H2665),4))","v":""},null,null,null,null,null,null,{"$f":"+IF(O2661=\"\",\"\",IF(N2658=\"Transporte Marítimo\",VLOOKUP(O2661,Tabelas!$F$7:$G$12,2),IF(N2658=\"Transporte Aéreo\",VLOOKUP(O2661,Tabelas!$F$16:$G$21,2),\"\")))","v":""},null,null,null,null,null,null,null,null,null,null,null,null,null,null,null,"",{"$f":"+IF(AF2661=\"\",\"\",VLOOKUP(AF2661,Tabelas!$J$27:$K$30,2))","v":""}]
[null,null,null,null,null,null,{"$f":"+IF(F2662=\"\",\"\",VLOOKUP(F2662,Tabelas!$B$7:$C$96,2))","v":""},null,{"$f":"IF(H2662=\"\",\"\",ROUND(H2662/SUM(H2658:H2665),4))","v":""},null,null,null,null,null,null,{"$f":"+IF(O2662=\"\",\"\",IF(N2658=\"Transporte Marítimo\",VLOOKUP(O2662,Tabelas!$F$7:$G$12,2),IF(N2658=\"Transporte Aéreo\",VLOOKUP(O2662,Tabelas!$F$16:$G$21,2),\"\")))","v":""},null,null,null,null,null,null,null,null,null,null,null,null,null,null,null,"",{"$f":"+IF(AF2662=\"\",\"\",VLOOKUP(AF2662,Tabelas!$J$27:$K$30,2))","v":""}]
[null,null,null,null,null,null,{"$f":"+IF(F2665=\"\",\"\",VLOOKUP(F2665,Tabelas!$B$7:$C$96,2))","v":""},null,{"$f":"IF(H2665=\"\",\"\",ROUND(H2665/SUM(H2658:H2665),4))","v":""},null,null,null,null,null,null,{"$f":"+IF(O2665=\"\",\"\",IF(N2658=\"Transporte Marítimo\",VLOOKUP(O2665,Tabelas!$F$7:$G$12,2),IF(N2658=\"Transporte Aéreo\",VLOOKUP(O2665,Tabelas!$F$16:$G$21,2),\"\")))","v":""},null,null,null,null,null,null,null,null,null,null,null,null,null,null,null,"",{"$f":"+IF(AF2665=\"\",\"\",VLOOKUP(AF2665,Tabelas!$J$27:$K$30,2))","v":""}]
[null,null,null,null,null,null,{"$f":"+IF(F2667=\"\",\"\",VLOOKUP(F2667,Tabelas!$B$7:$C$96,2))","v":""},null,{"$f":"IF(H2667=\"\",\"\",ROUND(H2667/SUM(H2666:H2673),4))","v":""},null,null,null,null,null,null,{"$f":"+IF(O2667=\"\",\"\",IF(N2666=\"Transporte Marítimo\",VLOOKUP(O2667,Tabelas!$F$7:$G$12,2),IF(N2666=\"Transporte Aéreo\",VLOOKUP(O2667,Tabelas!$F$16:$G$21,2),\"\")))","v":""},null,null,null,null,null,null,null,null,null,null,null,null,null,null,null,"",{"$f":"+IF(AF2667=\"\",\"\",VLOOKUP(AF2667,Tabelas!$J$27:$K$30,2))","v":""}]
[null,null,null,null,null,null,{"$f":"+IF(F2670=\"\",\"\",VLOOKUP(F2670,Tabelas!$B$7:$C$96,2))","v":""},null,{"$f":"IF(H2670=\"\",\"\",ROUND(H2670/SUM(H2666:H2673),4))","v":""},null,null,null,null,null,null,{"$f":"+IF(O2670=\"\",\"\",IF(N2666=\"Transporte Marítimo\",VLOOKUP(O2670,Tabelas!$F$7:$G$12,2),IF(N2666=\"Transporte Aéreo\",VLOOKUP(O2670,Tabelas!$F$16:$G$21,2),\"\")))","v":""},null,null,null,null,null,null,null,null,null,null,null,null,null,null,null,"",{"$f":"+IF(AF2670=\"\",\"\",VLOOKUP(AF2670,Tabelas!$J$27:$K$30,2))","v":""}]
[null,null,null,null,null,null,{"$f":"+IF(F2671=\"\",\"\",VLOOKUP(F2671,Tabelas!$B$7:$C$96,2))","v":""},null,{"$f":"IF(H2671=\"\",\"\",ROUND(H2671/SUM(H2666:H2673),4))","v":""},null,null,null,null,null,null,{"$f":"+IF(O2671=\"\",\"\",IF(N2666=\"Transporte Marítimo\",VLOOKUP(O2671,Tabelas!$F$7:$G$12,2),IF(N2666=\"Transporte Aéreo\",VLOOKUP(O2671,Tabelas!$F$16:$G$21,2),\"\")))","v":""},null,null,null,null,null,null,null,null,null,null,null,null,null,null,null,"",{"$f":"+IF(AF2671=\"\",\"\",VLOOKUP(AF2671,Tabelas!$J$27:$K$30,2))","v":""}]
[null,{"$f":"+B2666+1","v":333},null,null,null,null,{"$f":"+IF(F2674=\"\",\"\",VLOOKUP(F2674,Tabelas!$B$7:$C$96,2))","v":""},null,{"$f":"IF(H2674=\"\",\"\",1-SUM(I2675:I2681))","v":""},null,null,null,null,null,null,{"$f":"+IF(O2674=\"\",\"\",IF(N2674=\"Transporte Marítimo\",VLOOKUP(O2674,Tabelas!$F$7:$G$12,2),IF(N2674=\"Transporte Aéreo\",VLOOKUP(O2674,Tabelas!$F$16:$G$21,2),\"\")))","v":""},null,null,null,null,null,null,null,null,null,null,null,null,null,null,null,"",{"$f":"+IF(AF2674=\"\",\"\",VLOOKUP(AF2674,Tabelas!$J$27:$K$30,2))","v":""},null,null,null,null,null,null,null,null,null,null,null,null,null,null,null," "]
[null,null,null,null,null,null,{"$f":"+IF(F2675=\"\",\"\",VLOOKUP(F2675,Tabelas!$B$7:$C$96,2))","v":""},null,{"$f":"IF(H2675=\"\",\"\",ROUND(H2675/SUM(H2674:H2681),4))","v":""},null,null,null,null,null,null,{"$f":"+IF(O2675=\"\",\"\",IF(N2674=\"Transporte Marítimo\",VLOOKUP(O2675,Tabelas!$F$7:$G$12,2),IF(N2674=\"Transporte Aéreo\",VLOOKUP(O2675,Tabelas!$F$16:$G$21,2),\"\")))","v":""},null,null,null,null,null,null,null,null,null,null,null,null,null,null,null,"",{"$f":"+IF(AF2675=\"\",\"\",VLOOKUP(AF2675,Tabelas!$J$27:$K$30,2))","v":""}]
[null,null,null,null,null,null,{"$f":"+IF(F2677=\"\",\"\",VLOOKUP(F2677,Tabelas!$B$7:$C$96,2))","v":""},null,{"$f":"IF(H2677=\"\",\"\",ROUND(H2677/SUM(H2674:H2681),4))","v":""},null,null,null,null,null,null,{"$f":"+IF(O2677=\"\",\"\",IF(N2674=\"Transporte Marítimo\",VLOOKUP(O2677,Tabelas!$F$7:$G$12,2),IF(N2674=\"Transporte Aéreo\",VLOOKUP(O2677,Tabelas!$F$16:$G$21,2),\"\")))","v":""},null,null,null,null,null,null,null,null,null,null,null,null,null,null,null,"",{"$f":"+IF(AF2677=\"\",\"\",VLOOKUP(AF2677,Tabelas!$J$27:$K$30,2))","v":""}]
[null,null,null,null,null,null,{"$f":"+IF(F2680=\"\",\"\",VLOOKUP(F2680,Tabelas!$B$7:$C$96,2))","v":""},null,{"$f":"IF(H2680=\"\",\"\",ROUND(H2680/SUM(H2674:H2681),4))","v":""},null,null,null,null,null,null,{"$f":"+IF(O2680=\"\",\"\",IF(N2674=\"Transporte Marítimo\",VLOOKUP(O2680,Tabelas!$F$7:$G$12,2),IF(N2674=\"Transporte Aéreo\",VLOOKUP(O2680,Tabelas!$F$16:$G$21,2),\"\")))","v":""},null,null,null,null,null,null,null,null,null,null,null,null,null,null,null,"",{"$f":"+IF(AF2680=\"\",\"\",VLOOKUP(AF2680,Tabelas!$J$27:$K$30,2))","v":""}]
[null,null,null,null,null,null,{"$f":"+IF(F2683=\"\",\"\",VLOOKUP(F2683,Tabelas!$B$7:$C$96,2))","v":""},null,{"$f":"IF(H2683=\"\",\"\",ROUND(H2683/SUM(H2682:H2689),4))","v":""},null,null,null,null,null,null,{"$f":"+IF(O2683=\"\",\"\",IF(N2682=\"Transporte Marítimo\",VLOOKUP(O2683,Tabelas!$F$7:$G$12,2),IF(N2682=\"Transporte Aéreo\",VLOOKUP(O2683,Tabelas!$F$16:$G$21,2),\"\")))","v":""},null,null,null,null,null,null,null,null,null,null,null,null,null,null,null,"",{"$f":"+IF(AF2683=\"\",\"\",VLOOKUP(AF2683,Tabelas!$J$27:$K$30,2))","v":""}]
[null,null,null,null,null,null,{"$f":"+IF(F2684=\"\",\"\",VLOOKUP(F2684,Tabelas!$B$7:$C$96,2))","v":""},null,{"$f":"IF(H2684=\"\",\"\",ROUND(H2684/SUM(H2682:H2689),4))","v":""},null,null,null,null,null,null,{"$f":"+IF(O2684=\"\",\"\",IF(N2682=\"Transporte Marítimo\",VLOOKUP(O2684,Tabelas!$F$7:$G$12,2),IF(N2682=\"Transporte Aéreo\",VLOOKUP(O2684,Tabelas!$F$16:$G$21,2),\"\")))","v":""},null,null,null,null,null,null,null,null,null,null,null,null,null,null,null,"",{"$f":"+IF(AF2684=\"\",\"\",VLOOKUP(AF2684,Tabelas!$J$27:$K$30,2))","v":""}]
[null,null,null,null,null,null,{"$f":"+IF(F2687=\"\",\"\",VLOOKUP(F2687,Tabelas!$B$7:$C$96,2))","v":""},null,{"$f":"IF(H2687=\"\",\"\",ROUND(H2687/SUM(H2682:H2689),4))","v":""},null,null,null,null,null,null,{"$f":"+IF(O2687=\"\",\"\",IF(N2682=\"Transporte Marítimo\",VLOOKUP(O2687,Tabelas!$F$7:$G$12,2),IF(N2682=\"Transporte Aéreo\",VLOOKUP(O2687,Tabelas!$F$16:$G$21,2),\"\")))","v":""},null,null,null,null,null,null,null,null,null,null,null,null,null,null,null,"",{"$f":"+IF(AF2687=\"\",\"\",VLOOKUP(AF2687,Tabelas!$J$27:$K$30,2))","v":""}]
[null,null,null,null,null,null,{"$f":"+IF(F2689=\"\",\"\",VLOOKUP(F2689,Tabelas!$B$7:$C$96,2))","v":""},null,{"$f":"IF(H2689=\"\",\"\",ROUND(H2689/SUM(H2682:H2689),4))","v":""},null,null,null,null,null,null,{"$f":"+IF(O2689=\"\",\"\",IF(N2682=\"Transporte Marítimo\",VLOOKUP(O2689,Tabelas!$F$7:$G$12,2),IF(N2682=\"Transporte Aéreo\",VLOOKUP(O2689,Tabelas!$F$16:$G$21,2),\"\")))","v":""},null,null,null,null,null,null,null,null,null,null,null,null,null,null,null,"",{"$f":"+IF(AF2689=\"\",\"\",VLOOKUP(AF2689,Tabelas!$J$27:$K$30,2))","v":""}]
[null,null,null,null,null,null,{"$f":"+IF(F2692=\"\",\"\",VLOOKUP(F2692,Tabelas!$B$7:$C$96,2))","v":""},null,{"$f":"IF(H2692=\"\",\"\",ROUND(H2692/SUM(H2690:H2697),4))","v":""},null,null,null,null,null,null,{"$f":"+IF(O2692=\"\",\"\",IF(N2690=\"Transporte Marítimo\",VLOOKUP(O2692,Tabelas!$F$7:$G$12,2),IF(N2690=\"Transporte Aéreo\",VLOOKUP(O2692,Tabelas!$F$16:$G$21,2),\"\")))","v":""},null,null,null,null,null,null,null,null,null,null,null,null,null,null,null,"",{"$f":"+IF(AF2692=\"\",\"\",VLOOKUP(AF2692,Tabelas!$J$27:$K$30,2))","v":""}]
[null,null,null,null,null,null,{"$f":"+IF(F2693=\"\",\"\",VLOOKUP(F2693,Tabelas!$B$7:$C$96,2))","v":""},null,{"$f":"IF(H2693=\"\",\"\",ROUND(H2693/SUM(H2690:H2697),4))","v":""},null,null,null,null,null,null,{"$f":"+IF(O2693=\"\",\"\",IF(N2690=\"Transporte Marítimo\",VLOOKUP(O2693,Tabelas!$F$7:$G$12,2),IF(N2690=\"Transporte Aéreo\",VLOOKUP(O2693,Tabelas!$F$16:$G$21,2),\"\")))","v":""},null,null,null,null,null,null,null,null,null,null,null,null,null,null,null,"",{"$f":"+IF(AF2693=\"\",\"\",VLOOKUP(AF2693,Tabelas!$J$27:$K$30,2))","v":""}]
[null,null,null,null,null,null,{"$f":"+IF(F2695=\"\",\"\",VLOOKUP(F2695,Tabelas!$B$7:$C$96,2))","v":""},null,{"$f":"IF(H2695=\"\",\"\",ROUND(H2695/SUM(H2690:H2697),4))","v":""},null,null,null,null,null,null,{"$f":"+IF(O2695=\"\",\"\",IF(N2690=\"Transporte Marítimo\",VLOOKUP(O2695,Tabelas!$F$7:$G$12,2),IF(N2690=\"Transporte Aéreo\",VLOOKUP(O2695,Tabelas!$F$16:$G$21,2),\"\")))","v":""},null,null,null,null,null,null,null,null,null,null,null,null,null,null,null,"",{"$f":"+IF(AF2695=\"\",\"\",VLOOKUP(AF2695,Tabelas!$J$27:$K$30,2))","v":""}]
[null,{"$f":"+B2690+1","v":336},null,null,null,null,{"$f":"+IF(F2698=\"\",\"\",VLOOKUP(F2698,Tabelas!$B$7:$C$96,2))","v":""},null,{"$f":"IF(H2698=\"\",\"\",1-SUM(I2699:I2705))","v":""},null,null,null,null,null,null,{"$f":"+IF(O2698=\"\",\"\",IF(N2698=\"Transporte Marítimo\",VLOOKUP(O2698,Tabelas!$F$7:$G$12,2),IF(N2698=\"Transporte Aéreo\",VLOOKUP(O2698,Tabelas!$F$16:$G$21,2),\"\")))","v":""},null,null,null,null,null,null,null,null,null,null,null,null,null,null,null,"",{"$f":"+IF(AF2698=\"\",\"\",VLOOKUP(AF2698,Tabelas!$J$27:$K$30,2))","v":""},null,null,null,null,null,null,null,null,null,null,null,null,null,null,null," "]
[null,null,null,null,null,null,{"$f":"+IF(F2701=\"\",\"\",VLOOKUP(F2701,Tabelas!$B$7:$C$96,2))","v":""},null,{"$f":"IF(H2701=\"\",\"\",ROUND(H2701/SUM(H2698:H2705),4))","v":""},null,null,null,null,null,null,{"$f":"+IF(O2701=\"\",\"\",IF(N2698=\"Transporte Marítimo\",VLOOKUP(O2701,Tabelas!$F$7:$G$12,2),IF(N2698=\"Transporte Aéreo\",VLOOKUP(O2701,Tabelas!$F$16:$G$21,2),\"\")))","v":""},null,null,null,null,null,null,null,null,null,null,null,null,null,null,null,"",{"$f":"+IF(AF2701=\"\",\"\",VLOOKUP(AF2701,Tabelas!$J$27:$K$30,2))","v":""}]
[null,null,null,null,null,null,{"$f":"+IF(F2702=\"\",\"\",VLOOKUP(F2702,Tabelas!$B$7:$C$96,2))","v":""},null,{"$f":"IF(H2702=\"\",\"\",ROUND(H2702/SUM(H2698:H2705),4))","v":""},null,null,null,null,null,null,{"$f":"+IF(O2702=\"\",\"\",IF(N2698=\"Transporte Marítimo\",VLOOKUP(O2702,Tabelas!$F$7:$G$12,2),IF(N2698=\"Transporte Aéreo\",VLOOKUP(O2702,Tabelas!$F$16:$G$21,2),\"\")))","v":""},null,null,null,null,null,null,null,null,null,null,null,null,null,null,null,"",{"$f":"+IF(AF2702=\"\",\"\",VLOOKUP(AF2702,Tabelas!$J$27:$K$30,2))","v":""}]
[null,null,null,null,null,null,{"$f":"+IF(F2705=\"\",\"\",VLOOKUP(F2705,Tabelas!$B$7:$C$96,2))","v":""},null,{"$f":"IF(H2705=\"\",\"\",ROUND(H2705/SUM(H2698:H2705),4))","v":""},null,null,null,null,null,null,{"$f":"+IF(O2705=\"\",\"\",IF(N2698=\"Transporte Marítimo\",VLOOKUP(O2705,Tabelas!$F$7:$G$12,2),IF(N2698=\"Transporte Aéreo\",VLOOKUP(O2705,Tabelas!$F$16:$G$21,2),\"\")))","v":""},null,null,null,null,null,null,null,null,null,null,null,null,null,null,null,"",{"$f":"+IF(AF2705=\"\",\"\",VLOOKUP(AF2705,Tabelas!$J$27:$K$30,2))","v":""}]
[null,null,null,null,null,null,{"$f":"+IF(F2708=\"\",\"\",VLOOKUP(F2708,Tabelas!$B$7:$C$96,2))","v":""},null,{"$f":"IF(H2708=\"\",\"\",ROUND(H2708/SUM(H2706:H2713),4))","v":""},null,null,null,null,null,null,{"$f":"+IF(O2708=\"\",\"\",IF(N2706=\"Transporte Marítimo\",VLOOKUP(O2708,Tabelas!$F$7:$G$12,2),IF(N2706=\"Transporte Aéreo\",VLOOKUP(O2708,Tabelas!$F$16:$G$21,2),\"\")))","v":""},null,null,null,null,null,null,null,null,null,null,null,null,null,null,null,"",{"$f":"+IF(AF2708=\"\",\"\",VLOOKUP(AF2708,Tabelas!$J$27:$K$30,2))","v":""}]
[null,null,null,null,null,null,{"$f":"+IF(F2710=\"\",\"\",VLOOKUP(F2710,Tabelas!$B$7:$C$96,2))","v":""},null,{"$f":"IF(H2710=\"\",\"\",ROUND(H2710/SUM(H2706:H2713),4))","v":""},null,null,null,null,null,null,{"$f":"+IF(O2710=\"\",\"\",IF(N2706=\"Transporte Marítimo\",VLOOKUP(O2710,Tabelas!$F$7:$G$12,2),IF(N2706=\"Transporte Aéreo\",VLOOKUP(O2710,Tabelas!$F$16:$G$21,2),\"\")))","v":""},null,null,null,null,null,null,null,null,null,null,null,null,null,null,null,"",{"$f":"+IF(AF2710=\"\",\"\",VLOOKUP(AF2710,Tabelas!$J$27:$K$30,2))","v":""}]
[null,null,null,null,null,null,{"$f":"+IF(F2711=\"\",\"\",VLOOKUP(F2711,Tabelas!$B$7:$C$96,2))","v":""},null,{"$f":"IF(H2711=\"\",\"\",ROUND(H2711/SUM(H2706:H2713),4))","v":""},null,null,null,null,null,null,{"$f":"+IF(O2711=\"\",\"\",IF(N2706=\"Transporte Marítimo\",VLOOKUP(O2711,Tabelas!$F$7:$G$12,2),IF(N2706=\"Transporte Aéreo\",VLOOKUP(O2711,Tabelas!$F$16:$G$21,2),\"\")))","v":""},null,null,null,null,null,null,null,null,null,null,null,null,null,null,null,"",{"$f":"+IF(AF2711=\"\",\"\",VLOOKUP(AF2711,Tabelas!$J$27:$K$30,2))","v":""}]
[null,{"$f":"+B2706+1","v":338},null,null,null,null,{"$f":"+IF(F2714=\"\",\"\",VLOOKUP(F2714,Tabelas!$B$7:$C$96,2))","v":""},null,{"$f":"IF(H2714=\"\",\"\",1-SUM(I2715:I2721))","v":""},null,null,null,null,null,null,{"$f":"+IF(O2714=\"\",\"\",IF(N2714=\"Transporte Marítimo\",VLOOKUP(O2714,Tabelas!$F$7:$G$12,2),IF(N2714=\"Transporte Aéreo\",VLOOKUP(O2714,Tabelas!$F$16:$G$21,2),\"\")))","v":""},null,null,null,null,null,null,null,null,null,null,null,null,null,null,null,"",{"$f":"+IF(AF2714=\"\",\"\",VLOOKUP(AF2714,Tabelas!$J$27:$K$30,2))","v":""},null,null,null,null,null,null,null,null,null,null,null,null,null,null,null," "]
[null,null,null,null,null,null,{"$f":"+IF(F2715=\"\",\"\",VLOOKUP(F2715,Tabelas!$B$7:$C$96,2))","v":""},null,{"$f":"IF(H2715=\"\",\"\",ROUND(H2715/SUM(H2714:H2721),4))","v":""},null,null,null,null,null,null,{"$f":"+IF(O2715=\"\",\"\",IF(N2714=\"Transporte Marítimo\",VLOOKUP(O2715,Tabelas!$F$7:$G$12,2),IF(N2714=\"Transporte Aéreo\",VLOOKUP(O2715,Tabelas!$F$16:$G$21,2),\"\")))","v":""},null,null,null,null,null,null,null,null,null,null,null,null,null,null,null,"",{"$f":"+IF(AF2715=\"\",\"\",VLOOKUP(AF2715,Tabelas!$J$27:$K$30,2))","v":""}]
[null,null,null,null,null,null,{"$f":"+IF(F2719=\"\",\"\",VLOOKUP(F2719,Tabelas!$B$7:$C$96,2))","v":""},null,{"$f":"IF(H2719=\"\",\"\",ROUND(H2719/SUM(H2714:H2721),4))","v":""},null,null,null,null,null,null,{"$f":"+IF(O2719=\"\",\"\",IF(N2714=\"Transporte Marítimo\",VLOOKUP(O2719,Tabelas!$F$7:$G$12,2),IF(N2714=\"Transporte Aéreo\",VLOOKUP(O2719,Tabelas!$F$16:$G$21,2),\"\")))","v":""},null,null,null,null,null,null,null,null,null,null,null,null,null,null,null,"",{"$f":"+IF(AF2719=\"\",\"\",VLOOKUP(AF2719,Tabelas!$J$27:$K$30,2))","v":""}]
[null,null,null,null,null,null,{"$f":"+IF(F2720=\"\",\"\",VLOOKUP(F2720,Tabelas!$B$7:$C$96,2))","v":""},null,{"$f":"IF(H2720=\"\",\"\",ROUND(H2720/SUM(H2714:H2721),4))","v":""},null,null,null,null,null,null,{"$f":"+IF(O2720=\"\",\"\",IF(N2714=\"Transporte Marítimo\",VLOOKUP(O2720,Tabelas!$F$7:$G$12,2),IF(N2714=\"Transporte Aéreo\",VLOOKUP(O2720,Tabelas!$F$16:$G$21,2),\"\")))","v":""},null,null,null,null,null,null,null,null,null,null,null,null,null,null,null,"",{"$f":"+IF(AF2720=\"\",\"\",VLOOKUP(AF2720,Tabelas!$J$27:$K$30,2))","v":""}]
[null,null,null,null,null,null,{"$f":"+IF(F2723=\"\",\"\",VLOOKUP(F2723,Tabelas!$B$7:$C$96,2))","v":""},null,{"$f":"IF(H2723=\"\",\"\",ROUND(H2723/SUM(H2722:H2729),4))","v":""},null,null,null,null,null,null,{"$f":"+IF(O2723=\"\",\"\",IF(N2722=\"Transporte Marítimo\",VLOOKUP(O2723,Tabelas!$F$7:$G$12,2),IF(N2722=\"Transporte Aéreo\",VLOOKUP(O2723,Tabelas!$F$16:$G$21,2),\"\")))","v":""},null,null,null,null,null,null,null,null,null,null,null,null,null,null,null,"",{"$f":"+IF(AF2723=\"\",\"\",VLOOKUP(AF2723,Tabelas!$J$27:$K$30,2))","v":""}]
[null,null,null,null,null,null,{"$f":"+IF(F2726=\"\",\"\",VLOOKUP(F2726,Tabelas!$B$7:$C$96,2))","v":""},null,{"$f":"IF(H2726=\"\",\"\",ROUND(H2726/SUM(H2722:H2729),4))","v":""},null,null,null,null,null,null,{"$f":"+IF(O2726=\"\",\"\",IF(N2722=\"Transporte Marítimo\",VLOOKUP(O2726,Tabelas!$F$7:$G$12,2),IF(N2722=\"Transporte Aéreo\",VLOOKUP(O2726,Tabelas!$F$16:$G$21,2),\"\")))","v":""},null,null,null,null,null,null,null,null,null,null,null,null,null,null,null,"",{"$f":"+IF(AF2726=\"\",\"\",VLOOKUP(AF2726,Tabelas!$J$27:$K$30,2))","v":""}]
[null,null,null,null,null,null,{"$f":"+IF(F2728=\"\",\"\",VLOOKUP(F2728,Tabelas!$B$7:$C$96,2))","v":""},null,{"$f":"IF(H2728=\"\",\"\",ROUND(H2728/SUM(H2722:H2729),4))","v":""},null,null,null,null,null,null,{"$f":"+IF(O2728=\"\",\"\",IF(N2722=\"Transporte Marítimo\",VLOOKUP(O2728,Tabelas!$F$7:$G$12,2),IF(N2722=\"Transporte Aéreo\",VLOOKUP(O2728,Tabelas!$F$16:$G$21,2),\"\")))","v":""},null,null,null,null,null,null,null,null,null,null,null,null,null,null,null,"",{"$f":"+IF(AF2728=\"\",\"\",VLOOKUP(AF2728,Tabelas!$J$27:$K$30,2))","v":""}]
[null,null,null,null,null,null,{"$f":"+IF(F2729=\"\",\"\",VLOOKUP(F2729,Tabelas!$B$7:$C$96,2))","v":""},null,{"$f":"IF(H2729=\"\",\"\",ROUND(H2729/SUM(H2722:H2729),4))","v":""},null,null,null,null,null,null,{"$f":"+IF(O2729=\"\",\"\",IF(N2722=\"Transporte Marítimo\",VLOOKUP(O2729,Tabelas!$F$7:$G$12,2),IF(N2722=\"Transporte Aéreo\",VLOOKUP(O2729,Tabelas!$F$16:$G$21,2),\"\")))","v":""},null,null,null,null,null,null,null,null,null,null,null,null,null,null,null,"",{"$f":"+IF(AF2729=\"\",\"\",VLOOKUP(AF2729,Tabelas!$J$27:$K$30,2))","v":""}]
[null,null,null,null,null,null,{"$f":"+IF(F2732=\"\",\"\",VLOOKUP(F2732,Tabelas!$B$7:$C$96,2))","v":""},null,{"$f":"IF(H2732=\"\",\"\",ROUND(H2732/SUM(H2730:H2737),4))","v":""},null,null,null,null,null,null,{"$f":"+IF(O2732=\"\",\"\",IF(N2730=\"Transporte Marítimo\",VLOOKUP(O2732,Tabelas!$F$7:$G$12,2),IF(N2730=\"Transporte Aéreo\",VLOOKUP(O2732,Tabelas!$F$16:$G$21,2),\"\")))","v":""},null,null,null,null,null,null,null,null,null,null,null,null,null,null,null,"",{"$f":"+IF(AF2732=\"\",\"\",VLOOKUP(AF2732,Tabelas!$J$27:$K$30,2))","v":""}]
[null,null,null,null,null,null,{"$f":"+IF(F2733=\"\",\"\",VLOOKUP(F2733,Tabelas!$B$7:$C$96,2))","v":""},null,{"$f":"IF(H2733=\"\",\"\",ROUND(H2733/SUM(H2730:H2737),4))","v":""},null,null,null,null,null,null,{"$f":"+IF(O2733=\"\",\"\",IF(N2730=\"Transporte Marítimo\",VLOOKUP(O2733,Tabelas!$F$7:$G$12,2),IF(N2730=\"Transporte Aéreo\",VLOOKUP(O2733,Tabelas!$F$16:$G$21,2),\"\")))","v":""},null,null,null,null,null,null,null,null,null,null,null,null,null,null,null,"",{"$f":"+IF(AF2733=\"\",\"\",VLOOKUP(AF2733,Tabelas!$J$27:$K$30,2))","v":""}]
[null,null,null,null,null,null,{"$f":"+IF(F2736=\"\",\"\",VLOOKUP(F2736,Tabelas!$B$7:$C$96,2))","v":""},null,{"$f":"IF(H2736=\"\",\"\",ROUND(H2736/SUM(H2730:H2737),4))","v":""},null,null,null,null,null,null,{"$f":"+IF(O2736=\"\",\"\",IF(N2730=\"Transporte Marítimo\",VLOOKUP(O2736,Tabelas!$F$7:$G$12,2),IF(N2730=\"Transporte Aéreo\",VLOOKUP(O2736,Tabelas!$F$16:$G$21,2),\"\")))","v":""},null,null,null,null,null,null,null,null,null,null,null,null,null,null,null,"",{"$f":"+IF(AF2736=\"\",\"\",VLOOKUP(AF2736,Tabelas!$J$27:$K$30,2))","v":""}]
[null,{"$f":"+B2730+1","v":341},null,null,null,null,{"$f":"+IF(F2738=\"\",\"\",VLOOKUP(F2738,Tabelas!$B$7:$C$96,2))","v":""},null,{"$f":"IF(H2738=\"\",\"\",1-SUM(I2739:I2745))","v":""},null,null,null,null,null,null,{"$f":"+IF(O2738=\"\",\"\",IF(N2738=\"Transporte Marítimo\",VLOOKUP(O2738,Tabelas!$F$7:$G$12,2),IF(N2738=\"Transporte Aéreo\",VLOOKUP(O2738,Tabelas!$F$16:$G$21,2),\"\")))","v":""},null,null,null,null,null,null,null,null,null,null,null,null,null,null,null,"",{"$f":"+IF(AF2738=\"\",\"\",VLOOKUP(AF2738,Tabelas!$J$27:$K$30,2))","v":""},null,null,null,null,null,null,null,null,null,null,null,null,null,null,null," "]
[null,null,null,null,null,null,{"$f":"+IF(F2741=\"\",\"\",VLOOKUP(F2741,Tabelas!$B$7:$C$96,2))","v":""},null,{"$f":"IF(H2741=\"\",\"\",ROUND(H2741/SUM(H2738:H2745),4))","v":""},null,null,null,null,null,null,{"$f":"+IF(O2741=\"\",\"\",IF(N2738=\"Transporte Marítimo\",VLOOKUP(O2741,Tabelas!$F$7:$G$12,2),IF(N2738=\"Transporte Aéreo\",VLOOKUP(O2741,Tabelas!$F$16:$G$21,2),\"\")))","v":""},null,null,null,null,null,null,null,null,null,null,null,null,null,null,null,"",{"$f":"+IF(AF2741=\"\",\"\",VLOOKUP(AF2741,Tabelas!$J$27:$K$30,2))","v":""}]
[null,null,null,null,null,null,{"$f":"+IF(F2742=\"\",\"\",VLOOKUP(F2742,Tabelas!$B$7:$C$96,2))","v":""},null,{"$f":"IF(H2742=\"\",\"\",ROUND(H2742/SUM(H2738:H2745),4))","v":""},null,null,null,null,null,null,{"$f":"+IF(O2742=\"\",\"\",IF(N2738=\"Transporte Marítimo\",VLOOKUP(O2742,Tabelas!$F$7:$G$12,2),IF(N2738=\"Transporte Aéreo\",VLOOKUP(O2742,Tabelas!$F$16:$G$21,2),\"\")))","v":""},null,null,null,null,null,null,null,null,null,null,null,null,null,null,null,"",{"$f":"+IF(AF2742=\"\",\"\",VLOOKUP(AF2742,Tabelas!$J$27:$K$30,2))","v":""}]
[null,{"$f":"+B2738+1","v":342},null,null,null,null,{"$f":"+IF(F2746=\"\",\"\",VLOOKUP(F2746,Tabelas!$B$7:$C$96,2))","v":""},null,{"$f":"IF(H2746=\"\",\"\",1-SUM(I2747:I2753))","v":""},null,null,null,null,null,null,{"$f":"+IF(O2746=\"\",\"\",IF(N2746=\"Transporte Marítimo\",VLOOKUP(O2746,Tabelas!$F$7:$G$12,2),IF(N2746=\"Transporte Aéreo\",VLOOKUP(O2746,Tabelas!$F$16:$G$21,2),\"\")))","v":""},null,null,null,null,null,null,null,null,null,null,null,null,null,null,null,"",{"$f":"+IF(AF2746=\"\",\"\",VLOOKUP(AF2746,Tabelas!$J$27:$K$30,2))","v":""},null,null,null,null,null,null,null,null,null,null,null,null,null,null,null," "]
[null,null,null,null,null,null,{"$f":"+IF(F2747=\"\",\"\",VLOOKUP(F2747,Tabelas!$B$7:$C$96,2))","v":""},null,{"$f":"IF(H2747=\"\",\"\",ROUND(H2747/SUM(H2746:H2753),4))","v":""},null,null,null,null,null,null,{"$f":"+IF(O2747=\"\",\"\",IF(N2746=\"Transporte Marítimo\",VLOOKUP(O2747,Tabelas!$F$7:$G$12,2),IF(N2746=\"Transporte Aéreo\",VLOOKUP(O2747,Tabelas!$F$16:$G$21,2),\"\")))","v":""},null,null,null,null,null,null,null,null,null,null,null,null,null,null,null,"",{"$f":"+IF(AF2747=\"\",\"\",VLOOKUP(AF2747,Tabelas!$J$27:$K$30,2))","v":""}]
[null,null,null,null,null,null,{"$f":"+IF(F2750=\"\",\"\",VLOOKUP(F2750,Tabelas!$B$7:$C$96,2))","v":""},null,{"$f":"IF(H2750=\"\",\"\",ROUND(H2750/SUM(H2746:H2753),4))","v":""},null,null,null,null,null,null,{"$f":"+IF(O2750=\"\",\"\",IF(N2746=\"Transporte Marítimo\",VLOOKUP(O2750,Tabelas!$F$7:$G$12,2),IF(N2746=\"Transporte Aéreo\",VLOOKUP(O2750,Tabelas!$F$16:$G$21,2),\"\")))","v":""},null,null,null,null,null,null,null,null,null,null,null,null,null,null,null,"",{"$f":"+IF(AF2750=\"\",\"\",VLOOKUP(AF2750,Tabelas!$J$27:$K$30,2))","v":""}]
[null,null,null,null,null,null,{"$f":"+IF(F2751=\"\",\"\",VLOOKUP(F2751,Tabelas!$B$7:$C$96,2))","v":""},null,{"$f":"IF(H2751=\"\",\"\",ROUND(H2751/SUM(H2746:H2753),4))","v":""},null,null,null,null,null,null,{"$f":"+IF(O2751=\"\",\"\",IF(N2746=\"Transporte Marítimo\",VLOOKUP(O2751,Tabelas!$F$7:$G$12,2),IF(N2746=\"Transporte Aéreo\",VLOOKUP(O2751,Tabelas!$F$16:$G$21,2),\"\")))","v":""},null,null,null,null,null,null,null,null,null,null,null,null,null,null,null,"",{"$f":"+IF(AF2751=\"\",\"\",VLOOKUP(AF2751,Tabelas!$J$27:$K$30,2))","v":""}]
[null,{"$f":"+B2746+1","v":343},null,null,null,null,{"$f":"+IF(F2754=\"\",\"\",VLOOKUP(F2754,Tabelas!$B$7:$C$96,2))","v":""},null,{"$f":"IF(H2754=\"\",\"\",1-SUM(I2755:I2761))","v":""},null,null,null,null,null,null,{"$f":"+IF(O2754=\"\",\"\",IF(N2754=\"Transporte Marítimo\",VLOOKUP(O2754,Tabelas!$F$7:$G$12,2),IF(N2754=\"Transporte Aéreo\",VLOOKUP(O2754,Tabelas!$F$16:$G$21,2),\"\")))","v":""},null,null,null,null,null,null,null,null,null,null,null,null,null,null,null,"",{"$f":"+IF(AF2754=\"\",\"\",VLOOKUP(AF2754,Tabelas!$J$27:$K$30,2))","v":""},null,null,null,null,null,null,null,null,null,null,null,null,null,null,null," "]
[null,null,null,null,null,null,{"$f":"+IF(F2756=\"\",\"\",VLOOKUP(F2756,Tabelas!$B$7:$C$96,2))","v":""},null,{"$f":"IF(H2756=\"\",\"\",ROUND(H2756/SUM(H2754:H2761),4))","v":""},null,null,null,null,null,null,{"$f":"+IF(O2756=\"\",\"\",IF(N2754=\"Transporte Marítimo\",VLOOKUP(O2756,Tabelas!$F$7:$G$12,2),IF(N2754=\"Transporte Aéreo\",VLOOKUP(O2756,Tabelas!$F$16:$G$21,2),\"\")))","v":""},null,null,null,null,null,null,null,null,null,null,null,null,null,null,null,"",{"$f":"+IF(AF2756=\"\",\"\",VLOOKUP(AF2756,Tabelas!$J$27:$K$30,2))","v":""}]
[null,null,null,null,null,null,{"$f":"+IF(F2759=\"\",\"\",VLOOKUP(F2759,Tabelas!$B$7:$C$96,2))","v":""},null,{"$f":"IF(H2759=\"\",\"\",ROUND(H2759/SUM(H2754:H2761),4))","v":""},null,null,null,null,null,null,{"$f":"+IF(O2759=\"\",\"\",IF(N2754=\"Transporte Marítimo\",VLOOKUP(O2759,Tabelas!$F$7:$G$12,2),IF(N2754=\"Transporte Aéreo\",VLOOKUP(O2759,Tabelas!$F$16:$G$21,2),\"\")))","v":""},null,null,null,null,null,null,null,null,null,null,null,null,null,null,null,"",{"$f":"+IF(AF2759=\"\",\"\",VLOOKUP(AF2759,Tabelas!$J$27:$K$30,2))","v":""}]
[null,null,null,null,null,null,{"$f":"+IF(F2760=\"\",\"\",VLOOKUP(F2760,Tabelas!$B$7:$C$96,2))","v":""},null,{"$f":"IF(H2760=\"\",\"\",ROUND(H2760/SUM(H2754:H2761),4))","v":""},null,null,null,null,null,null,{"$f":"+IF(O2760=\"\",\"\",IF(N2754=\"Transporte Marítimo\",VLOOKUP(O2760,Tabelas!$F$7:$G$12,2),IF(N2754=\"Transporte Aéreo\",VLOOKUP(O2760,Tabelas!$F$16:$G$21,2),\"\")))","v":""},null,null,null,null,null,null,null,null,null,null,null,null,null,null,null,"",{"$f":"+IF(AF2760=\"\",\"\",VLOOKUP(AF2760,Tabelas!$J$27:$K$30,2))","v":""}]
[null,null,null,null,null,null,{"$f":"+IF(F2763=\"\",\"\",VLOOKUP(F2763,Tabelas!$B$7:$C$96,2))","v":""},null,{"$f":"IF(H2763=\"\",\"\",ROUND(H2763/SUM(H2762:H2769),4))","v":""},null,null,null,null,null,null,{"$f":"+IF(O2763=\"\",\"\",IF(N2762=\"Transporte Marítimo\",VLOOKUP(O2763,Tabelas!$F$7:$G$12,2),IF(N2762=\"Transporte Aéreo\",VLOOKUP(O2763,Tabelas!$F$16:$G$21,2),\"\")))","v":""},null,null,null,null,null,null,null,null,null,null,null,null,null,null,null,"",{"$f":"+IF(AF2763=\"\",\"\",VLOOKUP(AF2763,Tabelas!$J$27:$K$30,2))","v":""}]
[null,null,null,null,null,null,{"$f":"+IF(F2764=\"\",\"\",VLOOKUP(F2764,Tabelas!$B$7:$C$96,2))","v":""},null,{"$f":"IF(H2764=\"\",\"\",ROUND(H2764/SUM(H2762:H2769),4))","v":""},null,null,null,null,null,null,{"$f":"+IF(O2764=\"\",\"\",IF(N2762=\"Transporte Marítimo\",VLOOKUP(O2764,Tabelas!$F$7:$G$12,2),IF(N2762=\"Transporte Aéreo\",VLOOKUP(O2764,Tabelas!$F$16:$G$21,2),\"\")))","v":""},null,null,null,null,null,null,null,null,null,null,null,null,null,null,null,"",{"$f":"+IF(AF2764=\"\",\"\",VLOOKUP(AF2764,Tabelas!$J$27:$K$30,2))","v":""}]
[null,null,null,null,null,null,{"$f":"+IF(F2768=\"\",\"\",VLOOKUP(F2768,Tabelas!$B$7:$C$96,2))","v":""},null,{"$f":"IF(H2768=\"\",\"\",ROUND(H2768/SUM(H2762:H2769),4))","v":""},null,null,null,null,null,null,{"$f":"+IF(O2768=\"\",\"\",IF(N2762=\"Transporte Marítimo\",VLOOKUP(O2768,Tabelas!$F$7:$G$12,2),IF(N2762=\"Transporte Aéreo\",VLOOKUP(O2768,Tabelas!$F$16:$G$21,2),\"\")))","v":""},null,null,null,null,null,null,null,null,null,null,null,null,null,null,null,"",{"$f":"+IF(AF2768=\"\",\"\",VLOOKUP(AF2768,Tabelas!$J$27:$K$30,2))","v":""}]
[null,null,null,null,null,null,{"$f":"+IF(F2769=\"\",\"\",VLOOKUP(F2769,Tabelas!$B$7:$C$96,2))","v":""},null,{"$f":"IF(H2769=\"\",\"\",ROUND(H2769/SUM(H2762:H2769),4))","v":""},null,null,null,null,null,null,{"$f":"+IF(O2769=\"\",\"\",IF(N2762=\"Transporte Marítimo\",VLOOKUP(O2769,Tabelas!$F$7:$G$12,2),IF(N2762=\"Transporte Aéreo\",VLOOKUP(O2769,Tabelas!$F$16:$G$21,2),\"\")))","v":""},null,null,null,null,null,null,null,null,null,null,null,null,null,null,null,"",{"$f":"+IF(AF2769=\"\",\"\",VLOOKUP(AF2769,Tabelas!$J$27:$K$30,2))","v":""}]
[null,null,null,null,null,null,{"$f":"+IF(F2772=\"\",\"\",VLOOKUP(F2772,Tabelas!$B$7:$C$96,2))","v":""},null,{"$f":"IF(H2772=\"\",\"\",ROUND(H2772/SUM(H2770:H2777),4))","v":""},null,null,null,null,null,null,{"$f":"+IF(O2772=\"\",\"\",IF(N2770=\"Transporte Marítimo\",VLOOKUP(O2772,Tabelas!$F$7:$G$12,2),IF(N2770=\"Transporte Aéreo\",VLOOKUP(O2772,Tabelas!$F$16:$G$21,2),\"\")))","v":""},null,null,null,null,null,null,null,null,null,null,null,null,null,null,null,"",{"$f":"+IF(AF2772=\"\",\"\",VLOOKUP(AF2772,Tabelas!$J$27:$K$30,2))","v":""}]
[null,null,null,null,null,null,{"$f":"+IF(F2774=\"\",\"\",VLOOKUP(F2774,Tabelas!$B$7:$C$96,2))","v":""},null,{"$f":"IF(H2774=\"\",\"\",ROUND(H2774/SUM(H2770:H2777),4))","v":""},null,null,null,null,null,null,{"$f":"+IF(O2774=\"\",\"\",IF(N2770=\"Transporte Marítimo\",VLOOKUP(O2774,Tabelas!$F$7:$G$12,2),IF(N2770=\"Transporte Aéreo\",VLOOKUP(O2774,Tabelas!$F$16:$G$21,2),\"\")))","v":""},null,null,null,null,null,null,null,null,null,null,null,null,null,null,null,"",{"$f":"+IF(AF2774=\"\",\"\",VLOOKUP(AF2774,Tabelas!$J$27:$K$30,2))","v":""}]
[null,null,null,null,null,null,{"$f":"+IF(F2777=\"\",\"\",VLOOKUP(F2777,Tabelas!$B$7:$C$96,2))","v":""},null,{"$f":"IF(H2777=\"\",\"\",ROUND(H2777/SUM(H2770:H2777),4))","v":""},null,null,null,null,null,null,{"$f":"+IF(O2777=\"\",\"\",IF(N2770=\"Transporte Marítimo\",VLOOKUP(O2777,Tabelas!$F$7:$G$12,2),IF(N2770=\"Transporte Aéreo\",VLOOKUP(O2777,Tabelas!$F$16:$G$21,2),\"\")))","v":""},null,null,null,null,null,null,null,null,null,null,null,null,null,null,null,"",{"$f":"+IF(AF2777=\"\",\"\",VLOOKUP(AF2777,Tabelas!$J$27:$K$30,2))","v":""}]
[null,{"$f":"+B2770+1","v":346},null,null,null,null,{"$f":"+IF(F2778=\"\",\"\",VLOOKUP(F2778,Tabelas!$B$7:$C$96,2))","v":""},null,{"$f":"IF(H2778=\"\",\"\",1-SUM(I2779:I2785))","v":""},null,null,null,null,null,null,{"$f":"+IF(O2778=\"\",\"\",IF(N2778=\"Transporte Marítimo\",VLOOKUP(O2778,Tabelas!$F$7:$G$12,2),IF(N2778=\"Transporte Aéreo\",VLOOKUP(O2778,Tabelas!$F$16:$G$21,2),\"\")))","v":""},null,null,null,null,null,null,null,null,null,null,null,null,null,null,null,"",{"$f":"+IF(AF2778=\"\",\"\",VLOOKUP(AF2778,Tabelas!$J$27:$K$30,2))","v":""},null,null,null,null,null,null,null,null,null,null,null,null,null,null,null," "]
[null,null,null,null,null,null,{"$f":"+IF(F2781=\"\",\"\",VLOOKUP(F2781,Tabelas!$B$7:$C$96,2))","v":""},null,{"$f":"IF(H2781=\"\",\"\",ROUND(H2781/SUM(H2778:H2785),4))","v":""},null,null,null,null,null,null,{"$f":"+IF(O2781=\"\",\"\",IF(N2778=\"Transporte Marítimo\",VLOOKUP(O2781,Tabelas!$F$7:$G$12,2),IF(N2778=\"Transporte Aéreo\",VLOOKUP(O2781,Tabelas!$F$16:$G$21,2),\"\")))","v":""},null,null,null,null,null,null,null,null,null,null,null,null,null,null,null,"",{"$f":"+IF(AF2781=\"\",\"\",VLOOKUP(AF2781,Tabelas!$J$27:$K$30,2))","v":""}]
[null,null,null,null,null,null,{"$f":"+IF(F2782=\"\",\"\",VLOOKUP(F2782,Tabelas!$B$7:$C$96,2))","v":""},null,{"$f":"IF(H2782=\"\",\"\",ROUND(H2782/SUM(H2778:H2785),4))","v":""},null,null,null,null,null,null,{"$f":"+IF(O2782=\"\",\"\",IF(N2778=\"Transporte Marítimo\",VLOOKUP(O2782,Tabelas!$F$7:$G$12,2),IF(N2778=\"Transporte Aéreo\",VLOOKUP(O2782,Tabelas!$F$16:$G$21,2),\"\")))","v":""},null,null,null,null,null,null,null,null,null,null,null,null,null,null,null,"",{"$f":"+IF(AF2782=\"\",\"\",VLOOKUP(AF2782,Tabelas!$J$27:$K$30,2))","v":""}]
[null,{"$f":"+B2778+1","v":347},null,null,null,null,{"$f":"+IF(F2786=\"\",\"\",VLOOKUP(F2786,Tabelas!$B$7:$C$96,2))","v":""},null,{"$f":"IF(H2786=\"\",\"\",1-SUM(I2787:I2793))","v":""},null,null,null,null,null,null,{"$f":"+IF(O2786=\"\",\"\",IF(N2786=\"Transporte Marítimo\",VLOOKUP(O2786,Tabelas!$F$7:$G$12,2),IF(N2786=\"Transporte Aéreo\",VLOOKUP(O2786,Tabelas!$F$16:$G$21,2),\"\")))","v":""},null,null,null,null,null,null,null,null,null,null,null,null,null,null,null,"",{"$f":"+IF(AF2786=\"\",\"\",VLOOKUP(AF2786,Tabelas!$J$27:$K$30,2))","v":""},null,null,null,null,null,null,null,null,null,null,null,null,null,null,null," "]
[null,null,null,null,null,null,{"$f":"+IF(F2787=\"\",\"\",VLOOKUP(F2787,Tabelas!$B$7:$C$96,2))","v":""},null,{"$f":"IF(H2787=\"\",\"\",ROUND(H2787/SUM(H2786:H2793),4))","v":""},null,null,null,null,null,null,{"$f":"+IF(O2787=\"\",\"\",IF(N2786=\"Transporte Marítimo\",VLOOKUP(O2787,Tabelas!$F$7:$G$12,2),IF(N2786=\"Transporte Aéreo\",VLOOKUP(O2787,Tabelas!$F$16:$G$21,2),\"\")))","v":""},null,null,null,null,null,null,null,null,null,null,null,null,null,null,null,"",{"$f":"+IF(AF2787=\"\",\"\",VLOOKUP(AF2787,Tabelas!$J$27:$K$30,2))","v":""}]
[null,null,null,null,null,null,{"$f":"+IF(F2790=\"\",\"\",VLOOKUP(F2790,Tabelas!$B$7:$C$96,2))","v":""},null,{"$f":"IF(H2790=\"\",\"\",ROUND(H2790/SUM(H2786:H2793),4))","v":""},null,null,null,null,null,null,{"$f":"+IF(O2790=\"\",\"\",IF(N2786=\"Transporte Marítimo\",VLOOKUP(O2790,Tabelas!$F$7:$G$12,2),IF(N2786=\"Transporte Aéreo\",VLOOKUP(O2790,Tabelas!$F$16:$G$21,2),\"\")))","v":""},null,null,null,null,null,null,null,null,null,null,null,null,null,null,null,"",{"$f":"+IF(AF2790=\"\",\"\",VLOOKUP(AF2790,Tabelas!$J$27:$K$30,2))","v":""}]
[null,null,null,null,null,null,{"$f":"+IF(F2791=\"\",\"\",VLOOKUP(F2791,Tabelas!$B$7:$C$96,2))","v":""},null,{"$f":"IF(H2791=\"\",\"\",ROUND(H2791/SUM(H2786:H2793),4))","v":""},null,null,null,null,null,null,{"$f":"+IF(O2791=\"\",\"\",IF(N2786=\"Transporte Marítimo\",VLOOKUP(O2791,Tabelas!$F$7:$G$12,2),IF(N2786=\"Transporte Aéreo\",VLOOKUP(O2791,Tabelas!$F$16:$G$21,2),\"\")))","v":""},null,null,null,null,null,null,null,null,null,null,null,null,null,null,null,"",{"$f":"+IF(AF2791=\"\",\"\",VLOOKUP(AF2791,Tabelas!$J$27:$K$30,2))","v":""}]
[null,null,null,null,null,null,{"$f":"+IF(F2795=\"\",\"\",VLOOKUP(F2795,Tabelas!$B$7:$C$96,2))","v":""},null,{"$f":"IF(H2795=\"\",\"\",ROUND(H2795/SUM(H2794:H2801),4))","v":""},null,null,null,null,null,null,{"$f":"+IF(O2795=\"\",\"\",IF(N2794=\"Transporte Marítimo\",VLOOKUP(O2795,Tabelas!$F$7:$G$12,2),IF(N2794=\"Transporte Aéreo\",VLOOKUP(O2795,Tabelas!$F$16:$G$21,2),\"\")))","v":""},null,null,null,null,null,null,null,null,null,null,null,null,null,null,null,"",{"$f":"+IF(AF2795=\"\",\"\",VLOOKUP(AF2795,Tabelas!$J$27:$K$30,2))","v":""}]
[null,null,null,null,null,null,{"$f":"+IF(F2796=\"\",\"\",VLOOKUP(F2796,Tabelas!$B$7:$C$96,2))","v":""},null,{"$f":"IF(H2796=\"\",\"\",ROUND(H2796/SUM(H2794:H2801),4))","v":""},null,null,null,null,null,null,{"$f":"+IF(O2796=\"\",\"\",IF(N2794=\"Transporte Marítimo\",VLOOKUP(O2796,Tabelas!$F$7:$G$12,2),IF(N2794=\"Transporte Aéreo\",VLOOKUP(O2796,Tabelas!$F$16:$G$21,2),\"\")))","v":""},null,null,null,null,null,null,null,null,null,null,null,null,null,null,null,"",{"$f":"+IF(AF2796=\"\",\"\",VLOOKUP(AF2796,Tabelas!$J$27:$K$30,2))","v":""}]
[null,null,null,null,null,null,{"$f":"+IF(F2799=\"\",\"\",VLOOKUP(F2799,Tabelas!$B$7:$C$96,2))","v":""},null,{"$f":"IF(H2799=\"\",\"\",ROUND(H2799/SUM(H2794:H2801),4))","v":""},null,null,null,null,null,null,{"$f":"+IF(O2799=\"\",\"\",IF(N2794=\"Transporte Marítimo\",VLOOKUP(O2799,Tabelas!$F$7:$G$12,2),IF(N2794=\"Transporte Aéreo\",VLOOKUP(O2799,Tabelas!$F$16:$G$21,2),\"\")))","v":""},null,null,null,null,null,null,null,null,null,null,null,null,null,null,null,"",{"$f":"+IF(AF2799=\"\",\"\",VLOOKUP(AF2799,Tabelas!$J$27:$K$30,2))","v":""}]
[null,null,null,null,null,null,{"$f":"+IF(F2800=\"\",\"\",VLOOKUP(F2800,Tabelas!$B$7:$C$96,2))","v":""},null,{"$f":"IF(H2800=\"\",\"\",ROUND(H2800/SUM(H2794:H2801),4))","v":""},null,null,null,null,null,null,{"$f":"+IF(O2800=\"\",\"\",IF(N2794=\"Transporte Marítimo\",VLOOKUP(O2800,Tabelas!$F$7:$G$12,2),IF(N2794=\"Transporte Aéreo\",VLOOKUP(O2800,Tabelas!$F$16:$G$21,2),\"\")))","v":""},null,null,null,null,null,null,null,null,null,null,null,null,null,null,null,"",{"$f":"+IF(AF2800=\"\",\"\",VLOOKUP(AF2800,Tabelas!$J$27:$K$30,2))","v":""}]
[null,{"$f":"+B2794+1","v":349},null,null,null,null,{"$f":"+IF(F2802=\"\",\"\",VLOOKUP(F2802,Tabelas!$B$7:$C$96,2))","v":""},null,{"$f":"IF(H2802=\"\",\"\",1-SUM(I2803:I2809))","v":""},null,null,null,null,null,null,{"$f":"+IF(O2802=\"\",\"\",IF(N2802=\"Transporte Marítimo\",VLOOKUP(O2802,Tabelas!$F$7:$G$12,2),IF(N2802=\"Transporte Aéreo\",VLOOKUP(O2802,Tabelas!$F$16:$G$21,2),\"\")))","v":""},null,null,null,null,null,null,null,null,null,null,null,null,null,null,null,"",{"$f":"+IF(AF2802=\"\",\"\",VLOOKUP(AF2802,Tabelas!$J$27:$K$30,2))","v":""},null,null,null,null,null,null,null,null,null,null,null,null,null,null,null," "]
[null,null,null,null,null,null,{"$f":"+IF(F2805=\"\",\"\",VLOOKUP(F2805,Tabelas!$B$7:$C$96,2))","v":""},null,{"$f":"IF(H2805=\"\",\"\",ROUND(H2805/SUM(H2802:H2809),4))","v":""},null,null,null,null,null,null,{"$f":"+IF(O2805=\"\",\"\",IF(N2802=\"Transporte Marítimo\",VLOOKUP(O2805,Tabelas!$F$7:$G$12,2),IF(N2802=\"Transporte Aéreo\",VLOOKUP(O2805,Tabelas!$F$16:$G$21,2),\"\")))","v":""},null,null,null,null,null,null,null,null,null,null,null,null,null,null,null,"",{"$f":"+IF(AF2805=\"\",\"\",VLOOKUP(AF2805,Tabelas!$J$27:$K$30,2))","v":""}]
[null,null,null,null,null,null,{"$f":"+IF(F2808=\"\",\"\",VLOOKUP(F2808,Tabelas!$B$7:$C$96,2))","v":""},null,{"$f":"IF(H2808=\"\",\"\",ROUND(H2808/SUM(H2802:H2809),4))","v":""},null,null,null,null,null,null,{"$f":"+IF(O2808=\"\",\"\",IF(N2802=\"Transporte Marítimo\",VLOOKUP(O2808,Tabelas!$F$7:$G$12,2),IF(N2802=\"Transporte Aéreo\",VLOOKUP(O2808,Tabelas!$F$16:$G$21,2),\"\")))","v":""},null,null,null,null,null,null,null,null,null,null,null,null,null,null,null,"",{"$f":"+IF(AF2808=\"\",\"\",VLOOKUP(AF2808,Tabelas!$J$27:$K$30,2))","v":""}]
[null,null,null,null,null,null,{"$f":"+IF(F2809=\"\",\"\",VLOOKUP(F2809,Tabelas!$B$7:$C$96,2))","v":""},null,{"$f":"IF(H2809=\"\",\"\",ROUND(H2809/SUM(H2802:H2809),4))","v":""},null,null,null,null,null,null,{"$f":"+IF(O2809=\"\",\"\",IF(N2802=\"Transporte Marítimo\",VLOOKUP(O2809,Tabelas!$F$7:$G$12,2),IF(N2802=\"Transporte Aéreo\",VLOOKUP(O2809,Tabelas!$F$16:$G$21,2),\"\")))","v":""},null,null,null,null,null,null,null,null,null,null,null,null,null,null,null,"",{"$f":"+IF(AF2809=\"\",\"\",VLOOKUP(AF2809,Tabelas!$J$27:$K$30,2))","v":""}]
[null,null,null,null,null,null,{"$f":"+IF(F2812=\"\",\"\",VLOOKUP(F2812,Tabelas!$B$7:$C$96,2))","v":""},null,{"$f":"IF(H2812=\"\",\"\",ROUND(H2812/SUM(H2810:H2817),4))","v":""},null,null,null,null,null,null,{"$f":"+IF(O2812=\"\",\"\",IF(N2810=\"Transporte Marítimo\",VLOOKUP(O2812,Tabelas!$F$7:$G$12,2),IF(N2810=\"Transporte Aéreo\",VLOOKUP(O2812,Tabelas!$F$16:$G$21,2),\"\")))","v":""},null,null,null,null,null,null,null,null,null,null,null,null,null,null,null,"",{"$f":"+IF(AF2812=\"\",\"\",VLOOKUP(AF2812,Tabelas!$J$27:$K$30,2))","v":""}]
[null,null,null,null,null,null,{"$f":"+IF(F2815=\"\",\"\",VLOOKUP(F2815,Tabelas!$B$7:$C$96,2))","v":""},null,{"$f":"IF(H2815=\"\",\"\",ROUND(H2815/SUM(H2810:H2817),4))","v":""},null,null,null,null,null,null,{"$f":"+IF(O2815=\"\",\"\",IF(N2810=\"Transporte Marítimo\",VLOOKUP(O2815,Tabelas!$F$7:$G$12,2),IF(N2810=\"Transporte Aéreo\",VLOOKUP(O2815,Tabelas!$F$16:$G$21,2),\"\")))","v":""},null,null,null,null,null,null,null,null,null,null,null,null,null,null,null,"",{"$f":"+IF(AF2815=\"\",\"\",VLOOKUP(AF2815,Tabelas!$J$27:$K$30,2))","v":""}]
[null,null,null,null,null,null,{"$f":"+IF(F2817=\"\",\"\",VLOOKUP(F2817,Tabelas!$B$7:$C$96,2))","v":""},null,{"$f":"IF(H2817=\"\",\"\",ROUND(H2817/SUM(H2810:H2817),4))","v":""},null,null,null,null,null,null,{"$f":"+IF(O2817=\"\",\"\",IF(N2810=\"Transporte Marítimo\",VLOOKUP(O2817,Tabelas!$F$7:$G$12,2),IF(N2810=\"Transporte Aéreo\",VLOOKUP(O2817,Tabelas!$F$16:$G$21,2),\"\")))","v":""},null,null,null,null,null,null,null,null,null,null,null,null,null,null,null,"",{"$f":"+IF(AF2817=\"\",\"\",VLOOKUP(AF2817,Tabelas!$J$27:$K$30,2))","v":""}]
[null,{"$f":"+B2810+1","v":351},null,null,null,null,{"$f":"+IF(F2818=\"\",\"\",VLOOKUP(F2818,Tabelas!$B$7:$C$96,2))","v":""},null,{"$f":"IF(H2818=\"\",\"\",1-SUM(I2819:I2825))","v":""},null,null,null,null,null,null,{"$f":"+IF(O2818=\"\",\"\",IF(N2818=\"Transporte Marítimo\",VLOOKUP(O2818,Tabelas!$F$7:$G$12,2),IF(N2818=\"Transporte Aéreo\",VLOOKUP(O2818,Tabelas!$F$16:$G$21,2),\"\")))","v":""},null,null,null,null,null,null,null,null,null,null,null,null,null,null,null,"",{"$f":"+IF(AF2818=\"\",\"\",VLOOKUP(AF2818,Tabelas!$J$27:$K$30,2))","v":""},null,null,null,null,null,null,null,null,null,null,null,null,null,null,null," "]
[null,null,null,null,null,null,{"$f":"+IF(F2821=\"\",\"\",VLOOKUP(F2821,Tabelas!$B$7:$C$96,2))","v":""},null,{"$f":"IF(H2821=\"\",\"\",ROUND(H2821/SUM(H2818:H2825),4))","v":""},null,null,null,null,null,null,{"$f":"+IF(O2821=\"\",\"\",IF(N2818=\"Transporte Marítimo\",VLOOKUP(O2821,Tabelas!$F$7:$G$12,2),IF(N2818=\"Transporte Aéreo\",VLOOKUP(O2821,Tabelas!$F$16:$G$21,2),\"\")))","v":""},null,null,null,null,null,null,null,null,null,null,null,null,null,null,null,"",{"$f":"+IF(AF2821=\"\",\"\",VLOOKUP(AF2821,Tabelas!$J$27:$K$30,2))","v":""}]
[null,null,null,null,null,null,{"$f":"+IF(F2823=\"\",\"\",VLOOKUP(F2823,Tabelas!$B$7:$C$96,2))","v":""},null,{"$f":"IF(H2823=\"\",\"\",ROUND(H2823/SUM(H2818:H2825),4))","v":""},null,null,null,null,null,null,{"$f":"+IF(O2823=\"\",\"\",IF(N2818=\"Transporte Marítimo\",VLOOKUP(O2823,Tabelas!$F$7:$G$12,2),IF(N2818=\"Transporte Aéreo\",VLOOKUP(O2823,Tabelas!$F$16:$G$21,2),\"\")))","v":""},null,null,null,null,null,null,null,null,null,null,null,null,null,null,null,"",{"$f":"+IF(AF2823=\"\",\"\",VLOOKUP(AF2823,Tabelas!$J$27:$K$30,2))","v":""}]
[null,{"$f":"+B2818+1","v":352},null,null,null,null,{"$f":"+IF(F2826=\"\",\"\",VLOOKUP(F2826,Tabelas!$B$7:$C$96,2))","v":""},null,{"$f":"IF(H2826=\"\",\"\",1-SUM(I2827:I2833))","v":""},null,null,null,null,null,null,{"$f":"+IF(O2826=\"\",\"\",IF(N2826=\"Transporte Marítimo\",VLOOKUP(O2826,Tabelas!$F$7:$G$12,2),IF(N2826=\"Transporte Aéreo\",VLOOKUP(O2826,Tabelas!$F$16:$G$21,2),\"\")))","v":""},null,null,null,null,null,null,null,null,null,null,null,null,null,null,null,"",{"$f":"+IF(AF2826=\"\",\"\",VLOOKUP(AF2826,Tabelas!$J$27:$K$30,2))","v":""},null,null,null,null,null,null,null,null,null,null,null,null,null,null,null," "]
[null,null,null,null,null,null,{"$f":"+IF(F2827=\"\",\"\",VLOOKUP(F2827,Tabelas!$B$7:$C$96,2))","v":""},null,{"$f":"IF(H2827=\"\",\"\",ROUND(H2827/SUM(H2826:H2833),4))","v":""},null,null,null,null,null,null,{"$f":"+IF(O2827=\"\",\"\",IF(N2826=\"Transporte Marítimo\",VLOOKUP(O2827,Tabelas!$F$7:$G$12,2),IF(N2826=\"Transporte Aéreo\",VLOOKUP(O2827,Tabelas!$F$16:$G$21,2),\"\")))","v":""},null,null,null,null,null,null,null,null,null,null,null,null,null,null,null,"",{"$f":"+IF(AF2827=\"\",\"\",VLOOKUP(AF2827,Tabelas!$J$27:$K$30,2))","v":""}]
[null,null,null,null,null,null,{"$f":"+IF(F2830=\"\",\"\",VLOOKUP(F2830,Tabelas!$B$7:$C$96,2))","v":""},null,{"$f":"IF(H2830=\"\",\"\",ROUND(H2830/SUM(H2826:H2833),4))","v":""},null,null,null,null,null,null,{"$f":"+IF(O2830=\"\",\"\",IF(N2826=\"Transporte Marítimo\",VLOOKUP(O2830,Tabelas!$F$7:$G$12,2),IF(N2826=\"Transporte Aéreo\",VLOOKUP(O2830,Tabelas!$F$16:$G$21,2),\"\")))","v":""},null,null,null,null,null,null,null,null,null,null,null,null,null,null,null,"",{"$f":"+IF(AF2830=\"\",\"\",VLOOKUP(AF2830,Tabelas!$J$27:$K$30,2))","v":""}]
[null,null,null,null,null,null,{"$f":"+IF(F2833=\"\",\"\",VLOOKUP(F2833,Tabelas!$B$7:$C$96,2))","v":""},null,{"$f":"IF(H2833=\"\",\"\",ROUND(H2833/SUM(H2826:H2833),4))","v":""},null,null,null,null,null,null,{"$f":"+IF(O2833=\"\",\"\",IF(N2826=\"Transporte Marítimo\",VLOOKUP(O2833,Tabelas!$F$7:$G$12,2),IF(N2826=\"Transporte Aéreo\",VLOOKUP(O2833,Tabelas!$F$16:$G$21,2),\"\")))","v":""},null,null,null,null,null,null,null,null,null,null,null,null,null,null,null,"",{"$f":"+IF(AF2833=\"\",\"\",VLOOKUP(AF2833,Tabelas!$J$27:$K$30,2))","v":""}]
[null,null,null,null,null,null,{"$f":"+IF(F2835=\"\",\"\",VLOOKUP(F2835,Tabelas!$B$7:$C$96,2))","v":""},null,{"$f":"IF(H2835=\"\",\"\",ROUND(H2835/SUM(H2834:H2841),4))","v":""},null,null,null,null,null,null,{"$f":"+IF(O2835=\"\",\"\",IF(N2834=\"Transporte Marítimo\",VLOOKUP(O2835,Tabelas!$F$7:$G$12,2),IF(N2834=\"Transporte Aéreo\",VLOOKUP(O2835,Tabelas!$F$16:$G$21,2),\"\")))","v":""},null,null,null,null,null,null,null,null,null,null,null,null,null,null,null,{"$f":"+IF(AE2835=\"20NL\",1,IF(AE2835=\"40NL\",2,IF(AE2835=\"20RF\",3,IF(AE2835=\"40RF\",4,\"\"))))","v":""},{"$f":"+IF(AF2835=\"\",\"\",VLOOKUP(AF2835,Tabelas!$J$27:$K$30,2))","v":""}]
[null,null,null,null,null,null,{"$f":"+IF(F2836=\"\",\"\",VLOOKUP(F2836,Tabelas!$B$7:$C$96,2))","v":""},null,{"$f":"IF(H2836=\"\",\"\",ROUND(H2836/SUM(H2834:H2841),4))","v":""},null,null,null,null,null,null,{"$f":"+IF(O2836=\"\",\"\",IF(N2834=\"Transporte Marítimo\",VLOOKUP(O2836,Tabelas!$F$7:$G$12,2),IF(N2834=\"Transporte Aéreo\",VLOOKUP(O2836,Tabelas!$F$16:$G$21,2),\"\")))","v":""},null,null,null,null,null,null,null,null,null,null,null,null,null,null,null,"",{"$f":"+IF(AF2836=\"\",\"\",VLOOKUP(AF2836,Tabelas!$J$27:$K$30,2))","v":""}]
[null,null,null,null,null,null,{"$f":"+IF(F2839=\"\",\"\",VLOOKUP(F2839,Tabelas!$B$7:$C$96,2))","v":""},null,{"$f":"IF(H2839=\"\",\"\",ROUND(H2839/SUM(H2834:H2841),4))","v":""},null,null,null,null,null,null,{"$f":"+IF(O2839=\"\",\"\",IF(N2834=\"Transporte Marítimo\",VLOOKUP(O2839,Tabelas!$F$7:$G$12,2),IF(N2834=\"Transporte Aéreo\",VLOOKUP(O2839,Tabelas!$F$16:$G$21,2),\"\")))","v":""},null,null,null,null,null,null,null,null,null,null,null,null,null,null,null,"",{"$f":"+IF(AF2839=\"\",\"\",VLOOKUP(AF2839,Tabelas!$J$27:$K$30,2))","v":""}]
[null,null,null,null,null,null,{"$f":"+IF(F2840=\"\",\"\",VLOOKUP(F2840,Tabelas!$B$7:$C$96,2))","v":""},null,{"$f":"IF(H2840=\"\",\"\",ROUND(H2840/SUM(H2834:H2841),4))","v":""},null,null,null,null,null,null,{"$f":"+IF(O2840=\"\",\"\",IF(N2834=\"Transporte Marítimo\",VLOOKUP(O2840,Tabelas!$F$7:$G$12,2),IF(N2834=\"Transporte Aéreo\",VLOOKUP(O2840,Tabelas!$F$16:$G$21,2),\"\")))","v":""},null,null,null,null,null,null,null,null,null,null,null,null,null,null,null,"",{"$f":"+IF(AF2840=\"\",\"\",VLOOKUP(AF2840,Tabelas!$J$27:$K$30,2))","v":""}]
[null,null,null,null,null,null,{"$f":"+IF(F2843=\"\",\"\",VLOOKUP(F2843,Tabelas!$B$7:$C$96,2))","v":""},null,{"$f":"IF(H2843=\"\",\"\",ROUND(H2843/SUM(H2842:H2849),4))","v":""},null,null,null,null,null,null,{"$f":"+IF(O2843=\"\",\"\",IF(N2842=\"Transporte Marítimo\",VLOOKUP(O2843,Tabelas!$F$7:$G$12,2),IF(N2842=\"Transporte Aéreo\",VLOOKUP(O2843,Tabelas!$F$16:$G$21,2),\"\")))","v":""},null,null,null,null,null,null,null,null,null,null,null,null,null,null,null,"",{"$f":"+IF(AF2843=\"\",\"\",VLOOKUP(AF2843,Tabelas!$J$27:$K$30,2))","v":""}]
[null,null,null,null,null,null,{"$f":"+IF(F2845=\"\",\"\",VLOOKUP(F2845,Tabelas!$B$7:$C$96,2))","v":""},null,{"$f":"IF(H2845=\"\",\"\",ROUND(H2845/SUM(H2842:H2849),4))","v":""},null,null,null,null,null,null,{"$f":"+IF(O2845=\"\",\"\",IF(N2842=\"Transporte Marítimo\",VLOOKUP(O2845,Tabelas!$F$7:$G$12,2),IF(N2842=\"Transporte Aéreo\",VLOOKUP(O2845,Tabelas!$F$16:$G$21,2),\"\")))","v":""},null,null,null,null,null,null,null,null,null,null,null,null,null,null,null,"",{"$f":"+IF(AF2845=\"\",\"\",VLOOKUP(AF2845,Tabelas!$J$27:$K$30,2))","v":""}]
[null,null,null,null,null,null,{"$f":"+IF(F2848=\"\",\"\",VLOOKUP(F2848,Tabelas!$B$7:$C$96,2))","v":""},null,{"$f":"IF(H2848=\"\",\"\",ROUND(H2848/SUM(H2842:H2849),4))","v":""},null,null,null,null,null,null,{"$f":"+IF(O2848=\"\",\"\",IF(N2842=\"Transporte Marítimo\",VLOOKUP(O2848,Tabelas!$F$7:$G$12,2),IF(N2842=\"Transporte Aéreo\",VLOOKUP(O2848,Tabelas!$F$16:$G$21,2),\"\")))","v":""},null,null,null,null,null,null,null,null,null,null,null,null,null,null,null,"",{"$f":"+IF(AF2848=\"\",\"\",VLOOKUP(AF2848,Tabelas!$J$27:$K$30,2))","v":""}]
[null,null,null,null,null,null,{"$f":"+IF(F2849=\"\",\"\",VLOOKUP(F2849,Tabelas!$B$7:$C$96,2))","v":""},null,{"$f":"IF(H2849=\"\",\"\",ROUND(H2849/SUM(H2842:H2849),4))","v":""},null,null,null,null,null,null,{"$f":"+IF(O2849=\"\",\"\",IF(N2842=\"Transporte Marítimo\",VLOOKUP(O2849,Tabelas!$F$7:$G$12,2),IF(N2842=\"Transporte Aéreo\",VLOOKUP(O2849,Tabelas!$F$16:$G$21,2),\"\")))","v":""},null,null,null,null,null,null,null,null,null,null,null,null,null,null,null,"",{"$f":"+IF(AF2849=\"\",\"\",VLOOKUP(AF2849,Tabelas!$J$27:$K$30,2))","v":""}]
[null,null,null,null,null,null,{"$f":"+IF(F2851=\"\",\"\",VLOOKUP(F2851,Tabelas!$B$7:$C$96,2))","v":""},null,{"$f":"IF(H2851=\"\",\"\",ROUND(H2851/SUM(H2850:H2857),4))","v":""},null,null,null,null,null,null,{"$f":"+IF(O2851=\"\",\"\",IF(N2850=\"Transporte Marítimo\",VLOOKUP(O2851,Tabelas!$F$7:$G$12,2),IF(N2850=\"Transporte Aéreo\",VLOOKUP(O2851,Tabelas!$F$16:$G$21,2),\"\")))","v":""},null,null,null,null,null,null,null,null,null,null,null,null,null,null,null,"",{"$f":"+IF(AF2851=\"\",\"\",VLOOKUP(AF2851,Tabelas!$J$27:$K$30,2))","v":""}]
[null,null,null,null,null,null,{"$f":"+IF(F2854=\"\",\"\",VLOOKUP(F2854,Tabelas!$B$7:$C$96,2))","v":""},null,{"$f":"IF(H2854=\"\",\"\",ROUND(H2854/SUM(H2850:H2857),4))","v":""},null,null,null,null,null,null,{"$f":"+IF(O2854=\"\",\"\",IF(N2850=\"Transporte Marítimo\",VLOOKUP(O2854,Tabelas!$F$7:$G$12,2),IF(N2850=\"Transporte Aéreo\",VLOOKUP(O2854,Tabelas!$F$16:$G$21,2),\"\")))","v":""},null,null,null,null,null,null,null,null,null,null,null,null,null,null,null,"",{"$f":"+IF(AF2854=\"\",\"\",VLOOKUP(AF2854,Tabelas!$J$27:$K$30,2))","v":""}]
[null,null,null,null,null,null,{"$f":"+IF(F2857=\"\",\"\",VLOOKUP(F2857,Tabelas!$B$7:$C$96,2))","v":""},null,{"$f":"IF(H2857=\"\",\"\",ROUND(H2857/SUM(H2850:H2857),4))","v":""},null,null,null,null,null,null,{"$f":"+IF(O2857=\"\",\"\",IF(N2850=\"Transporte Marítimo\",VLOOKUP(O2857,Tabelas!$F$7:$G$12,2),IF(N2850=\"Transporte Aéreo\",VLOOKUP(O2857,Tabelas!$F$16:$G$21,2),\"\")))","v":""},null,null,null,null,null,null,null,null,null,null,null,null,null,null,null,"",{"$f":"+IF(AF2857=\"\",\"\",VLOOKUP(AF2857,Tabelas!$J$27:$K$30,2))","v":""}]
[null,{"$f":"+B2850+1","v":356},null,null,null,null,{"$f":"+IF(F2858=\"\",\"\",VLOOKUP(F2858,Tabelas!$B$7:$C$96,2))","v":""},null,{"$f":"IF(H2858=\"\",\"\",1-SUM(I2859:I2865))","v":""},null,null,null,null,null,null,{"$f":"+IF(O2858=\"\",\"\",IF(N2858=\"Transporte Marítimo\",VLOOKUP(O2858,Tabelas!$F$7:$G$12,2),IF(N2858=\"Transporte Aéreo\",VLOOKUP(O2858,Tabelas!$F$16:$G$21,2),\"\")))","v":""},null,null,null,null,null,null,null,null,null,null,null,null,null,null,null,"",{"$f":"+IF(AF2858=\"\",\"\",VLOOKUP(AF2858,Tabelas!$J$27:$K$30,2))","v":""},null,null,null,null,null,null,null,null,null,null,null,null,null,null,null," "]
[null,null,null,null,null,null,{"$f":"+IF(F2861=\"\",\"\",VLOOKUP(F2861,Tabelas!$B$7:$C$96,2))","v":""},null,{"$f":"IF(H2861=\"\",\"\",ROUND(H2861/SUM(H2858:H2865),4))","v":""},null,null,null,null,null,null,{"$f":"+IF(O2861=\"\",\"\",IF(N2858=\"Transporte Marítimo\",VLOOKUP(O2861,Tabelas!$F$7:$G$12,2),IF(N2858=\"Transporte Aéreo\",VLOOKUP(O2861,Tabelas!$F$16:$G$21,2),\"\")))","v":""},null,null,null,null,null,null,null,null,null,null,null,null,null,null,null,"",{"$f":"+IF(AF2861=\"\",\"\",VLOOKUP(AF2861,Tabelas!$J$27:$K$30,2))","v":""}]
[null,null,null,null,null,null,{"$f":"+IF(F2863=\"\",\"\",VLOOKUP(F2863,Tabelas!$B$7:$C$96,2))","v":""},null,{"$f":"IF(H2863=\"\",\"\",ROUND(H2863/SUM(H2858:H2865),4))","v":""},null,null,null,null,null,null,{"$f":"+IF(O2863=\"\",\"\",IF(N2858=\"Transporte Marítimo\",VLOOKUP(O2863,Tabelas!$F$7:$G$12,2),IF(N2858=\"Transporte Aéreo\",VLOOKUP(O2863,Tabelas!$F$16:$G$21,2),\"\")))","v":""},null,null,null,null,null,null,null,null,null,null,null,null,null,null,null,"",{"$f":"+IF(AF2863=\"\",\"\",VLOOKUP(AF2863,Tabelas!$J$27:$K$30,2))","v":""}]
[null,{"$f":"+B2858+1","v":357},null,null,null,null,{"$f":"+IF(F2866=\"\",\"\",VLOOKUP(F2866,Tabelas!$B$7:$C$96,2))","v":""},null,{"$f":"IF(H2866=\"\",\"\",1-SUM(I2867:I2873))","v":""},null,null,null,null,null,null,{"$f":"+IF(O2866=\"\",\"\",IF(N2866=\"Transporte Marítimo\",VLOOKUP(O2866,Tabelas!$F$7:$G$12,2),IF(N2866=\"Transporte Aéreo\",VLOOKUP(O2866,Tabelas!$F$16:$G$21,2),\"\")))","v":""},null,null,null,null,null,null,null,null,null,null,null,null,null,null,null,"",{"$f":"+IF(AF2866=\"\",\"\",VLOOKUP(AF2866,Tabelas!$J$27:$K$30,2))","v":""},null,null,null,null,null,null,null,null,null,null,null,null,null,null,null," "]
[null,null,null,null,null,null,{"$f":"+IF(F2867=\"\",\"\",VLOOKUP(F2867,Tabelas!$B$7:$C$96,2))","v":""},null,{"$f":"IF(H2867=\"\",\"\",ROUND(H2867/SUM(H2866:H2873),4))","v":""},null,null,null,null,null,null,{"$f":"+IF(O2867=\"\",\"\",IF(N2866=\"Transporte Marítimo\",VLOOKUP(O2867,Tabelas!$F$7:$G$12,2),IF(N2866=\"Transporte Aéreo\",VLOOKUP(O2867,Tabelas!$F$16:$G$21,2),\"\")))","v":""},null,null,null,null,null,null,null,null,null,null,null,null,null,null,null,"",{"$f":"+IF(AF2867=\"\",\"\",VLOOKUP(AF2867,Tabelas!$J$27:$K$30,2))","v":""}]
[null,null,null,null,null,null,{"$f":"+IF(F2870=\"\",\"\",VLOOKUP(F2870,Tabelas!$B$7:$C$96,2))","v":""},null,{"$f":"IF(H2870=\"\",\"\",ROUND(H2870/SUM(H2866:H2873),4))","v":""},null,null,null,null,null,null,{"$f":"+IF(O2870=\"\",\"\",IF(N2866=\"Transporte Marítimo\",VLOOKUP(O2870,Tabelas!$F$7:$G$12,2),IF(N2866=\"Transporte Aéreo\",VLOOKUP(O2870,Tabelas!$F$16:$G$21,2),\"\")))","v":""},null,null,null,null,null,null,null,null,null,null,null,null,null,null,null,"",{"$f":"+IF(AF2870=\"\",\"\",VLOOKUP(AF2870,Tabelas!$J$27:$K$30,2))","v":""}]
[null,null,null,null,null,null,{"$f":"+IF(F2871=\"\",\"\",VLOOKUP(F2871,Tabelas!$B$7:$C$96,2))","v":""},null,{"$f":"IF(H2871=\"\",\"\",ROUND(H2871/SUM(H2866:H2873),4))","v":""},null,null,null,null,null,null,{"$f":"+IF(O2871=\"\",\"\",IF(N2866=\"Transporte Marítimo\",VLOOKUP(O2871,Tabelas!$F$7:$G$12,2),IF(N2866=\"Transporte Aéreo\",VLOOKUP(O2871,Tabelas!$F$16:$G$21,2),\"\")))","v":""},null,null,null,null,null,null,null,null,null,null,null,null,null,null,null,"",{"$f":"+IF(AF2871=\"\",\"\",VLOOKUP(AF2871,Tabelas!$J$27:$K$30,2))","v":""}]
[null,null,null,null,null,null,{"$f":"+IF(F2875=\"\",\"\",VLOOKUP(F2875,Tabelas!$B$7:$C$96,2))","v":""},null,{"$f":"IF(H2875=\"\",\"\",ROUND(H2875/SUM(H2874:H2881),4))","v":""},null,null,null,null,null,null,{"$f":"+IF(O2875=\"\",\"\",IF(N2874=\"Transporte Marítimo\",VLOOKUP(O2875,Tabelas!$F$7:$G$12,2),IF(N2874=\"Transporte Aéreo\",VLOOKUP(O2875,Tabelas!$F$16:$G$21,2),\"\")))","v":""},null,null,null,null,null,null,null,null,null,null,null,null,null,null,null,"",{"$f":"+IF(AF2875=\"\",\"\",VLOOKUP(AF2875,Tabelas!$J$27:$K$30,2))","v":""}]
[null,null,null,null,null,null,{"$f":"+IF(F2876=\"\",\"\",VLOOKUP(F2876,Tabelas!$B$7:$C$96,2))","v":""},null,{"$f":"IF(H2876=\"\",\"\",ROUND(H2876/SUM(H2874:H2881),4))","v":""},null,null,null,null,null,null,{"$f":"+IF(O2876=\"\",\"\",IF(N2874=\"Transporte Marítimo\",VLOOKUP(O2876,Tabelas!$F$7:$G$12,2),IF(N2874=\"Transporte Aéreo\",VLOOKUP(O2876,Tabelas!$F$16:$G$21,2),\"\")))","v":""},null,null,null,null,null,null,null,null,null,null,null,null,null,null,null,"",{"$f":"+IF(AF2876=\"\",\"\",VLOOKUP(AF2876,Tabelas!$J$27:$K$30,2))","v":""}]
[null,null,null,null,null,null,{"$f":"+IF(F2879=\"\",\"\",VLOOKUP(F2879,Tabelas!$B$7:$C$96,2))","v":""},null,{"$f":"IF(H2879=\"\",\"\",ROUND(H2879/SUM(H2874:H2881),4))","v":""},null,null,null,null,null,null,{"$f":"+IF(O2879=\"\",\"\",IF(N2874=\"Transporte Marítimo\",VLOOKUP(O2879,Tabelas!$F$7:$G$12,2),IF(N2874=\"Transporte Aéreo\",VLOOKUP(O2879,Tabelas!$F$16:$G$21,2),\"\")))","v":""},null,null,null,null,null,null,null,null,null,null,null,null,null,null,null,"",{"$f":"+IF(AF2879=\"\",\"\",VLOOKUP(AF2879,Tabelas!$J$27:$K$30,2))","v":""}]
[null,null,null,null,null,null,{"$f":"+IF(F2881=\"\",\"\",VLOOKUP(F2881,Tabelas!$B$7:$C$96,2))","v":""},null,{"$f":"IF(H2881=\"\",\"\",ROUND(H2881/SUM(H2874:H2881),4))","v":""},null,null,null,null,null,null,{"$f":"+IF(O2881=\"\",\"\",IF(N2874=\"Transporte Marítimo\",VLOOKUP(O2881,Tabelas!$F$7:$G$12,2),IF(N2874=\"Transporte Aéreo\",VLOOKUP(O2881,Tabelas!$F$16:$G$21,2),\"\")))","v":""},null,null,null,null,null,null,null,null,null,null,null,null,null,null,null,"",{"$f":"+IF(AF2881=\"\",\"\",VLOOKUP(AF2881,Tabelas!$J$27:$K$30,2))","v":""}]
[null,null,null,null,null,null,{"$f":"+IF(F2884=\"\",\"\",VLOOKUP(F2884,Tabelas!$B$7:$C$96,2))","v":""},null,{"$f":"IF(H2884=\"\",\"\",ROUND(H2884/SUM(H2882:H2889),4))","v":""},null,null,null,null,null,null,{"$f":"+IF(O2884=\"\",\"\",IF(N2882=\"Transporte Marítimo\",VLOOKUP(O2884,Tabelas!$F$7:$G$12,2),IF(N2882=\"Transporte Aéreo\",VLOOKUP(O2884,Tabelas!$F$16:$G$21,2),\"\")))","v":""},null,null,null,null,null,null,null,null,null,null,null,null,null,null,null,"",{"$f":"+IF(AF2884=\"\",\"\",VLOOKUP(AF2884,Tabelas!$J$27:$K$30,2))","v":""}]
[null,null,null,null,null,null,{"$f":"+IF(F2885=\"\",\"\",VLOOKUP(F2885,Tabelas!$B$7:$C$96,2))","v":""},null,{"$f":"IF(H2885=\"\",\"\",ROUND(H2885/SUM(H2882:H2889),4))","v":""},null,null,null,null,null,null,{"$f":"+IF(O2885=\"\",\"\",IF(N2882=\"Transporte Marítimo\",VLOOKUP(O2885,Tabelas!$F$7:$G$12,2),IF(N2882=\"Transporte Aéreo\",VLOOKUP(O2885,Tabelas!$F$16:$G$21,2),\"\")))","v":""},null,null,null,null,null,null,null,null,null,null,null,null,null,null,null,"",{"$f":"+IF(AF2885=\"\",\"\",VLOOKUP(AF2885,Tabelas!$J$27:$K$30,2))","v":""}]
[null,null,null,null,null,null,{"$f":"+IF(F2888=\"\",\"\",VLOOKUP(F2888,Tabelas!$B$7:$C$96,2))","v":""},null,{"$f":"IF(H2888=\"\",\"\",ROUND(H2888/SUM(H2882:H2889),4))","v":""},null,null,null,null,null,null,{"$f":"+IF(O2888=\"\",\"\",IF(N2882=\"Transporte Marítimo\",VLOOKUP(O2888,Tabelas!$F$7:$G$12,2),IF(N2882=\"Transporte Aéreo\",VLOOKUP(O2888,Tabelas!$F$16:$G$21,2),\"\")))","v":""},null,null,null,null,null,null,null,null,null,null,null,null,null,null,null,"",{"$f":"+IF(AF2888=\"\",\"\",VLOOKUP(AF2888,Tabelas!$J$27:$K$30,2))","v":""}]
[null,null,null,null,null,null,{"$f":"+IF(F2889=\"\",\"\",VLOOKUP(F2889,Tabelas!$B$7:$C$96,2))","v":""},null,{"$f":"IF(H2889=\"\",\"\",ROUND(H2889/SUM(H2882:H2889),4))","v":""},null,null,null,null,null,null,{"$f":"+IF(O2889=\"\",\"\",IF(N2882=\"Transporte Marítimo\",VLOOKUP(O2889,Tabelas!$F$7:$G$12,2),IF(N2882=\"Transporte Aéreo\",VLOOKUP(O2889,Tabelas!$F$16:$G$21,2),\"\")))","v":""},null,null,null,null,null,null,null,null,null,null,null,null,null,null,null,"",{"$f":"+IF(AF2889=\"\",\"\",VLOOKUP(AF2889,Tabelas!$J$27:$K$30,2))","v":""}]
[null,null,null,null,null,null,{"$f":"+IF(F2893=\"\",\"\",VLOOKUP(F2893,Tabelas!$B$7:$C$96,2))","v":""},null,{"$f":"IF(H2893=\"\",\"\",ROUND(H2893/SUM(H2890:H2897),4))","v":""},null,null,null,null,null,null,{"$f":"+IF(O2893=\"\",\"\",IF(N2890=\"Transporte Marítimo\",VLOOKUP(O2893,Tabelas!$F$7:$G$12,2),IF(N2890=\"Transporte Aéreo\",VLOOKUP(O2893,Tabelas!$F$16:$G$21,2),\"\")))","v":""},null,null,null,null,null,null,null,null,null,null,null,null,null,null,null,"",{"$f":"+IF(AF2893=\"\",\"\",VLOOKUP(AF2893,Tabelas!$J$27:$K$30,2))","v":""}]
[null,null,null,null,null,null,{"$f":"+IF(F2894=\"\",\"\",VLOOKUP(F2894,Tabelas!$B$7:$C$96,2))","v":""},null,{"$f":"IF(H2894=\"\",\"\",ROUND(H2894/SUM(H2890:H2897),4))","v":""},null,null,null,null,null,null,{"$f":"+IF(O2894=\"\",\"\",IF(N2890=\"Transporte Marítimo\",VLOOKUP(O2894,Tabelas!$F$7:$G$12,2),IF(N2890=\"Transporte Aéreo\",VLOOKUP(O2894,Tabelas!$F$16:$G$21,2),\"\")))","v":""},null,null,null,null,null,null,null,null,null,null,null,null,null,null,null,"",{"$f":"+IF(AF2894=\"\",\"\",VLOOKUP(AF2894,Tabelas!$J$27:$K$30,2))","v":""}]
[null,null,null,null,null,null,{"$f":"+IF(F2897=\"\",\"\",VLOOKUP(F2897,Tabelas!$B$7:$C$96,2))","v":""},null,{"$f":"IF(H2897=\"\",\"\",ROUND(H2897/SUM(H2890:H2897),4))","v":""},null,null,null,null,null,null,{"$f":"+IF(O2897=\"\",\"\",IF(N2890=\"Transporte Marítimo\",VLOOKUP(O2897,Tabelas!$F$7:$G$12,2),IF(N2890=\"Transporte Aéreo\",VLOOKUP(O2897,Tabelas!$F$16:$G$21,2),\"\")))","v":""},null,null,null,null,null,null,null,null,null,null,null,null,null,null,null,"",{"$f":"+IF(AF2897=\"\",\"\",VLOOKUP(AF2897,Tabelas!$J$27:$K$30,2))","v":""}]
[null,{"$f":"+B2890+1","v":361},null,null,null,null,{"$f":"+IF(F2898=\"\",\"\",VLOOKUP(F2898,Tabelas!$B$7:$C$96,2))","v":""},null,{"$f":"IF(H2898=\"\",\"\",1-SUM(I2899:I2905))","v":""},null,null,null,null,null,null,{"$f":"+IF(O2898=\"\",\"\",IF(N2898=\"Transporte Marítimo\",VLOOKUP(O2898,Tabelas!$F$7:$G$12,2),IF(N2898=\"Transporte Aéreo\",VLOOKUP(O2898,Tabelas!$F$16:$G$21,2),\"\")))","v":""},null,null,null,null,null,null,null,null,null,null,null,null,null,null,null,"",{"$f":"+IF(AF2898=\"\",\"\",VLOOKUP(AF2898,Tabelas!$J$27:$K$30,2))","v":""},null,null,null,null,null,null,null,null,null,null,null,null,null,null,null," "]
[null,null,null,null,null,null,{"$f":"+IF(F2902=\"\",\"\",VLOOKUP(F2902,Tabelas!$B$7:$C$96,2))","v":""},null,{"$f":"IF(H2902=\"\",\"\",ROUND(H2902/SUM(H2898:H2905),4))","v":""},null,null,null,null,null,null,{"$f":"+IF(O2902=\"\",\"\",IF(N2898=\"Transporte Marítimo\",VLOOKUP(O2902,Tabelas!$F$7:$G$12,2),IF(N2898=\"Transporte Aéreo\",VLOOKUP(O2902,Tabelas!$F$16:$G$21,2),\"\")))","v":""},null,null,null,null,null,null,null,null,null,null,null,null,null,null,null,"",{"$f":"+IF(AF2902=\"\",\"\",VLOOKUP(AF2902,Tabelas!$J$27:$K$30,2))","v":""}]
[null,null,null,null,null,null,{"$f":"+IF(F2903=\"\",\"\",VLOOKUP(F2903,Tabelas!$B$7:$C$96,2))","v":""},null,{"$f":"IF(H2903=\"\",\"\",ROUND(H2903/SUM(H2898:H2905),4))","v":""},null,null,null,null,null,null,{"$f":"+IF(O2903=\"\",\"\",IF(N2898=\"Transporte Marítimo\",VLOOKUP(O2903,Tabelas!$F$7:$G$12,2),IF(N2898=\"Transporte Aéreo\",VLOOKUP(O2903,Tabelas!$F$16:$G$21,2),\"\")))","v":""},null,null,null,null,null,null,null,null,null,null,null,null,null,null,null,"",{"$f":"+IF(AF2903=\"\",\"\",VLOOKUP(AF2903,Tabelas!$J$27:$K$30,2))","v":""}]
[null,{"$f":"+B2898+1","v":362},null,null,null,null,{"$f":"+IF(F2906=\"\",\"\",VLOOKUP(F2906,Tabelas!$B$7:$C$96,2))","v":""},null,{"$f":"IF(H2906=\"\",\"\",1-SUM(I2907:I2913))","v":""},null,null,null,null,null,null,{"$f":"+IF(O2906=\"\",\"\",IF(N2906=\"Transporte Marítimo\",VLOOKUP(O2906,Tabelas!$F$7:$G$12,2),IF(N2906=\"Transporte Aéreo\",VLOOKUP(O2906,Tabelas!$F$16:$G$21,2),\"\")))","v":""},null,null,null,null,null,null,null,null,null,null,null,null,null,null,null,"",{"$f":"+IF(AF2906=\"\",\"\",VLOOKUP(AF2906,Tabelas!$J$27:$K$30,2))","v":""},null,null,null,null,null,null,null,null,null,null,null,null,null,null,null," "]
[null,null,null,null,null,null,{"$f":"+IF(F2907=\"\",\"\",VLOOKUP(F2907,Tabelas!$B$7:$C$96,2))","v":""},null,{"$f":"IF(H2907=\"\",\"\",ROUND(H2907/SUM(H2906:H2913),4))","v":""},null,null,null,null,null,null,{"$f":"+IF(O2907=\"\",\"\",IF(N2906=\"Transporte Marítimo\",VLOOKUP(O2907,Tabelas!$F$7:$G$12,2),IF(N2906=\"Transporte Aéreo\",VLOOKUP(O2907,Tabelas!$F$16:$G$21,2),\"\")))","v":""},null,null,null,null,null,null,null,null,null,null,null,null,null,null,null,"",{"$f":"+IF(AF2907=\"\",\"\",VLOOKUP(AF2907,Tabelas!$J$27:$K$30,2))","v":""}]
[null,null,null,null,null,null,{"$f":"+IF(F2909=\"\",\"\",VLOOKUP(F2909,Tabelas!$B$7:$C$96,2))","v":""},null,{"$f":"IF(H2909=\"\",\"\",ROUND(H2909/SUM(H2906:H2913),4))","v":""},null,null,null,null,null,null,{"$f":"+IF(O2909=\"\",\"\",IF(N2906=\"Transporte Marítimo\",VLOOKUP(O2909,Tabelas!$F$7:$G$12,2),IF(N2906=\"Transporte Aéreo\",VLOOKUP(O2909,Tabelas!$F$16:$G$21,2),\"\")))","v":""},null,null,null,null,null,null,null,null,null,null,null,null,null,null,null,"",{"$f":"+IF(AF2909=\"\",\"\",VLOOKUP(AF2909,Tabelas!$J$27:$K$30,2))","v":""}]
[null,null,null,null,null,null,{"$f":"+IF(F2912=\"\",\"\",VLOOKUP(F2912,Tabelas!$B$7:$C$96,2))","v":""},null,{"$f":"IF(H2912=\"\",\"\",ROUND(H2912/SUM(H2906:H2913),4))","v":""},null,null,null,null,null,null,{"$f":"+IF(O2912=\"\",\"\",IF(N2906=\"Transporte Marítimo\",VLOOKUP(O2912,Tabelas!$F$7:$G$12,2),IF(N2906=\"Transporte Aéreo\",VLOOKUP(O2912,Tabelas!$F$16:$G$21,2),\"\")))","v":""},null,null,null,null,null,null,null,null,null,null,null,null,null,null,null,"",{"$f":"+IF(AF2912=\"\",\"\",VLOOKUP(AF2912,Tabelas!$J$27:$K$30,2))","v":""}]
[null,null,null,null,null,null,{"$f":"+IF(F2915=\"\",\"\",VLOOKUP(F2915,Tabelas!$B$7:$C$96,2))","v":""},null,{"$f":"IF(H2915=\"\",\"\",ROUND(H2915/SUM(H2914:H2921),4))","v":""},null,null,null,null,null,null,{"$f":"+IF(O2915=\"\",\"\",IF(N2914=\"Transporte Marítimo\",VLOOKUP(O2915,Tabelas!$F$7:$G$12,2),IF(N2914=\"Transporte Aéreo\",VLOOKUP(O2915,Tabelas!$F$16:$G$21,2),\"\")))","v":""},null,null,null,null,null,null,null,null,null,null,null,null,null,null,null,"",{"$f":"+IF(AF2915=\"\",\"\",VLOOKUP(AF2915,Tabelas!$J$27:$K$30,2))","v":""}]
[null,null,null,null,null,null,{"$f":"+IF(F2916=\"\",\"\",VLOOKUP(F2916,Tabelas!$B$7:$C$96,2))","v":""},null,{"$f":"IF(H2916=\"\",\"\",ROUND(H2916/SUM(H2914:H2921),4))","v":""},null,null,null,null,null,null,{"$f":"+IF(O2916=\"\",\"\",IF(N2914=\"Transporte Marítimo\",VLOOKUP(O2916,Tabelas!$F$7:$G$12,2),IF(N2914=\"Transporte Aéreo\",VLOOKUP(O2916,Tabelas!$F$16:$G$21,2),\"\")))","v":""},null,null,null,null,null,null,null,null,null,null,null,null,null,null,null,"",{"$f":"+IF(AF2916=\"\",\"\",VLOOKUP(AF2916,Tabelas!$J$27:$K$30,2))","v":""}]
[null,null,null,null,null,null,{"$f":"+IF(F2920=\"\",\"\",VLOOKUP(F2920,Tabelas!$B$7:$C$96,2))","v":""},null,{"$f":"IF(H2920=\"\",\"\",ROUND(H2920/SUM(H2914:H2921),4))","v":""},null,null,null,null,null,null,{"$f":"+IF(O2920=\"\",\"\",IF(N2914=\"Transporte Marítimo\",VLOOKUP(O2920,Tabelas!$F$7:$G$12,2),IF(N2914=\"Transporte Aéreo\",VLOOKUP(O2920,Tabelas!$F$16:$G$21,2),\"\")))","v":""},null,null,null,null,null,null,null,null,null,null,null,null,null,null,null,"",{"$f":"+IF(AF2920=\"\",\"\",VLOOKUP(AF2920,Tabelas!$J$27:$K$30,2))","v":""}]
[null,null,null,null,null,null,{"$f":"+IF(F2921=\"\",\"\",VLOOKUP(F2921,Tabelas!$B$7:$C$96,2))","v":""},null,{"$f":"IF(H2921=\"\",\"\",ROUND(H2921/SUM(H2914:H2921),4))","v":""},null,null,null,null,null,null,{"$f":"+IF(O2921=\"\",\"\",IF(N2914=\"Transporte Marítimo\",VLOOKUP(O2921,Tabelas!$F$7:$G$12,2),IF(N2914=\"Transporte Aéreo\",VLOOKUP(O2921,Tabelas!$F$16:$G$21,2),\"\")))","v":""},null,null,null,null,null,null,null,null,null,null,null,null,null,null,null,"",{"$f":"+IF(AF2921=\"\",\"\",VLOOKUP(AF2921,Tabelas!$J$27:$K$30,2))","v":""}]
[null,null,null,null,null,null,{"$f":"+IF(F2924=\"\",\"\",VLOOKUP(F2924,Tabelas!$B$7:$C$96,2))","v":""},null,{"$f":"IF(H2924=\"\",\"\",ROUND(H2924/SUM(H2922:H2929),4))","v":""},null,null,null,null,null,null,{"$f":"+IF(O2924=\"\",\"\",IF(N2922=\"Transporte Marítimo\",VLOOKUP(O2924,Tabelas!$F$7:$G$12,2),IF(N2922=\"Transporte Aéreo\",VLOOKUP(O2924,Tabelas!$F$16:$G$21,2),\"\")))","v":""},null,null,null,null,null,null,null,null,null,null,null,null,null,null,null,"",{"$f":"+IF(AF2924=\"\",\"\",VLOOKUP(AF2924,Tabelas!$J$27:$K$30,2))","v":""}]
[null,null,null,null,null,null,{"$f":"+IF(F2925=\"\",\"\",VLOOKUP(F2925,Tabelas!$B$7:$C$96,2))","v":""},null,{"$f":"IF(H2925=\"\",\"\",ROUND(H2925/SUM(H2922:H2929),4))","v":""},null,null,null,null,null,null,{"$f":"+IF(O2925=\"\",\"\",IF(N2922=\"Transporte Marítimo\",VLOOKUP(O2925,Tabelas!$F$7:$G$12,2),IF(N2922=\"Transporte Aéreo\",VLOOKUP(O2925,Tabelas!$F$16:$G$21,2),\"\")))","v":""},null,null,null,null,null,null,null,null,null,null,null,null,null,null,null,"",{"$f":"+IF(AF2925=\"\",\"\",VLOOKUP(AF2925,Tabelas!$J$27:$K$30,2))","v":""}]
[null,null,null,null,null,null,{"$f":"+IF(F2928=\"\",\"\",VLOOKUP(F2928,Tabelas!$B$7:$C$96,2))","v":""},null,{"$f":"IF(H2928=\"\",\"\",ROUND(H2928/SUM(H2922:H2929),4))","v":""},null,null,null,null,null,null,{"$f":"+IF(O2928=\"\",\"\",IF(N2922=\"Transporte Marítimo\",VLOOKUP(O2928,Tabelas!$F$7:$G$12,2),IF(N2922=\"Transporte Aéreo\",VLOOKUP(O2928,Tabelas!$F$16:$G$21,2),\"\")))","v":""},null,null,null,null,null,null,null,null,null,null,null,null,null,null,null,"",{"$f":"+IF(AF2928=\"\",\"\",VLOOKUP(AF2928,Tabelas!$J$27:$K$30,2))","v":""}]
[null,{"$f":"+B2922+1","v":365},null,null,null,null,{"$f":"+IF(F2930=\"\",\"\",VLOOKUP(F2930,Tabelas!$B$7:$C$96,2))","v":""},null,{"$f":"IF(H2930=\"\",\"\",1-SUM(I2931:I2937))","v":""},null,null,null,null,null,null,{"$f":"+IF(O2930=\"\",\"\",IF(N2930=\"Transporte Marítimo\",VLOOKUP(O2930,Tabelas!$F$7:$G$12,2),IF(N2930=\"Transporte Aéreo\",VLOOKUP(O2930,Tabelas!$F$16:$G$21,2),\"\")))","v":""},null,null,null,null,null,null,null,null,null,null,null,null,null,null,null,"",{"$f":"+IF(AF2930=\"\",\"\",VLOOKUP(AF2930,Tabelas!$J$27:$K$30,2))","v":""},null,null,null,null,null,null,null,null,null,null,null,null,null,null,null," "]
[null,null,null,null,null,null,{"$f":"+IF(F2933=\"\",\"\",VLOOKUP(F2933,Tabelas!$B$7:$C$96,2))","v":""},null,{"$f":"IF(H2933=\"\",\"\",ROUND(H2933/SUM(H2930:H2937),4))","v":""},null,null,null,null,null,null,{"$f":"+IF(O2933=\"\",\"\",IF(N2930=\"Transporte Marítimo\",VLOOKUP(O2933,Tabelas!$F$7:$G$12,2),IF(N2930=\"Transporte Aéreo\",VLOOKUP(O2933,Tabelas!$F$16:$G$21,2),\"\")))","v":""},null,null,null,null,null,null,null,null,null,null,null,null,null,null,null,"",{"$f":"+IF(AF2933=\"\",\"\",VLOOKUP(AF2933,Tabelas!$J$27:$K$30,2))","v":""}]
[null,null,null,null,null,null,{"$f":"+IF(F2934=\"\",\"\",VLOOKUP(F2934,Tabelas!$B$7:$C$96,2))","v":""},null,{"$f":"IF(H2934=\"\",\"\",ROUND(H2934/SUM(H2930:H2937),4))","v":""},null,null,null,null,null,null,{"$f":"+IF(O2934=\"\",\"\",IF(N2930=\"Transporte Marítimo\",VLOOKUP(O2934,Tabelas!$F$7:$G$12,2),IF(N2930=\"Transporte Aéreo\",VLOOKUP(O2934,Tabelas!$F$16:$G$21,2),\"\")))","v":""},null,null,null,null,null,null,null,null,null,null,null,null,null,null,null,"",{"$f":"+IF(AF2934=\"\",\"\",VLOOKUP(AF2934,Tabelas!$J$27:$K$30,2))","v":""}]
[null,null,null,null,null,null,{"$f":"+IF(F2937=\"\",\"\",VLOOKUP(F2937,Tabelas!$B$7:$C$96,2))","v":""},null,{"$f":"IF(H2937=\"\",\"\",ROUND(H2937/SUM(H2930:H2937),4))","v":""},null,null,null,null,null,null,{"$f":"+IF(O2937=\"\",\"\",IF(N2930=\"Transporte Marítimo\",VLOOKUP(O2937,Tabelas!$F$7:$G$12,2),IF(N2930=\"Transporte Aéreo\",VLOOKUP(O2937,Tabelas!$F$16:$G$21,2),\"\")))","v":""},null,null,null,null,null,null,null,null,null,null,null,null,null,null,null,"",{"$f":"+IF(AF2937=\"\",\"\",VLOOKUP(AF2937,Tabelas!$J$27:$K$30,2))","v":""}]
[null,null,null,null,null,null,{"$f":"+IF(F2940=\"\",\"\",VLOOKUP(F2940,Tabelas!$B$7:$C$96,2))","v":""},null,{"$f":"IF(H2940=\"\",\"\",ROUND(H2940/SUM(H2938:H2945),4))","v":""},null,null,null,null,null,null,{"$f":"+IF(O2940=\"\",\"\",IF(N2938=\"Transporte Marítimo\",VLOOKUP(O2940,Tabelas!$F$7:$G$12,2),IF(N2938=\"Transporte Aéreo\",VLOOKUP(O2940,Tabelas!$F$16:$G$21,2),\"\")))","v":""},null,null,null,null,null,null,null,null,null,null,null,null,null,null,null,"",{"$f":"+IF(AF2940=\"\",\"\",VLOOKUP(AF2940,Tabelas!$J$27:$K$30,2))","v":""}]
[null,null,null,null,null,null,{"$f":"+IF(F2942=\"\",\"\",VLOOKUP(F2942,Tabelas!$B$7:$C$96,2))","v":""},null,{"$f":"IF(H2942=\"\",\"\",ROUND(H2942/SUM(H2938:H2945),4))","v":""},null,null,null,null,null,null,{"$f":"+IF(O2942=\"\",\"\",IF(N2938=\"Transporte Marítimo\",VLOOKUP(O2942,Tabelas!$F$7:$G$12,2),IF(N2938=\"Transporte Aéreo\",VLOOKUP(O2942,Tabelas!$F$16:$G$21,2),\"\")))","v":""},null,null,null,null,null,null,null,null,null,null,null,null,null,null,null,"",{"$f":"+IF(AF2942=\"\",\"\",VLOOKUP(AF2942,Tabelas!$J$27:$K$30,2))","v":""}]
[null,null,null,null,null,null,{"$f":"+IF(F2943=\"\",\"\",VLOOKUP(F2943,Tabelas!$B$7:$C$96,2))","v":""},null,{"$f":"IF(H2943=\"\",\"\",ROUND(H2943/SUM(H2938:H2945),4))","v":""},null,null,null,null,null,null,{"$f":"+IF(O2943=\"\",\"\",IF(N2938=\"Transporte Marítimo\",VLOOKUP(O2943,Tabelas!$F$7:$G$12,2),IF(N2938=\"Transporte Aéreo\",VLOOKUP(O2943,Tabelas!$F$16:$G$21,2),\"\")))","v":""},null,null,null,null,null,null,null,null,null,null,null,null,null,null,null,"",{"$f":"+IF(AF2943=\"\",\"\",VLOOKUP(AF2943,Tabelas!$J$27:$K$30,2))","v":""}]
[null,{"$f":"+B2938+1","v":367},null,null,null,null,{"$f":"+IF(F2946=\"\",\"\",VLOOKUP(F2946,Tabelas!$B$7:$C$96,2))","v":""},null,{"$f":"IF(H2946=\"\",\"\",1-SUM(I2947:I2953))","v":""},null,null,null,null,null,null,{"$f":"+IF(O2946=\"\",\"\",IF(N2946=\"Transporte Marítimo\",VLOOKUP(O2946,Tabelas!$F$7:$G$12,2),IF(N2946=\"Transporte Aéreo\",VLOOKUP(O2946,Tabelas!$F$16:$G$21,2),\"\")))","v":""},null,null,null,null,null,null,null,null,null,null,null,null,null,null,null,"",{"$f":"+IF(AF2946=\"\",\"\",VLOOKUP(AF2946,Tabelas!$J$27:$K$30,2))","v":""},null,null,null,null,null,null,null,null,null,null,null,null,null,null,null," "]
[null,null,null,null,null,null,{"$f":"+IF(F2948=\"\",\"\",VLOOKUP(F2948,Tabelas!$B$7:$C$96,2))","v":""},null,{"$f":"IF(H2948=\"\",\"\",ROUND(H2948/SUM(H2946:H2953),4))","v":""},null,null,null,null,null,null,{"$f":"+IF(O2948=\"\",\"\",IF(N2946=\"Transporte Marítimo\",VLOOKUP(O2948,Tabelas!$F$7:$G$12,2),IF(N2946=\"Transporte Aéreo\",VLOOKUP(O2948,Tabelas!$F$16:$G$21,2),\"\")))","v":""},null,null,null,null,null,null,null,null,null,null,null,null,null,null,null,"",{"$f":"+IF(AF2948=\"\",\"\",VLOOKUP(AF2948,Tabelas!$J$27:$K$30,2))","v":""}]
[null,null,null,null,null,null,{"$f":"+IF(F2951=\"\",\"\",VLOOKUP(F2951,Tabelas!$B$7:$C$96,2))","v":""},null,{"$f":"IF(H2951=\"\",\"\",ROUND(H2951/SUM(H2946:H2953),4))","v":""},null,null,null,null,null,null,{"$f":"+IF(O2951=\"\",\"\",IF(N2946=\"Transporte Marítimo\",VLOOKUP(O2951,Tabelas!$F$7:$G$12,2),IF(N2946=\"Transporte Aéreo\",VLOOKUP(O2951,Tabelas!$F$16:$G$21,2),\"\")))","v":""},null,null,null,null,null,null,null,null,null,null,null,null,null,null,null,"",{"$f":"+IF(AF2951=\"\",\"\",VLOOKUP(AF2951,Tabelas!$J$27:$K$30,2))","v":""}]
[null,null,null,null,null,null,{"$f":"+IF(F2952=\"\",\"\",VLOOKUP(F2952,Tabelas!$B$7:$C$96,2))","v":""},null,{"$f":"IF(H2952=\"\",\"\",ROUND(H2952/SUM(H2946:H2953),4))","v":""},null,null,null,null,null,null,{"$f":"+IF(O2952=\"\",\"\",IF(N2946=\"Transporte Marítimo\",VLOOKUP(O2952,Tabelas!$F$7:$G$12,2),IF(N2946=\"Transporte Aéreo\",VLOOKUP(O2952,Tabelas!$F$16:$G$21,2),\"\")))","v":""},null,null,null,null,null,null,null,null,null,null,null,null,null,null,null,"",{"$f":"+IF(AF2952=\"\",\"\",VLOOKUP(AF2952,Tabelas!$J$27:$K$30,2))","v":""}]
[null,null,null,null,null,null,{"$f":"+IF(F2955=\"\",\"\",VLOOKUP(F2955,Tabelas!$B$7:$C$96,2))","v":""},null,{"$f":"IF(H2955=\"\",\"\",ROUND(H2955/SUM(H2954:H2961),4))","v":""},null,null,null,null,null,null,{"$f":"+IF(O2955=\"\",\"\",IF(N2954=\"Transporte Marítimo\",VLOOKUP(O2955,Tabelas!$F$7:$G$12,2),IF(N2954=\"Transporte Aéreo\",VLOOKUP(O2955,Tabelas!$F$16:$G$21,2),\"\")))","v":""},null,null,null,null,null,null,null,null,null,null,null,null,null,null,null,"",{"$f":"+IF(AF2955=\"\",\"\",VLOOKUP(AF2955,Tabelas!$J$27:$K$30,2))","v":""}]
[null,null,null,null,null,null,{"$f":"+IF(F2956=\"\",\"\",VLOOKUP(F2956,Tabelas!$B$7:$C$96,2))","v":""},null,{"$f":"IF(H2956=\"\",\"\",ROUND(H2956/SUM(H2954:H2961),4))","v":""},null,null,null,null,null,null,{"$f":"+IF(O2956=\"\",\"\",IF(N2954=\"Transporte Marítimo\",VLOOKUP(O2956,Tabelas!$F$7:$G$12,2),IF(N2954=\"Transporte Aéreo\",VLOOKUP(O2956,Tabelas!$F$16:$G$21,2),\"\")))","v":""},null,null,null,null,null,null,null,null,null,null,null,null,null,null,null,"",{"$f":"+IF(AF2956=\"\",\"\",VLOOKUP(AF2956,Tabelas!$J$27:$K$30,2))","v":""}]
[null,null,null,null,null,null,{"$f":"+IF(F2958=\"\",\"\",VLOOKUP(F2958,Tabelas!$B$7:$C$96,2))","v":""},null,{"$f":"IF(H2958=\"\",\"\",ROUND(H2958/SUM(H2954:H2961),4))","v":""},null,null,null,null,null,null,{"$f":"+IF(O2958=\"\",\"\",IF(N2954=\"Transporte Marítimo\",VLOOKUP(O2958,Tabelas!$F$7:$G$12,2),IF(N2954=\"Transporte Aéreo\",VLOOKUP(O2958,Tabelas!$F$16:$G$21,2),\"\")))","v":""},null,null,null,null,null,null,null,null,null,null,null,null,null,null,null,"",{"$f":"+IF(AF2958=\"\",\"\",VLOOKUP(AF2958,Tabelas!$J$27:$K$30,2))","v":""}]
[null,null,null,null,null,null,{"$f":"+IF(F2961=\"\",\"\",VLOOKUP(F2961,Tabelas!$B$7:$C$96,2))","v":""},null,{"$f":"IF(H2961=\"\",\"\",ROUND(H2961/SUM(H2954:H2961),4))","v":""},null,null,null,null,null,null,{"$f":"+IF(O2961=\"\",\"\",IF(N2954=\"Transporte Marítimo\",VLOOKUP(O2961,Tabelas!$F$7:$G$12,2),IF(N2954=\"Transporte Aéreo\",VLOOKUP(O2961,Tabelas!$F$16:$G$21,2),\"\")))","v":""},null,null,null,null,null,null,null,null,null,null,null,null,null,null,null,"",{"$f":"+IF(AF2961=\"\",\"\",VLOOKUP(AF2961,Tabelas!$J$27:$K$30,2))","v":""}]
[null,null,null,null,null,null,{"$f":"+IF(F2964=\"\",\"\",VLOOKUP(F2964,Tabelas!$B$7:$C$96,2))","v":""},null,{"$f":"IF(H2964=\"\",\"\",ROUND(H2964/SUM(H2962:H2969),4))","v":""},null,null,null,null,null,null,{"$f":"+IF(O2964=\"\",\"\",IF(N2962=\"Transporte Marítimo\",VLOOKUP(O2964,Tabelas!$F$7:$G$12,2),IF(N2962=\"Transporte Aéreo\",VLOOKUP(O2964,Tabelas!$F$16:$G$21,2),\"\")))","v":""},null,null,null,null,null,null,null,null,null,null,null,null,null,null,null,"",{"$f":"+IF(AF2964=\"\",\"\",VLOOKUP(AF2964,Tabelas!$J$27:$K$30,2))","v":""}]
[null,null,null,null,null,null,{"$f":"+IF(F2965=\"\",\"\",VLOOKUP(F2965,Tabelas!$B$7:$C$96,2))","v":""},null,{"$f":"IF(H2965=\"\",\"\",ROUND(H2965/SUM(H2962:H2969),4))","v":""},null,null,null,null,null,null,{"$f":"+IF(O2965=\"\",\"\",IF(N2962=\"Transporte Marítimo\",VLOOKUP(O2965,Tabelas!$F$7:$G$12,2),IF(N2962=\"Transporte Aéreo\",VLOOKUP(O2965,Tabelas!$F$16:$G$21,2),\"\")))","v":""},null,null,null,null,null,null,null,null,null,null,null,null,null,null,null,"",{"$f":"+IF(AF2965=\"\",\"\",VLOOKUP(AF2965,Tabelas!$J$27:$K$30,2))","v":""}]
[null,null,null,null,null,null,{"$f":"+IF(F2968=\"\",\"\",VLOOKUP(F2968,Tabelas!$B$7:$C$96,2))","v":""},null,{"$f":"IF(H2968=\"\",\"\",ROUND(H2968/SUM(H2962:H2969),4))","v":""},null,null,null,null,null,null,{"$f":"+IF(O2968=\"\",\"\",IF(N2962=\"Transporte Marítimo\",VLOOKUP(O2968,Tabelas!$F$7:$G$12,2),IF(N2962=\"Transporte Aéreo\",VLOOKUP(O2968,Tabelas!$F$16:$G$21,2),\"\")))","v":""},null,null,null,null,null,null,null,null,null,null,null,null,null,null,null,"",{"$f":"+IF(AF2968=\"\",\"\",VLOOKUP(AF2968,Tabelas!$J$27:$K$30,2))","v":""}]
[null,{"$f":"+B2962+1","v":370},null,null,null,null,{"$f":"+IF(F2970=\"\",\"\",VLOOKUP(F2970,Tabelas!$B$7:$C$96,2))","v":""},null,{"$f":"IF(H2970=\"\",\"\",1-SUM(I2971:I2977))","v":""},null,null,null,null,null,null,{"$f":"+IF(O2970=\"\",\"\",IF(N2970=\"Transporte Marítimo\",VLOOKUP(O2970,Tabelas!$F$7:$G$12,2),IF(N2970=\"Transporte Aéreo\",VLOOKUP(O2970,Tabelas!$F$16:$G$21,2),\"\")))","v":""},null,null,null,null,null,null,null,null,null,null,null,null,null,null,null,"",{"$f":"+IF(AF2970=\"\",\"\",VLOOKUP(AF2970,Tabelas!$J$27:$K$30,2))","v":""},null,null,null,null,null,null,null,null,null,null,null,null,null,null,null," "]
[null,null,null,null,null,null,{"$f":"+IF(F2973=\"\",\"\",VLOOKUP(F2973,Tabelas!$B$7:$C$96,2))","v":""},null,{"$f":"IF(H2973=\"\",\"\",ROUND(H2973/SUM(H2970:H2977),4))","v":""},null,null,null,null,null,null,{"$f":"+IF(O2973=\"\",\"\",IF(N2970=\"Transporte Marítimo\",VLOOKUP(O2973,Tabelas!$F$7:$G$12,2),IF(N2970=\"Transporte Aéreo\",VLOOKUP(O2973,Tabelas!$F$16:$G$21,2),\"\")))","v":""},null,null,null,null,null,null,null,null,null,null,null,null,null,null,null,"",{"$f":"+IF(AF2973=\"\",\"\",VLOOKUP(AF2973,Tabelas!$J$27:$K$30,2))","v":""}]
[null,null,null,null,null,null,{"$f":"+IF(F2974=\"\",\"\",VLOOKUP(F2974,Tabelas!$B$7:$C$96,2))","v":""},null,{"$f":"IF(H2974=\"\",\"\",ROUND(H2974/SUM(H2970:H2977),4))","v":""},null,null,null,null,null,null,{"$f":"+IF(O2974=\"\",\"\",IF(N2970=\"Transporte Marítimo\",VLOOKUP(O2974,Tabelas!$F$7:$G$12,2),IF(N2970=\"Transporte Aéreo\",VLOOKUP(O2974,Tabelas!$F$16:$G$21,2),\"\")))","v":""},null,null,null,null,null,null,null,null,null,null,null,null,null,null,null,"",{"$f":"+IF(AF2974=\"\",\"\",VLOOKUP(AF2974,Tabelas!$J$27:$K$30,2))","v":""}]
[null,null,null,null,null,null,{"$f":"+IF(F2976=\"\",\"\",VLOOKUP(F2976,Tabelas!$B$7:$C$96,2))","v":""},null,{"$f":"IF(H2976=\"\",\"\",ROUND(H2976/SUM(H2970:H2977),4))","v":""},null,null,null,null,null,null,{"$f":"+IF(O2976=\"\",\"\",IF(N2970=\"Transporte Marítimo\",VLOOKUP(O2976,Tabelas!$F$7:$G$12,2),IF(N2970=\"Transporte Aéreo\",VLOOKUP(O2976,Tabelas!$F$16:$G$21,2),\"\")))","v":""},null,null,null,null,null,null,null,null,null,null,null,null,null,null,null,"",{"$f":"+IF(AF2976=\"\",\"\",VLOOKUP(AF2976,Tabelas!$J$27:$K$30,2))","v":""}]
[null,null,null,null,null,null,{"$f":"+IF(F2979=\"\",\"\",VLOOKUP(F2979,Tabelas!$B$7:$C$96,2))","v":""},null,{"$f":"IF(H2979=\"\",\"\",ROUND(H2979/SUM(H2978:H2985),4))","v":""},null,null,null,null,null,null,{"$f":"+IF(O2979=\"\",\"\",IF(N2978=\"Transporte Marítimo\",VLOOKUP(O2979,Tabelas!$F$7:$G$12,2),IF(N2978=\"Transporte Aéreo\",VLOOKUP(O2979,Tabelas!$F$16:$G$21,2),\"\")))","v":""},null,null,null,null,null,null,null,null,null,null,null,null,null,null,null,"",{"$f":"+IF(AF2979=\"\",\"\",VLOOKUP(AF2979,Tabelas!$J$27:$K$30,2))","v":""}]
[null,null,null,null,null,null,{"$f":"+IF(F2982=\"\",\"\",VLOOKUP(F2982,Tabelas!$B$7:$C$96,2))","v":""},null,{"$f":"IF(H2982=\"\",\"\",ROUND(H2982/SUM(H2978:H2985),4))","v":""},null,null,null,null,null,null,{"$f":"+IF(O2982=\"\",\"\",IF(N2978=\"Transporte Marítimo\",VLOOKUP(O2982,Tabelas!$F$7:$G$12,2),IF(N2978=\"Transporte Aéreo\",VLOOKUP(O2982,Tabelas!$F$16:$G$21,2),\"\")))","v":""},null,null,null,null,null,null,null,null,null,null,null,null,null,null,null,"",{"$f":"+IF(AF2982=\"\",\"\",VLOOKUP(AF2982,Tabelas!$J$27:$K$30,2))","v":""}]
[null,null,null,null,null,null,{"$f":"+IF(F2983=\"\",\"\",VLOOKUP(F2983,Tabelas!$B$7:$C$96,2))","v":""},null,{"$f":"IF(H2983=\"\",\"\",ROUND(H2983/SUM(H2978:H2985),4))","v":""},null,null,null,null,null,null,{"$f":"+IF(O2983=\"\",\"\",IF(N2978=\"Transporte Marítimo\",VLOOKUP(O2983,Tabelas!$F$7:$G$12,2),IF(N2978=\"Transporte Aéreo\",VLOOKUP(O2983,Tabelas!$F$16:$G$21,2),\"\")))","v":""},null,null,null,null,null,null,null,null,null,null,null,null,null,null,null,"",{"$f":"+IF(AF2983=\"\",\"\",VLOOKUP(AF2983,Tabelas!$J$27:$K$30,2))","v":""}]
[null,{"$f":"+B2978+1","v":372},null,null,null,null,{"$f":"+IF(F2986=\"\",\"\",VLOOKUP(F2986,Tabelas!$B$7:$C$96,2))","v":""},null,{"$f":"IF(H2986=\"\",\"\",1-SUM(I2987:I2993))","v":""},null,null,null,null,null,null,{"$f":"+IF(O2986=\"\",\"\",IF(N2986=\"Transporte Marítimo\",VLOOKUP(O2986,Tabelas!$F$7:$G$12,2),IF(N2986=\"Transporte Aéreo\",VLOOKUP(O2986,Tabelas!$F$16:$G$21,2),\"\")))","v":""},null,null,null,null,null,null,null,null,null,null,null,null,null,null,null,"",{"$f":"+IF(AF2986=\"\",\"\",VLOOKUP(AF2986,Tabelas!$J$27:$K$30,2))","v":""},null,null,null,null,null,null,null,null,null,null,null,null,null,null,null," "]
[null,null,null,null,null,null,{"$f":"+IF(F2989=\"\",\"\",VLOOKUP(F2989,Tabelas!$B$7:$C$96,2))","v":""},null,{"$f":"IF(H2989=\"\",\"\",ROUND(H2989/SUM(H2986:H2993),4))","v":""},null,null,null,null,null,null,{"$f":"+IF(O2989=\"\",\"\",IF(N2986=\"Transporte Marítimo\",VLOOKUP(O2989,Tabelas!$F$7:$G$12,2),IF(N2986=\"Transporte Aéreo\",VLOOKUP(O2989,Tabelas!$F$16:$G$21,2),\"\")))","v":""},null,null,null,null,null,null,null,null,null,null,null,null,null,null,null,"",{"$f":"+IF(AF2989=\"\",\"\",VLOOKUP(AF2989,Tabelas!$J$27:$K$30,2))","v":""}]
[null,null,null,null,null,null,{"$f":"+IF(F2991=\"\",\"\",VLOOKUP(F2991,Tabelas!$B$7:$C$96,2))","v":""},null,{"$f":"IF(H2991=\"\",\"\",ROUND(H2991/SUM(H2986:H2993),4))","v":""},null,null,null,null,null,null,{"$f":"+IF(O2991=\"\",\"\",IF(N2986=\"Transporte Marítimo\",VLOOKUP(O2991,Tabelas!$F$7:$G$12,2),IF(N2986=\"Transporte Aéreo\",VLOOKUP(O2991,Tabelas!$F$16:$G$21,2),\"\")))","v":""},null,null,null,null,null,null,null,null,null,null,null,null,null,null,null,"",{"$f":"+IF(AF2991=\"\",\"\",VLOOKUP(AF2991,Tabelas!$J$27:$K$30,2))","v":""}]
[null,null,null,null,null,null,{"$f":"+IF(F2992=\"\",\"\",VLOOKUP(F2992,Tabelas!$B$7:$C$96,2))","v":""},null,{"$f":"IF(H2992=\"\",\"\",ROUND(H2992/SUM(H2986:H2993),4))","v":""},null,null,null,null,null,null,{"$f":"+IF(O2992=\"\",\"\",IF(N2986=\"Transporte Marítimo\",VLOOKUP(O2992,Tabelas!$F$7:$G$12,2),IF(N2986=\"Transporte Aéreo\",VLOOKUP(O2992,Tabelas!$F$16:$G$21,2),\"\")))","v":""},null,null,null,null,null,null,null,null,null,null,null,null,null,null,null,"",{"$f":"+IF(AF2992=\"\",\"\",VLOOKUP(AF2992,Tabelas!$J$27:$K$30,2))","v":""}]
[null,null,null,null,null,null,{"$f":"+IF(F2995=\"\",\"\",VLOOKUP(F2995,Tabelas!$B$7:$C$96,2))","v":""},null,{"$f":"IF(H2995=\"\",\"\",ROUND(H2995/SUM(H2994:H3001),4))","v":""},null,null,null,null,null,null,{"$f":"+IF(O2995=\"\",\"\",IF(N2994=\"Transporte Marítimo\",VLOOKUP(O2995,Tabelas!$F$7:$G$12,2),IF(N2994=\"Transporte Aéreo\",VLOOKUP(O2995,Tabelas!$F$16:$G$21,2),\"\")))","v":""},null,null,null,null,null,null,null,null,null,null,null,null,null,null,null,"",{"$f":"+IF(AF2995=\"\",\"\",VLOOKUP(AF2995,Tabelas!$J$27:$K$30,2))","v":""}]
[null,null,null,null,null,null,{"$f":"+IF(F2996=\"\",\"\",VLOOKUP(F2996,Tabelas!$B$7:$C$96,2))","v":""},null,{"$f":"IF(H2996=\"\",\"\",ROUND(H2996/SUM(H2994:H3001),4))","v":""},null,null,null,null,null,null,{"$f":"+IF(O2996=\"\",\"\",IF(N2994=\"Transporte Marítimo\",VLOOKUP(O2996,Tabelas!$F$7:$G$12,2),IF(N2994=\"Transporte Aéreo\",VLOOKUP(O2996,Tabelas!$F$16:$G$21,2),\"\")))","v":""},null,null,null,null,null,null,null,null,null,null,null,null,null,null,null,"",{"$f":"+IF(AF2996=\"\",\"\",VLOOKUP(AF2996,Tabelas!$J$27:$K$30,2))","v":""}]
[null,null,null,null,null,null,{"$f":"+IF(F3000=\"\",\"\",VLOOKUP(F3000,Tabelas!$B$7:$C$96,2))","v":""},null,{"$f":"IF(H3000=\"\",\"\",ROUND(H3000/SUM(H2994:H3001),4))","v":""},null,null,null,null,null,null,{"$f":"+IF(O3000=\"\",\"\",IF(N2994=\"Transporte Marítimo\",VLOOKUP(O3000,Tabelas!$F$7:$G$12,2),IF(N2994=\"Transporte Aéreo\",VLOOKUP(O3000,Tabelas!$F$16:$G$21,2),\"\")))","v":""},null,null,null,null,null,null,null,null,null,null,null,null,null,null,null,"",{"$f":"+IF(AF3000=\"\",\"\",VLOOKUP(AF3000,Tabelas!$J$27:$K$30,2))","v":""}]
[null,null,null,null,null,null,{"$f":"+IF(F3001=\"\",\"\",VLOOKUP(F3001,Tabelas!$B$7:$C$96,2))","v":""},null,{"$f":"IF(H3001=\"\",\"\",ROUND(H3001/SUM(H2994:H3001),4))","v":""},null,null,null,null,null,null,{"$f":"+IF(O3001=\"\",\"\",IF(N2994=\"Transporte Marítimo\",VLOOKUP(O3001,Tabelas!$F$7:$G$12,2),IF(N2994=\"Transporte Aéreo\",VLOOKUP(O3001,Tabelas!$F$16:$G$21,2),\"\")))","v":""},null,null,null,null,null,null,null,null,null,null,null,null,null,null,null,"",{"$f":"+IF(AF3001=\"\",\"\",VLOOKUP(AF3001,Tabelas!$J$27:$K$30,2))","v":""}]
[null,null,null,null,null,null,{"$f":"+IF(F3004=\"\",\"\",VLOOKUP(F3004,Tabelas!$B$7:$C$96,2))","v":""},null,{"$f":"IF(H3004=\"\",\"\",ROUND(H3004/SUM(H3002:H3009),4))","v":""},null,null,null,null,null,null,{"$f":"+IF(O3004=\"\",\"\",IF(N3002=\"Transporte Marítimo\",VLOOKUP(O3004,Tabelas!$F$7:$G$12,2),IF(N3002=\"Transporte Aéreo\",VLOOKUP(O3004,Tabelas!$F$16:$G$21,2),\"\")))","v":""},null,null,null,null,null,null,null,null,null,null,null,null,null,null,null,"",{"$f":"+IF(AF3004=\"\",\"\",VLOOKUP(AF3004,Tabelas!$J$27:$K$30,2))","v":""}]
[null,null,null,null,null,null,{"$f":"+IF(F3007=\"\",\"\",VLOOKUP(F3007,Tabelas!$B$7:$C$96,2))","v":""},null,{"$f":"IF(H3007=\"\",\"\",ROUND(H3007/SUM(H3002:H3009),4))","v":""},null,null,null,null,null,null,{"$f":"+IF(O3007=\"\",\"\",IF(N3002=\"Transporte Marítimo\",VLOOKUP(O3007,Tabelas!$F$7:$G$12,2),IF(N3002=\"Transporte Aéreo\",VLOOKUP(O3007,Tabelas!$F$16:$G$21,2),\"\")))","v":""},null,null,null,null,null,null,null,null,null,null,null,null,null,null,null,"",{"$f":"+IF(AF3007=\"\",\"\",VLOOKUP(AF3007,Tabelas!$J$27:$K$30,2))","v":""}]
[null,null,null,null,null,null,{"$f":"+IF(F3009=\"\",\"\",VLOOKUP(F3009,Tabelas!$B$7:$C$96,2))","v":""},null,{"$f":"IF(H3009=\"\",\"\",ROUND(H3009/SUM(H3002:H3009),4))","v":""},null,null,null,null,null,null,{"$f":"+IF(O3009=\"\",\"\",IF(N3002=\"Transporte Marítimo\",VLOOKUP(O3009,Tabelas!$F$7:$G$12,2),IF(N3002=\"Transporte Aéreo\",VLOOKUP(O3009,Tabelas!$F$16:$G$21,2),\"\")))","v":""},null,null,null,null,null,null,null,null,null,null,null,null,null,null,null,"",{"$f":"+IF(AF3009=\"\",\"\",VLOOKUP(AF3009,Tabelas!$J$27:$K$30,2))","v":""}]
[null,{"$f":"+B3002+1","v":375},null,null,null,null,{"$f":"+IF(F3010=\"\",\"\",VLOOKUP(F3010,Tabelas!$B$7:$C$96,2))","v":""},null,{"$f":"IF(H3010=\"\",\"\",1-SUM(I3011:I3017))","v":""},null,null,null,null,null,null,{"$f":"+IF(O3010=\"\",\"\",IF(N3010=\"Transporte Marítimo\",VLOOKUP(O3010,Tabelas!$F$7:$G$12,2),IF(N3010=\"Transporte Aéreo\",VLOOKUP(O3010,Tabelas!$F$16:$G$21,2),\"\")))","v":""},null,null,null,null,null,null,null,null,null,null,null,null,null,null,null,"",{"$f":"+IF(AF3010=\"\",\"\",VLOOKUP(AF3010,Tabelas!$J$27:$K$30,2))","v":""},null,null,null,null,null,null,null,null,null,null,null,null,null,null,null," "]
[null,null,null,null,null,null,{"$f":"+IF(F3013=\"\",\"\",VLOOKUP(F3013,Tabelas!$B$7:$C$96,2))","v":""},null,{"$f":"IF(H3013=\"\",\"\",ROUND(H3013/SUM(H3010:H3017),4))","v":""},null,null,null,null,null,null,{"$f":"+IF(O3013=\"\",\"\",IF(N3010=\"Transporte Marítimo\",VLOOKUP(O3013,Tabelas!$F$7:$G$12,2),IF(N3010=\"Transporte Aéreo\",VLOOKUP(O3013,Tabelas!$F$16:$G$21,2),\"\")))","v":""},null,null,null,null,null,null,null,null,null,null,null,null,null,null,null,"",{"$f":"+IF(AF3013=\"\",\"\",VLOOKUP(AF3013,Tabelas!$J$27:$K$30,2))","v":""}]
[null,null,null,null,null,null,{"$f":"+IF(F3014=\"\",\"\",VLOOKUP(F3014,Tabelas!$B$7:$C$96,2))","v":""},null,{"$f":"IF(H3014=\"\",\"\",ROUND(H3014/SUM(H3010:H3017),4))","v":""},null,null,null,null,null,null,{"$f":"+IF(O3014=\"\",\"\",IF(N3010=\"Transporte Marítimo\",VLOOKUP(O3014,Tabelas!$F$7:$G$12,2),IF(N3010=\"Transporte Aéreo\",VLOOKUP(O3014,Tabelas!$F$16:$G$21,2),\"\")))","v":""},null,null,null,null,null,null,null,null,null,null,null,null,null,null,null,"",{"$f":"+IF(AF3014=\"\",\"\",VLOOKUP(AF3014,Tabelas!$J$27:$K$30,2))","v":""}]
[null,null,null,null,null,null,{"$f":"+IF(F3017=\"\",\"\",VLOOKUP(F3017,Tabelas!$B$7:$C$96,2))","v":""},null,{"$f":"IF(H3017=\"\",\"\",ROUND(H3017/SUM(H3010:H3017),4))","v":""},null,null,null,null,null,null,{"$f":"+IF(O3017=\"\",\"\",IF(N3010=\"Transporte Marítimo\",VLOOKUP(O3017,Tabelas!$F$7:$G$12,2),IF(N3010=\"Transporte Aéreo\",VLOOKUP(O3017,Tabelas!$F$16:$G$21,2),\"\")))","v":""},null,null,null,null,null,null,null,null,null,null,null,null,null,null,null,"",{"$f":"+IF(AF3017=\"\",\"\",VLOOKUP(AF3017,Tabelas!$J$27:$K$30,2))","v":""}]
[null,null,null,null,null,null,{"$f":"+IF(F3019=\"\",\"\",VLOOKUP(F3019,Tabelas!$B$7:$C$96,2))","v":""},null,{"$f":"IF(H3019=\"\",\"\",ROUND(H3019/SUM(H3018:H3025),4))","v":""},null,null,null,null,null,null,{"$f":"+IF(O3019=\"\",\"\",IF(N3018=\"Transporte Marítimo\",VLOOKUP(O3019,Tabelas!$F$7:$G$12,2),IF(N3018=\"Transporte Aéreo\",VLOOKUP(O3019,Tabelas!$F$16:$G$21,2),\"\")))","v":""},null,null,null,null,null,null,null,null,null,null,null,null,null,null,null,"",{"$f":"+IF(AF3019=\"\",\"\",VLOOKUP(AF3019,Tabelas!$J$27:$K$30,2))","v":""}]
[null,null,null,null,null,null,{"$f":"+IF(F3022=\"\",\"\",VLOOKUP(F3022,Tabelas!$B$7:$C$96,2))","v":""},null,{"$f":"IF(H3022=\"\",\"\",ROUND(H3022/SUM(H3018:H3025),4))","v":""},null,null,null,null,null,null,{"$f":"+IF(O3022=\"\",\"\",IF(N3018=\"Transporte Marítimo\",VLOOKUP(O3022,Tabelas!$F$7:$G$12,2),IF(N3018=\"Transporte Aéreo\",VLOOKUP(O3022,Tabelas!$F$16:$G$21,2),\"\")))","v":""},null,null,null,null,null,null,null,null,null,null,null,null,null,null,null,"",{"$f":"+IF(AF3022=\"\",\"\",VLOOKUP(AF3022,Tabelas!$J$27:$K$30,2))","v":""}]
[null,null,null,null,null,null,{"$f":"+IF(F3023=\"\",\"\",VLOOKUP(F3023,Tabelas!$B$7:$C$96,2))","v":""},null,{"$f":"IF(H3023=\"\",\"\",ROUND(H3023/SUM(H3018:H3025),4))","v":""},null,null,null,null,null,null,{"$f":"+IF(O3023=\"\",\"\",IF(N3018=\"Transporte Marítimo\",VLOOKUP(O3023,Tabelas!$F$7:$G$12,2),IF(N3018=\"Transporte Aéreo\",VLOOKUP(O3023,Tabelas!$F$16:$G$21,2),\"\")))","v":""},null,null,null,null,null,null,null,null,null,null,null,null,null,null,null,"",{"$f":"+IF(AF3023=\"\",\"\",VLOOKUP(AF3023,Tabelas!$J$27:$K$30,2))","v":""}]
[null,null,null,null,null,null,{"$f":"+IF(F3027=\"\",\"\",VLOOKUP(F3027,Tabelas!$B$7:$C$96,2))","v":""},null,{"$f":"IF(H3027=\"\",\"\",ROUND(H3027/SUM(H3026:H3033),4))","v":""},null,null,null,null,null,null,{"$f":"+IF(O3027=\"\",\"\",IF(N3026=\"Transporte Marítimo\",VLOOKUP(O3027,Tabelas!$F$7:$G$12,2),IF(N3026=\"Transporte Aéreo\",VLOOKUP(O3027,Tabelas!$F$16:$G$21,2),\"\")))","v":""},null,null,null,null,null,null,null,null,null,null,null,null,null,null,null,{"$f":"+IF(AE3027=\"20NL\",1,IF(AE3027=\"40NL\",2,IF(AE3027=\"20RF\",3,IF(AE3027=\"40RF\",4,\"\"))))","v":""},{"$f":"+IF(AF3027=\"\",\"\",VLOOKUP(AF3027,Tabelas!$J$27:$K$30,2))","v":""}]
[null,null,null,null,null,null,{"$f":"+IF(F3028=\"\",\"\",VLOOKUP(F3028,Tabelas!$B$7:$C$96,2))","v":""},null,{"$f":"IF(H3028=\"\",\"\",ROUND(H3028/SUM(H3026:H3033),4))","v":""},null,null,null,null,null,null,{"$f":"+IF(O3028=\"\",\"\",IF(N3026=\"Transporte Marítimo\",VLOOKUP(O3028,Tabelas!$F$7:$G$12,2),IF(N3026=\"Transporte Aéreo\",VLOOKUP(O3028,Tabelas!$F$16:$G$21,2),\"\")))","v":""},null,null,null,null,null,null,null,null,null,null,null,null,null,null,null,"",{"$f":"+IF(AF3028=\"\",\"\",VLOOKUP(AF3028,Tabelas!$J$27:$K$30,2))","v":""}]
[null,null,null,null,null,null,{"$f":"+IF(F3031=\"\",\"\",VLOOKUP(F3031,Tabelas!$B$7:$C$96,2))","v":""},null,{"$f":"IF(H3031=\"\",\"\",ROUND(H3031/SUM(H3026:H3033),4))","v":""},null,null,null,null,null,null,{"$f":"+IF(O3031=\"\",\"\",IF(N3026=\"Transporte Marítimo\",VLOOKUP(O3031,Tabelas!$F$7:$G$12,2),IF(N3026=\"Transporte Aéreo\",VLOOKUP(O3031,Tabelas!$F$16:$G$21,2),\"\")))","v":""},null,null,null,null,null,null,null,null,null,null,null,null,null,null,null,"",{"$f":"+IF(AF3031=\"\",\"\",VLOOKUP(AF3031,Tabelas!$J$27:$K$30,2))","v":""}]
[null,null,null,null,null,null,{"$f":"+IF(F3032=\"\",\"\",VLOOKUP(F3032,Tabelas!$B$7:$C$96,2))","v":""},null,{"$f":"IF(H3032=\"\",\"\",ROUND(H3032/SUM(H3026:H3033),4))","v":""},null,null,null,null,null,null,{"$f":"+IF(O3032=\"\",\"\",IF(N3026=\"Transporte Marítimo\",VLOOKUP(O3032,Tabelas!$F$7:$G$12,2),IF(N3026=\"Transporte Aéreo\",VLOOKUP(O3032,Tabelas!$F$16:$G$21,2),\"\")))","v":""},null,null,null,null,null,null,null,null,null,null,null,null,null,null,null,"",{"$f":"+IF(AF3032=\"\",\"\",VLOOKUP(AF3032,Tabelas!$J$27:$K$30,2))","v":""}]
[null,null,null,null,null,null,{"$f":"+IF(F3035=\"\",\"\",VLOOKUP(F3035,Tabelas!$B$7:$C$96,2))","v":""},null,{"$f":"IF(H3035=\"\",\"\",ROUND(H3035/SUM(H3034:H3041),4))","v":""},null,null,null,null,null,null,{"$f":"+IF(O3035=\"\",\"\",IF(N3034=\"Transporte Marítimo\",VLOOKUP(O3035,Tabelas!$F$7:$G$12,2),IF(N3034=\"Transporte Aéreo\",VLOOKUP(O3035,Tabelas!$F$16:$G$21,2),\"\")))","v":""},null,null,null,null,null,null,null,null,null,null,null,null,null,null,null,"",{"$f":"+IF(AF3035=\"\",\"\",VLOOKUP(AF3035,Tabelas!$J$27:$K$30,2))","v":""}]
[null,null,null,null,null,null,{"$f":"+IF(F3037=\"\",\"\",VLOOKUP(F3037,Tabelas!$B$7:$C$96,2))","v":""},null,{"$f":"IF(H3037=\"\",\"\",ROUND(H3037/SUM(H3034:H3041),4))","v":""},null,null,null,null,null,null,{"$f":"+IF(O3037=\"\",\"\",IF(N3034=\"Transporte Marítimo\",VLOOKUP(O3037,Tabelas!$F$7:$G$12,2),IF(N3034=\"Transporte Aéreo\",VLOOKUP(O3037,Tabelas!$F$16:$G$21,2),\"\")))","v":""},null,null,null,null,null,null,null,null,null,null,null,null,null,null,null,"",{"$f":"+IF(AF3037=\"\",\"\",VLOOKUP(AF3037,Tabelas!$J$27:$K$30,2))","v":""}]
[null,null,null,null,null,null,{"$f":"+IF(F3040=\"\",\"\",VLOOKUP(F3040,Tabelas!$B$7:$C$96,2))","v":""},null,{"$f":"IF(H3040=\"\",\"\",ROUND(H3040/SUM(H3034:H3041),4))","v":""},null,null,null,null,null,null,{"$f":"+IF(O3040=\"\",\"\",IF(N3034=\"Transporte Marítimo\",VLOOKUP(O3040,Tabelas!$F$7:$G$12,2),IF(N3034=\"Transporte Aéreo\",VLOOKUP(O3040,Tabelas!$F$16:$G$21,2),\"\")))","v":""},null,null,null,null,null,null,null,null,null,null,null,null,null,null,null,"",{"$f":"+IF(AF3040=\"\",\"\",VLOOKUP(AF3040,Tabelas!$J$27:$K$30,2))","v":""}]
[null,null,null,null,null,null,{"$f":"+IF(F3041=\"\",\"\",VLOOKUP(F3041,Tabelas!$B$7:$C$96,2))","v":""},null,{"$f":"IF(H3041=\"\",\"\",ROUND(H3041/SUM(H3034:H3041),4))","v":""},null,null,null,null,null,null,{"$f":"+IF(O3041=\"\",\"\",IF(N3034=\"Transporte Marítimo\",VLOOKUP(O3041,Tabelas!$F$7:$G$12,2),IF(N3034=\"Transporte Aéreo\",VLOOKUP(O3041,Tabelas!$F$16:$G$21,2),\"\")))","v":""},null,null,null,null,null,null,null,null,null,null,null,null,null,null,null,"",{"$f":"+IF(AF3041=\"\",\"\",VLOOKUP(AF3041,Tabelas!$J$27:$K$30,2))","v":""}]
[null,null,null,null,null,null,{"$f":"+IF(F3044=\"\",\"\",VLOOKUP(F3044,Tabelas!$B$7:$C$96,2))","v":""},null,{"$f":"IF(H3044=\"\",\"\",ROUND(H3044/SUM(H3042:H3049),4))","v":""},null,null,null,null,null,null,{"$f":"+IF(O3044=\"\",\"\",IF(N3042=\"Transporte Marítimo\",VLOOKUP(O3044,Tabelas!$F$7:$G$12,2),IF(N3042=\"Transporte Aéreo\",VLOOKUP(O3044,Tabelas!$F$16:$G$21,2),\"\")))","v":""},null,null,null,null,null,null,null,null,null,null,null,null,null,null,null,"",{"$f":"+IF(AF3044=\"\",\"\",VLOOKUP(AF3044,Tabelas!$J$27:$K$30,2))","v":""}]
[null,null,null,null,null,null,{"$f":"+IF(F3045=\"\",\"\",VLOOKUP(F3045,Tabelas!$B$7:$C$96,2))","v":""},null,{"$f":"IF(H3045=\"\",\"\",ROUND(H3045/SUM(H3042:H3049),4))","v":""},null,null,null,null,null,null,{"$f":"+IF(O3045=\"\",\"\",IF(N3042=\"Transporte Marítimo\",VLOOKUP(O3045,Tabelas!$F$7:$G$12,2),IF(N3042=\"Transporte Aéreo\",VLOOKUP(O3045,Tabelas!$F$16:$G$21,2),\"\")))","v":""},null,null,null,null,null,null,null,null,null,null,null,null,null,null,null,"",{"$f":"+IF(AF3045=\"\",\"\",VLOOKUP(AF3045,Tabelas!$J$27:$K$30,2))","v":""}]
[null,null,null,null,null,null,{"$f":"+IF(F3049=\"\",\"\",VLOOKUP(F3049,Tabelas!$B$7:$C$96,2))","v":""},null,{"$f":"IF(H3049=\"\",\"\",ROUND(H3049/SUM(H3042:H3049),4))","v":""},null,null,null,null,null,null,{"$f":"+IF(O3049=\"\",\"\",IF(N3042=\"Transporte Marítimo\",VLOOKUP(O3049,Tabelas!$F$7:$G$12,2),IF(N3042=\"Transporte Aéreo\",VLOOKUP(O3049,Tabelas!$F$16:$G$21,2),\"\")))","v":""},null,null,null,null,null,null,null,null,null,null,null,null,null,null,null,"",{"$f":"+IF(AF3049=\"\",\"\",VLOOKUP(AF3049,Tabelas!$J$27:$K$30,2))","v":""}]
[null,{"$f":"+B3042+1","v":380},null,null,null,null,{"$f":"+IF(F3050=\"\",\"\",VLOOKUP(F3050,Tabelas!$B$7:$C$96,2))","v":""},null,{"$f":"IF(H3050=\"\",\"\",1-SUM(I3051:I3057))","v":""},null,null,null,null,null,null,{"$f":"+IF(O3050=\"\",\"\",IF(N3050=\"Transporte Marítimo\",VLOOKUP(O3050,Tabelas!$F$7:$G$12,2),IF(N3050=\"Transporte Aéreo\",VLOOKUP(O3050,Tabelas!$F$16:$G$21,2),\"\")))","v":""},null,null,null,null,null,null,null,null,null,null,null,null,null,null,null,"",{"$f":"+IF(AF3050=\"\",\"\",VLOOKUP(AF3050,Tabelas!$J$27:$K$30,2))","v":""},null,null,null,null,null,null,null,null,null,null,null,null,null,null,null," "]
[null,null,null,null,null,null,{"$f":"+IF(F3053=\"\",\"\",VLOOKUP(F3053,Tabelas!$B$7:$C$96,2))","v":""},null,{"$f":"IF(H3053=\"\",\"\",ROUND(H3053/SUM(H3050:H3057),4))","v":""},null,null,null,null,null,null,{"$f":"+IF(O3053=\"\",\"\",IF(N3050=\"Transporte Marítimo\",VLOOKUP(O3053,Tabelas!$F$7:$G$12,2),IF(N3050=\"Transporte Aéreo\",VLOOKUP(O3053,Tabelas!$F$16:$G$21,2),\"\")))","v":""},null,null,null,null,null,null,null,null,null,null,null,null,null,null,null,"",{"$f":"+IF(AF3053=\"\",\"\",VLOOKUP(AF3053,Tabelas!$J$27:$K$30,2))","v":""}]
[null,null,null,null,null,null,{"$f":"+IF(F3055=\"\",\"\",VLOOKUP(F3055,Tabelas!$B$7:$C$96,2))","v":""},null,{"$f":"IF(H3055=\"\",\"\",ROUND(H3055/SUM(H3050:H3057),4))","v":""},null,null,null,null,null,null,{"$f":"+IF(O3055=\"\",\"\",IF(N3050=\"Transporte Marítimo\",VLOOKUP(O3055,Tabelas!$F$7:$G$12,2),IF(N3050=\"Transporte Aéreo\",VLOOKUP(O3055,Tabelas!$F$16:$G$21,2),\"\")))","v":""},null,null,null,null,null,null,null,null,null,null,null,null,null,null,null,"",{"$f":"+IF(AF3055=\"\",\"\",VLOOKUP(AF3055,Tabelas!$J$27:$K$30,2))","v":""}]
[null,{"$f":"+B3050+1","v":381},null,null,null,null,{"$f":"+IF(F3058=\"\",\"\",VLOOKUP(F3058,Tabelas!$B$7:$C$96,2))","v":""},null,{"$f":"IF(H3058=\"\",\"\",1-SUM(I3059:I3065))","v":""},null,null,null,null,null,null,{"$f":"+IF(O3058=\"\",\"\",IF(N3058=\"Transporte Marítimo\",VLOOKUP(O3058,Tabelas!$F$7:$G$12,2),IF(N3058=\"Transporte Aéreo\",VLOOKUP(O3058,Tabelas!$F$16:$G$21,2),\"\")))","v":""},null,null,null,null,null,null,null,null,null,null,null,null,null,null,null,"",{"$f":"+IF(AF3058=\"\",\"\",VLOOKUP(AF3058,Tabelas!$J$27:$K$30,2))","v":""},null,null,null,null,null,null,null,null,null,null,null,null,null,null,null," "]
[null,null,null,null,null,null,{"$f":"+IF(F3059=\"\",\"\",VLOOKUP(F3059,Tabelas!$B$7:$C$96,2))","v":""},null,{"$f":"IF(H3059=\"\",\"\",ROUND(H3059/SUM(H3058:H3065),4))","v":""},null,null,null,null,null,null,{"$f":"+IF(O3059=\"\",\"\",IF(N3058=\"Transporte Marítimo\",VLOOKUP(O3059,Tabelas!$F$7:$G$12,2),IF(N3058=\"Transporte Aéreo\",VLOOKUP(O3059,Tabelas!$F$16:$G$21,2),\"\")))","v":""},null,null,null,null,null,null,null,null,null,null,null,null,null,null,null,"",{"$f":"+IF(AF3059=\"\",\"\",VLOOKUP(AF3059,Tabelas!$J$27:$K$30,2))","v":""}]
[null,null,null,null,null,null,{"$f":"+IF(F3062=\"\",\"\",VLOOKUP(F3062,Tabelas!$B$7:$C$96,2))","v":""},null,{"$f":"IF(H3062=\"\",\"\",ROUND(H3062/SUM(H3058:H3065),4))","v":""},null,null,null,null,null,null,{"$f":"+IF(O3062=\"\",\"\",IF(N3058=\"Transporte Marítimo\",VLOOKUP(O3062,Tabelas!$F$7:$G$12,2),IF(N3058=\"Transporte Aéreo\",VLOOKUP(O3062,Tabelas!$F$16:$G$21,2),\"\")))","v":""},null,null,null,null,null,null,null,null,null,null,null,null,null,null,null,"",{"$f":"+IF(AF3062=\"\",\"\",VLOOKUP(AF3062,Tabelas!$J$27:$K$30,2))","v":""}]
[null,null,null,null,null,null,{"$f":"+IF(F3063=\"\",\"\",VLOOKUP(F3063,Tabelas!$B$7:$C$96,2))","v":""},null,{"$f":"IF(H3063=\"\",\"\",ROUND(H3063/SUM(H3058:H3065),4))","v":""},null,null,null,null,null,null,{"$f":"+IF(O3063=\"\",\"\",IF(N3058=\"Transporte Marítimo\",VLOOKUP(O3063,Tabelas!$F$7:$G$12,2),IF(N3058=\"Transporte Aéreo\",VLOOKUP(O3063,Tabelas!$F$16:$G$21,2),\"\")))","v":""},null,null,null,null,null,null,null,null,null,null,null,null,null,null,null,"",{"$f":"+IF(AF3063=\"\",\"\",VLOOKUP(AF3063,Tabelas!$J$27:$K$30,2))","v":""}]
[null,null,null,null,null,null,{"$f":"+IF(F3065=\"\",\"\",VLOOKUP(F3065,Tabelas!$B$7:$C$96,2))","v":""},null,{"$f":"IF(H3065=\"\",\"\",ROUND(H3065/SUM(H3058:H3065),4))","v":""},null,null,null,null,null,null,{"$f":"+IF(O3065=\"\",\"\",IF(N3058=\"Transporte Marítimo\",VLOOKUP(O3065,Tabelas!$F$7:$G$12,2),IF(N3058=\"Transporte Aéreo\",VLOOKUP(O3065,Tabelas!$F$16:$G$21,2),\"\")))","v":""},null,null,null,null,null,null,null,null,null,null,null,null,null,null,null,"",{"$f":"+IF(AF3065=\"\",\"\",VLOOKUP(AF3065,Tabelas!$J$27:$K$30,2))","v":""}]
[null,null,null,null,null,null,{"$f":"+IF(F3068=\"\",\"\",VLOOKUP(F3068,Tabelas!$B$7:$C$96,2))","v":""},null,{"$f":"IF(H3068=\"\",\"\",ROUND(H3068/SUM(H3066:H3073),4))","v":""},null,null,null,null,null,null,{"$f":"+IF(O3068=\"\",\"\",IF(N3066=\"Transporte Marítimo\",VLOOKUP(O3068,Tabelas!$F$7:$G$12,2),IF(N3066=\"Transporte Aéreo\",VLOOKUP(O3068,Tabelas!$F$16:$G$21,2),\"\")))","v":""},null,null,null,null,null,null,null,null,null,null,null,null,null,null,null,"",{"$f":"+IF(AF3068=\"\",\"\",VLOOKUP(AF3068,Tabelas!$J$27:$K$30,2))","v":""}]
[null,null,null,null,null,null,{"$f":"+IF(F3071=\"\",\"\",VLOOKUP(F3071,Tabelas!$B$7:$C$96,2))","v":""},null,{"$f":"IF(H3071=\"\",\"\",ROUND(H3071/SUM(H3066:H3073),4))","v":""},null,null,null,null,null,null,{"$f":"+IF(O3071=\"\",\"\",IF(N3066=\"Transporte Marítimo\",VLOOKUP(O3071,Tabelas!$F$7:$G$12,2),IF(N3066=\"Transporte Aéreo\",VLOOKUP(O3071,Tabelas!$F$16:$G$21,2),\"\")))","v":""},null,null,null,null,null,null,null,null,null,null,null,null,null,null,null,"",{"$f":"+IF(AF3071=\"\",\"\",VLOOKUP(AF3071,Tabelas!$J$27:$K$30,2))","v":""}]
[null,null,null,null,null,null,{"$f":"+IF(F3072=\"\",\"\",VLOOKUP(F3072,Tabelas!$B$7:$C$96,2))","v":""},null,{"$f":"IF(H3072=\"\",\"\",ROUND(H3072/SUM(H3066:H3073),4))","v":""},null,null,null,null,null,null,{"$f":"+IF(O3072=\"\",\"\",IF(N3066=\"Transporte Marítimo\",VLOOKUP(O3072,Tabelas!$F$7:$G$12,2),IF(N3066=\"Transporte Aéreo\",VLOOKUP(O3072,Tabelas!$F$16:$G$21,2),\"\")))","v":""},null,null,null,null,null,null,null,null,null,null,null,null,null,null,null,"",{"$f":"+IF(AF3072=\"\",\"\",VLOOKUP(AF3072,Tabelas!$J$27:$K$30,2))","v":""}]
[null,null,null,null,null,null,{"$f":"+IF(F3076=\"\",\"\",VLOOKUP(F3076,Tabelas!$B$7:$C$96,2))","v":""},null,{"$f":"IF(H3076=\"\",\"\",ROUND(H3076/SUM(H3074:H3081),4))","v":""},null,null,null,null,null,null,{"$f":"+IF(O3076=\"\",\"\",IF(N3074=\"Transporte Marítimo\",VLOOKUP(O3076,Tabelas!$F$7:$G$12,2),IF(N3074=\"Transporte Aéreo\",VLOOKUP(O3076,Tabelas!$F$16:$G$21,2),\"\")))","v":""},null,null,null,null,null,null,null,null,null,null,null,null,null,null,null,"",{"$f":"+IF(AF3076=\"\",\"\",VLOOKUP(AF3076,Tabelas!$J$27:$K$30,2))","v":""}]
[null,null,null,null,null,null,{"$f":"+IF(F3077=\"\",\"\",VLOOKUP(F3077,Tabelas!$B$7:$C$96,2))","v":""},null,{"$f":"IF(H3077=\"\",\"\",ROUND(H3077/SUM(H3074:H3081),4))","v":""},null,null,null,null,null,null,{"$f":"+IF(O3077=\"\",\"\",IF(N3074=\"Transporte Marítimo\",VLOOKUP(O3077,Tabelas!$F$7:$G$12,2),IF(N3074=\"Transporte Aéreo\",VLOOKUP(O3077,Tabelas!$F$16:$G$21,2),\"\")))","v":""},null,null,null,null,null,null,null,null,null,null,null,null,null,null,null,"",{"$f":"+IF(AF3077=\"\",\"\",VLOOKUP(AF3077,Tabelas!$J$27:$K$30,2))","v":""}]
[null,null,null,null,null,null,{"$f":"+IF(F3080=\"\",\"\",VLOOKUP(F3080,Tabelas!$B$7:$C$96,2))","v":""},null,{"$f":"IF(H3080=\"\",\"\",ROUND(H3080/SUM(H3074:H3081),4))","v":""},null,null,null,null,null,null,{"$f":"+IF(O3080=\"\",\"\",IF(N3074=\"Transporte Marítimo\",VLOOKUP(O3080,Tabelas!$F$7:$G$12,2),IF(N3074=\"Transporte Aéreo\",VLOOKUP(O3080,Tabelas!$F$16:$G$21,2),\"\")))","v":""},null,null,null,null,null,null,null,null,null,null,null,null,null,null,null,"",{"$f":"+IF(AF3080=\"\",\"\",VLOOKUP(AF3080,Tabelas!$J$27:$K$30,2))","v":""}]
[null,null,null,null,null,null,{"$f":"+IF(F3081=\"\",\"\",VLOOKUP(F3081,Tabelas!$B$7:$C$96,2))","v":""},null,{"$f":"IF(H3081=\"\",\"\",ROUND(H3081/SUM(H3074:H3081),4))","v":""},null,null,null,null,null,null,{"$f":"+IF(O3081=\"\",\"\",IF(N3074=\"Transporte Marítimo\",VLOOKUP(O3081,Tabelas!$F$7:$G$12,2),IF(N3074=\"Transporte Aéreo\",VLOOKUP(O3081,Tabelas!$F$16:$G$21,2),\"\")))","v":""},null,null,null,null,null,null,null,null,null,null,null,null,null,null,null,"",{"$f":"+IF(AF3081=\"\",\"\",VLOOKUP(AF3081,Tabelas!$J$27:$K$30,2))","v":""}]
[null,null,null,null,null,null,{"$f":"+IF(F3083=\"\",\"\",VLOOKUP(F3083,Tabelas!$B$7:$C$96,2))","v":""},null,{"$f":"IF(H3083=\"\",\"\",ROUND(H3083/SUM(H3082:H3089),4))","v":""},null,null,null,null,null,null,{"$f":"+IF(O3083=\"\",\"\",IF(N3082=\"Transporte Marítimo\",VLOOKUP(O3083,Tabelas!$F$7:$G$12,2),IF(N3082=\"Transporte Aéreo\",VLOOKUP(O3083,Tabelas!$F$16:$G$21,2),\"\")))","v":""},null,null,null,null,null,null,null,null,null,null,null,null,null,null,null,"",{"$f":"+IF(AF3083=\"\",\"\",VLOOKUP(AF3083,Tabelas!$J$27:$K$30,2))","v":""}]
[null,null,null,null,null,null,{"$f":"+IF(F3086=\"\",\"\",VLOOKUP(F3086,Tabelas!$B$7:$C$96,2))","v":""},null,{"$f":"IF(H3086=\"\",\"\",ROUND(H3086/SUM(H3082:H3089),4))","v":""},null,null,null,null,null,null,{"$f":"+IF(O3086=\"\",\"\",IF(N3082=\"Transporte Marítimo\",VLOOKUP(O3086,Tabelas!$F$7:$G$12,2),IF(N3082=\"Transporte Aéreo\",VLOOKUP(O3086,Tabelas!$F$16:$G$21,2),\"\")))","v":""},null,null,null,null,null,null,null,null,null,null,null,null,null,null,null,"",{"$f":"+IF(AF3086=\"\",\"\",VLOOKUP(AF3086,Tabelas!$J$27:$K$30,2))","v":""}]
[null,null,null,null,null,null,{"$f":"+IF(F3089=\"\",\"\",VLOOKUP(F3089,Tabelas!$B$7:$C$96,2))","v":""},null,{"$f":"IF(H3089=\"\",\"\",ROUND(H3089/SUM(H3082:H3089),4))","v":""},null,null,null,null,null,null,{"$f":"+IF(O3089=\"\",\"\",IF(N3082=\"Transporte Marítimo\",VLOOKUP(O3089,Tabelas!$F$7:$G$12,2),IF(N3082=\"Transporte Aéreo\",VLOOKUP(O3089,Tabelas!$F$16:$G$21,2),\"\")))","v":""},null,null,null,null,null,null,null,null,null,null,null,null,null,null,null,"",{"$f":"+IF(AF3089=\"\",\"\",VLOOKUP(AF3089,Tabelas!$J$27:$K$30,2))","v":""}]
[null,{"$f":"+B3082+1","v":385},null,null,null,null,{"$f":"+IF(F3090=\"\",\"\",VLOOKUP(F3090,Tabelas!$B$7:$C$96,2))","v":""},null,{"$f":"IF(H3090=\"\",\"\",1-SUM(I3091:I3097))","v":""},null,null,null,null,null,null,{"$f":"+IF(O3090=\"\",\"\",IF(N3090=\"Transporte Marítimo\",VLOOKUP(O3090,Tabelas!$F$7:$G$12,2),IF(N3090=\"Transporte Aéreo\",VLOOKUP(O3090,Tabelas!$F$16:$G$21,2),\"\")))","v":""},null,null,null,null,null,null,null,null,null,null,null,null,null,null,null,"",{"$f":"+IF(AF3090=\"\",\"\",VLOOKUP(AF3090,Tabelas!$J$27:$K$30,2))","v":""},null,null,null,null,null,null,null,null,null,null,null,null,null,null,null," "]
[null,null,null,null,null,null,{"$f":"+IF(F3093=\"\",\"\",VLOOKUP(F3093,Tabelas!$B$7:$C$96,2))","v":""},null,{"$f":"IF(H3093=\"\",\"\",ROUND(H3093/SUM(H3090:H3097),4))","v":""},null,null,null,null,null,null,{"$f":"+IF(O3093=\"\",\"\",IF(N3090=\"Transporte Marítimo\",VLOOKUP(O3093,Tabelas!$F$7:$G$12,2),IF(N3090=\"Transporte Aéreo\",VLOOKUP(O3093,Tabelas!$F$16:$G$21,2),\"\")))","v":""},null,null,null,null,null,null,null,null,null,null,null,null,null,null,null,"",{"$f":"+IF(AF3093=\"\",\"\",VLOOKUP(AF3093,Tabelas!$J$27:$K$30,2))","v":""}]
[null,null,null,null,null,null,{"$f":"+IF(F3096=\"\",\"\",VLOOKUP(F3096,Tabelas!$B$7:$C$96,2))","v":""},null,{"$f":"IF(H3096=\"\",\"\",ROUND(H3096/SUM(H3090:H3097),4))","v":""},null,null,null,null,null,null,{"$f":"+IF(O3096=\"\",\"\",IF(N3090=\"Transporte Marítimo\",VLOOKUP(O3096,Tabelas!$F$7:$G$12,2),IF(N3090=\"Transporte Aéreo\",VLOOKUP(O3096,Tabelas!$F$16:$G$21,2),\"\")))","v":""},null,null,null,null,null,null,null,null,null,null,null,null,null,null,null,"",{"$f":"+IF(AF3096=\"\",\"\",VLOOKUP(AF3096,Tabelas!$J$27:$K$30,2))","v":""}]
[null,{"$f":"+B3090+1","v":386},null,null,null,null,{"$f":"+IF(F3098=\"\",\"\",VLOOKUP(F3098,Tabelas!$B$7:$C$96,2))","v":""},null,{"$f":"IF(H3098=\"\",\"\",1-SUM(I3099:I3105))","v":""},null,null,null,null,null,null,{"$f":"+IF(O3098=\"\",\"\",IF(N3098=\"Transporte Marítimo\",VLOOKUP(O3098,Tabelas!$F$7:$G$12,2),IF(N3098=\"Transporte Aéreo\",VLOOKUP(O3098,Tabelas!$F$16:$G$21,2),\"\")))","v":""},null,null,null,null,null,null,null,null,null,null,null,null,null,null,null,"",{"$f":"+IF(AF3098=\"\",\"\",VLOOKUP(AF3098,Tabelas!$J$27:$K$30,2))","v":""},null,null,null,null,null,null,null,null,null,null,null,null,null,null,null," "]
[null,null,null,null,null,null,{"$f":"+IF(F3099=\"\",\"\",VLOOKUP(F3099,Tabelas!$B$7:$C$96,2))","v":""},null,{"$f":"IF(H3099=\"\",\"\",ROUND(H3099/SUM(H3098:H3105),4))","v":""},null,null,null,null,null,null,{"$f":"+IF(O3099=\"\",\"\",IF(N3098=\"Transporte Marítimo\",VLOOKUP(O3099,Tabelas!$F$7:$G$12,2),IF(N3098=\"Transporte Aéreo\",VLOOKUP(O3099,Tabelas!$F$16:$G$21,2),\"\")))","v":""},null,null,null,null,null,null,null,null,null,null,null,null,null,null,null,"",{"$f":"+IF(AF3099=\"\",\"\",VLOOKUP(AF3099,Tabelas!$J$27:$K$30,2))","v":""}]
[null,null,null,null,null,null,{"$f":"+IF(F3102=\"\",\"\",VLOOKUP(F3102,Tabelas!$B$7:$C$96,2))","v":""},null,{"$f":"IF(H3102=\"\",\"\",ROUND(H3102/SUM(H3098:H3105),4))","v":""},null,null,null,null,null,null,{"$f":"+IF(O3102=\"\",\"\",IF(N3098=\"Transporte Marítimo\",VLOOKUP(O3102,Tabelas!$F$7:$G$12,2),IF(N3098=\"Transporte Aéreo\",VLOOKUP(O3102,Tabelas!$F$16:$G$21,2),\"\")))","v":""},null,null,null,null,null,null,null,null,null,null,null,null,null,null,null,"",{"$f":"+IF(AF3102=\"\",\"\",VLOOKUP(AF3102,Tabelas!$J$27:$K$30,2))","v":""}]
[null,null,null,null,null,null,{"$f":"+IF(F3104=\"\",\"\",VLOOKUP(F3104,Tabelas!$B$7:$C$96,2))","v":""},null,{"$f":"IF(H3104=\"\",\"\",ROUND(H3104/SUM(H3098:H3105),4))","v":""},null,null,null,null,null,null,{"$f":"+IF(O3104=\"\",\"\",IF(N3098=\"Transporte Marítimo\",VLOOKUP(O3104,Tabelas!$F$7:$G$12,2),IF(N3098=\"Transporte Aéreo\",VLOOKUP(O3104,Tabelas!$F$16:$G$21,2),\"\")))","v":""},null,null,null,null,null,null,null,null,null,null,null,null,null,null,null,"",{"$f":"+IF(AF3104=\"\",\"\",VLOOKUP(AF3104,Tabelas!$J$27:$K$30,2))","v":""}]
[null,null,null,null,null,null,{"$f":"+IF(F3107=\"\",\"\",VLOOKUP(F3107,Tabelas!$B$7:$C$96,2))","v":""},null,{"$f":"IF(H3107=\"\",\"\",ROUND(H3107/SUM(H3106:H3113),4))","v":""},null,null,null,null,null,null,{"$f":"+IF(O3107=\"\",\"\",IF(N3106=\"Transporte Marítimo\",VLOOKUP(O3107,Tabelas!$F$7:$G$12,2),IF(N3106=\"Transporte Aéreo\",VLOOKUP(O3107,Tabelas!$F$16:$G$21,2),\"\")))","v":""},null,null,null,null,null,null,null,null,null,null,null,null,null,null,null,"",{"$f":"+IF(AF3107=\"\",\"\",VLOOKUP(AF3107,Tabelas!$J$27:$K$30,2))","v":""}]
[null,null,null,null,null,null,{"$f":"+IF(F3108=\"\",\"\",VLOOKUP(F3108,Tabelas!$B$7:$C$96,2))","v":""},null,{"$f":"IF(H3108=\"\",\"\",ROUND(H3108/SUM(H3106:H3113),4))","v":""},null,null,null,null,null,null,{"$f":"+IF(O3108=\"\",\"\",IF(N3106=\"Transporte Marítimo\",VLOOKUP(O3108,Tabelas!$F$7:$G$12,2),IF(N3106=\"Transporte Aéreo\",VLOOKUP(O3108,Tabelas!$F$16:$G$21,2),\"\")))","v":""},null,null,null,null,null,null,null,null,null,null,null,null,null,null,null,"",{"$f":"+IF(AF3108=\"\",\"\",VLOOKUP(AF3108,Tabelas!$J$27:$K$30,2))","v":""}]
[null,null,null,null,null,null,{"$f":"+IF(F3111=\"\",\"\",VLOOKUP(F3111,Tabelas!$B$7:$C$96,2))","v":""},null,{"$f":"IF(H3111=\"\",\"\",ROUND(H3111/SUM(H3106:H3113),4))","v":""},null,null,null,null,null,null,{"$f":"+IF(O3111=\"\",\"\",IF(N3106=\"Transporte Marítimo\",VLOOKUP(O3111,Tabelas!$F$7:$G$12,2),IF(N3106=\"Transporte Aéreo\",VLOOKUP(O3111,Tabelas!$F$16:$G$21,2),\"\")))","v":""},null,null,null,null,null,null,null,null,null,null,null,null,null,null,null,"",{"$f":"+IF(AF3111=\"\",\"\",VLOOKUP(AF3111,Tabelas!$J$27:$K$30,2))","v":""}]
[null,{"$f":"+B3106+1","v":388},null,null,null,null,{"$f":"+IF(F3114=\"\",\"\",VLOOKUP(F3114,Tabelas!$B$7:$C$96,2))","v":""},null,{"$f":"IF(H3114=\"\",\"\",1-SUM(I3115:I3121))","v":""},null,null,null,null,null,null,{"$f":"+IF(O3114=\"\",\"\",IF(N3114=\"Transporte Marítimo\",VLOOKUP(O3114,Tabelas!$F$7:$G$12,2),IF(N3114=\"Transporte Aéreo\",VLOOKUP(O3114,Tabelas!$F$16:$G$21,2),\"\")))","v":""},null,null,null,null,null,null,null,null,null,null,null,null,null,null,null,"",{"$f":"+IF(AF3114=\"\",\"\",VLOOKUP(AF3114,Tabelas!$J$27:$K$30,2))","v":""},null,null,null,null,null,null,null,null,null,null,null,null,null,null,null," "]
[null,null,null,null,null,null,{"$f":"+IF(F3116=\"\",\"\",VLOOKUP(F3116,Tabelas!$B$7:$C$96,2))","v":""},null,{"$f":"IF(H3116=\"\",\"\",ROUND(H3116/SUM(H3114:H3121),4))","v":""},null,null,null,null,null,null,{"$f":"+IF(O3116=\"\",\"\",IF(N3114=\"Transporte Marítimo\",VLOOKUP(O3116,Tabelas!$F$7:$G$12,2),IF(N3114=\"Transporte Aéreo\",VLOOKUP(O3116,Tabelas!$F$16:$G$21,2),\"\")))","v":""},null,null,null,null,null,null,null,null,null,null,null,null,null,null,null,"",{"$f":"+IF(AF3116=\"\",\"\",VLOOKUP(AF3116,Tabelas!$J$27:$K$30,2))","v":""}]
[null,null,null,null,null,null,{"$f":"+IF(F3117=\"\",\"\",VLOOKUP(F3117,Tabelas!$B$7:$C$96,2))","v":""},null,{"$f":"IF(H3117=\"\",\"\",ROUND(H3117/SUM(H3114:H3121),4))","v":""},null,null,null,null,null,null,{"$f":"+IF(O3117=\"\",\"\",IF(N3114=\"Transporte Marítimo\",VLOOKUP(O3117,Tabelas!$F$7:$G$12,2),IF(N3114=\"Transporte Aéreo\",VLOOKUP(O3117,Tabelas!$F$16:$G$21,2),\"\")))","v":""},null,null,null,null,null,null,null,null,null,null,null,null,null,null,null,"",{"$f":"+IF(AF3117=\"\",\"\",VLOOKUP(AF3117,Tabelas!$J$27:$K$30,2))","v":""}]
[null,null,null,null,null,null,{"$f":"+IF(F3120=\"\",\"\",VLOOKUP(F3120,Tabelas!$B$7:$C$96,2))","v":""},null,{"$f":"IF(H3120=\"\",\"\",ROUND(H3120/SUM(H3114:H3121),4))","v":""},null,null,null,null,null,null,{"$f":"+IF(O3120=\"\",\"\",IF(N3114=\"Transporte Marítimo\",VLOOKUP(O3120,Tabelas!$F$7:$G$12,2),IF(N3114=\"Transporte Aéreo\",VLOOKUP(O3120,Tabelas!$F$16:$G$21,2),\"\")))","v":""},null,null,null,null,null,null,null,null,null,null,null,null,null,null,null,"",{"$f":"+IF(AF3120=\"\",\"\",VLOOKUP(AF3120,Tabelas!$J$27:$K$30,2))","v":""}]
[null,null,null,null,null,null,{"$f":"+IF(F3121=\"\",\"\",VLOOKUP(F3121,Tabelas!$B$7:$C$96,2))","v":""},null,{"$f":"IF(H3121=\"\",\"\",ROUND(H3121/SUM(H3114:H3121),4))","v":""},null,null,null,null,null,null,{"$f":"+IF(O3121=\"\",\"\",IF(N3114=\"Transporte Marítimo\",VLOOKUP(O3121,Tabelas!$F$7:$G$12,2),IF(N3114=\"Transporte Aéreo\",VLOOKUP(O3121,Tabelas!$F$16:$G$21,2),\"\")))","v":""},null,null,null,null,null,null,null,null,null,null,null,null,null,null,null,"",{"$f":"+IF(AF3121=\"\",\"\",VLOOKUP(AF3121,Tabelas!$J$27:$K$30,2))","v":""}]
[null,null,null,null,null,null,{"$f":"+IF(F3124=\"\",\"\",VLOOKUP(F3124,Tabelas!$B$7:$C$96,2))","v":""},null,{"$f":"IF(H3124=\"\",\"\",ROUND(H3124/SUM(H3122:H3129),4))","v":""},null,null,null,null,null,null,{"$f":"+IF(O3124=\"\",\"\",IF(N3122=\"Transporte Marítimo\",VLOOKUP(O3124,Tabelas!$F$7:$G$12,2),IF(N3122=\"Transporte Aéreo\",VLOOKUP(O3124,Tabelas!$F$16:$G$21,2),\"\")))","v":""},null,null,null,null,null,null,null,null,null,null,null,null,null,null,null,"",{"$f":"+IF(AF3124=\"\",\"\",VLOOKUP(AF3124,Tabelas!$J$27:$K$30,2))","v":""}]
[null,null,null,null,null,null,{"$f":"+IF(F3126=\"\",\"\",VLOOKUP(F3126,Tabelas!$B$7:$C$96,2))","v":""},null,{"$f":"IF(H3126=\"\",\"\",ROUND(H3126/SUM(H3122:H3129),4))","v":""},null,null,null,null,null,null,{"$f":"+IF(O3126=\"\",\"\",IF(N3122=\"Transporte Marítimo\",VLOOKUP(O3126,Tabelas!$F$7:$G$12,2),IF(N3122=\"Transporte Aéreo\",VLOOKUP(O3126,Tabelas!$F$16:$G$21,2),\"\")))","v":""},null,null,null,null,null,null,null,null,null,null,null,null,null,null,null,"",{"$f":"+IF(AF3126=\"\",\"\",VLOOKUP(AF3126,Tabelas!$J$27:$K$30,2))","v":""}]
[null,null,null,null,null,null,{"$f":"+IF(F3129=\"\",\"\",VLOOKUP(F3129,Tabelas!$B$7:$C$96,2))","v":""},null,{"$f":"IF(H3129=\"\",\"\",ROUND(H3129/SUM(H3122:H3129),4))","v":""},null,null,null,null,null,null,{"$f":"+IF(O3129=\"\",\"\",IF(N3122=\"Transporte Marítimo\",VLOOKUP(O3129,Tabelas!$F$7:$G$12,2),IF(N3122=\"Transporte Aéreo\",VLOOKUP(O3129,Tabelas!$F$16:$G$21,2),\"\")))","v":""},null,null,null,null,null,null,null,null,null,null,null,null,null,null,null,"",{"$f":"+IF(AF3129=\"\",\"\",VLOOKUP(AF3129,Tabelas!$J$27:$K$30,2))","v":""}]
[null,{"$f":"+B3122+1","v":390},null,null,null,null,{"$f":"+IF(F3130=\"\",\"\",VLOOKUP(F3130,Tabelas!$B$7:$C$96,2))","v":""},null,{"$f":"IF(H3130=\"\",\"\",1-SUM(I3131:I3137))","v":""},null,null,null,null,null,null,{"$f":"+IF(O3130=\"\",\"\",IF(N3130=\"Transporte Marítimo\",VLOOKUP(O3130,Tabelas!$F$7:$G$12,2),IF(N3130=\"Transporte Aéreo\",VLOOKUP(O3130,Tabelas!$F$16:$G$21,2),\"\")))","v":""},null,null,null,null,null,null,null,null,null,null,null,null,null,null,null,"",{"$f":"+IF(AF3130=\"\",\"\",VLOOKUP(AF3130,Tabelas!$J$27:$K$30,2))","v":""},null,null,null,null,null,null,null,null,null,null,null,null,null,null,null," "]
[null,null,null,null,null,null,{"$f":"+IF(F3132=\"\",\"\",VLOOKUP(F3132,Tabelas!$B$7:$C$96,2))","v":""},null,{"$f":"IF(H3132=\"\",\"\",ROUND(H3132/SUM(H3130:H3137),4))","v":""},null,null,null,null,null,null,{"$f":"+IF(O3132=\"\",\"\",IF(N3130=\"Transporte Marítimo\",VLOOKUP(O3132,Tabelas!$F$7:$G$12,2),IF(N3130=\"Transporte Aéreo\",VLOOKUP(O3132,Tabelas!$F$16:$G$21,2),\"\")))","v":""},null,null,null,null,null,null,null,null,null,null,null,null,null,null,null,"",{"$f":"+IF(AF3132=\"\",\"\",VLOOKUP(AF3132,Tabelas!$J$27:$K$30,2))","v":""}]
[null,null,null,null,null,null,{"$f":"+IF(F3135=\"\",\"\",VLOOKUP(F3135,Tabelas!$B$7:$C$96,2))","v":""},null,{"$f":"IF(H3135=\"\",\"\",ROUND(H3135/SUM(H3130:H3137),4))","v":""},null,null,null,null,null,null,{"$f":"+IF(O3135=\"\",\"\",IF(N3130=\"Transporte Marítimo\",VLOOKUP(O3135,Tabelas!$F$7:$G$12,2),IF(N3130=\"Transporte Aéreo\",VLOOKUP(O3135,Tabelas!$F$16:$G$21,2),\"\")))","v":""},null,null,null,null,null,null,null,null,null,null,null,null,null,null,null,"",{"$f":"+IF(AF3135=\"\",\"\",VLOOKUP(AF3135,Tabelas!$J$27:$K$30,2))","v":""}]
[null,{"$f":"+B3130+1","v":391},null,null,null,null,{"$f":"+IF(F3138=\"\",\"\",VLOOKUP(F3138,Tabelas!$B$7:$C$96,2))","v":""},null,{"$f":"IF(H3138=\"\",\"\",1-SUM(I3139:I3145))","v":""},null,null,null,null,null,null,{"$f":"+IF(O3138=\"\",\"\",IF(N3138=\"Transporte Marítimo\",VLOOKUP(O3138,Tabelas!$F$7:$G$12,2),IF(N3138=\"Transporte Aéreo\",VLOOKUP(O3138,Tabelas!$F$16:$G$21,2),\"\")))","v":""},null,null,null,null,null,null,null,null,null,null,null,null,null,null,null,"",{"$f":"+IF(AF3138=\"\",\"\",VLOOKUP(AF3138,Tabelas!$J$27:$K$30,2))","v":""},null,null,null,null,null,null,null,null,null,null,null,null,null,null,null," "]
[null,null,null,null,null,null,{"$f":"+IF(F3139=\"\",\"\",VLOOKUP(F3139,Tabelas!$B$7:$C$96,2))","v":""},null,{"$f":"IF(H3139=\"\",\"\",ROUND(H3139/SUM(H3138:H3145),4))","v":""},null,null,null,null,null,null,{"$f":"+IF(O3139=\"\",\"\",IF(N3138=\"Transporte Marítimo\",VLOOKUP(O3139,Tabelas!$F$7:$G$12,2),IF(N3138=\"Transporte Aéreo\",VLOOKUP(O3139,Tabelas!$F$16:$G$21,2),\"\")))","v":""},null,null,null,null,null,null,null,null,null,null,null,null,null,null,null,"",{"$f":"+IF(AF3139=\"\",\"\",VLOOKUP(AF3139,Tabelas!$J$27:$K$30,2))","v":""}]
[null,null,null,null,null,null,{"$f":"+IF(F3142=\"\",\"\",VLOOKUP(F3142,Tabelas!$B$7:$C$96,2))","v":""},null,{"$f":"IF(H3142=\"\",\"\",ROUND(H3142/SUM(H3138:H3145),4))","v":""},null,null,null,null,null,null,{"$f":"+IF(O3142=\"\",\"\",IF(N3138=\"Transporte Marítimo\",VLOOKUP(O3142,Tabelas!$F$7:$G$12,2),IF(N3138=\"Transporte Aéreo\",VLOOKUP(O3142,Tabelas!$F$16:$G$21,2),\"\")))","v":""},null,null,null,null,null,null,null,null,null,null,null,null,null,null,null,"",{"$f":"+IF(AF3142=\"\",\"\",VLOOKUP(AF3142,Tabelas!$J$27:$K$30,2))","v":""}]
[null,null,null,null,null,null,{"$f":"+IF(F3144=\"\",\"\",VLOOKUP(F3144,Tabelas!$B$7:$C$96,2))","v":""},null,{"$f":"IF(H3144=\"\",\"\",ROUND(H3144/SUM(H3138:H3145),4))","v":""},null,null,null,null,null,null,{"$f":"+IF(O3144=\"\",\"\",IF(N3138=\"Transporte Marítimo\",VLOOKUP(O3144,Tabelas!$F$7:$G$12,2),IF(N3138=\"Transporte Aéreo\",VLOOKUP(O3144,Tabelas!$F$16:$G$21,2),\"\")))","v":""},null,null,null,null,null,null,null,null,null,null,null,null,null,null,null,"",{"$f":"+IF(AF3144=\"\",\"\",VLOOKUP(AF3144,Tabelas!$J$27:$K$30,2))","v":""}]
[null,null,null,null,null,null,{"$f":"+IF(F3147=\"\",\"\",VLOOKUP(F3147,Tabelas!$B$7:$C$96,2))","v":""},null,{"$f":"IF(H3147=\"\",\"\",ROUND(H3147/SUM(H3146:H3153),4))","v":""},null,null,null,null,null,null,{"$f":"+IF(O3147=\"\",\"\",IF(N3146=\"Transporte Marítimo\",VLOOKUP(O3147,Tabelas!$F$7:$G$12,2),IF(N3146=\"Transporte Aéreo\",VLOOKUP(O3147,Tabelas!$F$16:$G$21,2),\"\")))","v":""},null,null,null,null,null,null,null,null,null,null,null,null,null,null,null,"",{"$f":"+IF(AF3147=\"\",\"\",VLOOKUP(AF3147,Tabelas!$J$27:$K$30,2))","v":""}]
[null,null,null,null,null,null,{"$f":"+IF(F3148=\"\",\"\",VLOOKUP(F3148,Tabelas!$B$7:$C$96,2))","v":""},null,{"$f":"IF(H3148=\"\",\"\",ROUND(H3148/SUM(H3146:H3153),4))","v":""},null,null,null,null,null,null,{"$f":"+IF(O3148=\"\",\"\",IF(N3146=\"Transporte Marítimo\",VLOOKUP(O3148,Tabelas!$F$7:$G$12,2),IF(N3146=\"Transporte Aéreo\",VLOOKUP(O3148,Tabelas!$F$16:$G$21,2),\"\")))","v":""},null,null,null,null,null,null,null,null,null,null,null,null,null,null,null,"",{"$f":"+IF(AF3148=\"\",\"\",VLOOKUP(AF3148,Tabelas!$J$27:$K$30,2))","v":""}]
[null,null,null,null,null,null,{"$f":"+IF(F3151=\"\",\"\",VLOOKUP(F3151,Tabelas!$B$7:$C$96,2))","v":""},null,{"$f":"IF(H3151=\"\",\"\",ROUND(H3151/SUM(H3146:H3153),4))","v":""},null,null,null,null,null,null,{"$f":"+IF(O3151=\"\",\"\",IF(N3146=\"Transporte Marítimo\",VLOOKUP(O3151,Tabelas!$F$7:$G$12,2),IF(N3146=\"Transporte Aéreo\",VLOOKUP(O3151,Tabelas!$F$16:$G$21,2),\"\")))","v":""},null,null,null,null,null,null,null,null,null,null,null,null,null,null,null,"",{"$f":"+IF(AF3151=\"\",\"\",VLOOKUP(AF3151,Tabelas!$J$27:$K$30,2))","v":""}]
[null,null,null,null,null,null,{"$f":"+IF(F3152=\"\",\"\",VLOOKUP(F3152,Tabelas!$B$7:$C$96,2))","v":""},null,{"$f":"IF(H3152=\"\",\"\",ROUND(H3152/SUM(H3146:H3153),4))","v":""},null,null,null,null,null,null,{"$f":"+IF(O3152=\"\",\"\",IF(N3146=\"Transporte Marítimo\",VLOOKUP(O3152,Tabelas!$F$7:$G$12,2),IF(N3146=\"Transporte Aéreo\",VLOOKUP(O3152,Tabelas!$F$16:$G$21,2),\"\")))","v":""},null,null,null,null,null,null,null,null,null,null,null,null,null,null,null,"",{"$f":"+IF(AF3152=\"\",\"\",VLOOKUP(AF3152,Tabelas!$J$27:$K$30,2))","v":""}]
[null,null,null,null,null,null,{"$f":"+IF(F3156=\"\",\"\",VLOOKUP(F3156,Tabelas!$B$7:$C$96,2))","v":""},null,{"$f":"IF(H3156=\"\",\"\",ROUND(H3156/SUM(H3154:H3161),4))","v":""},null,null,null,null,null,null,{"$f":"+IF(O3156=\"\",\"\",IF(N3154=\"Transporte Marítimo\",VLOOKUP(O3156,Tabelas!$F$7:$G$12,2),IF(N3154=\"Transporte Aéreo\",VLOOKUP(O3156,Tabelas!$F$16:$G$21,2),\"\")))","v":""},null,null,null,null,null,null,null,null,null,null,null,null,null,null,null,"",{"$f":"+IF(AF3156=\"\",\"\",VLOOKUP(AF3156,Tabelas!$J$27:$K$30,2))","v":""}]
[null,null,null,null,null,null,{"$f":"+IF(F3157=\"\",\"\",VLOOKUP(F3157,Tabelas!$B$7:$C$96,2))","v":""},null,{"$f":"IF(H3157=\"\",\"\",ROUND(H3157/SUM(H3154:H3161),4))","v":""},null,null,null,null,null,null,{"$f":"+IF(O3157=\"\",\"\",IF(N3154=\"Transporte Marítimo\",VLOOKUP(O3157,Tabelas!$F$7:$G$12,2),IF(N3154=\"Transporte Aéreo\",VLOOKUP(O3157,Tabelas!$F$16:$G$21,2),\"\")))","v":""},null,null,null,null,null,null,null,null,null,null,null,null,null,null,null,"",{"$f":"+IF(AF3157=\"\",\"\",VLOOKUP(AF3157,Tabelas!$J$27:$K$30,2))","v":""}]
[null,null,null,null,null,null,{"$f":"+IF(F3160=\"\",\"\",VLOOKUP(F3160,Tabelas!$B$7:$C$96,2))","v":""},null,{"$f":"IF(H3160=\"\",\"\",ROUND(H3160/SUM(H3154:H3161),4))","v":""},null,null,null,null,null,null,{"$f":"+IF(O3160=\"\",\"\",IF(N3154=\"Transporte Marítimo\",VLOOKUP(O3160,Tabelas!$F$7:$G$12,2),IF(N3154=\"Transporte Aéreo\",VLOOKUP(O3160,Tabelas!$F$16:$G$21,2),\"\")))","v":""},null,null,null,null,null,null,null,null,null,null,null,null,null,null,null,"",{"$f":"+IF(AF3160=\"\",\"\",VLOOKUP(AF3160,Tabelas!$J$27:$K$30,2))","v":""}]
[null,null,null,null,null,null,{"$f":"+IF(F3163=\"\",\"\",VLOOKUP(F3163,Tabelas!$B$7:$C$96,2))","v":""},null,{"$f":"IF(H3163=\"\",\"\",ROUND(H3163/SUM(H3162:H3169),4))","v":""},null,null,null,null,null,null,{"$f":"+IF(O3163=\"\",\"\",IF(N3162=\"Transporte Marítimo\",VLOOKUP(O3163,Tabelas!$F$7:$G$12,2),IF(N3162=\"Transporte Aéreo\",VLOOKUP(O3163,Tabelas!$F$16:$G$21,2),\"\")))","v":""},null,null,null,null,null,null,null,null,null,null,null,null,null,null,null,"",{"$f":"+IF(AF3163=\"\",\"\",VLOOKUP(AF3163,Tabelas!$J$27:$K$30,2))","v":""}]
[null,null,null,null,null,null,{"$f":"+IF(F3165=\"\",\"\",VLOOKUP(F3165,Tabelas!$B$7:$C$96,2))","v":""},null,{"$f":"IF(H3165=\"\",\"\",ROUND(H3165/SUM(H3162:H3169),4))","v":""},null,null,null,null,null,null,{"$f":"+IF(O3165=\"\",\"\",IF(N3162=\"Transporte Marítimo\",VLOOKUP(O3165,Tabelas!$F$7:$G$12,2),IF(N3162=\"Transporte Aéreo\",VLOOKUP(O3165,Tabelas!$F$16:$G$21,2),\"\")))","v":""},null,null,null,null,null,null,null,null,null,null,null,null,null,null,null,"",{"$f":"+IF(AF3165=\"\",\"\",VLOOKUP(AF3165,Tabelas!$J$27:$K$30,2))","v":""}]
[null,null,null,null,null,null,{"$f":"+IF(F3166=\"\",\"\",VLOOKUP(F3166,Tabelas!$B$7:$C$96,2))","v":""},null,{"$f":"IF(H3166=\"\",\"\",ROUND(H3166/SUM(H3162:H3169),4))","v":""},null,null,null,null,null,null,{"$f":"+IF(O3166=\"\",\"\",IF(N3162=\"Transporte Marítimo\",VLOOKUP(O3166,Tabelas!$F$7:$G$12,2),IF(N3162=\"Transporte Aéreo\",VLOOKUP(O3166,Tabelas!$F$16:$G$21,2),\"\")))","v":""},null,null,null,null,null,null,null,null,null,null,null,null,null,null,null,"",{"$f":"+IF(AF3166=\"\",\"\",VLOOKUP(AF3166,Tabelas!$J$27:$K$30,2))","v":""}]
[null,null,null,null,null,null,{"$f":"+IF(F3169=\"\",\"\",VLOOKUP(F3169,Tabelas!$B$7:$C$96,2))","v":""},null,{"$f":"IF(H3169=\"\",\"\",ROUND(H3169/SUM(H3162:H3169),4))","v":""},null,null,null,null,null,null,{"$f":"+IF(O3169=\"\",\"\",IF(N3162=\"Transporte Marítimo\",VLOOKUP(O3169,Tabelas!$F$7:$G$12,2),IF(N3162=\"Transporte Aéreo\",VLOOKUP(O3169,Tabelas!$F$16:$G$21,2),\"\")))","v":""},null,null,null,null,null,null,null,null,null,null,null,null,null,null,null,"",{"$f":"+IF(AF3169=\"\",\"\",VLOOKUP(AF3169,Tabelas!$J$27:$K$30,2))","v":""}]
[null,{"$f":"+B3162+1","v":395},null,null,null,null,{"$f":"+IF(F3170=\"\",\"\",VLOOKUP(F3170,Tabelas!$B$7:$C$96,2))","v":""},null,{"$f":"IF(H3170=\"\",\"\",1-SUM(I3171:I3177))","v":""},null,null,null,null,null,null,{"$f":"+IF(O3170=\"\",\"\",IF(N3170=\"Transporte Marítimo\",VLOOKUP(O3170,Tabelas!$F$7:$G$12,2),IF(N3170=\"Transporte Aéreo\",VLOOKUP(O3170,Tabelas!$F$16:$G$21,2),\"\")))","v":""},null,null,null,null,null,null,null,null,null,null,null,null,null,null,null,"",{"$f":"+IF(AF3170=\"\",\"\",VLOOKUP(AF3170,Tabelas!$J$27:$K$30,2))","v":""},null,null,null,null,null,null,null,null,null,null,null,null,null,null,null," "]
[null,null,null,null,null,null,{"$f":"+IF(F3174=\"\",\"\",VLOOKUP(F3174,Tabelas!$B$7:$C$96,2))","v":""},null,{"$f":"IF(H3174=\"\",\"\",ROUND(H3174/SUM(H3170:H3177),4))","v":""},null,null,null,null,null,null,{"$f":"+IF(O3174=\"\",\"\",IF(N3170=\"Transporte Marítimo\",VLOOKUP(O3174,Tabelas!$F$7:$G$12,2),IF(N3170=\"Transporte Aéreo\",VLOOKUP(O3174,Tabelas!$F$16:$G$21,2),\"\")))","v":""},null,null,null,null,null,null,null,null,null,null,null,null,null,null,null,"",{"$f":"+IF(AF3174=\"\",\"\",VLOOKUP(AF3174,Tabelas!$J$27:$K$30,2))","v":""}]
[null,null,null,null,null,null,{"$f":"+IF(F3175=\"\",\"\",VLOOKUP(F3175,Tabelas!$B$7:$C$96,2))","v":""},null,{"$f":"IF(H3175=\"\",\"\",ROUND(H3175/SUM(H3170:H3177),4))","v":""},null,null,null,null,null,null,{"$f":"+IF(O3175=\"\",\"\",IF(N3170=\"Transporte Marítimo\",VLOOKUP(O3175,Tabelas!$F$7:$G$12,2),IF(N3170=\"Transporte Aéreo\",VLOOKUP(O3175,Tabelas!$F$16:$G$21,2),\"\")))","v":""},null,null,null,null,null,null,null,null,null,null,null,null,null,null,null,"",{"$f":"+IF(AF3175=\"\",\"\",VLOOKUP(AF3175,Tabelas!$J$27:$K$30,2))","v":""}]
[null,{"$f":"+B3170+1","v":396},null,null,null,null,{"$f":"+IF(F3178=\"\",\"\",VLOOKUP(F3178,Tabelas!$B$7:$C$96,2))","v":""},null,{"$f":"IF(H3178=\"\",\"\",1-SUM(I3179:I3185))","v":""},null,null,null,null,null,null,{"$f":"+IF(O3178=\"\",\"\",IF(N3178=\"Transporte Marítimo\",VLOOKUP(O3178,Tabelas!$F$7:$G$12,2),IF(N3178=\"Transporte Aéreo\",VLOOKUP(O3178,Tabelas!$F$16:$G$21,2),\"\")))","v":""},null,null,null,null,null,null,null,null,null,null,null,null,null,null,null,"",{"$f":"+IF(AF3178=\"\",\"\",VLOOKUP(AF3178,Tabelas!$J$27:$K$30,2))","v":""},null,null,null,null,null,null,null,null,null,null,null,null,null,null,null," "]
[null,null,null,null,null,null,{"$f":"+IF(F3179=\"\",\"\",VLOOKUP(F3179,Tabelas!$B$7:$C$96,2))","v":""},null,{"$f":"IF(H3179=\"\",\"\",ROUND(H3179/SUM(H3178:H3185),4))","v":""},null,null,null,null,null,null,{"$f":"+IF(O3179=\"\",\"\",IF(N3178=\"Transporte Marítimo\",VLOOKUP(O3179,Tabelas!$F$7:$G$12,2),IF(N3178=\"Transporte Aéreo\",VLOOKUP(O3179,Tabelas!$F$16:$G$21,2),\"\")))","v":""},null,null,null,null,null,null,null,null,null,null,null,null,null,null,null,"",{"$f":"+IF(AF3179=\"\",\"\",VLOOKUP(AF3179,Tabelas!$J$27:$K$30,2))","v":""}]
[null,null,null,null,null,null,{"$f":"+IF(F3183=\"\",\"\",VLOOKUP(F3183,Tabelas!$B$7:$C$96,2))","v":""},null,{"$f":"IF(H3183=\"\",\"\",ROUND(H3183/SUM(H3178:H3185),4))","v":""},null,null,null,null,null,null,{"$f":"+IF(O3183=\"\",\"\",IF(N3178=\"Transporte Marítimo\",VLOOKUP(O3183,Tabelas!$F$7:$G$12,2),IF(N3178=\"Transporte Aéreo\",VLOOKUP(O3183,Tabelas!$F$16:$G$21,2),\"\")))","v":""},null,null,null,null,null,null,null,null,null,null,null,null,null,null,null,"",{"$f":"+IF(AF3183=\"\",\"\",VLOOKUP(AF3183,Tabelas!$J$27:$K$30,2))","v":""}]
[null,null,null,null,null,null,{"$f":"+IF(F3184=\"\",\"\",VLOOKUP(F3184,Tabelas!$B$7:$C$96,2))","v":""},null,{"$f":"IF(H3184=\"\",\"\",ROUND(H3184/SUM(H3178:H3185),4))","v":""},null,null,null,null,null,null,{"$f":"+IF(O3184=\"\",\"\",IF(N3178=\"Transporte Marítimo\",VLOOKUP(O3184,Tabelas!$F$7:$G$12,2),IF(N3178=\"Transporte Aéreo\",VLOOKUP(O3184,Tabelas!$F$16:$G$21,2),\"\")))","v":""},null,null,null,null,null,null,null,null,null,null,null,null,null,null,null,"",{"$f":"+IF(AF3184=\"\",\"\",VLOOKUP(AF3184,Tabelas!$J$27:$K$30,2))","v":""}]
[null,null,null,null,null,null,{"$f":"+IF(F3187=\"\",\"\",VLOOKUP(F3187,Tabelas!$B$7:$C$96,2))","v":""},null,{"$f":"IF(H3187=\"\",\"\",ROUND(H3187/SUM(H3186:H3193),4))","v":""},null,null,null,null,null,null,{"$f":"+IF(O3187=\"\",\"\",IF(N3186=\"Transporte Marítimo\",VLOOKUP(O3187,Tabelas!$F$7:$G$12,2),IF(N3186=\"Transporte Aéreo\",VLOOKUP(O3187,Tabelas!$F$16:$G$21,2),\"\")))","v":""},null,null,null,null,null,null,null,null,null,null,null,null,null,null,null,"",{"$f":"+IF(AF3187=\"\",\"\",VLOOKUP(AF3187,Tabelas!$J$27:$K$30,2))","v":""}]
[null,null,null,null,null,null,{"$f":"+IF(F3188=\"\",\"\",VLOOKUP(F3188,Tabelas!$B$7:$C$96,2))","v":""},null,{"$f":"IF(H3188=\"\",\"\",ROUND(H3188/SUM(H3186:H3193),4))","v":""},null,null,null,null,null,null,{"$f":"+IF(O3188=\"\",\"\",IF(N3186=\"Transporte Marítimo\",VLOOKUP(O3188,Tabelas!$F$7:$G$12,2),IF(N3186=\"Transporte Aéreo\",VLOOKUP(O3188,Tabelas!$F$16:$G$21,2),\"\")))","v":""},null,null,null,null,null,null,null,null,null,null,null,null,null,null,null,"",{"$f":"+IF(AF3188=\"\",\"\",VLOOKUP(AF3188,Tabelas!$J$27:$K$30,2))","v":""}]
[null,null,null,null,null,null,{"$f":"+IF(F3191=\"\",\"\",VLOOKUP(F3191,Tabelas!$B$7:$C$96,2))","v":""},null,{"$f":"IF(H3191=\"\",\"\",ROUND(H3191/SUM(H3186:H3193),4))","v":""},null,null,null,null,null,null,{"$f":"+IF(O3191=\"\",\"\",IF(N3186=\"Transporte Marítimo\",VLOOKUP(O3191,Tabelas!$F$7:$G$12,2),IF(N3186=\"Transporte Aéreo\",VLOOKUP(O3191,Tabelas!$F$16:$G$21,2),\"\")))","v":""},null,null,null,null,null,null,null,null,null,null,null,null,null,null,null,"",{"$f":"+IF(AF3191=\"\",\"\",VLOOKUP(AF3191,Tabelas!$J$27:$K$30,2))","v":""}]
[null,null,null,null,null,null,{"$f":"+IF(F3193=\"\",\"\",VLOOKUP(F3193,Tabelas!$B$7:$C$96,2))","v":""},null,{"$f":"IF(H3193=\"\",\"\",ROUND(H3193/SUM(H3186:H3193),4))","v":""},null,null,null,null,null,null,{"$f":"+IF(O3193=\"\",\"\",IF(N3186=\"Transporte Marítimo\",VLOOKUP(O3193,Tabelas!$F$7:$G$12,2),IF(N3186=\"Transporte Aéreo\",VLOOKUP(O3193,Tabelas!$F$16:$G$21,2),\"\")))","v":""},null,null,null,null,null,null,null,null,null,null,null,null,null,null,null,"",{"$f":"+IF(AF3193=\"\",\"\",VLOOKUP(AF3193,Tabelas!$J$27:$K$30,2))","v":""}]
[null,null,null,null,null,null,{"$f":"+IF(F3196=\"\",\"\",VLOOKUP(F3196,Tabelas!$B$7:$C$96,2))","v":""},null,{"$f":"IF(H3196=\"\",\"\",ROUND(H3196/SUM(H3194:H3201),4))","v":""},null,null,null,null,null,null,{"$f":"+IF(O3196=\"\",\"\",IF(N3194=\"Transporte Marítimo\",VLOOKUP(O3196,Tabelas!$F$7:$G$12,2),IF(N3194=\"Transporte Aéreo\",VLOOKUP(O3196,Tabelas!$F$16:$G$21,2),\"\")))","v":""},null,null,null,null,null,null,null,null,null,null,null,null,null,null,null,"",{"$f":"+IF(AF3196=\"\",\"\",VLOOKUP(AF3196,Tabelas!$J$27:$K$30,2))","v":""}]
[null,null,null,null,null,null,{"$f":"+IF(F3197=\"\",\"\",VLOOKUP(F3197,Tabelas!$B$7:$C$96,2))","v":""},null,{"$f":"IF(H3197=\"\",\"\",ROUND(H3197/SUM(H3194:H3201),4))","v":""},null,null,null,null,null,null,{"$f":"+IF(O3197=\"\",\"\",IF(N3194=\"Transporte Marítimo\",VLOOKUP(O3197,Tabelas!$F$7:$G$12,2),IF(N3194=\"Transporte Aéreo\",VLOOKUP(O3197,Tabelas!$F$16:$G$21,2),\"\")))","v":""},null,null,null,null,null,null,null,null,null,null,null,null,null,null,null,"",{"$f":"+IF(AF3197=\"\",\"\",VLOOKUP(AF3197,Tabelas!$J$27:$K$30,2))","v":""}]
[null,null,null,null,null,null,{"$f":"+IF(F3201=\"\",\"\",VLOOKUP(F3201,Tabelas!$B$7:$C$96,2))","v":""},null,{"$f":"IF(H3201=\"\",\"\",ROUND(H3201/SUM(H3194:H3201),4))","v":""},null,null,null,null,null,null,{"$f":"+IF(O3201=\"\",\"\",IF(N3194=\"Transporte Marítimo\",VLOOKUP(O3201,Tabelas!$F$7:$G$12,2),IF(N3194=\"Transporte Aéreo\",VLOOKUP(O3201,Tabelas!$F$16:$G$21,2),\"\")))","v":""},null,null,null,null,null,null,null,null,null,null,null,null,null,null,null,"",{"$f":"+IF(AF3201=\"\",\"\",VLOOKUP(AF3201,Tabelas!$J$27:$K$30,2))","v":""}]
[null,{"$f":"+B3194+1","v":399},null,null,null,null,{"$f":"+IF(F3202=\"\",\"\",VLOOKUP(F3202,Tabelas!$B$7:$C$96,2))","v":""},null,{"$f":"IF(H3202=\"\",\"\",1-SUM(I3203:I3209))","v":""},null,null,null,null,null,null,{"$f":"+IF(O3202=\"\",\"\",IF(N3202=\"Transporte Marítimo\",VLOOKUP(O3202,Tabelas!$F$7:$G$12,2),IF(N3202=\"Transporte Aéreo\",VLOOKUP(O3202,Tabelas!$F$16:$G$21,2),\"\")))","v":""},null,null,null,null,null,null,null,null,null,null,null,null,null,null,null,"",{"$f":"+IF(AF3202=\"\",\"\",VLOOKUP(AF3202,Tabelas!$J$27:$K$30,2))","v":""},null,null,null,null,null,null,null,null,null,null,null,null,null,null,null," "]
[null,null,null,null,null,null,{"$f":"+IF(F3205=\"\",\"\",VLOOKUP(F3205,Tabelas!$B$7:$C$96,2))","v":""},null,{"$f":"IF(H3205=\"\",\"\",ROUND(H3205/SUM(H3202:H3209),4))","v":""},null,null,null,null,null,null,{"$f":"+IF(O3205=\"\",\"\",IF(N3202=\"Transporte Marítimo\",VLOOKUP(O3205,Tabelas!$F$7:$G$12,2),IF(N3202=\"Transporte Aéreo\",VLOOKUP(O3205,Tabelas!$F$16:$G$21,2),\"\")))","v":""},null,null,null,null,null,null,null,null,null,null,null,null,null,null,null,"",{"$f":"+IF(AF3205=\"\",\"\",VLOOKUP(AF3205,Tabelas!$J$27:$K$30,2))","v":""}]
[null,null,null,null,null,null,{"$f":"+IF(F3206=\"\",\"\",VLOOKUP(F3206,Tabelas!$B$7:$C$96,2))","v":""},null,{"$f":"IF(H3206=\"\",\"\",ROUND(H3206/SUM(H3202:H3209),4))","v":""},null,null,null,null,null,null,{"$f":"+IF(O3206=\"\",\"\",IF(N3202=\"Transporte Marítimo\",VLOOKUP(O3206,Tabelas!$F$7:$G$12,2),IF(N3202=\"Transporte Aéreo\",VLOOKUP(O3206,Tabelas!$F$16:$G$21,2),\"\")))","v":""},null,null,null,null,null,null,null,null,null,null,null,null,null,null,null,"",{"$f":"+IF(AF3206=\"\",\"\",VLOOKUP(AF3206,Tabelas!$J$27:$K$30,2))","v":""}]
[null,null,null,null,null,null,{"$f":"+IF(F3209=\"\",\"\",VLOOKUP(F3209,Tabelas!$B$7:$C$96,2))","v":""},null,{"$f":"IF(H3209=\"\",\"\",ROUND(H3209/SUM(H3202:H3209),4))","v":""},null,null,null,null,null,null,{"$f":"+IF(O3209=\"\",\"\",IF(N3202=\"Transporte Marítimo\",VLOOKUP(O3209,Tabelas!$F$7:$G$12,2),IF(N3202=\"Transporte Aéreo\",VLOOKUP(O3209,Tabelas!$F$16:$G$21,2),\"\")))","v":""},null,null,null,null,null,null,null,null,null,null,null,null,null,null,null,"",{"$f":"+IF(AF3209=\"\",\"\",VLOOKUP(AF3209,Tabelas!$J$27:$K$30,2))","v":""}]
[null,null,null,null,null,null,{"$f":"+IF(F3211=\"\",\"\",VLOOKUP(F3211,Tabelas!$B$7:$C$96,2))","v":""},null,{"$f":"IF(H3211=\"\",\"\",ROUND(H3211/SUM(H3210:H3217),4))","v":""},null,null,null,null,null,null,{"$f":"+IF(O3211=\"\",\"\",IF(N3210=\"Transporte Marítimo\",VLOOKUP(O3211,Tabelas!$F$7:$G$12,2),IF(N3210=\"Transporte Aéreo\",VLOOKUP(O3211,Tabelas!$F$16:$G$21,2),\"\")))","v":""},null,null,null,null,null,null,null,null,null,null,null,null,null,null,null,"",{"$f":"+IF(AF3211=\"\",\"\",VLOOKUP(AF3211,Tabelas!$J$27:$K$30,2))","v":""}]
[null,null,null,null,null,null,{"$f":"+IF(F3214=\"\",\"\",VLOOKUP(F3214,Tabelas!$B$7:$C$96,2))","v":""},null,{"$f":"IF(H3214=\"\",\"\",ROUND(H3214/SUM(H3210:H3217),4))","v":""},null,null,null,null,null,null,{"$f":"+IF(O3214=\"\",\"\",IF(N3210=\"Transporte Marítimo\",VLOOKUP(O3214,Tabelas!$F$7:$G$12,2),IF(N3210=\"Transporte Aéreo\",VLOOKUP(O3214,Tabelas!$F$16:$G$21,2),\"\")))","v":""},null,null,null,null,null,null,null,null,null,null,null,null,null,null,null,"",{"$f":"+IF(AF3214=\"\",\"\",VLOOKUP(AF3214,Tabelas!$J$27:$K$30,2))","v":""}]
[null,null,null,null,null,null,{"$f":"+IF(F3215=\"\",\"\",VLOOKUP(F3215,Tabelas!$B$7:$C$96,2))","v":""},null,{"$f":"IF(H3215=\"\",\"\",ROUND(H3215/SUM(H3210:H3217),4))","v":""},null,null,null,null,null,null,{"$f":"+IF(O3215=\"\",\"\",IF(N3210=\"Transporte Marítimo\",VLOOKUP(O3215,Tabelas!$F$7:$G$12,2),IF(N3210=\"Transporte Aéreo\",VLOOKUP(O3215,Tabelas!$F$16:$G$21,2),\"\")))","v":""},null,null,null,null,null,null,null,null,null,null,null,null,null,null,null,"",{"$f":"+IF(AF3215=\"\",\"\",VLOOKUP(AF3215,Tabelas!$J$27:$K$30,2))","v":""}]
[null,{"$f":"+B3210+1","v":401},null,null,null,null,{"$f":"+IF(F3218=\"\",\"\",VLOOKUP(F3218,Tabelas!$B$7:$C$96,2))","v":""},null,{"$f":"IF(H3218=\"\",\"\",1-SUM(I3219:I3225))","v":""},null,null,null,null,null,null,{"$f":"+IF(O3218=\"\",\"\",IF(N3218=\"Transporte Marítimo\",VLOOKUP(O3218,Tabelas!$F$7:$G$12,2),IF(N3218=\"Transporte Aéreo\",VLOOKUP(O3218,Tabelas!$F$16:$G$21,2),\"\")))","v":""},null,null,null,null,null,null,null,null,null,null,null,null,null,null,null,"",{"$f":"+IF(AF3218=\"\",\"\",VLOOKUP(AF3218,Tabelas!$J$27:$K$30,2))","v":""},null,null,null,null,null,null,null,null,null,null,null,null,null,null,null," "]
[null,null,null,null,null,null,{"$f":"+IF(F3219=\"\",\"\",VLOOKUP(F3219,Tabelas!$B$7:$C$96,2))","v":""},null,{"$f":"IF(H3219=\"\",\"\",ROUND(H3219/SUM(H3218:H3225),4))","v":""},null,null,null,null,null,null,{"$f":"+IF(O3219=\"\",\"\",IF(N3218=\"Transporte Marítimo\",VLOOKUP(O3219,Tabelas!$F$7:$G$12,2),IF(N3218=\"Transporte Aéreo\",VLOOKUP(O3219,Tabelas!$F$16:$G$21,2),\"\")))","v":""},null,null,null,null,null,null,null,null,null,null,null,null,null,null,null,{"$f":"+IF(AE3219=\"20NL\",1,IF(AE3219=\"40NL\",2,IF(AE3219=\"20RF\",3,IF(AE3219=\"40RF\",4,\"\"))))","v":""},{"$f":"+IF(AF3219=\"\",\"\",VLOOKUP(AF3219,Tabelas!$J$27:$K$30,2))","v":""}]
[null,null,null,null,null,null,{"$f":"+IF(F3223=\"\",\"\",VLOOKUP(F3223,Tabelas!$B$7:$C$96,2))","v":""},null,{"$f":"IF(H3223=\"\",\"\",ROUND(H3223/SUM(H3218:H3225),4))","v":""},null,null,null,null,null,null,{"$f":"+IF(O3223=\"\",\"\",IF(N3218=\"Transporte Marítimo\",VLOOKUP(O3223,Tabelas!$F$7:$G$12,2),IF(N3218=\"Transporte Aéreo\",VLOOKUP(O3223,Tabelas!$F$16:$G$21,2),\"\")))","v":""},null,null,null,null,null,null,null,null,null,null,null,null,null,null,null,"",{"$f":"+IF(AF3223=\"\",\"\",VLOOKUP(AF3223,Tabelas!$J$27:$K$30,2))","v":""}]
[null,null,null,null,null,null,{"$f":"+IF(F3224=\"\",\"\",VLOOKUP(F3224,Tabelas!$B$7:$C$96,2))","v":""},null,{"$f":"IF(H3224=\"\",\"\",ROUND(H3224/SUM(H3218:H3225),4))","v":""},null,null,null,null,null,null,{"$f":"+IF(O3224=\"\",\"\",IF(N3218=\"Transporte Marítimo\",VLOOKUP(O3224,Tabelas!$F$7:$G$12,2),IF(N3218=\"Transporte Aéreo\",VLOOKUP(O3224,Tabelas!$F$16:$G$21,2),\"\")))","v":""},null,null,null,null,null,null,null,null,null,null,null,null,null,null,null,"",{"$f":"+IF(AF3224=\"\",\"\",VLOOKUP(AF3224,Tabelas!$J$27:$K$30,2))","v":""}]
[null,null,null,null,null,null,{"$f":"+IF(F3227=\"\",\"\",VLOOKUP(F3227,Tabelas!$B$7:$C$96,2))","v":""},null,{"$f":"IF(H3227=\"\",\"\",ROUND(H3227/SUM(H3226:H3233),4))","v":""},null,null,null,null,null,null,{"$f":"+IF(O3227=\"\",\"\",IF(N3226=\"Transporte Marítimo\",VLOOKUP(O3227,Tabelas!$F$7:$G$12,2),IF(N3226=\"Transporte Aéreo\",VLOOKUP(O3227,Tabelas!$F$16:$G$21,2),\"\")))","v":""},null,null,null,null,null,null,null,null,null,null,null,null,null,null,null,"",{"$f":"+IF(AF3227=\"\",\"\",VLOOKUP(AF3227,Tabelas!$J$27:$K$30,2))","v":""}]
[null,null,null,null,null,null,{"$f":"+IF(F3229=\"\",\"\",VLOOKUP(F3229,Tabelas!$B$7:$C$96,2))","v":""},null,{"$f":"IF(H3229=\"\",\"\",ROUND(H3229/SUM(H3226:H3233),4))","v":""},null,null,null,null,null,null,{"$f":"+IF(O3229=\"\",\"\",IF(N3226=\"Transporte Marítimo\",VLOOKUP(O3229,Tabelas!$F$7:$G$12,2),IF(N3226=\"Transporte Aéreo\",VLOOKUP(O3229,Tabelas!$F$16:$G$21,2),\"\")))","v":""},null,null,null,null,null,null,null,null,null,null,null,null,null,null,null,"",{"$f":"+IF(AF3229=\"\",\"\",VLOOKUP(AF3229,Tabelas!$J$27:$K$30,2))","v":""}]
[null,null,null,null,null,null,{"$f":"+IF(F3231=\"\",\"\",VLOOKUP(F3231,Tabelas!$B$7:$C$96,2))","v":""},null,{"$f":"IF(H3231=\"\",\"\",ROUND(H3231/SUM(H3226:H3233),4))","v":""},null,null,null,null,null,null,{"$f":"+IF(O3231=\"\",\"\",IF(N3226=\"Transporte Marítimo\",VLOOKUP(O3231,Tabelas!$F$7:$G$12,2),IF(N3226=\"Transporte Aéreo\",VLOOKUP(O3231,Tabelas!$F$16:$G$21,2),\"\")))","v":""},null,null,null,null,null,null,null,null,null,null,null,null,null,null,null,"",{"$f":"+IF(AF3231=\"\",\"\",VLOOKUP(AF3231,Tabelas!$J$27:$K$30,2))","v":""}]
[null,null,null,null,null,null,{"$f":"+IF(F3232=\"\",\"\",VLOOKUP(F3232,Tabelas!$B$7:$C$96,2))","v":""},null,{"$f":"IF(H3232=\"\",\"\",ROUND(H3232/SUM(H3226:H3233),4))","v":""},null,null,null,null,null,null,{"$f":"+IF(O3232=\"\",\"\",IF(N3226=\"Transporte Marítimo\",VLOOKUP(O3232,Tabelas!$F$7:$G$12,2),IF(N3226=\"Transporte Aéreo\",VLOOKUP(O3232,Tabelas!$F$16:$G$21,2),\"\")))","v":""},null,null,null,null,null,null,null,null,null,null,null,null,null,null,null,"",{"$f":"+IF(AF3232=\"\",\"\",VLOOKUP(AF3232,Tabelas!$J$27:$K$30,2))","v":""}]
[null,null,null,null,null,null,{"$f":"+IF(F3233=\"\",\"\",VLOOKUP(F3233,Tabelas!$B$7:$C$96,2))","v":""},null,{"$f":"IF(H3233=\"\",\"\",ROUND(H3233/SUM(H3226:H3233),4))","v":""},null,null,null,null,null,null,{"$f":"+IF(O3233=\"\",\"\",IF(N3226=\"Transporte Marítimo\",VLOOKUP(O3233,Tabelas!$F$7:$G$12,2),IF(N3226=\"Transporte Aéreo\",VLOOKUP(O3233,Tabelas!$F$16:$G$21,2),\"\")))","v":""},null,null,null,null,null,null,null,null,null,null,null,null,null,null,null,"",{"$f":"+IF(AF3233=\"\",\"\",VLOOKUP(AF3233,Tabelas!$J$27:$K$30,2))","v":""}]
[null,{"$f":"+B3226+1","v":403},null,null,null,null,{"$f":"+IF(F3234=\"\",\"\",VLOOKUP(F3234,Tabelas!$B$7:$C$96,2))","v":""},null,{"$f":"IF(H3234=\"\",\"\",1-SUM(I3235:I3241))","v":""},null,null,null,null,null,null,{"$f":"+IF(O3234=\"\",\"\",IF(N3234=\"Transporte Marítimo\",VLOOKUP(O3234,Tabelas!$F$7:$G$12,2),IF(N3234=\"Transporte Aéreo\",VLOOKUP(O3234,Tabelas!$F$16:$G$21,2),\"\")))","v":""},null,null,null,null,null,null,null,null,null,null,null,null,null,null,null,"",{"$f":"+IF(AF3234=\"\",\"\",VLOOKUP(AF3234,Tabelas!$J$27:$K$30,2))","v":""},null,null,null,null,null,null,null,null,null,null,null,null,null,null,null," "]
[null,null,null,null,null,null,{"$f":"+IF(F3235=\"\",\"\",VLOOKUP(F3235,Tabelas!$B$7:$C$96,2))","v":""},null,{"$f":"IF(H3235=\"\",\"\",ROUND(H3235/SUM(H3234:H3241),4))","v":""},null,null,null,null,null,null,{"$f":"+IF(O3235=\"\",\"\",IF(N3234=\"Transporte Marítimo\",VLOOKUP(O3235,Tabelas!$F$7:$G$12,2),IF(N3234=\"Transporte Aéreo\",VLOOKUP(O3235,Tabelas!$F$16:$G$21,2),\"\")))","v":""},null,null,null,null,null,null,null,null,null,null,null,null,null,null,null,"",{"$f":"+IF(AF3235=\"\",\"\",VLOOKUP(AF3235,Tabelas!$J$27:$K$30,2))","v":""}]
[null,null,null,null,null,null,{"$f":"+IF(F3236=\"\",\"\",VLOOKUP(F3236,Tabelas!$B$7:$C$96,2))","v":""},null,{"$f":"IF(H3236=\"\",\"\",ROUND(H3236/SUM(H3234:H3241),4))","v":""},null,null,null,null,null,null,{"$f":"+IF(O3236=\"\",\"\",IF(N3234=\"Transporte Marítimo\",VLOOKUP(O3236,Tabelas!$F$7:$G$12,2),IF(N3234=\"Transporte Aéreo\",VLOOKUP(O3236,Tabelas!$F$16:$G$21,2),\"\")))","v":""},null,null,null,null,null,null,null,null,null,null,null,null,null,null,null,"",{"$f":"+IF(AF3236=\"\",\"\",VLOOKUP(AF3236,Tabelas!$J$27:$K$30,2))","v":""}]
[null,null,null,null,null,null,{"$f":"+IF(F3237=\"\",\"\",VLOOKUP(F3237,Tabelas!$B$7:$C$96,2))","v":""},null,{"$f":"IF(H3237=\"\",\"\",ROUND(H3237/SUM(H3234:H3241),4))","v":""},null,null,null,null,null,null,{"$f":"+IF(O3237=\"\",\"\",IF(N3234=\"Transporte Marítimo\",VLOOKUP(O3237,Tabelas!$F$7:$G$12,2),IF(N3234=\"Transporte Aéreo\",VLOOKUP(O3237,Tabelas!$F$16:$G$21,2),\"\")))","v":""},null,null,null,null,null,null,null,null,null,null,null,null,null,null,null,"",{"$f":"+IF(AF3237=\"\",\"\",VLOOKUP(AF3237,Tabelas!$J$27:$K$30,2))","v":""}]
[null,null,null,null,null,null,{"$f":"+IF(F3238=\"\",\"\",VLOOKUP(F3238,Tabelas!$B$7:$C$96,2))","v":""},null,{"$f":"IF(H3238=\"\",\"\",ROUND(H3238/SUM(H3234:H3241),4))","v":""},null,null,null,null,null,null,{"$f":"+IF(O3238=\"\",\"\",IF(N3234=\"Transporte Marítimo\",VLOOKUP(O3238,Tabelas!$F$7:$G$12,2),IF(N3234=\"Transporte Aéreo\",VLOOKUP(O3238,Tabelas!$F$16:$G$21,2),\"\")))","v":""},null,null,null,null,null,null,null,null,null,null,null,null,null,null,null,"",{"$f":"+IF(AF3238=\"\",\"\",VLOOKUP(AF3238,Tabelas!$J$27:$K$30,2))","v":""}]
[null,null,null,null,null,null,{"$f":"+IF(F3239=\"\",\"\",VLOOKUP(F3239,Tabelas!$B$7:$C$96,2))","v":""},null,{"$f":"IF(H3239=\"\",\"\",ROUND(H3239/SUM(H3234:H3241),4))","v":""},null,null,null,null,null,null,{"$f":"+IF(O3239=\"\",\"\",IF(N3234=\"Transporte Marítimo\",VLOOKUP(O3239,Tabelas!$F$7:$G$12,2),IF(N3234=\"Transporte Aéreo\",VLOOKUP(O3239,Tabelas!$F$16:$G$21,2),\"\")))","v":""},null,null,null,null,null,null,null,null,null,null,null,null,null,null,null,"",{"$f":"+IF(AF3239=\"\",\"\",VLOOKUP(AF3239,Tabelas!$J$27:$K$30,2))","v":""}]
[null,null,null,null,null,null,{"$f":"+IF(F3240=\"\",\"\",VLOOKUP(F3240,Tabelas!$B$7:$C$96,2))","v":""},null,{"$f":"IF(H3240=\"\",\"\",ROUND(H3240/SUM(H3234:H3241),4))","v":""},null,null,null,null,null,null,{"$f":"+IF(O3240=\"\",\"\",IF(N3234=\"Transporte Marítimo\",VLOOKUP(O3240,Tabelas!$F$7:$G$12,2),IF(N3234=\"Transporte Aéreo\",VLOOKUP(O3240,Tabelas!$F$16:$G$21,2),\"\")))","v":""},null,null,null,null,null,null,null,null,null,null,null,null,null,null,null,"",{"$f":"+IF(AF3240=\"\",\"\",VLOOKUP(AF3240,Tabelas!$J$27:$K$30,2))","v":""}]
[null,null,null,null,null,null,{"$f":"+IF(F3241=\"\",\"\",VLOOKUP(F3241,Tabelas!$B$7:$C$96,2))","v":""},null,{"$f":"IF(H3241=\"\",\"\",ROUND(H3241/SUM(H3234:H3241),4))","v":""},null,null,null,null,null,null,{"$f":"+IF(O3241=\"\",\"\",IF(N3234=\"Transporte Marítimo\",VLOOKUP(O3241,Tabelas!$F$7:$G$12,2),IF(N3234=\"Transporte Aéreo\",VLOOKUP(O3241,Tabelas!$F$16:$G$21,2),\"\")))","v":""},null,null,null,null,null,null,null,null,null,null,null,null,null,null,null,"",{"$f":"+IF(AF3241=\"\",\"\",VLOOKUP(AF3241,Tabelas!$J$27:$K$30,2))","v":""}]
[null,{"$f":"+B3234+1","v":404},null,null,null,null,{"$f":"+IF(F3242=\"\",\"\",VLOOKUP(F3242,Tabelas!$B$7:$C$96,2))","v":""},null,{"$f":"IF(H3242=\"\",\"\",1-SUM(I3243:I3249))","v":""},null,null,null,null,null,null,{"$f":"+IF(O3242=\"\",\"\",IF(N3242=\"Transporte Marítimo\",VLOOKUP(O3242,Tabelas!$F$7:$G$12,2),IF(N3242=\"Transporte Aéreo\",VLOOKUP(O3242,Tabelas!$F$16:$G$21,2),\"\")))","v":""},null,null,null,null,null,null,null,null,null,null,null,null,null,null,null,"",{"$f":"+IF(AF3242=\"\",\"\",VLOOKUP(AF3242,Tabelas!$J$27:$K$30,2))","v":""},null,null,null,null,null,null,null,null,null,null,null,null,null,null,null," "]
[null,null,null,null,null,null,{"$f":"+IF(F3243=\"\",\"\",VLOOKUP(F3243,Tabelas!$B$7:$C$96,2))","v":""},null,{"$f":"IF(H3243=\"\",\"\",ROUND(H3243/SUM(H3242:H3249),4))","v":""},null,null,null,null,null,null,{"$f":"+IF(O3243=\"\",\"\",IF(N3242=\"Transporte Marítimo\",VLOOKUP(O3243,Tabelas!$F$7:$G$12,2),IF(N3242=\"Transporte Aéreo\",VLOOKUP(O3243,Tabelas!$F$16:$G$21,2),\"\")))","v":""},null,null,null,null,null,null,null,null,null,null,null,null,null,null,null,"",{"$f":"+IF(AF3243=\"\",\"\",VLOOKUP(AF3243,Tabelas!$J$27:$K$30,2))","v":""}]
[null,null,null,null,null,null,{"$f":"+IF(F3244=\"\",\"\",VLOOKUP(F3244,Tabelas!$B$7:$C$96,2))","v":""},null,{"$f":"IF(H3244=\"\",\"\",ROUND(H3244/SUM(H3242:H3249),4))","v":""},null,null,null,null,null,null,{"$f":"+IF(O3244=\"\",\"\",IF(N3242=\"Transporte Marítimo\",VLOOKUP(O3244,Tabelas!$F$7:$G$12,2),IF(N3242=\"Transporte Aéreo\",VLOOKUP(O3244,Tabelas!$F$16:$G$21,2),\"\")))","v":""},null,null,null,null,null,null,null,null,null,null,null,null,null,null,null,"",{"$f":"+IF(AF3244=\"\",\"\",VLOOKUP(AF3244,Tabelas!$J$27:$K$30,2))","v":""}]
[null,null,null,null,null,null,{"$f":"+IF(F3245=\"\",\"\",VLOOKUP(F3245,Tabelas!$B$7:$C$96,2))","v":""},null,{"$f":"IF(H3245=\"\",\"\",ROUND(H3245/SUM(H3242:H3249),4))","v":""},null,null,null,null,null,null,{"$f":"+IF(O3245=\"\",\"\",IF(N3242=\"Transporte Marítimo\",VLOOKUP(O3245,Tabelas!$F$7:$G$12,2),IF(N3242=\"Transporte Aéreo\",VLOOKUP(O3245,Tabelas!$F$16:$G$21,2),\"\")))","v":""},null,null,null,null,null,null,null,null,null,null,null,null,null,null,null,"",{"$f":"+IF(AF3245=\"\",\"\",VLOOKUP(AF3245,Tabelas!$J$27:$K$30,2))","v":""}]
[null,null,null,null,null,null,{"$f":"+IF(F3246=\"\",\"\",VLOOKUP(F3246,Tabelas!$B$7:$C$96,2))","v":""},null,{"$f":"IF(H3246=\"\",\"\",ROUND(H3246/SUM(H3242:H3249),4))","v":""},null,null,null,null,null,null,{"$f":"+IF(O3246=\"\",\"\",IF(N3242=\"Transporte Marítimo\",VLOOKUP(O3246,Tabelas!$F$7:$G$12,2),IF(N3242=\"Transporte Aéreo\",VLOOKUP(O3246,Tabelas!$F$16:$G$21,2),\"\")))","v":""},null,null,null,null,null,null,null,null,null,null,null,null,null,null,null,"",{"$f":"+IF(AF3246=\"\",\"\",VLOOKUP(AF3246,Tabelas!$J$27:$K$30,2))","v":""}]
[null,null,null,null,null,null,{"$f":"+IF(F3247=\"\",\"\",VLOOKUP(F3247,Tabelas!$B$7:$C$96,2))","v":""},null,{"$f":"IF(H3247=\"\",\"\",ROUND(H3247/SUM(H3242:H3249),4))","v":""},null,null,null,null,null,null,{"$f":"+IF(O3247=\"\",\"\",IF(N3242=\"Transporte Marítimo\",VLOOKUP(O3247,Tabelas!$F$7:$G$12,2),IF(N3242=\"Transporte Aéreo\",VLOOKUP(O3247,Tabelas!$F$16:$G$21,2),\"\")))","v":""},null,null,null,null,null,null,null,null,null,null,null,null,null,null,null,"",{"$f":"+IF(AF3247=\"\",\"\",VLOOKUP(AF3247,Tabelas!$J$27:$K$30,2))","v":""}]
[null,null,null,null,null,null,{"$f":"+IF(F3248=\"\",\"\",VLOOKUP(F3248,Tabelas!$B$7:$C$96,2))","v":""},null,{"$f":"IF(H3248=\"\",\"\",ROUND(H3248/SUM(H3242:H3249),4))","v":""},null,null,null,null,null,null,{"$f":"+IF(O3248=\"\",\"\",IF(N3242=\"Transporte Marítimo\",VLOOKUP(O3248,Tabelas!$F$7:$G$12,2),IF(N3242=\"Transporte Aéreo\",VLOOKUP(O3248,Tabelas!$F$16:$G$21,2),\"\")))","v":""},null,null,null,null,null,null,null,null,null,null,null,null,null,null,null,"",{"$f":"+IF(AF3248=\"\",\"\",VLOOKUP(AF3248,Tabelas!$J$27:$K$30,2))","v":""}]
[null,null,null,null,null,null,{"$f":"+IF(F3249=\"\",\"\",VLOOKUP(F3249,Tabelas!$B$7:$C$96,2))","v":""},null,{"$f":"IF(H3249=\"\",\"\",ROUND(H3249/SUM(H3242:H3249),4))","v":""},null,null,null,null,null,null,{"$f":"+IF(O3249=\"\",\"\",IF(N3242=\"Transporte Marítimo\",VLOOKUP(O3249,Tabelas!$F$7:$G$12,2),IF(N3242=\"Transporte Aéreo\",VLOOKUP(O3249,Tabelas!$F$16:$G$21,2),\"\")))","v":""},null,null,null,null,null,null,null,null,null,null,null,null,null,null,null,"",{"$f":"+IF(AF3249=\"\",\"\",VLOOKUP(AF3249,Tabelas!$J$27:$K$30,2))","v":""}]
[null,{"$f":"+B3242+1","v":405},null,null,null,null,{"$f":"+IF(F3250=\"\",\"\",VLOOKUP(F3250,Tabelas!$B$7:$C$96,2))","v":""},null,{"$f":"IF(H3250=\"\",\"\",1-SUM(I3251:I3257))","v":""},null,null,null,null,null,null,{"$f":"+IF(O3250=\"\",\"\",IF(N3250=\"Transporte Marítimo\",VLOOKUP(O3250,Tabelas!$F$7:$G$12,2),IF(N3250=\"Transporte Aéreo\",VLOOKUP(O3250,Tabelas!$F$16:$G$21,2),\"\")))","v":""},null,null,null,null,null,null,null,null,null,null,null,null,null,null,null,"",{"$f":"+IF(AF3250=\"\",\"\",VLOOKUP(AF3250,Tabelas!$J$27:$K$30,2))","v":""},null,null,null,null,null,null,null,null,null,null,null,null,null,null,null," "]
[null,null,null,null,null,null,{"$f":"+IF(F3251=\"\",\"\",VLOOKUP(F3251,Tabelas!$B$7:$C$96,2))","v":""},null,{"$f":"IF(H3251=\"\",\"\",ROUND(H3251/SUM(H3250:H3257),4))","v":""},null,null,null,null,null,null,{"$f":"+IF(O3251=\"\",\"\",IF(N3250=\"Transporte Marítimo\",VLOOKUP(O3251,Tabelas!$F$7:$G$12,2),IF(N3250=\"Transporte Aéreo\",VLOOKUP(O3251,Tabelas!$F$16:$G$21,2),\"\")))","v":""},null,null,null,null,null,null,null,null,null,null,null,null,null,null,null,"",{"$f":"+IF(AF3251=\"\",\"\",VLOOKUP(AF3251,Tabelas!$J$27:$K$30,2))","v":""}]
[null,null,null,null,null,null,{"$f":"+IF(F3252=\"\",\"\",VLOOKUP(F3252,Tabelas!$B$7:$C$96,2))","v":""},null,{"$f":"IF(H3252=\"\",\"\",ROUND(H3252/SUM(H3250:H3257),4))","v":""},null,null,null,null,null,null,{"$f":"+IF(O3252=\"\",\"\",IF(N3250=\"Transporte Marítimo\",VLOOKUP(O3252,Tabelas!$F$7:$G$12,2),IF(N3250=\"Transporte Aéreo\",VLOOKUP(O3252,Tabelas!$F$16:$G$21,2),\"\")))","v":""},null,null,null,null,null,null,null,null,null,null,null,null,null,null,null,"",{"$f":"+IF(AF3252=\"\",\"\",VLOOKUP(AF3252,Tabelas!$J$27:$K$30,2))","v":""}]
[null,null,null,null,null,null,{"$f":"+IF(F3253=\"\",\"\",VLOOKUP(F3253,Tabelas!$B$7:$C$96,2))","v":""},null,{"$f":"IF(H3253=\"\",\"\",ROUND(H3253/SUM(H3250:H3257),4))","v":""},null,null,null,null,null,null,{"$f":"+IF(O3253=\"\",\"\",IF(N3250=\"Transporte Marítimo\",VLOOKUP(O3253,Tabelas!$F$7:$G$12,2),IF(N3250=\"Transporte Aéreo\",VLOOKUP(O3253,Tabelas!$F$16:$G$21,2),\"\")))","v":""},null,null,null,null,null,null,null,null,null,null,null,null,null,null,null,"",{"$f":"+IF(AF3253=\"\",\"\",VLOOKUP(AF3253,Tabelas!$J$27:$K$30,2))","v":""}]
[null,null,null,null,null,null,{"$f":"+IF(F3254=\"\",\"\",VLOOKUP(F3254,Tabelas!$B$7:$C$96,2))","v":""},null,{"$f":"IF(H3254=\"\",\"\",ROUND(H3254/SUM(H3250:H3257),4))","v":""},null,null,null,null,null,null,{"$f":"+IF(O3254=\"\",\"\",IF(N3250=\"Transporte Marítimo\",VLOOKUP(O3254,Tabelas!$F$7:$G$12,2),IF(N3250=\"Transporte Aéreo\",VLOOKUP(O3254,Tabelas!$F$16:$G$21,2),\"\")))","v":""},null,null,null,null,null,null,null,null,null,null,null,null,null,null,null,"",{"$f":"+IF(AF3254=\"\",\"\",VLOOKUP(AF3254,Tabelas!$J$27:$K$30,2))","v":""}]
[null,null,null,null,null,null,{"$f":"+IF(F3255=\"\",\"\",VLOOKUP(F3255,Tabelas!$B$7:$C$96,2))","v":""},null,{"$f":"IF(H3255=\"\",\"\",ROUND(H3255/SUM(H3250:H3257),4))","v":""},null,null,null,null,null,null,{"$f":"+IF(O3255=\"\",\"\",IF(N3250=\"Transporte Marítimo\",VLOOKUP(O3255,Tabelas!$F$7:$G$12,2),IF(N3250=\"Transporte Aéreo\",VLOOKUP(O3255,Tabelas!$F$16:$G$21,2),\"\")))","v":""},null,null,null,null,null,null,null,null,null,null,null,null,null,null,null,"",{"$f":"+IF(AF3255=\"\",\"\",VLOOKUP(AF3255,Tabelas!$J$27:$K$30,2))","v":""}]
[null,null,null,null,null,null,{"$f":"+IF(F3256=\"\",\"\",VLOOKUP(F3256,Tabelas!$B$7:$C$96,2))","v":""},null,{"$f":"IF(H3256=\"\",\"\",ROUND(H3256/SUM(H3250:H3257),4))","v":""},null,null,null,null,null,null,{"$f":"+IF(O3256=\"\",\"\",IF(N3250=\"Transporte Marítimo\",VLOOKUP(O3256,Tabelas!$F$7:$G$12,2),IF(N3250=\"Transporte Aéreo\",VLOOKUP(O3256,Tabelas!$F$16:$G$21,2),\"\")))","v":""},null,null,null,null,null,null,null,null,null,null,null,null,null,null,null,"",{"$f":"+IF(AF3256=\"\",\"\",VLOOKUP(AF3256,Tabelas!$J$27:$K$30,2))","v":""}]
[null,null,null,null,null,null,{"$f":"+IF(F3257=\"\",\"\",VLOOKUP(F3257,Tabelas!$B$7:$C$96,2))","v":""},null,{"$f":"IF(H3257=\"\",\"\",ROUND(H3257/SUM(H3250:H3257),4))","v":""},null,null,null,null,null,null,{"$f":"+IF(O3257=\"\",\"\",IF(N3250=\"Transporte Marítimo\",VLOOKUP(O3257,Tabelas!$F$7:$G$12,2),IF(N3250=\"Transporte Aéreo\",VLOOKUP(O3257,Tabelas!$F$16:$G$21,2),\"\")))","v":""},null,null,null,null,null,null,null,null,null,null,null,null,null,null,null,"",{"$f":"+IF(AF3257=\"\",\"\",VLOOKUP(AF3257,Tabelas!$J$27:$K$30,2))","v":""}]
[null,{"$f":"+B3250+1","v":406},null,null,null,null,{"$f":"+IF(F3258=\"\",\"\",VLOOKUP(F3258,Tabelas!$B$7:$C$96,2))","v":""},null,{"$f":"IF(H3258=\"\",\"\",1-SUM(I3259:I3265))","v":""},null,null,null,null,null,null,{"$f":"+IF(O3258=\"\",\"\",IF(N3258=\"Transporte Marítimo\",VLOOKUP(O3258,Tabelas!$F$7:$G$12,2),IF(N3258=\"Transporte Aéreo\",VLOOKUP(O3258,Tabelas!$F$16:$G$21,2),\"\")))","v":""},null,null,null,null,null,null,null,null,null,null,null,null,null,null,null,"",{"$f":"+IF(AF3258=\"\",\"\",VLOOKUP(AF3258,Tabelas!$J$27:$K$30,2))","v":""},null,null,null,null,null,null,null,null,null,null,null,null,null,null,null," "]
[null,null,null,null,null,null,{"$f":"+IF(F3259=\"\",\"\",VLOOKUP(F3259,Tabelas!$B$7:$C$96,2))","v":""},null,{"$f":"IF(H3259=\"\",\"\",ROUND(H3259/SUM(H3258:H3265),4))","v":""},null,null,null,null,null,null,{"$f":"+IF(O3259=\"\",\"\",IF(N3258=\"Transporte Marítimo\",VLOOKUP(O3259,Tabelas!$F$7:$G$12,2),IF(N3258=\"Transporte Aéreo\",VLOOKUP(O3259,Tabelas!$F$16:$G$21,2),\"\")))","v":""},null,null,null,null,null,null,null,null,null,null,null,null,null,null,null,"",{"$f":"+IF(AF3259=\"\",\"\",VLOOKUP(AF3259,Tabelas!$J$27:$K$30,2))","v":""}]
[null,null,null,null,null,null,{"$f":"+IF(F3260=\"\",\"\",VLOOKUP(F3260,Tabelas!$B$7:$C$96,2))","v":""},null,{"$f":"IF(H3260=\"\",\"\",ROUND(H3260/SUM(H3258:H3265),4))","v":""},null,null,null,null,null,null,{"$f":"+IF(O3260=\"\",\"\",IF(N3258=\"Transporte Marítimo\",VLOOKUP(O3260,Tabelas!$F$7:$G$12,2),IF(N3258=\"Transporte Aéreo\",VLOOKUP(O3260,Tabelas!$F$16:$G$21,2),\"\")))","v":""},null,null,null,null,null,null,null,null,null,null,null,null,null,null,null,"",{"$f":"+IF(AF3260=\"\",\"\",VLOOKUP(AF3260,Tabelas!$J$27:$K$30,2))","v":""}]
[null,null,null,null,null,null,{"$f":"+IF(F3261=\"\",\"\",VLOOKUP(F3261,Tabelas!$B$7:$C$96,2))","v":""},null,{"$f":"IF(H3261=\"\",\"\",ROUND(H3261/SUM(H3258:H3265),4))","v":""},null,null,null,null,null,null,{"$f":"+IF(O3261=\"\",\"\",IF(N3258=\"Transporte Marítimo\",VLOOKUP(O3261,Tabelas!$F$7:$G$12,2),IF(N3258=\"Transporte Aéreo\",VLOOKUP(O3261,Tabelas!$F$16:$G$21,2),\"\")))","v":""},null,null,null,null,null,null,null,null,null,null,null,null,null,null,null,"",{"$f":"+IF(AF3261=\"\",\"\",VLOOKUP(AF3261,Tabelas!$J$27:$K$30,2))","v":""}]
[null,null,null,null,null,null,{"$f":"+IF(F3262=\"\",\"\",VLOOKUP(F3262,Tabelas!$B$7:$C$96,2))","v":""},null,{"$f":"IF(H3262=\"\",\"\",ROUND(H3262/SUM(H3258:H3265),4))","v":""},null,null,null,null,null,null,{"$f":"+IF(O3262=\"\",\"\",IF(N3258=\"Transporte Marítimo\",VLOOKUP(O3262,Tabelas!$F$7:$G$12,2),IF(N3258=\"Transporte Aéreo\",VLOOKUP(O3262,Tabelas!$F$16:$G$21,2),\"\")))","v":""},null,null,null,null,null,null,null,null,null,null,null,null,null,null,null,"",{"$f":"+IF(AF3262=\"\",\"\",VLOOKUP(AF3262,Tabelas!$J$27:$K$30,2))","v":""}]
[null,null,null,null,null,null,{"$f":"+IF(F3263=\"\",\"\",VLOOKUP(F3263,Tabelas!$B$7:$C$96,2))","v":""},null,{"$f":"IF(H3263=\"\",\"\",ROUND(H3263/SUM(H3258:H3265),4))","v":""},null,null,null,null,null,null,{"$f":"+IF(O3263=\"\",\"\",IF(N3258=\"Transporte Marítimo\",VLOOKUP(O3263,Tabelas!$F$7:$G$12,2),IF(N3258=\"Transporte Aéreo\",VLOOKUP(O3263,Tabelas!$F$16:$G$21,2),\"\")))","v":""},null,null,null,null,null,null,null,null,null,null,null,null,null,null,null,"",{"$f":"+IF(AF3263=\"\",\"\",VLOOKUP(AF3263,Tabelas!$J$27:$K$30,2))","v":""}]
[null,null,null,null,null,null,{"$f":"+IF(F3264=\"\",\"\",VLOOKUP(F3264,Tabelas!$B$7:$C$96,2))","v":""},null,{"$f":"IF(H3264=\"\",\"\",ROUND(H3264/SUM(H3258:H3265),4))","v":""},null,null,null,null,null,null,{"$f":"+IF(O3264=\"\",\"\",IF(N3258=\"Transporte Marítimo\",VLOOKUP(O3264,Tabelas!$F$7:$G$12,2),IF(N3258=\"Transporte Aéreo\",VLOOKUP(O3264,Tabelas!$F$16:$G$21,2),\"\")))","v":""},null,null,null,null,null,null,null,null,null,null,null,null,null,null,null,"",{"$f":"+IF(AF3264=\"\",\"\",VLOOKUP(AF3264,Tabelas!$J$27:$K$30,2))","v":""}]
[null,null,null,null,null,null,{"$f":"+IF(F3265=\"\",\"\",VLOOKUP(F3265,Tabelas!$B$7:$C$96,2))","v":""},null,{"$f":"IF(H3265=\"\",\"\",ROUND(H3265/SUM(H3258:H3265),4))","v":""},null,null,null,null,null,null,{"$f":"+IF(O3265=\"\",\"\",IF(N3258=\"Transporte Marítimo\",VLOOKUP(O3265,Tabelas!$F$7:$G$12,2),IF(N3258=\"Transporte Aéreo\",VLOOKUP(O3265,Tabelas!$F$16:$G$21,2),\"\")))","v":""},null,null,null,null,null,null,null,null,null,null,null,null,null,null,null,"",{"$f":"+IF(AF3265=\"\",\"\",VLOOKUP(AF3265,Tabelas!$J$27:$K$30,2))","v":""}]
[null,{"$f":"+B3258+1","v":407},null,null,null,null,{"$f":"+IF(F3266=\"\",\"\",VLOOKUP(F3266,Tabelas!$B$7:$C$96,2))","v":""},null,{"$f":"IF(H3266=\"\",\"\",1-SUM(I3267:I3273))","v":""},null,null,null,null,null,null,{"$f":"+IF(O3266=\"\",\"\",IF(N3266=\"Transporte Marítimo\",VLOOKUP(O3266,Tabelas!$F$7:$G$12,2),IF(N3266=\"Transporte Aéreo\",VLOOKUP(O3266,Tabelas!$F$16:$G$21,2),\"\")))","v":""},null,null,null,null,null,null,null,null,null,null,null,null,null,null,null,"",{"$f":"+IF(AF3266=\"\",\"\",VLOOKUP(AF3266,Tabelas!$J$27:$K$30,2))","v":""},null,null,null,null,null,null,null,null,null,null,null,null,null,null,null," "]
[null,null,null,null,null,null,{"$f":"+IF(F3267=\"\",\"\",VLOOKUP(F3267,Tabelas!$B$7:$C$96,2))","v":""},null,{"$f":"IF(H3267=\"\",\"\",ROUND(H3267/SUM(H3266:H3273),4))","v":""},null,null,null,null,null,null,{"$f":"+IF(O3267=\"\",\"\",IF(N3266=\"Transporte Marítimo\",VLOOKUP(O3267,Tabelas!$F$7:$G$12,2),IF(N3266=\"Transporte Aéreo\",VLOOKUP(O3267,Tabelas!$F$16:$G$21,2),\"\")))","v":""},null,null,null,null,null,null,null,null,null,null,null,null,null,null,null,"",{"$f":"+IF(AF3267=\"\",\"\",VLOOKUP(AF3267,Tabelas!$J$27:$K$30,2))","v":""}]
[null,null,null,null,null,null,{"$f":"+IF(F3268=\"\",\"\",VLOOKUP(F3268,Tabelas!$B$7:$C$96,2))","v":""},null,{"$f":"IF(H3268=\"\",\"\",ROUND(H3268/SUM(H3266:H3273),4))","v":""},null,null,null,null,null,null,{"$f":"+IF(O3268=\"\",\"\",IF(N3266=\"Transporte Marítimo\",VLOOKUP(O3268,Tabelas!$F$7:$G$12,2),IF(N3266=\"Transporte Aéreo\",VLOOKUP(O3268,Tabelas!$F$16:$G$21,2),\"\")))","v":""},null,null,null,null,null,null,null,null,null,null,null,null,null,null,null,"",{"$f":"+IF(AF3268=\"\",\"\",VLOOKUP(AF3268,Tabelas!$J$27:$K$30,2))","v":""}]
[null,null,null,null,null,null,{"$f":"+IF(F3269=\"\",\"\",VLOOKUP(F3269,Tabelas!$B$7:$C$96,2))","v":""},null,{"$f":"IF(H3269=\"\",\"\",ROUND(H3269/SUM(H3266:H3273),4))","v":""},null,null,null,null,null,null,{"$f":"+IF(O3269=\"\",\"\",IF(N3266=\"Transporte Marítimo\",VLOOKUP(O3269,Tabelas!$F$7:$G$12,2),IF(N3266=\"Transporte Aéreo\",VLOOKUP(O3269,Tabelas!$F$16:$G$21,2),\"\")))","v":""},null,null,null,null,null,null,null,null,null,null,null,null,null,null,null,"",{"$f":"+IF(AF3269=\"\",\"\",VLOOKUP(AF3269,Tabelas!$J$27:$K$30,2))","v":""}]
[null,null,null,null,null,null,{"$f":"+IF(F3270=\"\",\"\",VLOOKUP(F3270,Tabelas!$B$7:$C$96,2))","v":""},null,{"$f":"IF(H3270=\"\",\"\",ROUND(H3270/SUM(H3266:H3273),4))","v":""},null,null,null,null,null,null,{"$f":"+IF(O3270=\"\",\"\",IF(N3266=\"Transporte Marítimo\",VLOOKUP(O3270,Tabelas!$F$7:$G$12,2),IF(N3266=\"Transporte Aéreo\",VLOOKUP(O3270,Tabelas!$F$16:$G$21,2),\"\")))","v":""},null,null,null,null,null,null,null,null,null,null,null,null,null,null,null,"",{"$f":"+IF(AF3270=\"\",\"\",VLOOKUP(AF3270,Tabelas!$J$27:$K$30,2))","v":""}]
[null,null,null,null,null,null,{"$f":"+IF(F3271=\"\",\"\",VLOOKUP(F3271,Tabelas!$B$7:$C$96,2))","v":""},null,{"$f":"IF(H3271=\"\",\"\",ROUND(H3271/SUM(H3266:H3273),4))","v":""},null,null,null,null,null,null,{"$f":"+IF(O3271=\"\",\"\",IF(N3266=\"Transporte Marítimo\",VLOOKUP(O3271,Tabelas!$F$7:$G$12,2),IF(N3266=\"Transporte Aéreo\",VLOOKUP(O3271,Tabelas!$F$16:$G$21,2),\"\")))","v":""},null,null,null,null,null,null,null,null,null,null,null,null,null,null,null,"",{"$f":"+IF(AF3271=\"\",\"\",VLOOKUP(AF3271,Tabelas!$J$27:$K$30,2))","v":""}]
[null,null,null,null,null,null,{"$f":"+IF(F3272=\"\",\"\",VLOOKUP(F3272,Tabelas!$B$7:$C$96,2))","v":""},null,{"$f":"IF(H3272=\"\",\"\",ROUND(H3272/SUM(H3266:H3273),4))","v":""},null,null,null,null,null,null,{"$f":"+IF(O3272=\"\",\"\",IF(N3266=\"Transporte Marítimo\",VLOOKUP(O3272,Tabelas!$F$7:$G$12,2),IF(N3266=\"Transporte Aéreo\",VLOOKUP(O3272,Tabelas!$F$16:$G$21,2),\"\")))","v":""},null,null,null,null,null,null,null,null,null,null,null,null,null,null,null,"",{"$f":"+IF(AF3272=\"\",\"\",VLOOKUP(AF3272,Tabelas!$J$27:$K$30,2))","v":""}]
[null,null,null,null,null,null,{"$f":"+IF(F3273=\"\",\"\",VLOOKUP(F3273,Tabelas!$B$7:$C$96,2))","v":""},null,{"$f":"IF(H3273=\"\",\"\",ROUND(H3273/SUM(H3266:H3273),4))","v":""},null,null,null,null,null,null,{"$f":"+IF(O3273=\"\",\"\",IF(N3266=\"Transporte Marítimo\",VLOOKUP(O3273,Tabelas!$F$7:$G$12,2),IF(N3266=\"Transporte Aéreo\",VLOOKUP(O3273,Tabelas!$F$16:$G$21,2),\"\")))","v":""},null,null,null,null,null,null,null,null,null,null,null,null,null,null,null,"",{"$f":"+IF(AF3273=\"\",\"\",VLOOKUP(AF3273,Tabelas!$J$27:$K$30,2))","v":""}]
[null,{"$f":"+B3266+1","v":408},null,null,null,null,{"$f":"+IF(F3274=\"\",\"\",VLOOKUP(F3274,Tabelas!$B$7:$C$96,2))","v":""},null,{"$f":"IF(H3274=\"\",\"\",1-SUM(I3275:I3281))","v":""},null,null,null,null,null,null,{"$f":"+IF(O3274=\"\",\"\",IF(N3274=\"Transporte Marítimo\",VLOOKUP(O3274,Tabelas!$F$7:$G$12,2),IF(N3274=\"Transporte Aéreo\",VLOOKUP(O3274,Tabelas!$F$16:$G$21,2),\"\")))","v":""},null,null,null,null,null,null,null,null,null,null,null,null,null,null,null,"",{"$f":"+IF(AF3274=\"\",\"\",VLOOKUP(AF3274,Tabelas!$J$27:$K$30,2))","v":""},null,null,null,null,null,null,null,null,null,null,null,null,null,null,null," "]
[null,null,null,null,null,null,{"$f":"+IF(F3275=\"\",\"\",VLOOKUP(F3275,Tabelas!$B$7:$C$96,2))","v":""},null,{"$f":"IF(H3275=\"\",\"\",ROUND(H3275/SUM(H3274:H3281),4))","v":""},null,null,null,null,null,null,{"$f":"+IF(O3275=\"\",\"\",IF(N3274=\"Transporte Marítimo\",VLOOKUP(O3275,Tabelas!$F$7:$G$12,2),IF(N3274=\"Transporte Aéreo\",VLOOKUP(O3275,Tabelas!$F$16:$G$21,2),\"\")))","v":""},null,null,null,null,null,null,null,null,null,null,null,null,null,null,null,"",{"$f":"+IF(AF3275=\"\",\"\",VLOOKUP(AF3275,Tabelas!$J$27:$K$30,2))","v":""}]
[null,null,null,null,null,null,{"$f":"+IF(F3276=\"\",\"\",VLOOKUP(F3276,Tabelas!$B$7:$C$96,2))","v":""},null,{"$f":"IF(H3276=\"\",\"\",ROUND(H3276/SUM(H3274:H3281),4))","v":""},null,null,null,null,null,null,{"$f":"+IF(O3276=\"\",\"\",IF(N3274=\"Transporte Marítimo\",VLOOKUP(O3276,Tabelas!$F$7:$G$12,2),IF(N3274=\"Transporte Aéreo\",VLOOKUP(O3276,Tabelas!$F$16:$G$21,2),\"\")))","v":""},null,null,null,null,null,null,null,null,null,null,null,null,null,null,null,"",{"$f":"+IF(AF3276=\"\",\"\",VLOOKUP(AF3276,Tabelas!$J$27:$K$30,2))","v":""}]
[null,null,null,null,null,null,{"$f":"+IF(F3277=\"\",\"\",VLOOKUP(F3277,Tabelas!$B$7:$C$96,2))","v":""},null,{"$f":"IF(H3277=\"\",\"\",ROUND(H3277/SUM(H3274:H3281),4))","v":""},null,null,null,null,null,null,{"$f":"+IF(O3277=\"\",\"\",IF(N3274=\"Transporte Marítimo\",VLOOKUP(O3277,Tabelas!$F$7:$G$12,2),IF(N3274=\"Transporte Aéreo\",VLOOKUP(O3277,Tabelas!$F$16:$G$21,2),\"\")))","v":""},null,null,null,null,null,null,null,null,null,null,null,null,null,null,null,"",{"$f":"+IF(AF3277=\"\",\"\",VLOOKUP(AF3277,Tabelas!$J$27:$K$30,2))","v":""}]
[null,null,null,null,null,null,{"$f":"+IF(F3278=\"\",\"\",VLOOKUP(F3278,Tabelas!$B$7:$C$96,2))","v":""},null,{"$f":"IF(H3278=\"\",\"\",ROUND(H3278/SUM(H3274:H3281),4))","v":""},null,null,null,null,null,null,{"$f":"+IF(O3278=\"\",\"\",IF(N3274=\"Transporte Marítimo\",VLOOKUP(O3278,Tabelas!$F$7:$G$12,2),IF(N3274=\"Transporte Aéreo\",VLOOKUP(O3278,Tabelas!$F$16:$G$21,2),\"\")))","v":""},null,null,null,null,null,null,null,null,null,null,null,null,null,null,null,"",{"$f":"+IF(AF3278=\"\",\"\",VLOOKUP(AF3278,Tabelas!$J$27:$K$30,2))","v":""}]
[null,null,null,null,null,null,{"$f":"+IF(F3279=\"\",\"\",VLOOKUP(F3279,Tabelas!$B$7:$C$96,2))","v":""},null,{"$f":"IF(H3279=\"\",\"\",ROUND(H3279/SUM(H3274:H3281),4))","v":""},null,null,null,null,null,null,{"$f":"+IF(O3279=\"\",\"\",IF(N3274=\"Transporte Marítimo\",VLOOKUP(O3279,Tabelas!$F$7:$G$12,2),IF(N3274=\"Transporte Aéreo\",VLOOKUP(O3279,Tabelas!$F$16:$G$21,2),\"\")))","v":""},null,null,null,null,null,null,null,null,null,null,null,null,null,null,null,"",{"$f":"+IF(AF3279=\"\",\"\",VLOOKUP(AF3279,Tabelas!$J$27:$K$30,2))","v":""}]
[null,null,null,null,null,null,{"$f":"+IF(F3280=\"\",\"\",VLOOKUP(F3280,Tabelas!$B$7:$C$96,2))","v":""},null,{"$f":"IF(H3280=\"\",\"\",ROUND(H3280/SUM(H3274:H3281),4))","v":""},null,null,null,null,null,null,{"$f":"+IF(O3280=\"\",\"\",IF(N3274=\"Transporte Marítimo\",VLOOKUP(O3280,Tabelas!$F$7:$G$12,2),IF(N3274=\"Transporte Aéreo\",VLOOKUP(O3280,Tabelas!$F$16:$G$21,2),\"\")))","v":""},null,null,null,null,null,null,null,null,null,null,null,null,null,null,null,"",{"$f":"+IF(AF3280=\"\",\"\",VLOOKUP(AF3280,Tabelas!$J$27:$K$30,2))","v":""}]
[null,null,null,null,null,null,{"$f":"+IF(F3281=\"\",\"\",VLOOKUP(F3281,Tabelas!$B$7:$C$96,2))","v":""},null,{"$f":"IF(H3281=\"\",\"\",ROUND(H3281/SUM(H3274:H3281),4))","v":""},null,null,null,null,null,null,{"$f":"+IF(O3281=\"\",\"\",IF(N3274=\"Transporte Marítimo\",VLOOKUP(O3281,Tabelas!$F$7:$G$12,2),IF(N3274=\"Transporte Aéreo\",VLOOKUP(O3281,Tabelas!$F$16:$G$21,2),\"\")))","v":""},null,null,null,null,null,null,null,null,null,null,null,null,null,null,null,"",{"$f":"+IF(AF3281=\"\",\"\",VLOOKUP(AF3281,Tabelas!$J$27:$K$30,2))","v":""}]
[null,{"$f":"+B3274+1","v":409},null,null,null,null,{"$f":"+IF(F3282=\"\",\"\",VLOOKUP(F3282,Tabelas!$B$7:$C$96,2))","v":""},null,{"$f":"IF(H3282=\"\",\"\",1-SUM(I3283:I3289))","v":""},null,null,null,null,null,null,{"$f":"+IF(O3282=\"\",\"\",IF(N3282=\"Transporte Marítimo\",VLOOKUP(O3282,Tabelas!$F$7:$G$12,2),IF(N3282=\"Transporte Aéreo\",VLOOKUP(O3282,Tabelas!$F$16:$G$21,2),\"\")))","v":""},null,null,null,null,null,null,null,null,null,null,null,null,null,null,null,"",{"$f":"+IF(AF3282=\"\",\"\",VLOOKUP(AF3282,Tabelas!$J$27:$K$30,2))","v":""},null,null,null,null,null,null,null,null,null,null,null,null,null,null,null," "]
[null,null,null,null,null,null,{"$f":"+IF(F3283=\"\",\"\",VLOOKUP(F3283,Tabelas!$B$7:$C$96,2))","v":""},null,{"$f":"IF(H3283=\"\",\"\",ROUND(H3283/SUM(H3282:H3289),4))","v":""},null,null,null,null,null,null,{"$f":"+IF(O3283=\"\",\"\",IF(N3282=\"Transporte Marítimo\",VLOOKUP(O3283,Tabelas!$F$7:$G$12,2),IF(N3282=\"Transporte Aéreo\",VLOOKUP(O3283,Tabelas!$F$16:$G$21,2),\"\")))","v":""},null,null,null,null,null,null,null,null,null,null,null,null,null,null,null,{"$f":"+IF(AE3283=\"20NL\",1,IF(AE3283=\"40NL\",2,IF(AE3283=\"20RF\",3,IF(AE3283=\"40RF\",4,\"\"))))","v":""},{"$f":"+IF(AF3283=\"\",\"\",VLOOKUP(AF3283,Tabelas!$J$27:$K$30,2))","v":""}]
[null,null,null,null,null,null,{"$f":"+IF(F3284=\"\",\"\",VLOOKUP(F3284,Tabelas!$B$7:$C$96,2))","v":""},null,{"$f":"IF(H3284=\"\",\"\",ROUND(H3284/SUM(H3282:H3289),4))","v":""},null,null,null,null,null,null,{"$f":"+IF(O3284=\"\",\"\",IF(N3282=\"Transporte Marítimo\",VLOOKUP(O3284,Tabelas!$F$7:$G$12,2),IF(N3282=\"Transporte Aéreo\",VLOOKUP(O3284,Tabelas!$F$16:$G$21,2),\"\")))","v":""},null,null,null,null,null,null,null,null,null,null,null,null,null,null,null,"",{"$f":"+IF(AF3284=\"\",\"\",VLOOKUP(AF3284,Tabelas!$J$27:$K$30,2))","v":""}]
[null,null,null,null,null,null,{"$f":"+IF(F3285=\"\",\"\",VLOOKUP(F3285,Tabelas!$B$7:$C$96,2))","v":""},null,{"$f":"IF(H3285=\"\",\"\",ROUND(H3285/SUM(H3282:H3289),4))","v":""},null,null,null,null,null,null,{"$f":"+IF(O3285=\"\",\"\",IF(N3282=\"Transporte Marítimo\",VLOOKUP(O3285,Tabelas!$F$7:$G$12,2),IF(N3282=\"Transporte Aéreo\",VLOOKUP(O3285,Tabelas!$F$16:$G$21,2),\"\")))","v":""},null,null,null,null,null,null,null,null,null,null,null,null,null,null,null,"",{"$f":"+IF(AF3285=\"\",\"\",VLOOKUP(AF3285,Tabelas!$J$27:$K$30,2))","v":""}]
[null,null,null,null,null,null,{"$f":"+IF(F3286=\"\",\"\",VLOOKUP(F3286,Tabelas!$B$7:$C$96,2))","v":""},null,{"$f":"IF(H3286=\"\",\"\",ROUND(H3286/SUM(H3282:H3289),4))","v":""},null,null,null,null,null,null,{"$f":"+IF(O3286=\"\",\"\",IF(N3282=\"Transporte Marítimo\",VLOOKUP(O3286,Tabelas!$F$7:$G$12,2),IF(N3282=\"Transporte Aéreo\",VLOOKUP(O3286,Tabelas!$F$16:$G$21,2),\"\")))","v":""},null,null,null,null,null,null,null,null,null,null,null,null,null,null,null,"",{"$f":"+IF(AF3286=\"\",\"\",VLOOKUP(AF3286,Tabelas!$J$27:$K$30,2))","v":""}]
[null,null,null,null,null,null,{"$f":"+IF(F3287=\"\",\"\",VLOOKUP(F3287,Tabelas!$B$7:$C$96,2))","v":""},null,{"$f":"IF(H3287=\"\",\"\",ROUND(H3287/SUM(H3282:H3289),4))","v":""},null,null,null,null,null,null,{"$f":"+IF(O3287=\"\",\"\",IF(N3282=\"Transporte Marítimo\",VLOOKUP(O3287,Tabelas!$F$7:$G$12,2),IF(N3282=\"Transporte Aéreo\",VLOOKUP(O3287,Tabelas!$F$16:$G$21,2),\"\")))","v":""},null,null,null,null,null,null,null,null,null,null,null,null,null,null,null,"",{"$f":"+IF(AF3287=\"\",\"\",VLOOKUP(AF3287,Tabelas!$J$27:$K$30,2))","v":""}]
[null,null,null,null,null,null,{"$f":"+IF(F3288=\"\",\"\",VLOOKUP(F3288,Tabelas!$B$7:$C$96,2))","v":""},null,{"$f":"IF(H3288=\"\",\"\",ROUND(H3288/SUM(H3282:H3289),4))","v":""},null,null,null,null,null,null,{"$f":"+IF(O3288=\"\",\"\",IF(N3282=\"Transporte Marítimo\",VLOOKUP(O3288,Tabelas!$F$7:$G$12,2),IF(N3282=\"Transporte Aéreo\",VLOOKUP(O3288,Tabelas!$F$16:$G$21,2),\"\")))","v":""},null,null,null,null,null,null,null,null,null,null,null,null,null,null,null,"",{"$f":"+IF(AF3288=\"\",\"\",VLOOKUP(AF3288,Tabelas!$J$27:$K$30,2))","v":""}]
[null,null,null,null,null,null,{"$f":"+IF(F3289=\"\",\"\",VLOOKUP(F3289,Tabelas!$B$7:$C$96,2))","v":""},null,{"$f":"IF(H3289=\"\",\"\",ROUND(H3289/SUM(H3282:H3289),4))","v":""},null,null,null,null,null,null,{"$f":"+IF(O3289=\"\",\"\",IF(N3282=\"Transporte Marítimo\",VLOOKUP(O3289,Tabelas!$F$7:$G$12,2),IF(N3282=\"Transporte Aéreo\",VLOOKUP(O3289,Tabelas!$F$16:$G$21,2),\"\")))","v":""},null,null,null,null,null,null,null,null,null,null,null,null,null,null,null,"",{"$f":"+IF(AF3289=\"\",\"\",VLOOKUP(AF3289,Tabelas!$J$27:$K$30,2))","v":""}]
[null,{"$f":"+B3282+1","v":410},null,null,null,null,{"$f":"+IF(F3290=\"\",\"\",VLOOKUP(F3290,Tabelas!$B$7:$C$96,2))","v":""},null,{"$f":"IF(H3290=\"\",\"\",1-SUM(I3291:I3297))","v":""},null,null,null,null,null,null,{"$f":"+IF(O3290=\"\",\"\",IF(N3290=\"Transporte Marítimo\",VLOOKUP(O3290,Tabelas!$F$7:$G$12,2),IF(N3290=\"Transporte Aéreo\",VLOOKUP(O3290,Tabelas!$F$16:$G$21,2),\"\")))","v":""},null,null,null,null,null,null,null,null,null,null,null,null,null,null,null,"",{"$f":"+IF(AF3290=\"\",\"\",VLOOKUP(AF3290,Tabelas!$J$27:$K$30,2))","v":""},null,null,null,null,null,null,null,null,null,null,null,null,null,null,null," "]
[null,null,null,null,null,null,{"$f":"+IF(F3291=\"\",\"\",VLOOKUP(F3291,Tabelas!$B$7:$C$96,2))","v":""},null,{"$f":"IF(H3291=\"\",\"\",ROUND(H3291/SUM(H3290:H3297),4))","v":""},null,null,null,null,null,null,{"$f":"+IF(O3291=\"\",\"\",IF(N3290=\"Transporte Marítimo\",VLOOKUP(O3291,Tabelas!$F$7:$G$12,2),IF(N3290=\"Transporte Aéreo\",VLOOKUP(O3291,Tabelas!$F$16:$G$21,2),\"\")))","v":""},null,null,null,null,null,null,null,null,null,null,null,null,null,null,null,"",{"$f":"+IF(AF3291=\"\",\"\",VLOOKUP(AF3291,Tabelas!$J$27:$K$30,2))","v":""}]
[null,null,null,null,null,null,{"$f":"+IF(F3292=\"\",\"\",VLOOKUP(F3292,Tabelas!$B$7:$C$96,2))","v":""},null,{"$f":"IF(H3292=\"\",\"\",ROUND(H3292/SUM(H3290:H3297),4))","v":""},null,null,null,null,null,null,{"$f":"+IF(O3292=\"\",\"\",IF(N3290=\"Transporte Marítimo\",VLOOKUP(O3292,Tabelas!$F$7:$G$12,2),IF(N3290=\"Transporte Aéreo\",VLOOKUP(O3292,Tabelas!$F$16:$G$21,2),\"\")))","v":""},null,null,null,null,null,null,null,null,null,null,null,null,null,null,null,"",{"$f":"+IF(AF3292=\"\",\"\",VLOOKUP(AF3292,Tabelas!$J$27:$K$30,2))","v":""}]
[null,null,null,null,null,null,{"$f":"+IF(F3293=\"\",\"\",VLOOKUP(F3293,Tabelas!$B$7:$C$96,2))","v":""},null,{"$f":"IF(H3293=\"\",\"\",ROUND(H3293/SUM(H3290:H3297),4))","v":""},null,null,null,null,null,null,{"$f":"+IF(O3293=\"\",\"\",IF(N3290=\"Transporte Marítimo\",VLOOKUP(O3293,Tabelas!$F$7:$G$12,2),IF(N3290=\"Transporte Aéreo\",VLOOKUP(O3293,Tabelas!$F$16:$G$21,2),\"\")))","v":""},null,null,null,null,null,null,null,null,null,null,null,null,null,null,null,"",{"$f":"+IF(AF3293=\"\",\"\",VLOOKUP(AF3293,Tabelas!$J$27:$K$30,2))","v":""}]
[null,null,null,null,null,null,{"$f":"+IF(F3294=\"\",\"\",VLOOKUP(F3294,Tabelas!$B$7:$C$96,2))","v":""},null,{"$f":"IF(H3294=\"\",\"\",ROUND(H3294/SUM(H3290:H3297),4))","v":""},null,null,null,null,null,null,{"$f":"+IF(O3294=\"\",\"\",IF(N3290=\"Transporte Marítimo\",VLOOKUP(O3294,Tabelas!$F$7:$G$12,2),IF(N3290=\"Transporte Aéreo\",VLOOKUP(O3294,Tabelas!$F$16:$G$21,2),\"\")))","v":""},null,null,null,null,null,null,null,null,null,null,null,null,null,null,null,"",{"$f":"+IF(AF3294=\"\",\"\",VLOOKUP(AF3294,Tabelas!$J$27:$K$30,2))","v":""}]
[null,null,null,null,null,null,{"$f":"+IF(F3295=\"\",\"\",VLOOKUP(F3295,Tabelas!$B$7:$C$96,2))","v":""},null,{"$f":"IF(H3295=\"\",\"\",ROUND(H3295/SUM(H3290:H3297),4))","v":""},null,null,null,null,null,null,{"$f":"+IF(O3295=\"\",\"\",IF(N3290=\"Transporte Marítimo\",VLOOKUP(O3295,Tabelas!$F$7:$G$12,2),IF(N3290=\"Transporte Aéreo\",VLOOKUP(O3295,Tabelas!$F$16:$G$21,2),\"\")))","v":""},null,null,null,null,null,null,null,null,null,null,null,null,null,null,null,"",{"$f":"+IF(AF3295=\"\",\"\",VLOOKUP(AF3295,Tabelas!$J$27:$K$30,2))","v":""}]
[null,null,null,null,null,null,{"$f":"+IF(F3296=\"\",\"\",VLOOKUP(F3296,Tabelas!$B$7:$C$96,2))","v":""},null,{"$f":"IF(H3296=\"\",\"\",ROUND(H3296/SUM(H3290:H3297),4))","v":""},null,null,null,null,null,null,{"$f":"+IF(O3296=\"\",\"\",IF(N3290=\"Transporte Marítimo\",VLOOKUP(O3296,Tabelas!$F$7:$G$12,2),IF(N3290=\"Transporte Aéreo\",VLOOKUP(O3296,Tabelas!$F$16:$G$21,2),\"\")))","v":""},null,null,null,null,null,null,null,null,null,null,null,null,null,null,null,"",{"$f":"+IF(AF3296=\"\",\"\",VLOOKUP(AF3296,Tabelas!$J$27:$K$30,2))","v":""}]
[null,null,null,null,null,null,{"$f":"+IF(F3297=\"\",\"\",VLOOKUP(F3297,Tabelas!$B$7:$C$96,2))","v":""},null,{"$f":"IF(H3297=\"\",\"\",ROUND(H3297/SUM(H3290:H3297),4))","v":""},null,null,null,null,null,null,{"$f":"+IF(O3297=\"\",\"\",IF(N3290=\"Transporte Marítimo\",VLOOKUP(O3297,Tabelas!$F$7:$G$12,2),IF(N3290=\"Transporte Aéreo\",VLOOKUP(O3297,Tabelas!$F$16:$G$21,2),\"\")))","v":""},null,null,null,null,null,null,null,null,null,null,null,null,null,null,null,"",{"$f":"+IF(AF3297=\"\",\"\",VLOOKUP(AF3297,Tabelas!$J$27:$K$30,2))","v":""}]
[null,{"$f":"+B3290+1","v":411},null,null,null,null,{"$f":"+IF(F3298=\"\",\"\",VLOOKUP(F3298,Tabelas!$B$7:$C$96,2))","v":""},null,{"$f":"IF(H3298=\"\",\"\",1-SUM(I3299:I3305))","v":""},null,null,null,null,null,null,{"$f":"+IF(O3298=\"\",\"\",IF(N3298=\"Transporte Marítimo\",VLOOKUP(O3298,Tabelas!$F$7:$G$12,2),IF(N3298=\"Transporte Aéreo\",VLOOKUP(O3298,Tabelas!$F$16:$G$21,2),\"\")))","v":""},null,null,null,null,null,null,null,null,null,null,null,null,null,null,null,"",{"$f":"+IF(AF3298=\"\",\"\",VLOOKUP(AF3298,Tabelas!$J$27:$K$30,2))","v":""},null,null,null,null,null,null,null,null,null,null,null,null,null,null,null," "]
[null,null,null,null,null,null,{"$f":"+IF(F3299=\"\",\"\",VLOOKUP(F3299,Tabelas!$B$7:$C$96,2))","v":""},null,{"$f":"IF(H3299=\"\",\"\",ROUND(H3299/SUM(H3298:H3305),4))","v":""},null,null,null,null,null,null,{"$f":"+IF(O3299=\"\",\"\",IF(N3298=\"Transporte Marítimo\",VLOOKUP(O3299,Tabelas!$F$7:$G$12,2),IF(N3298=\"Transporte Aéreo\",VLOOKUP(O3299,Tabelas!$F$16:$G$21,2),\"\")))","v":""},null,null,null,null,null,null,null,null,null,null,null,null,null,null,null,"",{"$f":"+IF(AF3299=\"\",\"\",VLOOKUP(AF3299,Tabelas!$J$27:$K$30,2))","v":""}]
[null,null,null,null,null,null,{"$f":"+IF(F3300=\"\",\"\",VLOOKUP(F3300,Tabelas!$B$7:$C$96,2))","v":""},null,{"$f":"IF(H3300=\"\",\"\",ROUND(H3300/SUM(H3298:H3305),4))","v":""},null,null,null,null,null,null,{"$f":"+IF(O3300=\"\",\"\",IF(N3298=\"Transporte Marítimo\",VLOOKUP(O3300,Tabelas!$F$7:$G$12,2),IF(N3298=\"Transporte Aéreo\",VLOOKUP(O3300,Tabelas!$F$16:$G$21,2),\"\")))","v":""},null,null,null,null,null,null,null,null,null,null,null,null,null,null,null,"",{"$f":"+IF(AF3300=\"\",\"\",VLOOKUP(AF3300,Tabelas!$J$27:$K$30,2))","v":""}]
[null,null,null,null,null,null,{"$f":"+IF(F3301=\"\",\"\",VLOOKUP(F3301,Tabelas!$B$7:$C$96,2))","v":""},null,{"$f":"IF(H3301=\"\",\"\",ROUND(H3301/SUM(H3298:H3305),4))","v":""},null,null,null,null,null,null,{"$f":"+IF(O3301=\"\",\"\",IF(N3298=\"Transporte Marítimo\",VLOOKUP(O3301,Tabelas!$F$7:$G$12,2),IF(N3298=\"Transporte Aéreo\",VLOOKUP(O3301,Tabelas!$F$16:$G$21,2),\"\")))","v":""},null,null,null,null,null,null,null,null,null,null,null,null,null,null,null,"",{"$f":"+IF(AF3301=\"\",\"\",VLOOKUP(AF3301,Tabelas!$J$27:$K$30,2))","v":""}]
[null,null,null,null,null,null,{"$f":"+IF(F3302=\"\",\"\",VLOOKUP(F3302,Tabelas!$B$7:$C$96,2))","v":""},null,{"$f":"IF(H3302=\"\",\"\",ROUND(H3302/SUM(H3298:H3305),4))","v":""},null,null,null,null,null,null,{"$f":"+IF(O3302=\"\",\"\",IF(N3298=\"Transporte Marítimo\",VLOOKUP(O3302,Tabelas!$F$7:$G$12,2),IF(N3298=\"Transporte Aéreo\",VLOOKUP(O3302,Tabelas!$F$16:$G$21,2),\"\")))","v":""},null,null,null,null,null,null,null,null,null,null,null,null,null,null,null,"",{"$f":"+IF(AF3302=\"\",\"\",VLOOKUP(AF3302,Tabelas!$J$27:$K$30,2))","v":""}]
[null,null,null,null,null,null,{"$f":"+IF(F3303=\"\",\"\",VLOOKUP(F3303,Tabelas!$B$7:$C$96,2))","v":""},null,{"$f":"IF(H3303=\"\",\"\",ROUND(H3303/SUM(H3298:H3305),4))","v":""},null,null,null,null,null,null,{"$f":"+IF(O3303=\"\",\"\",IF(N3298=\"Transporte Marítimo\",VLOOKUP(O3303,Tabelas!$F$7:$G$12,2),IF(N3298=\"Transporte Aéreo\",VLOOKUP(O3303,Tabelas!$F$16:$G$21,2),\"\")))","v":""},null,null,null,null,null,null,null,null,null,null,null,null,null,null,null,"",{"$f":"+IF(AF3303=\"\",\"\",VLOOKUP(AF3303,Tabelas!$J$27:$K$30,2))","v":""}]
[null,null,null,null,null,null,{"$f":"+IF(F3304=\"\",\"\",VLOOKUP(F3304,Tabelas!$B$7:$C$96,2))","v":""},null,{"$f":"IF(H3304=\"\",\"\",ROUND(H3304/SUM(H3298:H3305),4))","v":""},null,null,null,null,null,null,{"$f":"+IF(O3304=\"\",\"\",IF(N3298=\"Transporte Marítimo\",VLOOKUP(O3304,Tabelas!$F$7:$G$12,2),IF(N3298=\"Transporte Aéreo\",VLOOKUP(O3304,Tabelas!$F$16:$G$21,2),\"\")))","v":""},null,null,null,null,null,null,null,null,null,null,null,null,null,null,null,"",{"$f":"+IF(AF3304=\"\",\"\",VLOOKUP(AF3304,Tabelas!$J$27:$K$30,2))","v":""}]
[null,null,null,null,null,null,{"$f":"+IF(F3305=\"\",\"\",VLOOKUP(F3305,Tabelas!$B$7:$C$96,2))","v":""},null,{"$f":"IF(H3305=\"\",\"\",ROUND(H3305/SUM(H3298:H3305),4))","v":""},null,null,null,null,null,null,{"$f":"+IF(O3305=\"\",\"\",IF(N3298=\"Transporte Marítimo\",VLOOKUP(O3305,Tabelas!$F$7:$G$12,2),IF(N3298=\"Transporte Aéreo\",VLOOKUP(O3305,Tabelas!$F$16:$G$21,2),\"\")))","v":""},null,null,null,null,null,null,null,null,null,null,null,null,null,null,null,"",{"$f":"+IF(AF3305=\"\",\"\",VLOOKUP(AF3305,Tabelas!$J$27:$K$30,2))","v":""}]
[null,{"$f":"+B3298+1","v":412},null,null,null,null,{"$f":"+IF(F3306=\"\",\"\",VLOOKUP(F3306,Tabelas!$B$7:$C$96,2))","v":""},null,{"$f":"IF(H3306=\"\",\"\",1-SUM(I3307:I3313))","v":""},null,null,null,null,null,null,{"$f":"+IF(O3306=\"\",\"\",IF(N3306=\"Transporte Marítimo\",VLOOKUP(O3306,Tabelas!$F$7:$G$12,2),IF(N3306=\"Transporte Aéreo\",VLOOKUP(O3306,Tabelas!$F$16:$G$21,2),\"\")))","v":""},null,null,null,null,null,null,null,null,null,null,null,null,null,null,null,"",{"$f":"+IF(AF3306=\"\",\"\",VLOOKUP(AF3306,Tabelas!$J$27:$K$30,2))","v":""},null,null,null,null,null,null,null,null,null,null,null,null,null,null,null," "]
[null,null,null,null,null,null,{"$f":"+IF(F3307=\"\",\"\",VLOOKUP(F3307,Tabelas!$B$7:$C$96,2))","v":""},null,{"$f":"IF(H3307=\"\",\"\",ROUND(H3307/SUM(H3306:H3313),4))","v":""},null,null,null,null,null,null,{"$f":"+IF(O3307=\"\",\"\",IF(N3306=\"Transporte Marítimo\",VLOOKUP(O3307,Tabelas!$F$7:$G$12,2),IF(N3306=\"Transporte Aéreo\",VLOOKUP(O3307,Tabelas!$F$16:$G$21,2),\"\")))","v":""},null,null,null,null,null,null,null,null,null,null,null,null,null,null,null,"",{"$f":"+IF(AF3307=\"\",\"\",VLOOKUP(AF3307,Tabelas!$J$27:$K$30,2))","v":""}]
[null,null,null,null,null,null,{"$f":"+IF(F3308=\"\",\"\",VLOOKUP(F3308,Tabelas!$B$7:$C$96,2))","v":""},null,{"$f":"IF(H3308=\"\",\"\",ROUND(H3308/SUM(H3306:H3313),4))","v":""},null,null,null,null,null,null,{"$f":"+IF(O3308=\"\",\"\",IF(N3306=\"Transporte Marítimo\",VLOOKUP(O3308,Tabelas!$F$7:$G$12,2),IF(N3306=\"Transporte Aéreo\",VLOOKUP(O3308,Tabelas!$F$16:$G$21,2),\"\")))","v":""},null,null,null,null,null,null,null,null,null,null,null,null,null,null,null,"",{"$f":"+IF(AF3308=\"\",\"\",VLOOKUP(AF3308,Tabelas!$J$27:$K$30,2))","v":""}]
[null,null,null,null,null,null,{"$f":"+IF(F3309=\"\",\"\",VLOOKUP(F3309,Tabelas!$B$7:$C$96,2))","v":""},null,{"$f":"IF(H3309=\"\",\"\",ROUND(H3309/SUM(H3306:H3313),4))","v":""},null,null,null,null,null,null,{"$f":"+IF(O3309=\"\",\"\",IF(N3306=\"Transporte Marítimo\",VLOOKUP(O3309,Tabelas!$F$7:$G$12,2),IF(N3306=\"Transporte Aéreo\",VLOOKUP(O3309,Tabelas!$F$16:$G$21,2),\"\")))","v":""},null,null,null,null,null,null,null,null,null,null,null,null,null,null,null,"",{"$f":"+IF(AF3309=\"\",\"\",VLOOKUP(AF3309,Tabelas!$J$27:$K$30,2))","v":""}]
[null,null,null,null,null,null,{"$f":"+IF(F3310=\"\",\"\",VLOOKUP(F3310,Tabelas!$B$7:$C$96,2))","v":""},null,{"$f":"IF(H3310=\"\",\"\",ROUND(H3310/SUM(H3306:H3313),4))","v":""},null,null,null,null,null,null,{"$f":"+IF(O3310=\"\",\"\",IF(N3306=\"Transporte Marítimo\",VLOOKUP(O3310,Tabelas!$F$7:$G$12,2),IF(N3306=\"Transporte Aéreo\",VLOOKUP(O3310,Tabelas!$F$16:$G$21,2),\"\")))","v":""},null,null,null,null,null,null,null,null,null,null,null,null,null,null,null,"",{"$f":"+IF(AF3310=\"\",\"\",VLOOKUP(AF3310,Tabelas!$J$27:$K$30,2))","v":""}]
[null,null,null,null,null,null,{"$f":"+IF(F3311=\"\",\"\",VLOOKUP(F3311,Tabelas!$B$7:$C$96,2))","v":""},null,{"$f":"IF(H3311=\"\",\"\",ROUND(H3311/SUM(H3306:H3313),4))","v":""},null,null,null,null,null,null,{"$f":"+IF(O3311=\"\",\"\",IF(N3306=\"Transporte Marítimo\",VLOOKUP(O3311,Tabelas!$F$7:$G$12,2),IF(N3306=\"Transporte Aéreo\",VLOOKUP(O3311,Tabelas!$F$16:$G$21,2),\"\")))","v":""},null,null,null,null,null,null,null,null,null,null,null,null,null,null,null,"",{"$f":"+IF(AF3311=\"\",\"\",VLOOKUP(AF3311,Tabelas!$J$27:$K$30,2))","v":""}]
[null,null,null,null,null,null,{"$f":"+IF(F3312=\"\",\"\",VLOOKUP(F3312,Tabelas!$B$7:$C$96,2))","v":""},null,{"$f":"IF(H3312=\"\",\"\",ROUND(H3312/SUM(H3306:H3313),4))","v":""},null,null,null,null,null,null,{"$f":"+IF(O3312=\"\",\"\",IF(N3306=\"Transporte Marítimo\",VLOOKUP(O3312,Tabelas!$F$7:$G$12,2),IF(N3306=\"Transporte Aéreo\",VLOOKUP(O3312,Tabelas!$F$16:$G$21,2),\"\")))","v":""},null,null,null,null,null,null,null,null,null,null,null,null,null,null,null,"",{"$f":"+IF(AF3312=\"\",\"\",VLOOKUP(AF3312,Tabelas!$J$27:$K$30,2))","v":""}]
[null,null,null,null,null,null,{"$f":"+IF(F3313=\"\",\"\",VLOOKUP(F3313,Tabelas!$B$7:$C$96,2))","v":""},null,{"$f":"IF(H3313=\"\",\"\",ROUND(H3313/SUM(H3306:H3313),4))","v":""},null,null,null,null,null,null,{"$f":"+IF(O3313=\"\",\"\",IF(N3306=\"Transporte Marítimo\",VLOOKUP(O3313,Tabelas!$F$7:$G$12,2),IF(N3306=\"Transporte Aéreo\",VLOOKUP(O3313,Tabelas!$F$16:$G$21,2),\"\")))","v":""},null,null,null,null,null,null,null,null,null,null,null,null,null,null,null,"",{"$f":"+IF(AF3313=\"\",\"\",VLOOKUP(AF3313,Tabelas!$J$27:$K$30,2))","v":""}]
[null,{"$f":"+B3306+1","v":413},null,null,null,null,{"$f":"+IF(F3314=\"\",\"\",VLOOKUP(F3314,Tabelas!$B$7:$C$96,2))","v":""},null,{"$f":"IF(H3314=\"\",\"\",1-SUM(I3315:I3321))","v":""},null,null,null,null,null,null,{"$f":"+IF(O3314=\"\",\"\",IF(N3314=\"Transporte Marítimo\",VLOOKUP(O3314,Tabelas!$F$7:$G$12,2),IF(N3314=\"Transporte Aéreo\",VLOOKUP(O3314,Tabelas!$F$16:$G$21,2),\"\")))","v":""},null,null,null,null,null,null,null,null,null,null,null,null,null,null,null,"",{"$f":"+IF(AF3314=\"\",\"\",VLOOKUP(AF3314,Tabelas!$J$27:$K$30,2))","v":""},null,null,null,null,null,null,null,null,null,null,null,null,null,null,null," "]
[null,null,null,null,null,null,{"$f":"+IF(F3315=\"\",\"\",VLOOKUP(F3315,Tabelas!$B$7:$C$96,2))","v":""},null,{"$f":"IF(H3315=\"\",\"\",ROUND(H3315/SUM(H3314:H3321),4))","v":""},null,null,null,null,null,null,{"$f":"+IF(O3315=\"\",\"\",IF(N3314=\"Transporte Marítimo\",VLOOKUP(O3315,Tabelas!$F$7:$G$12,2),IF(N3314=\"Transporte Aéreo\",VLOOKUP(O3315,Tabelas!$F$16:$G$21,2),\"\")))","v":""},null,null,null,null,null,null,null,null,null,null,null,null,null,null,null,"",{"$f":"+IF(AF3315=\"\",\"\",VLOOKUP(AF3315,Tabelas!$J$27:$K$30,2))","v":""}]
[null,null,null,null,null,null,{"$f":"+IF(F3316=\"\",\"\",VLOOKUP(F3316,Tabelas!$B$7:$C$96,2))","v":""},null,{"$f":"IF(H3316=\"\",\"\",ROUND(H3316/SUM(H3314:H3321),4))","v":""},null,null,null,null,null,null,{"$f":"+IF(O3316=\"\",\"\",IF(N3314=\"Transporte Marítimo\",VLOOKUP(O3316,Tabelas!$F$7:$G$12,2),IF(N3314=\"Transporte Aéreo\",VLOOKUP(O3316,Tabelas!$F$16:$G$21,2),\"\")))","v":""},null,null,null,null,null,null,null,null,null,null,null,null,null,null,null,"",{"$f":"+IF(AF3316=\"\",\"\",VLOOKUP(AF3316,Tabelas!$J$27:$K$30,2))","v":""}]
[null,null,null,null,null,null,{"$f":"+IF(F3317=\"\",\"\",VLOOKUP(F3317,Tabelas!$B$7:$C$96,2))","v":""},null,{"$f":"IF(H3317=\"\",\"\",ROUND(H3317/SUM(H3314:H3321),4))","v":""},null,null,null,null,null,null,{"$f":"+IF(O3317=\"\",\"\",IF(N3314=\"Transporte Marítimo\",VLOOKUP(O3317,Tabelas!$F$7:$G$12,2),IF(N3314=\"Transporte Aéreo\",VLOOKUP(O3317,Tabelas!$F$16:$G$21,2),\"\")))","v":""},null,null,null,null,null,null,null,null,null,null,null,null,null,null,null,"",{"$f":"+IF(AF3317=\"\",\"\",VLOOKUP(AF3317,Tabelas!$J$27:$K$30,2))","v":""}]
[null,null,null,null,null,null,{"$f":"+IF(F3318=\"\",\"\",VLOOKUP(F3318,Tabelas!$B$7:$C$96,2))","v":""},null,{"$f":"IF(H3318=\"\",\"\",ROUND(H3318/SUM(H3314:H3321),4))","v":""},null,null,null,null,null,null,{"$f":"+IF(O3318=\"\",\"\",IF(N3314=\"Transporte Marítimo\",VLOOKUP(O3318,Tabelas!$F$7:$G$12,2),IF(N3314=\"Transporte Aéreo\",VLOOKUP(O3318,Tabelas!$F$16:$G$21,2),\"\")))","v":""},null,null,null,null,null,null,null,null,null,null,null,null,null,null,null,"",{"$f":"+IF(AF3318=\"\",\"\",VLOOKUP(AF3318,Tabelas!$J$27:$K$30,2))","v":""}]
[null,null,null,null,null,null,{"$f":"+IF(F3319=\"\",\"\",VLOOKUP(F3319,Tabelas!$B$7:$C$96,2))","v":""},null,{"$f":"IF(H3319=\"\",\"\",ROUND(H3319/SUM(H3314:H3321),4))","v":""},null,null,null,null,null,null,{"$f":"+IF(O3319=\"\",\"\",IF(N3314=\"Transporte Marítimo\",VLOOKUP(O3319,Tabelas!$F$7:$G$12,2),IF(N3314=\"Transporte Aéreo\",VLOOKUP(O3319,Tabelas!$F$16:$G$21,2),\"\")))","v":""},null,null,null,null,null,null,null,null,null,null,null,null,null,null,null,"",{"$f":"+IF(AF3319=\"\",\"\",VLOOKUP(AF3319,Tabelas!$J$27:$K$30,2))","v":""}]
[null,null,null,null,null,null,{"$f":"+IF(F3320=\"\",\"\",VLOOKUP(F3320,Tabelas!$B$7:$C$96,2))","v":""},null,{"$f":"IF(H3320=\"\",\"\",ROUND(H3320/SUM(H3314:H3321),4))","v":""},null,null,null,null,null,null,{"$f":"+IF(O3320=\"\",\"\",IF(N3314=\"Transporte Marítimo\",VLOOKUP(O3320,Tabelas!$F$7:$G$12,2),IF(N3314=\"Transporte Aéreo\",VLOOKUP(O3320,Tabelas!$F$16:$G$21,2),\"\")))","v":""},null,null,null,null,null,null,null,null,null,null,null,null,null,null,null,"",{"$f":"+IF(AF3320=\"\",\"\",VLOOKUP(AF3320,Tabelas!$J$27:$K$30,2))","v":""}]
[null,null,null,null,null,null,{"$f":"+IF(F3321=\"\",\"\",VLOOKUP(F3321,Tabelas!$B$7:$C$96,2))","v":""},null,{"$f":"IF(H3321=\"\",\"\",ROUND(H3321/SUM(H3314:H3321),4))","v":""},null,null,null,null,null,null,{"$f":"+IF(O3321=\"\",\"\",IF(N3314=\"Transporte Marítimo\",VLOOKUP(O3321,Tabelas!$F$7:$G$12,2),IF(N3314=\"Transporte Aéreo\",VLOOKUP(O3321,Tabelas!$F$16:$G$21,2),\"\")))","v":""},null,null,null,null,null,null,null,null,null,null,null,null,null,null,null,"",{"$f":"+IF(AF3321=\"\",\"\",VLOOKUP(AF3321,Tabelas!$J$27:$K$30,2))","v":""}]
[null,{"$f":"+B3314+1","v":414},null,null,null,null,{"$f":"+IF(F3322=\"\",\"\",VLOOKUP(F3322,Tabelas!$B$7:$C$96,2))","v":""},null,{"$f":"IF(H3322=\"\",\"\",1-SUM(I3323:I3329))","v":""},null,null,null,null,null,null,{"$f":"+IF(O3322=\"\",\"\",IF(N3322=\"Transporte Marítimo\",VLOOKUP(O3322,Tabelas!$F$7:$G$12,2),IF(N3322=\"Transporte Aéreo\",VLOOKUP(O3322,Tabelas!$F$16:$G$21,2),\"\")))","v":""},null,null,null,null,null,null,null,null,null,null,null,null,null,null,null,"",{"$f":"+IF(AF3322=\"\",\"\",VLOOKUP(AF3322,Tabelas!$J$27:$K$30,2))","v":""},null,null,null,null,null,null,null,null,null,null,null,null,null,null,null," "]
[null,null,null,null,null,null,{"$f":"+IF(F3323=\"\",\"\",VLOOKUP(F3323,Tabelas!$B$7:$C$96,2))","v":""},null,{"$f":"IF(H3323=\"\",\"\",ROUND(H3323/SUM(H3322:H3329),4))","v":""},null,null,null,null,null,null,{"$f":"+IF(O3323=\"\",\"\",IF(N3322=\"Transporte Marítimo\",VLOOKUP(O3323,Tabelas!$F$7:$G$12,2),IF(N3322=\"Transporte Aéreo\",VLOOKUP(O3323,Tabelas!$F$16:$G$21,2),\"\")))","v":""},null,null,null,null,null,null,null,null,null,null,null,null,null,null,null,"",{"$f":"+IF(AF3323=\"\",\"\",VLOOKUP(AF3323,Tabelas!$J$27:$K$30,2))","v":""}]
[null,null,null,null,null,null,{"$f":"+IF(F3324=\"\",\"\",VLOOKUP(F3324,Tabelas!$B$7:$C$96,2))","v":""},null,{"$f":"IF(H3324=\"\",\"\",ROUND(H3324/SUM(H3322:H3329),4))","v":""},null,null,null,null,null,null,{"$f":"+IF(O3324=\"\",\"\",IF(N3322=\"Transporte Marítimo\",VLOOKUP(O3324,Tabelas!$F$7:$G$12,2),IF(N3322=\"Transporte Aéreo\",VLOOKUP(O3324,Tabelas!$F$16:$G$21,2),\"\")))","v":""},null,null,null,null,null,null,null,null,null,null,null,null,null,null,null,"",{"$f":"+IF(AF3324=\"\",\"\",VLOOKUP(AF3324,Tabelas!$J$27:$K$30,2))","v":""}]
[null,null,null,null,null,null,{"$f":"+IF(F3325=\"\",\"\",VLOOKUP(F3325,Tabelas!$B$7:$C$96,2))","v":""},null,{"$f":"IF(H3325=\"\",\"\",ROUND(H3325/SUM(H3322:H3329),4))","v":""},null,null,null,null,null,null,{"$f":"+IF(O3325=\"\",\"\",IF(N3322=\"Transporte Marítimo\",VLOOKUP(O3325,Tabelas!$F$7:$G$12,2),IF(N3322=\"Transporte Aéreo\",VLOOKUP(O3325,Tabelas!$F$16:$G$21,2),\"\")))","v":""},null,null,null,null,null,null,null,null,null,null,null,null,null,null,null,"",{"$f":"+IF(AF3325=\"\",\"\",VLOOKUP(AF3325,Tabelas!$J$27:$K$30,2))","v":""}]
[null,null,null,null,null,null,{"$f":"+IF(F3326=\"\",\"\",VLOOKUP(F3326,Tabelas!$B$7:$C$96,2))","v":""},null,{"$f":"IF(H3326=\"\",\"\",ROUND(H3326/SUM(H3322:H3329),4))","v":""},null,null,null,null,null,null,{"$f":"+IF(O3326=\"\",\"\",IF(N3322=\"Transporte Marítimo\",VLOOKUP(O3326,Tabelas!$F$7:$G$12,2),IF(N3322=\"Transporte Aéreo\",VLOOKUP(O3326,Tabelas!$F$16:$G$21,2),\"\")))","v":""},null,null,null,null,null,null,null,null,null,null,null,null,null,null,null,"",{"$f":"+IF(AF3326=\"\",\"\",VLOOKUP(AF3326,Tabelas!$J$27:$K$30,2))","v":""}]
[null,null,null,null,null,null,{"$f":"+IF(F3327=\"\",\"\",VLOOKUP(F3327,Tabelas!$B$7:$C$96,2))","v":""},null,{"$f":"IF(H3327=\"\",\"\",ROUND(H3327/SUM(H3322:H3329),4))","v":""},null,null,null,null,null,null,{"$f":"+IF(O3327=\"\",\"\",IF(N3322=\"Transporte Marítimo\",VLOOKUP(O3327,Tabelas!$F$7:$G$12,2),IF(N3322=\"Transporte Aéreo\",VLOOKUP(O3327,Tabelas!$F$16:$G$21,2),\"\")))","v":""},null,null,null,null,null,null,null,null,null,null,null,null,null,null,null,"",{"$f":"+IF(AF3327=\"\",\"\",VLOOKUP(AF3327,Tabelas!$J$27:$K$30,2))","v":""}]
[null,null,null,null,null,null,{"$f":"+IF(F3328=\"\",\"\",VLOOKUP(F3328,Tabelas!$B$7:$C$96,2))","v":""},null,{"$f":"IF(H3328=\"\",\"\",ROUND(H3328/SUM(H3322:H3329),4))","v":""},null,null,null,null,null,null,{"$f":"+IF(O3328=\"\",\"\",IF(N3322=\"Transporte Marítimo\",VLOOKUP(O3328,Tabelas!$F$7:$G$12,2),IF(N3322=\"Transporte Aéreo\",VLOOKUP(O3328,Tabelas!$F$16:$G$21,2),\"\")))","v":""},null,null,null,null,null,null,null,null,null,null,null,null,null,null,null,"",{"$f":"+IF(AF3328=\"\",\"\",VLOOKUP(AF3328,Tabelas!$J$27:$K$30,2))","v":""}]
[null,null,null,null,null,null,{"$f":"+IF(F3329=\"\",\"\",VLOOKUP(F3329,Tabelas!$B$7:$C$96,2))","v":""},null,{"$f":"IF(H3329=\"\",\"\",ROUND(H3329/SUM(H3322:H3329),4))","v":""},null,null,null,null,null,null,{"$f":"+IF(O3329=\"\",\"\",IF(N3322=\"Transporte Marítimo\",VLOOKUP(O3329,Tabelas!$F$7:$G$12,2),IF(N3322=\"Transporte Aéreo\",VLOOKUP(O3329,Tabelas!$F$16:$G$21,2),\"\")))","v":""},null,null,null,null,null,null,null,null,null,null,null,null,null,null,null,"",{"$f":"+IF(AF3329=\"\",\"\",VLOOKUP(AF3329,Tabelas!$J$27:$K$30,2))","v":""}]
[null,{"$f":"+B3322+1","v":415},null,null,null,null,{"$f":"+IF(F3330=\"\",\"\",VLOOKUP(F3330,Tabelas!$B$7:$C$96,2))","v":""},null,{"$f":"IF(H3330=\"\",\"\",1-SUM(I3331:I3337))","v":""},null,null,null,null,null,null,{"$f":"+IF(O3330=\"\",\"\",IF(N3330=\"Transporte Marítimo\",VLOOKUP(O3330,Tabelas!$F$7:$G$12,2),IF(N3330=\"Transporte Aéreo\",VLOOKUP(O3330,Tabelas!$F$16:$G$21,2),\"\")))","v":""},null,null,null,null,null,null,null,null,null,null,null,null,null,null,null,"",{"$f":"+IF(AF3330=\"\",\"\",VLOOKUP(AF3330,Tabelas!$J$27:$K$30,2))","v":""},null,null,null,null,null,null,null,null,null,null,null,null,null,null,null," "]
[null,null,null,null,null,null,{"$f":"+IF(F3331=\"\",\"\",VLOOKUP(F3331,Tabelas!$B$7:$C$96,2))","v":""},null,{"$f":"IF(H3331=\"\",\"\",ROUND(H3331/SUM(H3330:H3337),4))","v":""},null,null,null,null,null,null,{"$f":"+IF(O3331=\"\",\"\",IF(N3330=\"Transporte Marítimo\",VLOOKUP(O3331,Tabelas!$F$7:$G$12,2),IF(N3330=\"Transporte Aéreo\",VLOOKUP(O3331,Tabelas!$F$16:$G$21,2),\"\")))","v":""},null,null,null,null,null,null,null,null,null,null,null,null,null,null,null,"",{"$f":"+IF(AF3331=\"\",\"\",VLOOKUP(AF3331,Tabelas!$J$27:$K$30,2))","v":""}]
[null,null,null,null,null,null,{"$f":"+IF(F3332=\"\",\"\",VLOOKUP(F3332,Tabelas!$B$7:$C$96,2))","v":""},null,{"$f":"IF(H3332=\"\",\"\",ROUND(H3332/SUM(H3330:H3337),4))","v":""},null,null,null,null,null,null,{"$f":"+IF(O3332=\"\",\"\",IF(N3330=\"Transporte Marítimo\",VLOOKUP(O3332,Tabelas!$F$7:$G$12,2),IF(N3330=\"Transporte Aéreo\",VLOOKUP(O3332,Tabelas!$F$16:$G$21,2),\"\")))","v":""},null,null,null,null,null,null,null,null,null,null,null,null,null,null,null,"",{"$f":"+IF(AF3332=\"\",\"\",VLOOKUP(AF3332,Tabelas!$J$27:$K$30,2))","v":""}]
[null,null,null,null,null,null,{"$f":"+IF(F3333=\"\",\"\",VLOOKUP(F3333,Tabelas!$B$7:$C$96,2))","v":""},null,{"$f":"IF(H3333=\"\",\"\",ROUND(H3333/SUM(H3330:H3337),4))","v":""},null,null,null,null,null,null,{"$f":"+IF(O3333=\"\",\"\",IF(N3330=\"Transporte Marítimo\",VLOOKUP(O3333,Tabelas!$F$7:$G$12,2),IF(N3330=\"Transporte Aéreo\",VLOOKUP(O3333,Tabelas!$F$16:$G$21,2),\"\")))","v":""},null,null,null,null,null,null,null,null,null,null,null,null,null,null,null,"",{"$f":"+IF(AF3333=\"\",\"\",VLOOKUP(AF3333,Tabelas!$J$27:$K$30,2))","v":""}]
[null,null,null,null,null,null,{"$f":"+IF(F3334=\"\",\"\",VLOOKUP(F3334,Tabelas!$B$7:$C$96,2))","v":""},null,{"$f":"IF(H3334=\"\",\"\",ROUND(H3334/SUM(H3330:H3337),4))","v":""},null,null,null,null,null,null,{"$f":"+IF(O3334=\"\",\"\",IF(N3330=\"Transporte Marítimo\",VLOOKUP(O3334,Tabelas!$F$7:$G$12,2),IF(N3330=\"Transporte Aéreo\",VLOOKUP(O3334,Tabelas!$F$16:$G$21,2),\"\")))","v":""},null,null,null,null,null,null,null,null,null,null,null,null,null,null,null,"",{"$f":"+IF(AF3334=\"\",\"\",VLOOKUP(AF3334,Tabelas!$J$27:$K$30,2))","v":""}]
[null,null,null,null,null,null,{"$f":"+IF(F3335=\"\",\"\",VLOOKUP(F3335,Tabelas!$B$7:$C$96,2))","v":""},null,{"$f":"IF(H3335=\"\",\"\",ROUND(H3335/SUM(H3330:H3337),4))","v":""},null,null,null,null,null,null,{"$f":"+IF(O3335=\"\",\"\",IF(N3330=\"Transporte Marítimo\",VLOOKUP(O3335,Tabelas!$F$7:$G$12,2),IF(N3330=\"Transporte Aéreo\",VLOOKUP(O3335,Tabelas!$F$16:$G$21,2),\"\")))","v":""},null,null,null,null,null,null,null,null,null,null,null,null,null,null,null,"",{"$f":"+IF(AF3335=\"\",\"\",VLOOKUP(AF3335,Tabelas!$J$27:$K$30,2))","v":""}]
[null,null,null,null,null,null,{"$f":"+IF(F3336=\"\",\"\",VLOOKUP(F3336,Tabelas!$B$7:$C$96,2))","v":""},null,{"$f":"IF(H3336=\"\",\"\",ROUND(H3336/SUM(H3330:H3337),4))","v":""},null,null,null,null,null,null,{"$f":"+IF(O3336=\"\",\"\",IF(N3330=\"Transporte Marítimo\",VLOOKUP(O3336,Tabelas!$F$7:$G$12,2),IF(N3330=\"Transporte Aéreo\",VLOOKUP(O3336,Tabelas!$F$16:$G$21,2),\"\")))","v":""},null,null,null,null,null,null,null,null,null,null,null,null,null,null,null,"",{"$f":"+IF(AF3336=\"\",\"\",VLOOKUP(AF3336,Tabelas!$J$27:$K$30,2))","v":""}]
[null,null,null,null,null,null,{"$f":"+IF(F3337=\"\",\"\",VLOOKUP(F3337,Tabelas!$B$7:$C$96,2))","v":""},null,{"$f":"IF(H3337=\"\",\"\",ROUND(H3337/SUM(H3330:H3337),4))","v":""},null,null,null,null,null,null,{"$f":"+IF(O3337=\"\",\"\",IF(N3330=\"Transporte Marítimo\",VLOOKUP(O3337,Tabelas!$F$7:$G$12,2),IF(N3330=\"Transporte Aéreo\",VLOOKUP(O3337,Tabelas!$F$16:$G$21,2),\"\")))","v":""},null,null,null,null,null,null,null,null,null,null,null,null,null,null,null,"",{"$f":"+IF(AF3337=\"\",\"\",VLOOKUP(AF3337,Tabelas!$J$27:$K$30,2))","v":""}]
[null,{"$f":"+B3330+1","v":416},null,null,null,null,{"$f":"+IF(F3338=\"\",\"\",VLOOKUP(F3338,Tabelas!$B$7:$C$96,2))","v":""},null,{"$f":"IF(H3338=\"\",\"\",1-SUM(I3339:I3345))","v":""},null,null,null,null,null,null,{"$f":"+IF(O3338=\"\",\"\",IF(N3338=\"Transporte Marítimo\",VLOOKUP(O3338,Tabelas!$F$7:$G$12,2),IF(N3338=\"Transporte Aéreo\",VLOOKUP(O3338,Tabelas!$F$16:$G$21,2),\"\")))","v":""},null,null,null,null,null,null,null,null,null,null,null,null,null,null,null,"",{"$f":"+IF(AF3338=\"\",\"\",VLOOKUP(AF3338,Tabelas!$J$27:$K$30,2))","v":""},null,null,null,null,null,null,null,null,null,null,null,null,null,null,null," "]
[null,null,null,null,null,null,{"$f":"+IF(F3339=\"\",\"\",VLOOKUP(F3339,Tabelas!$B$7:$C$96,2))","v":""},null,{"$f":"IF(H3339=\"\",\"\",ROUND(H3339/SUM(H3338:H3345),4))","v":""},null,null,null,null,null,null,{"$f":"+IF(O3339=\"\",\"\",IF(N3338=\"Transporte Marítimo\",VLOOKUP(O3339,Tabelas!$F$7:$G$12,2),IF(N3338=\"Transporte Aéreo\",VLOOKUP(O3339,Tabelas!$F$16:$G$21,2),\"\")))","v":""},null,null,null,null,null,null,null,null,null,null,null,null,null,null,null,"",{"$f":"+IF(AF3339=\"\",\"\",VLOOKUP(AF3339,Tabelas!$J$27:$K$30,2))","v":""}]
[null,null,null,null,null,null,{"$f":"+IF(F3340=\"\",\"\",VLOOKUP(F3340,Tabelas!$B$7:$C$96,2))","v":""},null,{"$f":"IF(H3340=\"\",\"\",ROUND(H3340/SUM(H3338:H3345),4))","v":""},null,null,null,null,null,null,{"$f":"+IF(O3340=\"\",\"\",IF(N3338=\"Transporte Marítimo\",VLOOKUP(O3340,Tabelas!$F$7:$G$12,2),IF(N3338=\"Transporte Aéreo\",VLOOKUP(O3340,Tabelas!$F$16:$G$21,2),\"\")))","v":""},null,null,null,null,null,null,null,null,null,null,null,null,null,null,null,"",{"$f":"+IF(AF3340=\"\",\"\",VLOOKUP(AF3340,Tabelas!$J$27:$K$30,2))","v":""}]
[null,null,null,null,null,null,{"$f":"+IF(F3341=\"\",\"\",VLOOKUP(F3341,Tabelas!$B$7:$C$96,2))","v":""},null,{"$f":"IF(H3341=\"\",\"\",ROUND(H3341/SUM(H3338:H3345),4))","v":""},null,null,null,null,null,null,{"$f":"+IF(O3341=\"\",\"\",IF(N3338=\"Transporte Marítimo\",VLOOKUP(O3341,Tabelas!$F$7:$G$12,2),IF(N3338=\"Transporte Aéreo\",VLOOKUP(O3341,Tabelas!$F$16:$G$21,2),\"\")))","v":""},null,null,null,null,null,null,null,null,null,null,null,null,null,null,null,"",{"$f":"+IF(AF3341=\"\",\"\",VLOOKUP(AF3341,Tabelas!$J$27:$K$30,2))","v":""}]
[null,null,null,null,null,null,{"$f":"+IF(F3342=\"\",\"\",VLOOKUP(F3342,Tabelas!$B$7:$C$96,2))","v":""},null,{"$f":"IF(H3342=\"\",\"\",ROUND(H3342/SUM(H3338:H3345),4))","v":""},null,null,null,null,null,null,{"$f":"+IF(O3342=\"\",\"\",IF(N3338=\"Transporte Marítimo\",VLOOKUP(O3342,Tabelas!$F$7:$G$12,2),IF(N3338=\"Transporte Aéreo\",VLOOKUP(O3342,Tabelas!$F$16:$G$21,2),\"\")))","v":""},null,null,null,null,null,null,null,null,null,null,null,null,null,null,null,"",{"$f":"+IF(AF3342=\"\",\"\",VLOOKUP(AF3342,Tabelas!$J$27:$K$30,2))","v":""}]
[null,null,null,null,null,null,{"$f":"+IF(F3343=\"\",\"\",VLOOKUP(F3343,Tabelas!$B$7:$C$96,2))","v":""},null,{"$f":"IF(H3343=\"\",\"\",ROUND(H3343/SUM(H3338:H3345),4))","v":""},null,null,null,null,null,null,{"$f":"+IF(O3343=\"\",\"\",IF(N3338=\"Transporte Marítimo\",VLOOKUP(O3343,Tabelas!$F$7:$G$12,2),IF(N3338=\"Transporte Aéreo\",VLOOKUP(O3343,Tabelas!$F$16:$G$21,2),\"\")))","v":""},null,null,null,null,null,null,null,null,null,null,null,null,null,null,null,"",{"$f":"+IF(AF3343=\"\",\"\",VLOOKUP(AF3343,Tabelas!$J$27:$K$30,2))","v":""}]
[null,null,null,null,null,null,{"$f":"+IF(F3344=\"\",\"\",VLOOKUP(F3344,Tabelas!$B$7:$C$96,2))","v":""},null,{"$f":"IF(H3344=\"\",\"\",ROUND(H3344/SUM(H3338:H3345),4))","v":""},null,null,null,null,null,null,{"$f":"+IF(O3344=\"\",\"\",IF(N3338=\"Transporte Marítimo\",VLOOKUP(O3344,Tabelas!$F$7:$G$12,2),IF(N3338=\"Transporte Aéreo\",VLOOKUP(O3344,Tabelas!$F$16:$G$21,2),\"\")))","v":""},null,null,null,null,null,null,null,null,null,null,null,null,null,null,null,"",{"$f":"+IF(AF3344=\"\",\"\",VLOOKUP(AF3344,Tabelas!$J$27:$K$30,2))","v":""}]
[null,null,null,null,null,null,{"$f":"+IF(F3345=\"\",\"\",VLOOKUP(F3345,Tabelas!$B$7:$C$96,2))","v":""},null,{"$f":"IF(H3345=\"\",\"\",ROUND(H3345/SUM(H3338:H3345),4))","v":""},null,null,null,null,null,null,{"$f":"+IF(O3345=\"\",\"\",IF(N3338=\"Transporte Marítimo\",VLOOKUP(O3345,Tabelas!$F$7:$G$12,2),IF(N3338=\"Transporte Aéreo\",VLOOKUP(O3345,Tabelas!$F$16:$G$21,2),\"\")))","v":""},null,null,null,null,null,null,null,null,null,null,null,null,null,null,null,"",{"$f":"+IF(AF3345=\"\",\"\",VLOOKUP(AF3345,Tabelas!$J$27:$K$30,2))","v":""}]
[null,{"$f":"+B3338+1","v":417},null,null,null,null,{"$f":"+IF(F3346=\"\",\"\",VLOOKUP(F3346,Tabelas!$B$7:$C$96,2))","v":""},null,{"$f":"IF(H3346=\"\",\"\",1-SUM(I3347:I3353))","v":""},null,null,null,null,null,null,{"$f":"+IF(O3346=\"\",\"\",IF(N3346=\"Transporte Marítimo\",VLOOKUP(O3346,Tabelas!$F$7:$G$12,2),IF(N3346=\"Transporte Aéreo\",VLOOKUP(O3346,Tabelas!$F$16:$G$21,2),\"\")))","v":""},null,null,null,null,null,null,null,null,null,null,null,null,null,null,null,"",{"$f":"+IF(AF3346=\"\",\"\",VLOOKUP(AF3346,Tabelas!$J$27:$K$30,2))","v":""},null,null,null,null,null,null,null,null,null,null,null,null,null,null,null," "]
[null,null,null,null,null,null,{"$f":"+IF(F3347=\"\",\"\",VLOOKUP(F3347,Tabelas!$B$7:$C$96,2))","v":""},null,{"$f":"IF(H3347=\"\",\"\",ROUND(H3347/SUM(H3346:H3353),4))","v":""},null,null,null,null,null,null,{"$f":"+IF(O3347=\"\",\"\",IF(N3346=\"Transporte Marítimo\",VLOOKUP(O3347,Tabelas!$F$7:$G$12,2),IF(N3346=\"Transporte Aéreo\",VLOOKUP(O3347,Tabelas!$F$16:$G$21,2),\"\")))","v":""},null,null,null,null,null,null,null,null,null,null,null,null,null,null,null,{"$f":"+IF(AE3347=\"20NL\",1,IF(AE3347=\"40NL\",2,IF(AE3347=\"20RF\",3,IF(AE3347=\"40RF\",4,\"\"))))","v":""},{"$f":"+IF(AF3347=\"\",\"\",VLOOKUP(AF3347,Tabelas!$J$27:$K$30,2))","v":""}]
[null,null,null,null,null,null,{"$f":"+IF(F3348=\"\",\"\",VLOOKUP(F3348,Tabelas!$B$7:$C$96,2))","v":""},null,{"$f":"IF(H3348=\"\",\"\",ROUND(H3348/SUM(H3346:H3353),4))","v":""},null,null,null,null,null,null,{"$f":"+IF(O3348=\"\",\"\",IF(N3346=\"Transporte Marítimo\",VLOOKUP(O3348,Tabelas!$F$7:$G$12,2),IF(N3346=\"Transporte Aéreo\",VLOOKUP(O3348,Tabelas!$F$16:$G$21,2),\"\")))","v":""},null,null,null,null,null,null,null,null,null,null,null,null,null,null,null,"",{"$f":"+IF(AF3348=\"\",\"\",VLOOKUP(AF3348,Tabelas!$J$27:$K$30,2))","v":""}]
[null,null,null,null,null,null,{"$f":"+IF(F3349=\"\",\"\",VLOOKUP(F3349,Tabelas!$B$7:$C$96,2))","v":""},null,{"$f":"IF(H3349=\"\",\"\",ROUND(H3349/SUM(H3346:H3353),4))","v":""},null,null,null,null,null,null,{"$f":"+IF(O3349=\"\",\"\",IF(N3346=\"Transporte Marítimo\",VLOOKUP(O3349,Tabelas!$F$7:$G$12,2),IF(N3346=\"Transporte Aéreo\",VLOOKUP(O3349,Tabelas!$F$16:$G$21,2),\"\")))","v":""},null,null,null,null,null,null,null,null,null,null,null,null,null,null,null,"",{"$f":"+IF(AF3349=\"\",\"\",VLOOKUP(AF3349,Tabelas!$J$27:$K$30,2))","v":""}]
[null,null,null,null,null,null,{"$f":"+IF(F3350=\"\",\"\",VLOOKUP(F3350,Tabelas!$B$7:$C$96,2))","v":""},null,{"$f":"IF(H3350=\"\",\"\",ROUND(H3350/SUM(H3346:H3353),4))","v":""},null,null,null,null,null,null,{"$f":"+IF(O3350=\"\",\"\",IF(N3346=\"Transporte Marítimo\",VLOOKUP(O3350,Tabelas!$F$7:$G$12,2),IF(N3346=\"Transporte Aéreo\",VLOOKUP(O3350,Tabelas!$F$16:$G$21,2),\"\")))","v":""},null,null,null,null,null,null,null,null,null,null,null,null,null,null,null,"",{"$f":"+IF(AF3350=\"\",\"\",VLOOKUP(AF3350,Tabelas!$J$27:$K$30,2))","v":""}]
[null,null,null,null,null,null,{"$f":"+IF(F3351=\"\",\"\",VLOOKUP(F3351,Tabelas!$B$7:$C$96,2))","v":""},null,{"$f":"IF(H3351=\"\",\"\",ROUND(H3351/SUM(H3346:H3353),4))","v":""},null,null,null,null,null,null,{"$f":"+IF(O3351=\"\",\"\",IF(N3346=\"Transporte Marítimo\",VLOOKUP(O3351,Tabelas!$F$7:$G$12,2),IF(N3346=\"Transporte Aéreo\",VLOOKUP(O3351,Tabelas!$F$16:$G$21,2),\"\")))","v":""},null,null,null,null,null,null,null,null,null,null,null,null,null,null,null,"",{"$f":"+IF(AF3351=\"\",\"\",VLOOKUP(AF3351,Tabelas!$J$27:$K$30,2))","v":""}]
[null,null,null,null,null,null,{"$f":"+IF(F3352=\"\",\"\",VLOOKUP(F3352,Tabelas!$B$7:$C$96,2))","v":""},null,{"$f":"IF(H3352=\"\",\"\",ROUND(H3352/SUM(H3346:H3353),4))","v":""},null,null,null,null,null,null,{"$f":"+IF(O3352=\"\",\"\",IF(N3346=\"Transporte Marítimo\",VLOOKUP(O3352,Tabelas!$F$7:$G$12,2),IF(N3346=\"Transporte Aéreo\",VLOOKUP(O3352,Tabelas!$F$16:$G$21,2),\"\")))","v":""},null,null,null,null,null,null,null,null,null,null,null,null,null,null,null,"",{"$f":"+IF(AF3352=\"\",\"\",VLOOKUP(AF3352,Tabelas!$J$27:$K$30,2))","v":""}]
[null,null,null,null,null,null,{"$f":"+IF(F3353=\"\",\"\",VLOOKUP(F3353,Tabelas!$B$7:$C$96,2))","v":""},null,{"$f":"IF(H3353=\"\",\"\",ROUND(H3353/SUM(H3346:H3353),4))","v":""},null,null,null,null,null,null,{"$f":"+IF(O3353=\"\",\"\",IF(N3346=\"Transporte Marítimo\",VLOOKUP(O3353,Tabelas!$F$7:$G$12,2),IF(N3346=\"Transporte Aéreo\",VLOOKUP(O3353,Tabelas!$F$16:$G$21,2),\"\")))","v":""},null,null,null,null,null,null,null,null,null,null,null,null,null,null,null,"",{"$f":"+IF(AF3353=\"\",\"\",VLOOKUP(AF3353,Tabelas!$J$27:$K$30,2))","v":""}]
[null,{"$f":"+B3346+1","v":418},null,null,null,null,{"$f":"+IF(F3354=\"\",\"\",VLOOKUP(F3354,Tabelas!$B$7:$C$96,2))","v":""},null,{"$f":"IF(H3354=\"\",\"\",1-SUM(I3355:I3361))","v":""},null,null,null,null,null,null,{"$f":"+IF(O3354=\"\",\"\",IF(N3354=\"Transporte Marítimo\",VLOOKUP(O3354,Tabelas!$F$7:$G$12,2),IF(N3354=\"Transporte Aéreo\",VLOOKUP(O3354,Tabelas!$F$16:$G$21,2),\"\")))","v":""},null,null,null,null,null,null,null,null,null,null,null,null,null,null,null,"",{"$f":"+IF(AF3354=\"\",\"\",VLOOKUP(AF3354,Tabelas!$J$27:$K$30,2))","v":""},null,null,null,null,null,null,null,null,null,null,null,null,null,null,null," "]
[null,null,null,null,null,null,{"$f":"+IF(F3355=\"\",\"\",VLOOKUP(F3355,Tabelas!$B$7:$C$96,2))","v":""},null,{"$f":"IF(H3355=\"\",\"\",ROUND(H3355/SUM(H3354:H3361),4))","v":""},null,null,null,null,null,null,{"$f":"+IF(O3355=\"\",\"\",IF(N3354=\"Transporte Marítimo\",VLOOKUP(O3355,Tabelas!$F$7:$G$12,2),IF(N3354=\"Transporte Aéreo\",VLOOKUP(O3355,Tabelas!$F$16:$G$21,2),\"\")))","v":""},null,null,null,null,null,null,null,null,null,null,null,null,null,null,null,"",{"$f":"+IF(AF3355=\"\",\"\",VLOOKUP(AF3355,Tabelas!$J$27:$K$30,2))","v":""}]
[null,null,null,null,null,null,{"$f":"+IF(F3356=\"\",\"\",VLOOKUP(F3356,Tabelas!$B$7:$C$96,2))","v":""},null,{"$f":"IF(H3356=\"\",\"\",ROUND(H3356/SUM(H3354:H3361),4))","v":""},null,null,null,null,null,null,{"$f":"+IF(O3356=\"\",\"\",IF(N3354=\"Transporte Marítimo\",VLOOKUP(O3356,Tabelas!$F$7:$G$12,2),IF(N3354=\"Transporte Aéreo\",VLOOKUP(O3356,Tabelas!$F$16:$G$21,2),\"\")))","v":""},null,null,null,null,null,null,null,null,null,null,null,null,null,null,null,"",{"$f":"+IF(AF3356=\"\",\"\",VLOOKUP(AF3356,Tabelas!$J$27:$K$30,2))","v":""}]
[null,null,null,null,null,null,{"$f":"+IF(F3357=\"\",\"\",VLOOKUP(F3357,Tabelas!$B$7:$C$96,2))","v":""},null,{"$f":"IF(H3357=\"\",\"\",ROUND(H3357/SUM(H3354:H3361),4))","v":""},null,null,null,null,null,null,{"$f":"+IF(O3357=\"\",\"\",IF(N3354=\"Transporte Marítimo\",VLOOKUP(O3357,Tabelas!$F$7:$G$12,2),IF(N3354=\"Transporte Aéreo\",VLOOKUP(O3357,Tabelas!$F$16:$G$21,2),\"\")))","v":""},null,null,null,null,null,null,null,null,null,null,null,null,null,null,null,"",{"$f":"+IF(AF3357=\"\",\"\",VLOOKUP(AF3357,Tabelas!$J$27:$K$30,2))","v":""}]
[null,null,null,null,null,null,{"$f":"+IF(F3358=\"\",\"\",VLOOKUP(F3358,Tabelas!$B$7:$C$96,2))","v":""},null,{"$f":"IF(H3358=\"\",\"\",ROUND(H3358/SUM(H3354:H3361),4))","v":""},null,null,null,null,null,null,{"$f":"+IF(O3358=\"\",\"\",IF(N3354=\"Transporte Marítimo\",VLOOKUP(O3358,Tabelas!$F$7:$G$12,2),IF(N3354=\"Transporte Aéreo\",VLOOKUP(O3358,Tabelas!$F$16:$G$21,2),\"\")))","v":""},null,null,null,null,null,null,null,null,null,null,null,null,null,null,null,"",{"$f":"+IF(AF3358=\"\",\"\",VLOOKUP(AF3358,Tabelas!$J$27:$K$30,2))","v":""}]
[null,null,null,null,null,null,{"$f":"+IF(F3359=\"\",\"\",VLOOKUP(F3359,Tabelas!$B$7:$C$96,2))","v":""},null,{"$f":"IF(H3359=\"\",\"\",ROUND(H3359/SUM(H3354:H3361),4))","v":""},null,null,null,null,null,null,{"$f":"+IF(O3359=\"\",\"\",IF(N3354=\"Transporte Marítimo\",VLOOKUP(O3359,Tabelas!$F$7:$G$12,2),IF(N3354=\"Transporte Aéreo\",VLOOKUP(O3359,Tabelas!$F$16:$G$21,2),\"\")))","v":""},null,null,null,null,null,null,null,null,null,null,null,null,null,null,null,"",{"$f":"+IF(AF3359=\"\",\"\",VLOOKUP(AF3359,Tabelas!$J$27:$K$30,2))","v":""}]
[null,null,null,null,null,null,{"$f":"+IF(F3360=\"\",\"\",VLOOKUP(F3360,Tabelas!$B$7:$C$96,2))","v":""},null,{"$f":"IF(H3360=\"\",\"\",ROUND(H3360/SUM(H3354:H3361),4))","v":""},null,null,null,null,null,null,{"$f":"+IF(O3360=\"\",\"\",IF(N3354=\"Transporte Marítimo\",VLOOKUP(O3360,Tabelas!$F$7:$G$12,2),IF(N3354=\"Transporte Aéreo\",VLOOKUP(O3360,Tabelas!$F$16:$G$21,2),\"\")))","v":""},null,null,null,null,null,null,null,null,null,null,null,null,null,null,null,"",{"$f":"+IF(AF3360=\"\",\"\",VLOOKUP(AF3360,Tabelas!$J$27:$K$30,2))","v":""}]
[null,null,null,null,null,null,{"$f":"+IF(F3361=\"\",\"\",VLOOKUP(F3361,Tabelas!$B$7:$C$96,2))","v":""},null,{"$f":"IF(H3361=\"\",\"\",ROUND(H3361/SUM(H3354:H3361),4))","v":""},null,null,null,null,null,null,{"$f":"+IF(O3361=\"\",\"\",IF(N3354=\"Transporte Marítimo\",VLOOKUP(O3361,Tabelas!$F$7:$G$12,2),IF(N3354=\"Transporte Aéreo\",VLOOKUP(O3361,Tabelas!$F$16:$G$21,2),\"\")))","v":""},null,null,null,null,null,null,null,null,null,null,null,null,null,null,null,"",{"$f":"+IF(AF3361=\"\",\"\",VLOOKUP(AF3361,Tabelas!$J$27:$K$30,2))","v":""}]
[null,{"$f":"+B3354+1","v":419},null,null,null,null,{"$f":"+IF(F3362=\"\",\"\",VLOOKUP(F3362,Tabelas!$B$7:$C$96,2))","v":""},null,{"$f":"IF(H3362=\"\",\"\",1-SUM(I3363:I3369))","v":""},null,null,null,null,null,null,{"$f":"+IF(O3362=\"\",\"\",IF(N3362=\"Transporte Marítimo\",VLOOKUP(O3362,Tabelas!$F$7:$G$12,2),IF(N3362=\"Transporte Aéreo\",VLOOKUP(O3362,Tabelas!$F$16:$G$21,2),\"\")))","v":""},null,null,null,null,null,null,null,null,null,null,null,null,null,null,null,"",{"$f":"+IF(AF3362=\"\",\"\",VLOOKUP(AF3362,Tabelas!$J$27:$K$30,2))","v":""},null,null,null,null,null,null,null,null,null,null,null,null,null,null,null," "]
[null,null,null,null,null,null,{"$f":"+IF(F3363=\"\",\"\",VLOOKUP(F3363,Tabelas!$B$7:$C$96,2))","v":""},null,{"$f":"IF(H3363=\"\",\"\",ROUND(H3363/SUM(H3362:H3369),4))","v":""},null,null,null,null,null,null,{"$f":"+IF(O3363=\"\",\"\",IF(N3362=\"Transporte Marítimo\",VLOOKUP(O3363,Tabelas!$F$7:$G$12,2),IF(N3362=\"Transporte Aéreo\",VLOOKUP(O3363,Tabelas!$F$16:$G$21,2),\"\")))","v":""},null,null,null,null,null,null,null,null,null,null,null,null,null,null,null,"",{"$f":"+IF(AF3363=\"\",\"\",VLOOKUP(AF3363,Tabelas!$J$27:$K$30,2))","v":""}]
[null,null,null,null,null,null,{"$f":"+IF(F3364=\"\",\"\",VLOOKUP(F3364,Tabelas!$B$7:$C$96,2))","v":""},null,{"$f":"IF(H3364=\"\",\"\",ROUND(H3364/SUM(H3362:H3369),4))","v":""},null,null,null,null,null,null,{"$f":"+IF(O3364=\"\",\"\",IF(N3362=\"Transporte Marítimo\",VLOOKUP(O3364,Tabelas!$F$7:$G$12,2),IF(N3362=\"Transporte Aéreo\",VLOOKUP(O3364,Tabelas!$F$16:$G$21,2),\"\")))","v":""},null,null,null,null,null,null,null,null,null,null,null,null,null,null,null,"",{"$f":"+IF(AF3364=\"\",\"\",VLOOKUP(AF3364,Tabelas!$J$27:$K$30,2))","v":""}]
[null,null,null,null,null,null,{"$f":"+IF(F3365=\"\",\"\",VLOOKUP(F3365,Tabelas!$B$7:$C$96,2))","v":""},null,{"$f":"IF(H3365=\"\",\"\",ROUND(H3365/SUM(H3362:H3369),4))","v":""},null,null,null,null,null,null,{"$f":"+IF(O3365=\"\",\"\",IF(N3362=\"Transporte Marítimo\",VLOOKUP(O3365,Tabelas!$F$7:$G$12,2),IF(N3362=\"Transporte Aéreo\",VLOOKUP(O3365,Tabelas!$F$16:$G$21,2),\"\")))","v":""},null,null,null,null,null,null,null,null,null,null,null,null,null,null,null,"",{"$f":"+IF(AF3365=\"\",\"\",VLOOKUP(AF3365,Tabelas!$J$27:$K$30,2))","v":""}]
[null,null,null,null,null,null,{"$f":"+IF(F3366=\"\",\"\",VLOOKUP(F3366,Tabelas!$B$7:$C$96,2))","v":""},null,{"$f":"IF(H3366=\"\",\"\",ROUND(H3366/SUM(H3362:H3369),4))","v":""},null,null,null,null,null,null,{"$f":"+IF(O3366=\"\",\"\",IF(N3362=\"Transporte Marítimo\",VLOOKUP(O3366,Tabelas!$F$7:$G$12,2),IF(N3362=\"Transporte Aéreo\",VLOOKUP(O3366,Tabelas!$F$16:$G$21,2),\"\")))","v":""},null,null,null,null,null,null,null,null,null,null,null,null,null,null,null,"",{"$f":"+IF(AF3366=\"\",\"\",VLOOKUP(AF3366,Tabelas!$J$27:$K$30,2))","v":""}]
[null,null,null,null,null,null,{"$f":"+IF(F3367=\"\",\"\",VLOOKUP(F3367,Tabelas!$B$7:$C$96,2))","v":""},null,{"$f":"IF(H3367=\"\",\"\",ROUND(H3367/SUM(H3362:H3369),4))","v":""},null,null,null,null,null,null,{"$f":"+IF(O3367=\"\",\"\",IF(N3362=\"Transporte Marítimo\",VLOOKUP(O3367,Tabelas!$F$7:$G$12,2),IF(N3362=\"Transporte Aéreo\",VLOOKUP(O3367,Tabelas!$F$16:$G$21,2),\"\")))","v":""},null,null,null,null,null,null,null,null,null,null,null,null,null,null,null,"",{"$f":"+IF(AF3367=\"\",\"\",VLOOKUP(AF3367,Tabelas!$J$27:$K$30,2))","v":""}]
[null,null,null,null,null,null,{"$f":"+IF(F3368=\"\",\"\",VLOOKUP(F3368,Tabelas!$B$7:$C$96,2))","v":""},null,{"$f":"IF(H3368=\"\",\"\",ROUND(H3368/SUM(H3362:H3369),4))","v":""},null,null,null,null,null,null,{"$f":"+IF(O3368=\"\",\"\",IF(N3362=\"Transporte Marítimo\",VLOOKUP(O3368,Tabelas!$F$7:$G$12,2),IF(N3362=\"Transporte Aéreo\",VLOOKUP(O3368,Tabelas!$F$16:$G$21,2),\"\")))","v":""},null,null,null,null,null,null,null,null,null,null,null,null,null,null,null,"",{"$f":"+IF(AF3368=\"\",\"\",VLOOKUP(AF3368,Tabelas!$J$27:$K$30,2))","v":""}]
[null,null,null,null,null,null,{"$f":"+IF(F3369=\"\",\"\",VLOOKUP(F3369,Tabelas!$B$7:$C$96,2))","v":""},null,{"$f":"IF(H3369=\"\",\"\",ROUND(H3369/SUM(H3362:H3369),4))","v":""},null,null,null,null,null,null,{"$f":"+IF(O3369=\"\",\"\",IF(N3362=\"Transporte Marítimo\",VLOOKUP(O3369,Tabelas!$F$7:$G$12,2),IF(N3362=\"Transporte Aéreo\",VLOOKUP(O3369,Tabelas!$F$16:$G$21,2),\"\")))","v":""},null,null,null,null,null,null,null,null,null,null,null,null,null,null,null,"",{"$f":"+IF(AF3369=\"\",\"\",VLOOKUP(AF3369,Tabelas!$J$27:$K$30,2))","v":""}]
[null,{"$f":"+B3362+1","v":420},null,null,null,null,{"$f":"+IF(F3370=\"\",\"\",VLOOKUP(F3370,Tabelas!$B$7:$C$96,2))","v":""},null,{"$f":"IF(H3370=\"\",\"\",1-SUM(I3371:I3377))","v":""},null,null,null,null,null,null,{"$f":"+IF(O3370=\"\",\"\",IF(N3370=\"Transporte Marítimo\",VLOOKUP(O3370,Tabelas!$F$7:$G$12,2),IF(N3370=\"Transporte Aéreo\",VLOOKUP(O3370,Tabelas!$F$16:$G$21,2),\"\")))","v":""},null,null,null,null,null,null,null,null,null,null,null,null,null,null,null,"",{"$f":"+IF(AF3370=\"\",\"\",VLOOKUP(AF3370,Tabelas!$J$27:$K$30,2))","v":""},null,null,null,null,null,null,null,null,null,null,null,null,null,null,null," "]
[null,null,null,null,null,null,{"$f":"+IF(F3371=\"\",\"\",VLOOKUP(F3371,Tabelas!$B$7:$C$96,2))","v":""},null,{"$f":"IF(H3371=\"\",\"\",ROUND(H3371/SUM(H3370:H3377),4))","v":""},null,null,null,null,null,null,{"$f":"+IF(O3371=\"\",\"\",IF(N3370=\"Transporte Marítimo\",VLOOKUP(O3371,Tabelas!$F$7:$G$12,2),IF(N3370=\"Transporte Aéreo\",VLOOKUP(O3371,Tabelas!$F$16:$G$21,2),\"\")))","v":""},null,null,null,null,null,null,null,null,null,null,null,null,null,null,null,"",{"$f":"+IF(AF3371=\"\",\"\",VLOOKUP(AF3371,Tabelas!$J$27:$K$30,2))","v":""}]
[null,null,null,null,null,null,{"$f":"+IF(F3372=\"\",\"\",VLOOKUP(F3372,Tabelas!$B$7:$C$96,2))","v":""},null,{"$f":"IF(H3372=\"\",\"\",ROUND(H3372/SUM(H3370:H3377),4))","v":""},null,null,null,null,null,null,{"$f":"+IF(O3372=\"\",\"\",IF(N3370=\"Transporte Marítimo\",VLOOKUP(O3372,Tabelas!$F$7:$G$12,2),IF(N3370=\"Transporte Aéreo\",VLOOKUP(O3372,Tabelas!$F$16:$G$21,2),\"\")))","v":""},null,null,null,null,null,null,null,null,null,null,null,null,null,null,null,"",{"$f":"+IF(AF3372=\"\",\"\",VLOOKUP(AF3372,Tabelas!$J$27:$K$30,2))","v":""}]
[null,null,null,null,null,null,{"$f":"+IF(F3373=\"\",\"\",VLOOKUP(F3373,Tabelas!$B$7:$C$96,2))","v":""},null,{"$f":"IF(H3373=\"\",\"\",ROUND(H3373/SUM(H3370:H3377),4))","v":""},null,null,null,null,null,null,{"$f":"+IF(O3373=\"\",\"\",IF(N3370=\"Transporte Marítimo\",VLOOKUP(O3373,Tabelas!$F$7:$G$12,2),IF(N3370=\"Transporte Aéreo\",VLOOKUP(O3373,Tabelas!$F$16:$G$21,2),\"\")))","v":""},null,null,null,null,null,null,null,null,null,null,null,null,null,null,null,"",{"$f":"+IF(AF3373=\"\",\"\",VLOOKUP(AF3373,Tabelas!$J$27:$K$30,2))","v":""}]
[null,null,null,null,null,null,{"$f":"+IF(F3374=\"\",\"\",VLOOKUP(F3374,Tabelas!$B$7:$C$96,2))","v":""},null,{"$f":"IF(H3374=\"\",\"\",ROUND(H3374/SUM(H3370:H3377),4))","v":""},null,null,null,null,null,null,{"$f":"+IF(O3374=\"\",\"\",IF(N3370=\"Transporte Marítimo\",VLOOKUP(O3374,Tabelas!$F$7:$G$12,2),IF(N3370=\"Transporte Aéreo\",VLOOKUP(O3374,Tabelas!$F$16:$G$21,2),\"\")))","v":""},null,null,null,null,null,null,null,null,null,null,null,null,null,null,null,"",{"$f":"+IF(AF3374=\"\",\"\",VLOOKUP(AF3374,Tabelas!$J$27:$K$30,2))","v":""}]
[null,null,null,null,null,null,{"$f":"+IF(F3375=\"\",\"\",VLOOKUP(F3375,Tabelas!$B$7:$C$96,2))","v":""},null,{"$f":"IF(H3375=\"\",\"\",ROUND(H3375/SUM(H3370:H3377),4))","v":""},null,null,null,null,null,null,{"$f":"+IF(O3375=\"\",\"\",IF(N3370=\"Transporte Marítimo\",VLOOKUP(O3375,Tabelas!$F$7:$G$12,2),IF(N3370=\"Transporte Aéreo\",VLOOKUP(O3375,Tabelas!$F$16:$G$21,2),\"\")))","v":""},null,null,null,null,null,null,null,null,null,null,null,null,null,null,null,"",{"$f":"+IF(AF3375=\"\",\"\",VLOOKUP(AF3375,Tabelas!$J$27:$K$30,2))","v":""}]
[null,null,null,null,null,null,{"$f":"+IF(F3376=\"\",\"\",VLOOKUP(F3376,Tabelas!$B$7:$C$96,2))","v":""},null,{"$f":"IF(H3376=\"\",\"\",ROUND(H3376/SUM(H3370:H3377),4))","v":""},null,null,null,null,null,null,{"$f":"+IF(O3376=\"\",\"\",IF(N3370=\"Transporte Marítimo\",VLOOKUP(O3376,Tabelas!$F$7:$G$12,2),IF(N3370=\"Transporte Aéreo\",VLOOKUP(O3376,Tabelas!$F$16:$G$21,2),\"\")))","v":""},null,null,null,null,null,null,null,null,null,null,null,null,null,null,null,"",{"$f":"+IF(AF3376=\"\",\"\",VLOOKUP(AF3376,Tabelas!$J$27:$K$30,2))","v":""}]
[null,null,null,null,null,null,{"$f":"+IF(F3377=\"\",\"\",VLOOKUP(F3377,Tabelas!$B$7:$C$96,2))","v":""},null,{"$f":"IF(H3377=\"\",\"\",ROUND(H3377/SUM(H3370:H3377),4))","v":""},null,null,null,null,null,null,{"$f":"+IF(O3377=\"\",\"\",IF(N3370=\"Transporte Marítimo\",VLOOKUP(O3377,Tabelas!$F$7:$G$12,2),IF(N3370=\"Transporte Aéreo\",VLOOKUP(O3377,Tabelas!$F$16:$G$21,2),\"\")))","v":""},null,null,null,null,null,null,null,null,null,null,null,null,null,null,null,"",{"$f":"+IF(AF3377=\"\",\"\",VLOOKUP(AF3377,Tabelas!$J$27:$K$30,2))","v":""}]
[]
[]
[]
[]
[null,"TOTAIS",null,null,{"$f":"+SUM(E18:E3380)","v":0},null,null,null,null,null,null,null,null,null,null,null,{"$f":"+SUM(Q18:Q3380)","v":0},{"$f":"+SUM(R18:R3380)","v":0}]
[]
[]
[]
[]
[]
[]
[]
[null,null,null,null,null,"Cod. NC",null,null,null,null,null,null,null,"Plano de Despesas",1,"Fretes Marítimos",null,null,null,null,null,null,null,"Origem","Circuito","Santa Maria",null,null,null,null,"Legenda:"]
[null,null,null,null,null,201,null,null,null,null,null,null,null,"Transporte Marítimo",3,"Taxas Portuárias",null,null,null,null,null,null,null,"Santa Maria","Interilhas","São Miguel",null,null,null,null,"20NL"]
[null,null,null,null,null,202,null,null,null,null,null,null,null,"Transporte Aéreo",5,"Estiva",null,null,null,null,null,null,null,"São Miguel","Nacional","Terceira",null,null,null,null,"40NL"]
[null,null,null,null,null,203,null,null,null,null,null,null,null,null,7,"Manuseamento e Armazenagem",null,null,null,null,null,null,null,"Terceira","Exterior","Graciosa",null,null,null,null,"20RF"]
[null,null,null,null,null,204,null,null,null,null,null,null,null,null,8,"Seguros de Mercadoria e Expedição",null,null,null,null,null,null,null,"Graciosa",null,"Faial",null,null,null,null,"40RF"]
[null,null,null,null,null,206,null,null,null,null,null,null,null,null,"X-NE","Não Elegível",null,null,null,null,null,null,null,"Faial",null,"Pico"]
[null,null,null,null,null,207,null,null,null,null,null,null,null,null,null,null,null,null,null,null,null,null,null,"Pico",null,"São Jorge"]
[null,null,null,null,null,208,null,null,null,null,null,null,null,null,"CB","MY - Taxa de Combustível",null,null,null,null,null,null,null,"São Jorge",null,"Flores"]
[null,null,null,null,null,209,null,null,null,null,null,null,null,null,"EM","AW - Emissão de Carta de Porte Aéreo",null,null,null,null,null,null,null,"Flores",null,"Corvo"]
[null,null,null,null,null,210,null,null,null,null,null,null,null,null,"FA","Fretes Aéreos",null,null,null,null,null,null,null,"Corvo"]
[null,null,null,null,null,301,null,null,null,null,null,null,null,null,"HD","CH - Handling"]
[null,null,null,null,null,306,null,null,null,null,null,null,null,null,"SG","SC - Taxa de Segurança",null,null,null,null,null,null,null,null,null,"Continente"]
[null,null,null,null,null,401,null,null,null,null,null,null,null,null,"X-NE","Não Elegível",null,null,null,null,null,null,null,null,null,"Madeira"]
[null,null,null,null,null,402]
[null,null,null,null,null,403,null,null,null,null,null,null,null,null,null,null,null,null,null,null,null,null,null,null,null,"Alemanha"]
[null,null,null,null,null,404,null,null,null,null,null,null,null,null,null,null,null,null,null,null,null,null,null,null,null,"África do Sul"]
[null,null,null,null,null,405,null,null,null,null,null,null,null,null,null,null,null,null,null,null,null,null,null,null,null,"Angola"]
[null,null,null,null,null,406,null,null,null,null,null,null,null,null,null,null,null,null,null,null,null,null,null,null,null,"Arábia Saudita"]
[null,null,null,null,null,407,null,null,null,null,null,null,null,null,null,null,null,null,null,null,null,null,null,null,null,"Argentina"]
[null,null,null,null,null,409,null,null,null,null,null,null,null,null,null,null,null,null,null,null,null,null,null,null,null,"Austrália"]
[null,null,null,null,null,601,null,null,null,null,null,null,null,null,null,null,null,null,null,null,null,null,null,null,null,"Áustria"]
[null,null,null,null,null,602,null,null,null,null,null,null,null,null,null,null,null,null,null,null,null,null,null,null,null,"Bélgica"]
[null,null,null,null,null,603,null,null,null,null,null,null,null,null,null,null,null,null,null,null,null,null,null,null,null,"Brasil"]
[null,null,null,null,null,604,null,null,null,null,null,null,null,null,null,null,null,null,null,null,null,null,null,null,null,"Cabo Verde"]
[null,null,null,null,null,701,null,null,null,null,null,null,null,null,null,null,null,null,null,null,null,null,null,null,null,"Canadá"]
[null,null,null,null,null,702,null,null,null,null,null,null,null,null,null,null,null,null,null,null,null,null,null,null,null,"Chile"]
[null,null,null,null,null,703,null,null,null,null,null,null,null,null,null,null,null,null,null,null,null,null,null,null,null,"Dinamarca"]
[null,null,null,null,null,704,null,null,null,null,null,null,null,null,null,null,null,null,null,null,null,null,null,null,null,"Espanha"]
[null,null,null,null,null,705,null,null,null,null,null,null,null,null,null,null,null,null,null,null,null,null,null,null,null,"Estados Unidos da América"]
[null,null,null,null,null,706,null,null,null,null,null,null,null,null,null,null,null,null,null,null,null,null,null,null,null,"Emiratos Árabes Unidos"]
[null,null,null,null,null,707,null,null,null,null,null,null,null,null,null,null,null,null,null,null,null,null,null,null,null,"Finlândia"]
[null,null,null,null,null,708,null,null,null,null,null,null,null,null,null,null,null,null,null,null,null,null,null,null,null,"França"]
[null,null,null,null,null,709,null,null,null,null,null,null,null,null,null,null,null,null,null,null,null,null,null,null,null,"Grécia"]
[null,null,null,null,null,713,null,null,null,null,null,null,null,null,null,null,null,null,null,null,null,null,null,null,null,"Guiné-Bissau"]
[null,null,null,null,null,714,null,null,null,null,null,null,null,null,null,null,null,null,null,null,null,null,null,null,null,"Holanda"]
[null,null,null,null,null,802,null,null,null,null,null,null,null,null,null,null,null,null,null,null,null,null,null,null,null,"Hungria"]
[null,null,null,null,null,803,null,null,null,null,null,null,null,null,null,null,null,null,null,null,null,null,null,null,null,"Irlanda"]
[null,null,null,null,null,804,null,null,null,null,null,null,null,null,null,null,null,null,null,null,null,null,null,null,null,"Islândia"]
[null,null,null,null,null,805,null,null,null,null,null,null,null,null,null,null,null,null,null,null,null,null,null,null,null,"Israel"]
[null,null,null,null,null,806,null,null,null,null,null,null,null,null,null,null,null,null,null,null,null,null,null,null,null,"Itália"]
[null,null,null,null,null,807,null,null,null,null,null,null,null,null,null,null,null,null,null,null,null,null,null,null,null,"Japão"]
[null,null,null,null,null,808,null,null,null,null,null,null,null,null,null,null,null,null,null,null,null,null,null,null,null,"Letónia"]
[null,null,null,null,null,809,null,null,null,null,null,null,null,null,null,null,null,null,null,null,null,null,null,null,null,"Listenstaine"]
[null,null,null,null,null,810,null,null,null,null,null,null,null,null,null,null,null,null,null,null,null,null,null,null,null,"Lituânia"]
[null,null,null,null,null,811,null,null,null,null,null,null,null,null,null,null,null,null,null,null,null,null,null,null,null,"Luxemburgo"]
[null,null,null,null,null,902,null,null,null,null,null,null,null,null,null,null,null,null,null,null,null,null,null,null,null,"Marrocos"]
[null,null,null,null,null,904,null,null,null,null,null,null,null,null,null,null,null,null,null,null,null,null,null,null,null,"Moçambique"]
[null,null,null,null,null,909,null,null,null,null,null,null,null,null,null,null,null,null,null,null,null,null,null,null,null,"Noruega"]
[null,null,null,null,null,910,null,null,null,null,null,null,null,null,null,null,null,null,null,null,null,null,null,null,null,"Nova Zelândia"]
[null,null,null,null,null,1005,null,null,null,null,null,null,null,null,null,null,null,null,null,null,null,null,null,null,null,"Polónia"]
[null,null,null,null,null,1101,null,null,null,null,null,null,null,null,null,null,null,null,null,null,null,null,null,null,null,"Reino Unido"]
[null,null,null,null,null,1102,null,null,null,null,null,null,null,null,null,null,null,null,null,null,null,null,null,null,null,"República Popular da China"]
[null,null,null,null,null,1202,null,null,null,null,null,null,null,null,null,null,null,null,null,null,null,null,null,null,null,"Roménia"]
[null,null,null,null,null,1211,null,null,null,null,null,null,null,null,null,null,null,null,null,null,null,null,null,null,null,"Rússia"]
[null,null,null,null,null,1212,null,null,null,null,null,null,null,null,null,null,null,null,null,null,null,null,null,null,null,"São Tomé e Príncipe"]
[null,null,null,null,null,1501,null,null,null,null,null,null,null,null,null,null,null,null,null,null,null,null,null,null,null,"Suécia"]
[null,null,null,null,null,1601,null,null,null,null,null,null,null,null,null,null,null,null,null,null,null,null,null,null,null,"Suíça"]
[null,null,null,null,null,1602,null,null,null,null,null,null,null,null,null,null,null,null,null,null,null,null,null,null,null,"Timor Leste"]
[null,null,null,null,null,1604,null,null,null,null,null,null,null,null,null,null,null,null,null,null,null,null,null,null,null,"Tunísia"]
[null,null,null,null,null,1605,null,null,null,null,null,null,null,null,null,null,null,null,null,null,null,null,null,null,null,"Turquia"]
[null,null,null,null,null,1701,null,null,null,null,null,null,null,null,null,null,null,null,null,null,null,null,null,null,null,"Ucrânia"]
[null,null,null,null,null,1704]
[null,null,null,null,null,1806]
[null,null,null,null,null,1902]
[null,null,null,null,null,1905]
[null,null,null,null,null,2001]
[null,null,null,null,null,2002]
[null,null,null,null,null,2004]
[null,null,null,null,null,2007]
[null,null,null,null,null,2008]
[null,null,null,null,null,2009]
[null,null,null,null,null,2105]
[null,null,null,null,null,2106]
[null,null,null,null,null,2201]
[null,null,null,null,null,2202]
[null,null,null,null,null,2203]
[null,null,null,null,null,2204]
[null,null,null,null,null,2207]
[null,null,null,null,null,2208]
[null,null,null,null,null,2400]
[null,null,null,null,null,2513]
[null,null,null,null,null,3816]
[null,null,null,null,null,4101]
[null,null,null,null,null,4104]
[null,null,null,null,null,4400]
[null,null,null,null,null,4901]
[null,null,null,null,null,6217]
[null,null,null,null,null,6802]
[null,null,null,null,null,6905]
[null,null,null,null,null,9999]
[null,null,null,null,null,"X-NE"]

{"sheet":"Tabelas","index":2,"n_rows":288,"n_cols":45,"rows_kept":288,"cut":false,"hidden":true,"merged":[[10,43,10,44],[2,1,2,2],[3,8,3,10],[6,11,6,14],[3,1,3,2]]}
[null,null,null,null,null,null,null,null,null,null,null,null,null,null,null,null,null,null,null,null,null,"Angra do Heroísmo","Terceira"]
[null,null,null,null,null,null,null,null,null,null,null,null,null,null,null,null,null,null,"Lista de Destinos",null,null,"Calheta","São Jorge"]
[null,"Lista de Produtos Apoiados - Códigos NC",null,null,null,"Rubricas do Plano de Depesas",null,null,"Limites Máximos das Despesas Elegíveis - Transporte Marítimo",null,null,null,null,null,null,null,null,null,"Destino","Circuito",null,"Corvo","Corvo",null,null,"Limites Máximos das Despesas Elegíveis - Transporte Aéreo"]
[null,"Despacho n.º 71/2018, de 10 de janeiro",null,null,null,null,null,null,"Despacho n.º 386/2018 de 5 de março",null,null,null,null,null,null,null,null,null,"Santa Maria","Interilhas",null,"Horta","Faial",null,null,"Despacho n.º 386/2018 de 5 de março"]
[null,null,null,null,null,"Transporte Marítimo",null,null,null,null,null,null,null,null,null,null,null,null,"São Miguel","Interilhas",null,"Lagoa","São Miguel"]
[null,"Cod. NC","Designação",null,null,"Rub","Plano de Despesas",null,null,null,null,null,null,null,null,null,"Origem",null,"Terceira","Interilhas",null,"Lajes das Flores","Flores",null,null,"Tarifa Máxima - €/kg"]
[null,201,"Carnes de animais da espécie bovina, frescas ou refrigeradas",null,null,1,"Fretes Marítimos",null,null,null,null,"Limite Máximo",null,null,null,null,"Santa Maria",null,"Graciosa","Interilhas",null,"Lajes do Pico","Pico"]
[null,202,"Carnes de animais da espécie bovina, congeladas",null,null,3,"Taxas Portuárias",null,"Código",null,"Designação","20NL","20RF","40NL","40RF",null,"São Miguel",null,"Faial","Interilhas",null,"Madalena","Pico",null,null,null,"Corvo","Flores","Graciosa","Faial","Pico","São Miguel","Santa Maria","São Jorge","Terceira","Exterior"]
[null,203,"Carnes de animais da espécie suína, frescas, refrigeradas ou congeladas",null,null,5,"Estiva",null,null,null,null,null,null,null,null,null,"Terceira",null,"Pico","Interilhas",null,"Nordeste","São Miguel",null,null,"Corvo",0,0.23,0.64,0.64,0.64,0.78,0.78,0.64,0.74,1.5]
[null,204,"Carnes de animais da espécie ovina ou caprina, frescas, refrigeradas ou congeladas",null,null,7,"Manuseamento e Armazenagem",null,"Interilhas",null,null,"20NL","20RF","40NL","40RF",null,"Graciosa",null,"São Jorge","Interilhas",null,"Ponta Delgada","São Miguel",null,null,"Flores",0.23,0,0.64,0.64,0.64,0.78,0.78,0.64,0.74,1.5,null,"Taxas Aplicáveis, por Carta de Porte"]
[null,206,"Miudezas comestíves de animais da espécie bovina, suína, ovina e caprina, frescas, refrigeradas ou congeladas",null,null,8,"Seguros de Mercadoria e Expedição",null,"FM",{"$f":"+F7","v":1},"Fretes Marítimo",740,850,740,1300,null,"Faial",null,"Flores","Interilhas",null,"Povoação","São Miguel",null,null,"Graciosa",0.64,0.64,0,0.32,0.32,0.64,0.74,0.32,0.32,1.5,null,null,null,null,null,null,null,"Limites"]
[null,207,"Carnes e miudezas comestíveis de aves, frescas, refrigeradas ou congeladas",null,null,"X-NE","Não Elegível",null,"TP",{"$f":"+F8","v":3},"Taxas Portuárias",120,120,170,170,null,"Pico",null,"Corvo","Interilhas",null,"Praia da Vitória","Terceira",null,null,"Faial",0.64,0.64,0.32,0,0.33,0.67,0.74,0.32,0.48,1.5,null,"Código","Designação","Interilhas","Continente","Europa","Resto do Mundo","Mín.","Máx."]
[null,208,"Carnes e miudezas comestíveis de coelho, frescas, refrigeradas ou congeladas",null,null,null,null,null,"DE",{"$f":"+F9","v":5},"Despesas com Estiva",100,100,150,150,null,"São Jorge",null,null,null,null,"Ribeira Grande","São Miguel",null,null,"Pico",0.64,0.64,0.32,0.33,0,0.67,0.74,0.32,0.48,1.5,null,"EM","Taxa de Emissão",6,15,23,23]
[null,209,"Toucinho e gorduras de porco, frescos, refrigerados, congelados, salgados ou em salmoura ou fumados",null,null,"Transporte Aéreo",null,null,"MN",{"$f":"+F10","v":7},"Manuseamento e Armazenagem",50,50,100,100,null,"Flores",null,null,null,null,"Santa Cruz da Graciosa","Graciosa",null,null,"São Miguel",0.78,0.78,0.64,0.67,0.67,0,0.32,0.64,0.48,1.5,null,"HD","Taxa de Handling",0.02,0.02,0.02,0.02,2,20]
[null,210,"Carnes e miudezas comestíveis bovinas e suínas, salgadas ou em salmoura, secas ou fumadas",null,null,"Rub","Plano de Despesas",null,"SG",{"$f":"+F11","v":8},"Seguro de Mercadorias e de Expedição",55,55,75,75,null,"Corvo",null,"Continente","Nacional",null,"Santa Cruz das Flores","Flores",null,null,"Santa Maria",0.78,0.78,0.74,0.74,0.74,0.32,0,0.74,0.64,1.5,null,"CB","Taxa de Combustível",0,0.3,0.7,0.95]
[null,301,"Peixes vivos",null,null,"CB","MY - Taxa de Combustível",null,"NE",9,"Não Elegível",0,0,0,0,null,null,null,"Madeira","Nacional",null,"São Roque do Pico","Pico",null,null,"São Jorge",0.64,0.64,0.32,0.32,0.32,0.64,0.74,0,0.32,1.5,null,"SG","Taxa de Seguro",0,0.16,0.21,0.31]
[null,306,"Crustáceos congelados e não congelados",null,null,"EM","AW - Emissão de Carta de Porte Aéreo",null,null,null,null,null,null,null,null,null,null,null,null,null,null,"Velas","São Jorge",null,null,"Terceira",0.74,0.74,0.32,0.48,0.48,0.48,0.64,0.32,0,1.5]
[null,401,"Leite e nata, não concentrados nem adicionados de açúcar ou de edulcorantes",null,null,"FA","Fretes Aéreos",null,"Exterior da Região",null,null,"20NL","20RF","40NL","40RF",null,null,null,"Alemanha",null,null,"Vila do Porto","Santa Maria"]
[null,402,"Leite e nata, concentrados ou adicionados de açúcar ou de edulcorantes",null,null,"HD","CH - Handling",null,"FM",{"$f":"+F7","v":1},"Fretes Marítimos",1000,2000,2000,3300,null,null,null,"África do Sul",null,null,"Vila Franca do Campo","São Miguel",null,null,"Valor Mínimo de Frete por Carta de Porte"]
[null,403,"Iogurtes e natas",null,null,"SG","SC - Taxa de Segurança",null,"TP",{"$f":"+F8","v":3},"Taxas Portuárias",180,180,250,250,null,null,null,"Angola"]
[null,404,"Soro de leite, mesmo concentrado ou adicionado de açúcar ou outros edulcorantes",null,null,"X-NE","Não Elegível",null,"DE",{"$f":"+F9","v":5},"Despesas com Estiva",150,150,200,200,null,null,null,"Arábia Saudita",null,null,null,null,null,null,null,"Corvo","Flores","Graciosa","Faial","Pico","São Miguel","Santa Maria","São Jorge","Terceira","Exterior"]
[null,405,"Manteigas e pastas de barrar de produtos prevenientes do leite",null,null,null,null,null,"MN",{"$f":"+F10","v":7},"Manuseamento e Armazenagem",75,75,150,150,null,null,null,"Argentina",null,null,null,null,null,null,"Corvo",0,4.59,4.59,4.59,4.59,4.59,4.59,4.59,4.59,9.09]
[null,406,"Queijos",null,null,null,null,null,"SG",{"$f":"+F11","v":8},"Seguro de Mercadorias e de Expedição",80,80,110,110,null,null,null,"Austrália",null,null,null,null,null,null,"Flores",4.59,0,4.59,4.59,4.59,4.59,4.59,4.59,4.59,9.09]
[null,407,"Ovos de aves, com casca, frescos, conservados ou cozidos",null,null,null,null,null,"NE",9,"Não Elegível",0,0,0,0,null,null,null,"Áustria",null,null,"Albânia","Europa",null,null,"Graciosa",4.59,4.59,0,4.59,4.59,4.59,4.59,4.59,4.59,9.09]
[null,409,"Mel",null,null,null,null,null,null,null,null,null,null,null,null,null,null,null,"Bélgica",null,null,"Alemanha","Europa",null,null,"Faial",4.59,4.59,4.59,0,4.74,4.74,4.59,4.59,4.74,9.09]
[null,601,"Flores e botões de flores, cortados para ramos ou para ornamentação, frescos, secos, branqueados, tingidos, impregnados ou preparados de outro modo",null,null,null,null,null,"Legenda:",null,null,null,null,null,null,null,null,null,"Brasil",null,null,"Andorra","Europa",null,null,"Pico",4.59,4.59,4.59,4.74,0,4.74,4.59,4.59,4.74,9.09]
[null,602,"Outras plantas vivas (incluindo as suas raízes) estacas e enxertos",null,null,null,null,null,"20NL",1,"Contentor não Refrigerado de 20 pés",null,null,null,null,null,null,null,"Cabo Verde",null,null,"Arménia","Europa",null,null,"São Miguel",4.59,4.59,4.59,4.74,4.74,0,4.59,4.59,4.74,9.09]
[null,603,"Flores e seus botões, cortados, para ramos ou para ornamentação",null,null,null,null,null,"40NL",2,"Contentor não Refrigerado de 40 pés",null,null,null,null,null,null,null,"Canadá",null,null,"Áustria","Europa",null,null,"Santa Maria",4.59,4.59,4.59,4.59,4.59,4.59,0,4.59,4.59,9.09]
[null,604,"Folhagens, folhas, ramos e outras partes de plantas",null,null,null,null,null,"20RF",3,"Contentor Refrigerado de 20 pés",null,null,null,null,null,null,null,"Chile",null,null,"Bélgica","Europa",null,null,"São Jorge",4.59,4.59,4.59,4.59,4.59,4.59,4.59,0,4.59,9.09]
[null,701,"Batatas",null,null,null,null,null,"40RF",4,"Contentor Refrigerado de 40 pés",null,null,null,null,null,null,null,"Dinamarca",null,null,"Bielorrússia","Europa",null,null,"Terceira",4.59,4.59,4.59,4.74,4.74,4.74,4.59,4.59,0,9.09]
[null,702,"Tomates",null,null,null,null,null,null,null,null,null,null,null,null,null,null,null,"Espanha",null,null,"Bósnia e Herzegovina","Europa"]
[null,703,"Cebolas, alhos e outros produtos hortícolas aliáceos",null,null,null,null,null,null,null,"Circuito",null,null,null,null,null,null,null,"Estados Unidos da América",null,null,"Bulgária","Europa",null,null,"Legenda:",null,null,null,null,null,null,"Rub","Plano de Despesas"]
[null,704,"Couves, couve-flor, repolho ou couve frisada e produtos comestíveis semelhantes",null,null,null,null,null,null,null,"Interilhas",null,null,null,null,null,null,null,"Emiratos Árabes Unidos",null,null,"Chipre","Europa",null,null,null,null,null,null,null,null,null,1,"Fretes Marítimos"]
[null,705,"Alfaces",null,null,null,null,null,null,null,"Nacional",null,null,null,null,null,null,null,"Finlândia",null,null,"Croácia","Europa",null,null,"CB","Taxa de Combustível",null,null,null,null,null,2,"Fretes Aéreos"]
[null,706,"Cenouras, nabos, beterrabas, aipo, rabanetes e outras raízes",null,null,"Tipologia de Transporte",null,null,null,null,"Exterior",null,null,null,null,null,null,null,"França",null,null,"Dinamarca","Europa",null,null,"EM","Taxa de Emissão de Carta de Porte",null,null,null,null,null,3,"Taxas Portuárias"]
[null,707,"Pepinos",null,null,null,null,null,null,null,null,null,null,null,null,null,null,null,"Grécia",null,null,"Eslováquia","Europa",null,null,"FA","Fretes Aéreos",null,null,null,null,null,4,"Taxas Aeroportuárias"]
[null,708,"Feijão, fava e ervilha frescos",null,null,"Rub","Plano de Despesas",null,null,null,null,null,null,null,null,null,null,null,"Guiné-Bissau",null,null,"Eslovénia","Europa",null,null,"HD","Taxa de Handling",null,null,null,null,null,5,"Estiva"]
[null,709,"Abóboras, pimentos, curgetes, beringelas, espargos, espinafres, azeitonas, funcho, salsa, coentros, hortelã, milho-doce e outros produtos hortícolas",null,null,"a","Transporte Marítimo",null,null,null,null,null,null,null,null,null,null,null,"Holanda",null,null,"Espanha","Europa",null,null,"SG","Taxa de Segurança",null,null,null,null,null,6,"Handling"]
[null,713,"Feijão, fava e ervilha, secos ou em grão",null,null,"b","Transporte Aéreo",null,null,null,null,null,null,null,null,null,null,null,"Hungria",null,null,"Estónia","Europa",null,null,"X-NE","Não Elegível",null,null,null,null,null,7,"Manuseamento e Armazenagem"]
[null,714,"Batatas-doces, inhames e outros tubérculos semelhantes",null,null,"c","Envio por CTT",null,null,null,null,null,null,null,null,null,null,null,"Irlanda",null,null,"Finlândia","Europa",null,null,null,null,null,null,null,null,null,8,"Seguros de Mercadoria e Expedição"]
[null,802,"Castanhas",null,null,null,null,null,null,null,null,null,null,null,null,null,null,null,"Islândia",null,null,"França","Europa",null,null,null,null,null,null,null,null,null,"X-NE","Não Elegível"]
[null,803,"Bananas",null,null,null,null,null,null,null,null,null,null,null,null,null,null,null,"Israel",null,null,"Geórgia","Europa"]
[null,804,"Figos, ananases, abacates, goiabas, anonas e outros",null,null,null,null,null,null,null,null,null,null,null,null,null,null,null,"Itália",null,null,"Grécia","Europa"]
[null,805,"Laranjas, tangerinas, mandarinas, limão branco e outros citrinos",null,null,null,null,null,null,null,null,null,null,null,null,null,null,null,"Japão",null,null,"Holanda","Europa"]
[null,806,"Uvas",null,null,null,null,null,null,null,null,null,null,null,null,null,null,null,"Letónia",null,null,"Hungria","Europa"]
[null,807,"Melões, meloas e melancias",null,null,null,null,null,null,null,null,null,null,null,null,null,null,null,"Listenstaine",null,null,"Irlanda","Europa"]
[null,808,"Maçãs, peras e marmelos",null,null,null,null,null,null,null,null,null,null,null,null,null,null,null,"Lituânia",null,null,"Islândia","Europa"]
[null,809,"Ameixas, pêssegos, damascos e outros",null,null,null,null,null,null,null,null,null,null,null,null,null,null,null,"Luxemburgo",null,null,"Itália","Europa"]
[null,810,"Morangos, framboesas, amoras, kiwis ,diospiros, maracujás e outras frutas frescas",null,null,null,null,null,null,null,null,null,null,null,null,null,null,null,"Marrocos",null,null,"Letónia","Europa"]
[null,811,"Polpa de fruta, fresca ou congelada",null,null,null,null,null,null,null,null,null,null,null,null,null,null,null,"Moçambique",null,null,"Listenstaine","Europa"]
[null,902,"Chá preto e chá verde",null,null,null,null,null,null,null,null,null,null,null,null,null,null,null,"Noruega",null,null,"Lituânia","Europa"]
[null,904,"Pimentas e pimentões, secos ou triturados",null,null,null,null,null,null,null,null,null,null,null,null,null,null,null,"Nova Zelândia",null,null,"Luxemburgo","Europa"]
[null,909,"Sementes de funcho e outras",null,null,null,null,null,null,null,null,null,null,null,null,null,null,null,"Polónia",null,null,"Macedónia","Europa"]
[null,910,"Açafroa, tomilho e louro e outros",null,null,null,null,null,null,null,null,null,null,null,null,null,null,null,"Reino Unido",null,null,"Malta","Europa"]
[null,1005,"Milho",null,null,null,null,null,null,null,null,null,null,null,null,null,null,null,"República Popular da China",null,null,"Moldávia","Europa"]
[null,1101,"Farinhas de trigo",null,null,null,null,null,null,null,null,null,null,null,null,null,null,null,"Roménia",null,null,"Mónaco","Europa"]
[null,1102,"Farinhas de milho",null,null,null,null,null,null,null,null,null,null,null,null,null,null,null,"Rússia",null,null,"Montenegro","Europa"]
[null,1202,"Amendoins",null,null,null,null,null,null,null,null,null,null,null,null,null,null,null,"São Tomé e Príncipe",null,null,"Noruega","Europa"]
[null,1211,"Plantas, partes de plantas, trituradas ou em pó",null,null,null,null,null,null,null,null,null,null,null,null,null,null,null,"Suécia",null,null,"Polónia","Europa"]
[null,1212,"Algas",null,null,null,null,null,null,null,null,null,null,null,null,null,null,null,"Suíça",null,null,"Reino Unido","Europa"]
[null,1501,"Banha de porco",null,null,null,null,null,null,null,null,null,null,null,null,null,null,null,"Timor Leste",null,null,"República Checa","Europa"]
[null,1601,"Linguiças, chouriços, morcelas, alheiras e outros enchidos e produtos semelhantes, de carne, de miudezas ou de sangue e preparações alimentícias à base de tais produtos",null,null,null,null,null,null,null,null,null,null,null,null,null,null,null,"Tunísia",null,null,"Roménia","Europa"]
[null,1602,"Pé de torresmo, debulho e outras preparações e conservas de carne, miudezas ou de sangue",null,null,null,null,null,null,null,null,null,null,null,null,null,null,null,"Turquia",null,null,"Rússia","Europa"]
[null,1604,"Preparações e conservas de peixe",null,null,null,null,null,null,null,null,null,null,null,null,null,null,null,"Ucrânia",null,null,"São Marino","Europa"]
[null,1605,"Crustáceos, moluscos e outros invertebrados aquáticos preparados ou em conservas",null,null,null,null,null,null,null,null,null,null,null,null,null,null,null,null,null,null,"Sérvia","Europa"]
[null,1701,"Açúcares",null,null,null,null,null,null,null,null,null,null,null,null,null,null,null,null,null,null,"Suécia","Europa"]
[null,1704,"Alfenim e outros produtos de confeitaria",null,null,null,null,null,null,null,null,null,null,null,null,null,null,null,null,null,null,"Suíça","Europa"]
[null,1806,"Chocolate",null,null,null,null,null,null,null,null,null,null,null,null,null,null,null,null,null,null,"Ucrânia","Europa"]
[null,1902,"Massas alimentícias ",null,null,null,null,null,null,null,null,null,null,null,null,null,null,null,null,null,null,"Vaticano","Europa"]
[null,1905,"Produtos de padaria, pastelaria ou da indústria de bolachas e biscoistos"]
[null,2001,"Produtos hortícolas, frutas e outras partes comestíveis de plantas, preparados ou conservados em vinagre",null,null,null,null,null,null,null,null,null,null,null,null,null,null,null,null,null,null,"Austrália","Oceania"]
[null,2002,"Tomates preparados ou conservados",null,null,null,null,null,null,null,null,null,null,null,null,null,null,null,null,null,null,"Fiji","Oceania"]
[null,2004,"Conservas, cebolas de cortume",null,null,null,null,null,null,null,null,null,null,null,null,null,null,null,"Akrotiri",null,null,"Ilhas Marshall","Oceania"]
[null,2007,"Doces, geleias e marmeladas",null,null,null,null,null,null,null,null,null,null,null,null,null,null,null,"Anguila",null,null,"Ilhas Salomão","Oceania"]
[null,2008,"Amendoins, pevides, tremoços, favas para aperitivo, frutas e outras partes comestíveis de plantas, preparados ou conservados",null,null,null,null,null,null,null,null,null,null,null,null,null,null,null,"Antárctida",null,null,"Nova Zelândia","Oceania"]
[null,2009,"Sumos de frutos (incluindo os mostos de uvas) ou de produtos hortícolas, não fermentados, sem adição de álcool",null,null,null,null,null,null,null,null,null,null,null,null,null,null,null,"Antilhas Neerlandesas",null,null,"Palau","Oceania"]
[null,2105,"Sorvetes",null,null,null,null,null,null,null,null,null,null,null,null,null,null,null,"Aruba",null,null,"Papua-Nova Guiné","Oceania"]
[null,2106,"Preparações alimentícias não especificadas nem compreendidas noutras posições",null,null,null,null,null,null,null,null,null,null,null,null,null,null,null,"Ashmore and Cartier Islands",null,null,"Samoa","Oceania"]
[null,2201,"Águas",null,null,null,null,null,null,null,null,null,null,null,null,null,null,null,"Bermudas",null,null,"Tonga","Oceania"]
[null,2202,"Laranjadas e Refrigerantes",null,null,null,null,null,null,null,null,null,null,null,null,null,null,null,null,null,null,"Tuvalu","Oceania"]
[null,2203,"Cerveja",null,null,null,null,null,null,null,null,null,null,null,null,null,null,null,"Catar"]
[null,2204,"Vinhos",null,null,null,null,null,null,null,null,null,null,null,null,null,null,null,"Clipperton Island"]
[null,2207,"Álcool",null,null,null,null,null,null,null,null,null,null,null,null,null,null,null,"Coral Sea Islands",null,null,"Afeganistão","Ásia"]
[null,2208,"Aguardentes, licores e outras bebidas espirituosas",null,null,null,null,null,null,null,null,null,null,null,null,null,null,null,"Dhekelia",null,null,"Arábia Saudita","Ásia"]
[null,2400,"Tabaco e seus sucedâneos manufaturados",null,null,null,null,null,null,null,null,null,null,null,null,null,null,null,"Faroé",null,null,"Azerbaijão","Ásia"]
[null,2513,"Pedra-pomes",null,null,null,null,null,null,null,null,null,null,null,null,null,null,null,"Gaza Strip",null,null,"Barém","Ásia"]
[null,3816,"Argamassas",null,null,null,null,null,null,null,null,null,null,null,null,null,null,null,"Gibraltar",null,null,"Bangladeche","Ásia"]
[null,4101,"Couros e peles em brutos de bovinos",null,null,null,null,null,null,null,null,null,null,null,null,null,null,null,"Guame",null,null,"Birmânia","Ásia"]
[null,4104,"Couros e peles curtidas ou em crosta de bovinos",null,null,null,null,null,null,null,null,null,null,null,null,null,null,null,"Guernsey",null,null,"Brunei","Ásia"]
[null,4400,"Madeira e obras de madeira",null,null,null,null,null,null,null,null,null,null,null,null,null,null,null,"Hong Kong",null,null,"Butão","Ásia"]
[null,4901,"Livros, brochuras e impressos semelhantes",null,null,null,null,null,null,null,null,null,null,null,null,null,null,null,"Ilha Bouvet",null,null,"Camboja","Ásia"]
[null,6217,"Outros acessórios confeccionados de vestuário",null,null,null,null,null,null,null,null,null,null,null,null,null,null,null,"Ilha do Natal",null,null,"Cazaquistão","Ásia"]
[null,6802,"Pedras de cantaria ou de construção",null,null,null,null,null,null,null,null,null,null,null,null,null,null,null,"Ilha Norfolk",null,null,"Coreia do Norte","Ásia"]
[null,6905,"Telhas",null,null,null,null,null,null,null,null,null,null,null,null,null,null,null,"Ilhas Caimão",null,null,"Coreia do Sul","Ásia"]
[null,9999,"Obras de artesanto Regional",null,null,null,null,null,null,null,null,null,null,null,null,null,null,null,"Ilhas Cook",null,null,"Emiratos Árabes Unidos","Ásia"]
[null,"X-NE","Não Elegível",null,null,null,null,null,null,null,null,null,null,null,null,null,null,null,"Ilhas dos Cocos",null,null,"Filipinas","Ásia"]
[null,null,null,null,null,null,null,null,null,null,null,null,null,null,null,null,null,null,"Ilhas Falkland",null,null,"Geórgia do Sul e Sandwich do Sul","Ásia"]
[null,null,null,null,null,null,null,null,null,null,null,null,null,null,null,null,null,null,"Ilhas Heard e McDonald",null,null,"Iémen","Ásia"]
[null,null,null,null,null,null,null,null,null,null,null,null,null,null,null,null,null,null,"Ilhas Turcas e Caicos",null,null,"Índia","Ásia"]
[null,null,null,null,null,null,null,null,null,null,null,null,null,null,null,null,null,null,"Ilhas Virgens Americanas",null,null,"Indonésia","Ásia"]
[null,null,null,null,null,null,null,null,null,null,null,null,null,null,null,null,null,null,"Ilhas Virgens Britânicas",null,null,"Irão","Ásia"]
[null,null,null,null,null,null,null,null,null,null,null,null,null,null,null,null,null,null,"Jan Mayen",null,null,"Iraque","Ásia"]
[null,null,null,null,null,null,null,null,null,null,null,null,null,null,null,null,null,null,"Jersey",null,null,"Israel","Ásia"]
[null,null,null,null,null,null,null,null,null,null,null,null,null,null,null,null,null,null,"Jibuti",null,null,"Japão","Ásia"]
[null,null,null,null,null,null,null,null,null,null,null,null,null,null,null,null,null,null,"Macau",null,null,"Jordânia","Ásia"]
[null,null,null,null,null,null,null,null,null,null,null,null,null,null,null,null,null,null,"Malávi",null,null,"Kuwait","Ásia"]
[null,null,null,null,null,null,null,null,null,null,null,null,null,null,null,null,null,null,"Man, Isle of",null,null,"Laos","Ásia"]
[null,null,null,null,null,null,null,null,null,null,null,null,null,null,null,null,null,null,"Marianas do Norte",null,null,"Líbano","Ásia"]
[null,null,null,null,null,null,null,null,null,null,null,null,null,null,null,null,null,null,"Mayotte",null,null,"Malásia","Ásia"]
[null,null,null,null,null,null,null,null,null,null,null,null,null,null,null,null,null,null,"Micronésia",null,null,"Maldivas","Ásia"]
[null,null,null,null,null,null,null,null,null,null,null,null,null,null,null,null,null,null,"Monserrate",null,null,"Mongólia","Ásia"]
[null,null,null,null,null,null,null,null,null,null,null,null,null,null,null,null,null,null,"Nauru",null,null,"Nepal","Ásia"]
[null,null,null,null,null,null,null,null,null,null,null,null,null,null,null,null,null,null,"Navassa Island",null,null,"Paquistão","Ásia"]
[null,null,null,null,null,null,null,null,null,null,null,null,null,null,null,null,null,null,"Niue",null,null,"República Popular da China","Ásia"]
[null,null,null,null,null,null,null,null,null,null,null,null,null,null,null,null,null,null,"Nova Caledónia",null,null,"Quirguizistão","Ásia"]
[null,null,null,null,null,null,null,null,null,null,null,null,null,null,null,null,null,null,"Omã",null,null,"Singapura","Ásia"]
[null,null,null,null,null,null,null,null,null,null,null,null,null,null,null,null,null,null,"Paracel Islands",null,null,"Síria","Ásia"]
[null,null,null,null,null,null,null,null,null,null,null,null,null,null,null,null,null,null,"Pitcairn",null,null,"Sri Lanca","Ásia"]
[null,null,null,null,null,null,null,null,null,null,null,null,null,null,null,null,null,null,"Polinésia Francesa",null,null,"Taiwan","Ásia"]
[null,null,null,null,null,null,null,null,null,null,null,null,null,null,null,null,null,null,"Quiribáti",null,null,"Tailândia","Ásia"]
[null,null,null,null,null,null,null,null,null,null,null,null,null,null,null,null,null,null,"Samoa Americana",null,null,"Tajiquistão","Ásia"]
[null,null,null,null,null,null,null,null,null,null,null,null,null,null,null,null,null,null,"Santa Helena",null,null,"Timor Leste","Ásia"]
[null,null,null,null,null,null,null,null,null,null,null,null,null,null,null,null,null,null,"São Pedro e Miquelon",null,null,"Turquemenistão","Ásia"]
[null,null,null,null,null,null,null,null,null,null,null,null,null,null,null,null,null,null,"Sara Ocidental",null,null,"Turquia","Ásia"]
[null,null,null,null,null,null,null,null,null,null,null,null,null,null,null,null,null,null,"Southern Ocean",null,null,"Usbequistão","Ásia"]
[null,null,null,null,null,null,null,null,null,null,null,null,null,null,null,null,null,null,"Spratly Islands",null,null,"Vietname","Ásia"]
[null,null,null,null,null,null,null,null,null,null,null,null,null,null,null,null,null,null,"Svalbard e Jan Mayen"]
[null,null,null,null,null,null,null,null,null,null,null,null,null,null,null,null,null,null,"Território Britânico do Oceano Índico",null,null,"África do Sul","África"]
[null,null,null,null,null,null,null,null,null,null,null,null,null,null,null,null,null,null,"Territórios Austrais Franceses",null,null,"Angola","África"]
[null,null,null,null,null,null,null,null,null,null,null,null,null,null,null,null,null,null,"Tokelau",null,null,"Argélia","África"]
[null,null,null,null,null,null,null,null,null,null,null,null,null,null,null,null,null,null,"Vanuatu",null,null,"Benim","África"]
[null,null,null,null,null,null,null,null,null,null,null,null,null,null,null,null,null,null,"Wake Island",null,null,"Botsuana","África"]
[null,null,null,null,null,null,null,null,null,null,null,null,null,null,null,null,null,null,"Wallis e Futuna",null,null,"Burquina Faso","África"]
[null,null,null,null,null,null,null,null,null,null,null,null,null,null,null,null,null,null,"West Bank",null,null,"Burúndi","África"]
[null,null,null,null,null,null,null,null,null,null,null,null,null,null,null,null,null,null,null,null,null,"Cabo Verde","África"]
[null,null,null,null,null,null,null,null,null,null,null,null,null,null,null,null,null,null,null,null,null,"Camarões","África"]
[null,null,null,null,null,null,null,null,null,null,null,null,null,null,null,null,null,null,null,null,null,"Chade","África"]
[null,null,null,null,null,null,null,null,null,null,null,null,null,null,null,null,null,null,null,null,null,"Comores","África"]
[null,null,null,null,null,null,null,null,null,null,null,null,null,null,null,null,null,null,null,null,null,"Congo-Brazzaville","África"]
[null,null,null,null,null,null,null,null,null,null,null,null,null,null,null,null,null,null,null,null,null,"Congo-Kinshasa","África"]
[null,null,null,null,null,null,null,null,null,null,null,null,null,null,null,null,null,null,null,null,null,"Costa do Marfim","África"]
[null,null,null,null,null,null,null,null,null,null,null,null,null,null,null,null,null,null,null,null,null,"Egipto","África"]
[null,null,null,null,null,null,null,null,null,null,null,null,null,null,null,null,null,null,null,null,null,"Eritreia","África"]
[null,null,null,null,null,null,null,null,null,null,null,null,null,null,null,null,null,null,null,null,null,"Etiópia","África"]
[null,null,null,null,null,null,null,null,null,null,null,null,null,null,null,null,null,null,null,null,null,"Gabão","África"]
[null,null,null,null,null,null,null,null,null,null,null,null,null,null,null,null,null,null,null,null,null,"Gâmbia","África"]
[null,null,null,null,null,null,null,null,null,null,null,null,null,null,null,null,null,null,null,null,null,"Gana","África"]
[null,null,null,null,null,null,null,null,null,null,null,null,null,null,null,null,null,null,null,null,null,"Guiné","África"]
[null,null,null,null,null,null,null,null,null,null,null,null,null,null,null,null,null,null,null,null,null,"Guiné-Bissau","África"]
[null,null,null,null,null,null,null,null,null,null,null,null,null,null,null,null,null,null,null,null,null,"Guiné Equatorial","África"]
[null,null,null,null,null,null,null,null,null,null,null,null,null,null,null,null,null,null,null,null,null,"Lesoto","África"]
[null,null,null,null,null,null,null,null,null,null,null,null,null,null,null,null,null,null,null,null,null,"Libéria","África"]
[null,null,null,null,null,null,null,null,null,null,null,null,null,null,null,null,null,null,null,null,null,"Líbia","África"]
[null,null,null,null,null,null,null,null,null,null,null,null,null,null,null,null,null,null,null,null,null,"Madagáscar","África"]
[null,null,null,null,null,null,null,null,null,null,null,null,null,null,null,null,null,null,null,null,null,"Malawi","África"]
[null,null,null,null,null,null,null,null,null,null,null,null,null,null,null,null,null,null,null,null,null,"Mali","África"]
[null,null,null,null,null,null,null,null,null,null,null,null,null,null,null,null,null,null,null,null,null,"Marrocos","África"]
[null,null,null,null,null,null,null,null,null,null,null,null,null,null,null,null,null,null,null,null,null,"Maurícia","África"]
[null,null,null,null,null,null,null,null,null,null,null,null,null,null,null,null,null,null,null,null,null,"Mauritânia","África"]
[null,null,null,null,null,null,null,null,null,null,null,null,null,null,null,null,null,null,null,null,null,"Moçambique","África"]
[null,null,null,null,null,null,null,null,null,null,null,null,null,null,null,null,null,null,null,null,null,"Namíbia","África"]
[null,null,null,null,null,null,null,null,null,null,null,null,null,null,null,null,null,null,null,null,null,"Níger","África"]
[null,null,null,null,null,null,null,null,null,null,null,null,null,null,null,null,null,null,null,null,null,"Nigéria","África"]
[null,null,null,null,null,null,null,null,null,null,null,null,null,null,null,null,null,null,null,null,null,"Quénia","África"]
[null,null,null,null,null,null,null,null,null,null,null,null,null,null,null,null,null,null,null,null,null,"República Centro-Africana","África"]
[null,null,null,null,null,null,null,null,null,null,null,null,null,null,null,null,null,null,null,null,null,"Ruanda","África"]
[null,null,null,null,null,null,null,null,null,null,null,null,null,null,null,null,null,null,null,null,null,"São Tomé e Príncipe","África"]
[null,null,null,null,null,null,null,null,null,null,null,null,null,null,null,null,null,null,null,null,null,"Senegal","África"]
[null,null,null,null,null,null,null,null,null,null,null,null,null,null,null,null,null,null,null,null,null,"Serra Leoa","África"]
[null,null,null,null,null,null,null,null,null,null,null,null,null,null,null,null,null,null,null,null,null,"Seicheles","África"]
[null,null,null,null,null,null,null,null,null,null,null,null,null,null,null,null,null,null,null,null,null,"Somália","África"]
[null,null,null,null,null,null,null,null,null,null,null,null,null,null,null,null,null,null,null,null,null,"Suazilândia","África"]
[null,null,null,null,null,null,null,null,null,null,null,null,null,null,null,null,null,null,null,null,null,"Sudão","África"]
[null,null,null,null,null,null,null,null,null,null,null,null,null,null,null,null,null,null,null,null,null,"Tanzânia","África"]
[null,null,null,null,null,null,null,null,null,null,null,null,null,null,null,null,null,null,null,null,null,"Togo","África"]
[null,null,null,null,null,null,null,null,null,null,null,null,null,null,null,null,null,null,null,null,null,"Tunísia","África"]
[null,null,null,null,null,null,null,null,null,null,null,null,null,null,null,null,null,null,null,null,null,"Uganda","África"]
[null,null,null,null,null,null,null,null,null,null,null,null,null,null,null,null,null,null,null,null,null,"Zâmbia","África"]
[null,null,null,null,null,null,null,null,null,null,null,null,null,null,null,null,null,null,null,null,null,"Zimbabué","África"]
[]
[null,null,null,null,null,null,null,null,null,null,null,null,null,null,null,null,null,null,null,null,null,"Antígua e Barbuda","América"]
[null,null,null,null,null,null,null,null,null,null,null,null,null,null,null,null,null,null,null,null,null,"Argentina","América"]
[null,null,null,null,null,null,null,null,null,null,null,null,null,null,null,null,null,null,null,null,null,"Baamas","América"]
[null,null,null,null,null,null,null,null,null,null,null,null,null,null,null,null,null,null,null,null,null,"Barbados","América"]
[null,null,null,null,null,null,null,null,null,null,null,null,null,null,null,null,null,null,null,null,null,"Belize","América"]
[null,null,null,null,null,null,null,null,null,null,null,null,null,null,null,null,null,null,null,null,null,"Bolívia","América"]
[null,null,null,null,null,null,null,null,null,null,null,null,null,null,null,null,null,null,null,null,null,"Brasil","América"]
[null,null,null,null,null,null,null,null,null,null,null,null,null,null,null,null,null,null,null,null,null,"Chile","América"]
[null,null,null,null,null,null,null,null,null,null,null,null,null,null,null,null,null,null,null,null,null,"Colômbia","América"]
[null,null,null,null,null,null,null,null,null,null,null,null,null,null,null,null,null,null,null,null,null,"Costa Rica","América"]
[null,null,null,null,null,null,null,null,null,null,null,null,null,null,null,null,null,null,null,null,null,"Canadá","América"]
[null,null,null,null,null,null,null,null,null,null,null,null,null,null,null,null,null,null,null,null,null,"Cuba","América"]
[null,null,null,null,null,null,null,null,null,null,null,null,null,null,null,null,null,null,null,null,null,"Domínica","América"]
[null,null,null,null,null,null,null,null,null,null,null,null,null,null,null,null,null,null,null,null,null,"Estados Unidos da América","América"]
[null,null,null,null,null,null,null,null,null,null,null,null,null,null,null,null,null,null,null,null,null,"Equador","América"]
[null,null,null,null,null,null,null,null,null,null,null,null,null,null,null,null,null,null,null,null,null,"Gronelândia","América"]
[null,null,null,null,null,null,null,null,null,null,null,null,null,null,null,null,null,null,null,null,null,"Guiana","América"]
[null,null,null,null,null,null,null,null,null,null,null,null,null,null,null,null,null,null,null,null,null,"Granada","América"]
[null,null,null,null,null,null,null,null,null,null,null,null,null,null,null,null,null,null,null,null,null,"Guatemala","América"]
[null,null,null,null,null,null,null,null,null,null,null,null,null,null,null,null,null,null,null,null,null,"Haiti","América"]
[null,null,null,null,null,null,null,null,null,null,null,null,null,null,null,null,null,null,null,null,null,"Honduras","América"]
[null,null,null,null,null,null,null,null,null,null,null,null,null,null,null,null,null,null,null,null,null,"Jamaica","América"]
[null,null,null,null,null,null,null,null,null,null,null,null,null,null,null,null,null,null,null,null,null,"México","América"]
[null,null,null,null,null,null,null,null,null,null,null,null,null,null,null,null,null,null,null,null,null,"Nicarágua","América"]
[null,null,null,null,null,null,null,null,null,null,null,null,null,null,null,null,null,null,null,null,null,"Panamá","América"]
[null,null,null,null,null,null,null,null,null,null,null,null,null,null,null,null,null,null,null,null,null,"Paraguai","América"]
[null,null,null,null,null,null,null,null,null,null,null,null,null,null,null,null,null,null,null,null,null,"Peru","América"]
[null,null,null,null,null,null,null,null,null,null,null,null,null,null,null,null,null,null,null,null,null,"Porto Rico","América"]
[null,null,null,null,null,null,null,null,null,null,null,null,null,null,null,null,null,null,null,null,null,"República Dominicana","América"]
[null,null,null,null,null,null,null,null,null,null,null,null,null,null,null,null,null,null,null,null,null,"Salvador","América"]
[null,null,null,null,null,null,null,null,null,null,null,null,null,null,null,null,null,null,null,null,null,"Santa Lúcia","América"]
[null,null,null,null,null,null,null,null,null,null,null,null,null,null,null,null,null,null,null,null,null,"São Cristóvão e Nevis","América"]
[null,null,null,null,null,null,null,null,null,null,null,null,null,null,null,null,null,null,null,null,null,"São Vicente e Granadinas","América"]
[null,null,null,null,null,null,null,null,null,null,null,null,null,null,null,null,null,null,null,null,null,"Suriname","América"]
[null,null,null,null,null,null,null,null,null,null,null,null,null,null,null,null,null,null,null,null,null,"Uruguai","América"]
[null,null,null,null,null,null,null,null,null,null,null,null,null,null,null,null,null,null,null,null,null,"Venezuela","América"]
[null,null,null,null,null,null,null,null,null,null,null,null,null,null,null,null,null,null,null,null,null,"Trindade e Tobago","América"]
[]
[]
[]
[]
[]
[]
[]
[]
[]
[null,null,null,null,null,null,null,null,null,null,null,null,null,null,null,null,null,null,null,null,null,"Akrotiri","Resto do Mundo"]
[null,null,null,null,null,null,null,null,null,null,null,null,null,null,null,null,null,null,null,null,null,"Anguila","Resto do Mundo"]
[null,null,null,null,null,null,null,null,null,null,null,null,null,null,null,null,null,null,null,null,null,"Antárctida","Resto do Mundo"]
[null,null,null,null,null,null,null,null,null,null,null,null,null,null,null,null,null,null,null,null,null,"Antilhas Neerlandesas","Resto do Mundo"]
[null,null,null,null,null,null,null,null,null,null,null,null,null,null,null,null,null,null,null,null,null,"Aruba","Resto do Mundo"]
[null,null,null,null,null,null,null,null,null,null,null,null,null,null,null,null,null,null,null,null,null,"Ashmore and Cartier Islands","Resto do Mundo"]
[null,null,null,null,null,null,null,null,null,null,null,null,null,null,null,null,null,null,null,null,null,"Bermudas","Resto do Mundo"]
[]
[null,null,null,null,null,null,null,null,null,null,null,null,null,null,null,null,null,null,null,null,null,"Catar","Resto do Mundo"]
[null,null,null,null,null,null,null,null,null,null,null,null,null,null,null,null,null,null,null,null,null,"Clipperton Island","Resto do Mundo"]
[null,null,null,null,null,null,null,null,null,null,null,null,null,null,null,null,null,null,null,null,null,"Coral Sea Islands","Resto do Mundo"]
[null,null,null,null,null,null,null,null,null,null,null,null,null,null,null,null,null,null,null,null,null,"Dhekelia","Resto do Mundo"]
[null,null,null,null,null,null,null,null,null,null,null,null,null,null,null,null,null,null,null,null,null,"Faroé","Resto do Mundo"]
[null,null,null,null,null,null,null,null,null,null,null,null,null,null,null,null,null,null,null,null,null,"Gaza Strip","Resto do Mundo"]
[null,null,null,null,null,null,null,null,null,null,null,null,null,null,null,null,null,null,null,null,null,"Gibraltar","Resto do Mundo"]
[null,null,null,null,null,null,null,null,null,null,null,null,null,null,null,null,null,null,null,null,null,"Guame","Resto do Mundo"]
[null,null,null,null,null,null,null,null,null,null,null,null,null,null,null,null,null,null,null,null,null,"Guernsey","Resto do Mundo"]
[null,null,null,null,null,null,null,null,null,null,null,null,null,null,null,null,null,null,null,null,null,"Hong Kong","Resto do Mundo"]
[null,null,null,null,null,null,null,null,null,null,null,null,null,null,null,null,null,null,null,null,null,"Ilha Bouvet","Resto do Mundo"]
[null,null,null,null,null,null,null,null,null,null,null,null,null,null,null,null,null,null,null,null,null,"Ilha do Natal","Resto do Mundo"]
[null,null,null,null,null,null,null,null,null,null,null,null,null,null,null,null,null,null,null,null,null,"Ilha Norfolk","Resto do Mundo"]
[null,null,null,null,null,null,null,null,null,null,null,null,null,null,null,null,null,null,null,null,null,"Ilhas Caimão","Resto do Mundo"]
[null,null,null,null,null,null,null,null,null,null,null,null,null,null,null,null,null,null,null,null,null,"Ilhas Cook","Resto do Mundo"]
[null,null,null,null,null,null,null,null,null,null,null,null,null,null,null,null,null,null,null,null,null,"Ilhas dos Cocos","Resto do Mundo"]
[null,null,null,null,null,null,null,null,null,null,null,null,null,null,null,null,null,null,null,null,null,"Ilhas Falkland","Resto do Mundo"]
[null,null,null,null,null,null,null,null,null,null,null,null,null,null,null,null,null,null,null,null,null,"Ilhas Heard e McDonald","Resto do Mundo"]
[null,null,null,null,null,null,null,null,null,null,null,null,null,null,null,null,null,null,null,null,null,"Ilhas Turcas e Caicos","Resto do Mundo"]
[null,null,null,null,null,null,null,null,null,null,null,null,null,null,null,null,null,null,null,null,null,"Ilhas Virgens Americanas","Resto do Mundo"]
[null,null,null,null,null,null,null,null,null,null,null,null,null,null,null,null,null,null,null,null,null,"Ilhas Virgens Britânicas","Resto do Mundo"]
[null,null,null,null,null,null,null,null,null,null,null,null,null,null,null,null,null,null,null,null,null,"Jan Mayen","Resto do Mundo"]
[null,null,null,null,null,null,null,null,null,null,null,null,null,null,null,null,null,null,null,null,null,"Jersey","Resto do Mundo"]
[null,null,null,null,null,null,null,null,null,null,null,null,null,null,null,null,null,null,null,null,null,"Jibuti","Resto do Mundo"]
[null,null,null,null,null,null,null,null,null,null,null,null,null,null,null,null,null,null,null,null,null,"Macau","Resto do Mundo"]
[null,null,null,null,null,null,null,null,null,null,null,null,null,null,null,null,null,null,null,null,null,"Malávi","Resto do Mundo"]
[null,null,null,null,null,null,null,null,null,null,null,null,null,null,null,null,null,null,null,null,null,"Man, Isle of","Resto do Mundo"]
[null,null,null,null,null,null,null,null,null,null,null,null,null,null,null,null,null,null,null,null,null,"Marianas do Norte","Resto do Mundo"]
[null,null,null,null,null,null,null,null,null,null,null,null,null,null,null,null,null,null,null,null,null,"Mayotte","Resto do Mundo"]
[null,null,null,null,null,null,null,null,null,null,null,null,null,null,null,null,null,null,null,null,null,"Micronésia","Resto do Mundo"]
[null,null,null,null,null,null,null,null,null,null,null,null,null,null,null,null,null,null,null,null,null,"Monserrate","Resto do Mundo"]
[null,null,null,null,null,null,null,null,null,null,null,null,null,null,null,null,null,null,null,null,null,"Nauru","Resto do Mundo"]
[null,null,null,null,null,null,null,null,null,null,null,null,null,null,null,null,null,null,null,null,null,"Navassa Island","Resto do Mundo"]
[null,null,null,null,null,null,null,null,null,null,null,null,null,null,null,null,null,null,null,null,null,"Niue","Resto do Mundo"]
[null,null,null,null,null,null,null,null,null,null,null,null,null,null,null,null,null,null,null,null,null,"Nova Caledónia","Resto do Mundo"]
[null,null,null,null,null,null,null,null,null,null,null,null,null,null,null,null,null,null,null,null,null,"Omã","Resto do Mundo"]
[null,null,null,null,null,null,null,null,null,null,null,null,null,null,null,null,null,null,null,null,null,"Paracel Islands","Resto do Mundo"]
[null,null,null,null,null,null,null,null,null,null,null,null,null,null,null,null,null,null,null,null,null,"Pitcairn","Resto do Mundo"]
[null,null,null,null,null,null,null,null,null,null,null,null,null,null,null,null,null,null,null,null,null,"Polinésia Francesa","Resto do Mundo"]
[null,null,null,null,null,null,null,null,null,null,null,null,null,null,null,null,null,null,null,null,null,"Quiribáti","Resto do Mundo"]
[null,null,null,null,null,null,null,null,null,null,null,null,null,null,null,null,null,null,null,null,null,"Samoa Americana","Resto do Mundo"]
[null,null,null,null,null,null,null,null,null,null,null,null,null,null,null,null,null,null,null,null,null,"Santa Helena","Resto do Mundo"]
[null,null,null,null,null,null,null,null,null,null,null,null,null,null,null,null,null,null,null,null,null,"São Pedro e Miquelon","Resto do Mundo"]
[null,null,null,null,null,null,null,null,null,null,null,null,null,null,null,null,null,null,null,null,null,"Sara Ocidental","Resto do Mundo"]
[null,null,null,null,null,null,null,null,null,null,null,null,null,null,null,null,null,null,null,null,null,"Southern Ocean","Resto do Mundo"]
[null,null,null,null,null,null,null,null,null,null,null,null,null,null,null,null,null,null,null,null,null,"Spratly Islands","Resto do Mundo"]
[null,null,null,null,null,null,null,null,null,null,null,null,null,null,null,null,null,null,null,null,null,"Svalbard e Jan Mayen","Resto do Mundo"]
[null,null,null,null,null,null,null,null,null,null,null,null,null,null,null,null,null,null,null,null,null,"Território Britânico do Oceano Índico","Resto do Mundo"]
[null,null,null,null,null,null,null,null,null,null,null,null,null,null,null,null,null,null,null,null,null,"Territórios Austrais Franceses","Resto do Mundo"]
[null,null,null,null,null,null,null,null,null,null,null,null,null,null,null,null,null,null,null,null,null,"Tokelau","Resto do Mundo"]
[null,null,null,null,null,null,null,null,null,null,null,null,null,null,null,null,null,null,null,null,null,"Vanuatu","Resto do Mundo"]
[null,null,null,null,null,null,null,null,null,null,null,null,null,null,null,null,null,null,null,null,null,"Wake Island","Resto do Mundo"]
[null,null,null,null,null,null,null,null,null,null,null,null,null,null,null,null,null,null,null,null,null,"Wallis e Futuna","Resto do Mundo"]
[null,null,null,null,null,null,null,null,null,null,null,null,null,null,null,null,null,null,null,null,null,"West Bank","Resto do Mundo"]

{"sheet":"Lista de Produtos","index":3,"n_rows":95,"n_cols":3,"rows_kept":95,"cut":false,"hidden":false,"merged":[[1,1,1,2],[2,1,2,2]]}
[]
[null,"Lista de Produtos Apoiados - Códigos NC"]
[null,"Despacho n.º 71/2018, de 10 de janeiro"]
[]
[null,"Cod. NC","Designação"]
[null,201,"Carnes de animais da espécie bovina, frescas ou refrigeradas"]
[null,202,"Carnes de animais da espécie bovina, congeladas"]
[null,203,"Carnes de animais da espécie suína, frescas, refrigeradas ou congeladas"]
[null,204,"Carnes de animais da espécie ovina ou caprina, frescas, refrigeradas ou congeladas"]
[null,206,"Miudezas comestíves de animais da espécie bovina, suína, ovina e caprina, frescas, refrigeradas ou congeladas"]
[null,207,"Carnes e miudezas comestíveis de aves, frescas, refrigeradas ou congeladas"]
[null,208,"Carnes e miudezas comestíveis de coelho, frescas, refrigeradas ou congeladas"]
[null,209,"Toucinho e gorduras de porco, frescos, refrigerados, congelados, salgados ou em salmoura ou fumados"]
[null,210,"Carnes e miudezas comestíveis bovinas e suínas, salgadas ou em salmoura, secas ou fumadas"]
[null,301,"Peixes vivos"]
[null,306,"Crustáceos congelados e não congelados"]
[null,401,"Leite e nata, não concentrados nem adicionados de açúcar ou de edulcorantes"]
[null,402,"Leite e nata, concentrados ou adicionados de açúcar ou de edulcorantes"]
[null,403,"Iogurtes e natas"]
[null,404,"Soro de leite, mesmo concentrado ou adicionado de açúcar ou outros edulcorantes"]
[null,405,"Manteigas e pastas de barrar de produtos prevenientes do leite"]
[null,406,"Queijos"]
[null,407,"Ovos de aves, com casca, frescos, conservados ou cozidos"]
[null,409,"Mel"]
[null,601,"Flores e botões de flores, cortados para ramos ou para ornamentação, frescos, secos, branqueados, tingidos, impregnados ou preparados de outro modo"]
[null,602,"Outras plantas vivas (incluindo as suas raízes) estacas e enxertos"]
[null,603,"Flores e seus botões, cortados, para ramos ou para ornamentação"]
[null,604,"Folhagens, folhas, ramos e outras partes de plantas"]
[null,701,"Batatas"]
[null,702,"Tomates"]
[null,703,"Cebolas, alhos e outros produtos hortícolas aliáceos"]
[null,704,"Couves, couve-flor, repolho ou couve frisada e produtos comestíveis semelhantes"]
[null,705,"Alfaces"]
[null,706,"Cenouras, nabos, beterrabas, aipo, rabanetes e outras raízes"]
[null,707,"Pepinos"]
[null,708,"Feijão, fava e ervilha frescos"]
[null,709,"Abóboras, pimentos, curgetes, beringelas, espargos, espinafres, azeitonas, funcho, salsa, coentros, hortelã, milho-doce e outros produtos hortícolas"]
[null,713,"Feijão, fava e ervilha, secos ou em grão"]
[null,714,"Batatas-doces, inhames e outros tubérculos semelhantes"]
[null,802,"Castanhas"]
[null,803,"Bananas"]
[null,804,"Figos, ananases, abacates, goiabas, anonas e outros"]
[null,805,"Laranjas, tangerinas, mandarinas, limão branco e outros citrinos"]
[null,806,"Uvas"]
[null,807,"Melões, meloas e melancias"]
[null,808,"Maçãs, peras e marmelos"]
[null,809,"Ameixas, pêssegos, damascos e outros"]
[null,810,"Morangos, framboesas, amoras, kiwis ,diospiros, maracujás e outras frutas frescas"]
[null,811,"Polpa de fruta, fresca ou congelada"]
[null,902,"Chá preto e chá verde"]
[null,904,"Pimentas e pimentões, secos ou triturados"]
[null,909,"Sementes de funcho e outras"]
[null,910,"Açafroa, tomilho e louro e outros"]
[null,1005,"Milho"]
[null,1101,"Farinhas de trigo"]
[null,1102,"Farinhas de milho"]
[null,1202,"Amendoins"]
[null,1211,"Plantas, partes de plantas, trituradas ou em pó"]
[null,1212,"Algas"]
[null,1501,"Banha de porco"]
[null,1601,"Linguiças, chouriços, morcelas, alheiras e outros enchidos e produtos semelhantes, de carne, de miudezas ou de sangue e preparações alimentícias à base de tais produtos"]
[null,1602,"Pé de torresmo, debulho e outras preparações e conservas de carne, miudezas ou de sangue"]
[null,1604,"Preparações e conservas de peixe"]
[null,1605,"Crustáceos, moluscos e outros invertebrados aquáticos preparados ou em conservas"]
[null,1701,"Açúcares"]
[null,1704,"Alfenim e outros produtos de confeitaria"]
[null,1806,"Chocolate"]
[null,1902,"Massas alimentícias "]
[null,1905,"Produtos de padaria, pastelaria ou da indústria de bolachas e biscoistos"]
[null,2001,"Produtos hortícolas, frutas e outras partes comestíveis de plantas, preparados ou conservados em vinagre"]
[null,2002,"Tomates preparados ou conservados"]
[null,2004,"Conservas, cebolas de cortume"]
[null,2007,"Doces, geleias e marmeladas"]
[null,2008,"Amendoins, pevides, tremoços, favas para aperitivo, frutas e outras partes comestíveis de plantas, preparados ou conservados"]
[null,2009,"Sumos de frutos (incluindo os mostos de uvas) ou de produtos hortícolas, não fermentados, sem adição de álcool"]
[null,2105,"Sorvetes"]
[null,2106,"Preparações alimentícias não especificadas nem compreendidas noutras posições"]
[null,2201,"Águas"]
[null,2202,"Laranjadas e Refrigerantes"]
[null,2203,"Cerveja"]
[null,2204,"Vinhos"]
[null,2207,"Álcool"]
[null,2208,"Aguardentes, licores e outras bebidas espirituosas"]
[null,2400,"Tabaco e seus sucedâneos manufaturados"]
[null,2513,"Pedra-pomes"]
[null,3816,"Argamassas"]
[null,4101,"Couros e peles em brutos de bovinos"]
[null,4104,"Couros e peles curtidas ou em crosta de bovinos"]
[null,4400,"Madeira e obras de madeira"]
[null,4901,"Livros, brochuras e impressos semelhantes"]
[null,6217,"Outros acessórios confeccionados de vestuário"]
[null,6802,"Pedras de cantaria ou de construção"]
[null,6905,"Telhas"]
[null,9999,"Obras de artesanto Regional"]
[null,"X-NE","Não Elegível"]